{"text_format":"1","workbook":"xlsx","n_sheets":5,"sheets":["Values","Worksheet","Answers","Working","Matrix"],"not_rendered":{"charts":0,"images":6,"macros":1,"external_links":0,"defined_names":0,"comments":0,"pivot_tables":0},"unopened":[],"bounds":{"document_bytes":16777216,"sheet_cells":100000,"rows_first":2000,"rows_last":500,"rows_between":2000,"halvings":0,"cell_chars":16384,"cell_head_chars":4096},"cells_cut":0,"cells_raw":0,"read":"whole","date_system":"1900"}

{"sheet":"Values","index":0,"n_rows":21,"n_cols":9,"rows_kept":21,"cut":false,"hidden":false,"merged":[[18,2,18,6],[18,8,22,9],[20,2,23,7],[3,2,3,6],[5,2,6,7],[17,2,17,7],[12,2,12,6]]}
[null,null,null,null,"ADDITION & SUBTRACTION OF FRACTIONS"]
[null,null,null,null,"Simplified Answers"]
[]
[null,null,"INSTRUCTIONS"]
[]
[null,"Step 1","Click to select the denominators to be used for this sheet."]
[]
[null,null,null,null,null,null,null,null,"Infomormation"]
[null,null,null,null,null,null,null,null,"* These questions are generated from a list of all"]
[null,null,null,null,null,null,null,null,"  possible questions. This may result in some repetition"]
[null,null,null,null,null,null,null,null,"* Answers include working steps."]
[null,null,null,null,null,null,null,null,"* Some answers could be 1"]
[null,"Step 2","Click to select the type of operation."]
[]
[]
[]
[]
[]
[null,"Step 3","Click on WorkSheet tab below.",null,null,null,null,null,"PRESS F9 for NEW WorkSheet"]
[]
[null,"Note","If you click on the WorkSheet tab then hold down shift and click on the Solutions tab, you will be able to print both the WorkSheet and the solutions."]

{"sheet":"Worksheet","index":1,"n_rows":49,"n_cols":20,"rows_kept":49,"cut":false,"hidden":false,"merged":[]}
[null,null,null,null,null,null,null,null,{"$f":"Working!M1","v":"ADDITION & SUBTRACTION OF FRACTIONS"}]
[null,null,null,null,null,null,null,null,null,null,null,null,null,null,null,null,null,null,null,{"$f":" CONCATENATE(\"Worksheet \",Working!J1,Working!H1)","v":"Worksheet AFS - 489"}]
["Simplify the following;"]
[{"$f":" Working!B4","v":1},{"$f":" Working!AA4","v":1},{"$f":"Working!$Z4","v":" + "},{"$f":" Working!AC4","v":3},{"$f":" Working!B14","v":6},{"$f":" Working!AA14","v":4},{"$f":"Working!Z14","v":" - "},{"$f":" Working!AC14","v":1},{"$f":" Working!B24","v":11},{"$f":" Working!AA24","v":1},{"$f":"Working!Z24","v":" + "},{"$f":" Working!AC24","v":9},{"$f":" Working!B34","v":16},{"$f":" Working!AA34","v":3},{"$f":"Working!Z34","v":" - "},{"$f":" Working!AC34","v":1},{"$f":" Working!B44","v":21},{"$f":" Working!AA44","v":3},{"$f":"Working!Z44","v":" - "},{"$f":" Working!AC44","v":1}]
[null,{"$f":" Working!AA5","v":2},null,{"$f":" Working!AC5","v":10},null,{"$f":" Working!AA15","v":5},null,{"$f":" Working!AC15","v":6},null,{"$f":" Working!AA25","v":10},null,{"$f":" Working!AC25","v":10},null,{"$f":" Working!AA35","v":4},null,{"$f":" Working!AC35","v":6},null,{"$f":" Working!AA45","v":10},null,{"$f":" Working!AC45","v":5}]
[]
[]
[]
[]
[]
[]
[]
[]
[]
[{"$f":"Working!B6","v":2},{"$f":"Working!AA6","v":1},{"$f":"Working!$Z6","v":" + "},{"$f":"Working!AC6","v":1},{"$f":"Working!B16","v":7},{"$f":"Working!AA16","v":5},{"$f":"Working!$Z16","v":" - "},{"$f":"Working!AC16","v":1},{"$f":"Working!B26","v":12},{"$f":"Working!AA26","v":1},{"$f":"Working!$Z26","v":" + "},{"$f":"Working!AC26","v":4},{"$f":"Working!B36","v":17},{"$f":"Working!AA36","v":1},{"$f":"Working!$Z36","v":" + "},{"$f":"Working!AC36","v":2},{"$f":"Working!B46","v":22},{"$f":"Working!AA46","v":9},{"$f":"Working!$Z46","v":" - "},{"$f":"Working!AC46","v":1}]
[null,{"$f":"Working!AA7","v":10},null,{"$f":"Working!AC7","v":5},null,{"$f":"Working!AA17","v":8},null,{"$f":"Working!AC17","v":3},null,{"$f":"Working!AA27","v":5},null,{"$f":"Working!AC27","v":5},null,{"$f":"Working!AA37","v":10},null,{"$f":"Working!AC37","v":5},null,{"$f":"Working!AA47","v":10},null,{"$f":"Working!AC47","v":10}]
[]
[]
[]
[]
[]
[]
[]
[]
[]
[{"$f":"Working!B8","v":3},{"$f":"Working!AA8","v":5},{"$f":"Working!$Z8","v":" + "},{"$f":"Working!AC8","v":1},{"$f":"Working!B18","v":8},{"$f":"Working!AA18","v":3},{"$f":"Working!$Z18","v":" - "},{"$f":"Working!AC18","v":3},{"$f":"Working!B28","v":13},{"$f":"Working!AA28","v":1},{"$f":"Working!$Z28","v":" - "},{"$f":"Working!AC28","v":1},{"$f":"Working!B38","v":18},{"$f":"Working!AA38","v":5},{"$f":"Working!$Z38","v":" - "},{"$f":"Working!AC38","v":1},{"$f":"Working!B48","v":23},{"$f":"Working!AA48","v":1},{"$f":"Working!$Z48","v":" + "},{"$f":"Working!AC48","v":4}]
[null,{"$f":"Working!AA9","v":6},null,{"$f":"Working!AC9","v":6},null,{"$f":"Working!AA19","v":8},null,{"$f":"Working!AC19","v":10},null,{"$f":"Working!AA29","v":4},null,{"$f":"Working!AC29","v":8},null,{"$f":"Working!AA39","v":8},null,{"$f":"Working!AC39","v":10},null,{"$f":"Working!AA49","v":10},null,{"$f":"Working!AC49","v":5}]
[]
[]
[]
[]
[]
[]
[]
[]
[]
[{"$f":"Working!B10","v":4},{"$f":"Working!AA10","v":2},{"$f":"Working!$Z10","v":" + "},{"$f":"Working!AC10","v":1},{"$f":"Working!B20","v":9},{"$f":"Working!AA20","v":3},{"$f":"Working!$Z20","v":" - "},{"$f":"Working!AC20","v":1},{"$f":"Working!B30","v":14},{"$f":"Working!AA30","v":1},{"$f":"Working!$Z30","v":" + "},{"$f":"Working!AC30","v":2},{"$f":"Working!B40","v":19},{"$f":"Working!AA40","v":2},{"$f":"Working!$Z40","v":" - "},{"$f":"Working!AC40","v":3},{"$f":"Working!B50","v":24},{"$f":"Working!AA50","v":1},{"$f":"Working!$Z50","v":" + "},{"$f":"Working!AC50","v":1}]
[null,{"$f":"Working!AA11","v":3},null,{"$f":"Working!AC11","v":5},null,{"$f":"Working!AA21","v":5},null,{"$f":"Working!AC21","v":5},null,{"$f":"Working!AA31","v":5},null,{"$f":"Working!AC31","v":5},null,{"$f":"Working!AA41","v":5},null,{"$f":"Working!AC41","v":10},null,{"$f":"Working!AA51","v":4},null,{"$f":"Working!AC51","v":10}]
[]
[]
[]
[]
[]
[]
[]
[]
[]
[{"$f":"Working!B12","v":5},{"$f":"Working!AA12","v":5},{"$f":"Working!$Z12","v":" + "},{"$f":"Working!AC12","v":1},{"$f":"Working!B22","v":10},{"$f":"Working!AA22","v":1},{"$f":"Working!$Z22","v":" + "},{"$f":"Working!AC22","v":3},{"$f":"Working!B32","v":15},{"$f":"Working!AA32","v":1},{"$f":"Working!$Z32","v":" + "},{"$f":"Working!AC32","v":1},{"$f":"Working!B42","v":20},{"$f":"Working!AA42","v":4},{"$f":"Working!$Z42","v":" + "},{"$f":"Working!AC42","v":1},{"$f":"Working!B52","v":25},{"$f":"Working!AA52","v":1},{"$f":"Working!$Z52","v":" - "},{"$f":"Working!AC52","v":1}]
[null,{"$f":"Working!AA13","v":6},null,{"$f":"Working!AC13","v":6},null,{"$f":"Working!AA23","v":6},null,{"$f":"Working!AC23","v":10},null,{"$f":"Working!AA33","v":6},null,{"$f":"Working!AC33","v":4},null,{"$f":"Working!AA43","v":5},null,{"$f":"Working!AC43","v":5},null,{"$f":"Working!AA53","v":2},null,{"$f":"Working!AC53","v":8}]

{"sheet":"Answers","index":2,"n_rows":55,"n_cols":20,"rows_kept":55,"cut":false,"hidden":false,"merged":[]}
[null,null,null,null,null,null,null,null,{"$f":"Working!M1","v":"ADDITION & SUBTRACTION OF FRACTIONS"}]
[null,null,null,null,null,null,null,null,"Solutions",null,null,null,null,null,null,null,null,null,null,{"$f":" CONCATENATE(\"Worksheet \",Working!J1,Working!H1)","v":"Worksheet AFS - 489"}]
["Simplify the following;"]
[{"$f":" Working!B4","v":1},{"$f":" Working!AA4","v":1},{"$f":"Working!$Z4","v":" + "},{"$f":" Working!AC4","v":3},{"$f":" Working!B14","v":6},{"$f":" Working!AA14","v":4},{"$f":"Working!Z14","v":" - "},{"$f":" Working!AC14","v":1},{"$f":" Working!B24","v":11},{"$f":" Working!AA24","v":1},{"$f":"Working!Z24","v":" + "},{"$f":" Working!AC24","v":9},{"$f":" Working!B34","v":16},{"$f":" Working!AA34","v":3},{"$f":"Working!Z34","v":" - "},{"$f":" Working!AC34","v":1},{"$f":" Working!B44","v":21},{"$f":" Working!AA44","v":3},{"$f":"Working!Z44","v":" - "},{"$f":" Working!AC44","v":1}]
[null,{"$f":" Working!AA5","v":2},null,{"$f":" Working!AC5","v":10},null,{"$f":" Working!AA15","v":5},null,{"$f":" Working!AC15","v":6},null,{"$f":" Working!AA25","v":10},null,{"$f":" Working!AC25","v":10},null,{"$f":" Working!AA35","v":4},null,{"$f":" Working!AC35","v":6},null,{"$f":" Working!AA45","v":10},null,{"$f":" Working!AC45","v":5}]
["=",{"$f":"Working!$AE4","v":10},{"$f":"Working!$Z4","v":" + "},{"$f":"Working!$AG4","v":6},"=",{"$f":"Working!$AE14","v":24},{"$f":"Working!Z14","v":" - "},{"$f":"Working!$AG14","v":5},"=",{"$f":"Working!$AE24","v":10},{"$f":"Working!Z24","v":" + "},{"$f":"Working!$AG24","v":90},"=",{"$f":"Working!$AE34","v":18},{"$f":"Working!Z34","v":" - "},{"$f":"Working!$AG34","v":4},"=",{"$f":"Working!$AE44","v":15},{"$f":"Working!Z44","v":" - "},{"$f":"Working!$AG44","v":10}]
[null,{"$f":"Working!$AE5","v":10},null,{"$f":"Working!$AG5","v":20},null,{"$f":"Working!$AE15","v":30},null,{"$f":"Working!$AG15","v":30},null,{"$f":"Working!$AE25","v":10},null,{"$f":"Working!$AG25","v":100},null,{"$f":"Working!$AE35","v":24},null,{"$f":"Working!$AG35","v":24},null,{"$f":"Working!$AE45","v":50},null,{"$f":"Working!$AG45","v":50}]
["=",{"$f":"Working!$AI4","v":16},null,null,"=",{"$f":"Working!$AI14","v":19},null,null,"=",{"$f":"Working!$AI24","v":100},null,null,"=",{"$f":"Working!$AI34","v":14},null,null,"=",{"$f":"Working!$AI44","v":5}]
[null,{"$f":"Working!$AI5","v":20},null,null,null,{"$f":"Working!$AI15","v":30},null,null,null,{"$f":"Working!$AI25","v":100},null,null,null,{"$f":"Working!$AI35","v":24},null,null,null,{"$f":"Working!$AI45","v":50}]
[{"$f":"IF(B10=\"\",\"\",\"=\")","v":"="},{"$f":"IF(Working!AO4=B8,\"\",Working!AO4)","v":4},null,null,{"$f":"IF(F10=\"\",\"\",\"=\")","v":""},{"$f":"IF(Working!AO14=F8,\"\",Working!AO14)","v":""},null,null,{"$f":"IF(J10=\"\",\"\",\"=\")","v":"="},{"$f":"IF(Working!AO24=J8,\"\",Working!AO24)","v":1},null,null,{"$f":"IF(N10=\"\",\"\",\"=\")","v":"="},{"$f":"IF(Working!AO34=N8,\"\",Working!AO34)","v":7},null,null,{"$f":"IF(R10=\"\",\"\",\"=\")","v":"="},{"$f":"IF(Working!AO44=R8,\"\",Working!AO44)","v":1}]
[null,{"$f":"IF(Working!AP4=B9,\"\",Working!AP4)","v":5},null,null,null,{"$f":"IF(Working!AP14=F9,\"\",Working!AP14)","v":""},null,null,null,{"$f":"IF(Working!AP24=J9,\"\",Working!AP24)","v":""},null,null,null,{"$f":"IF(Working!AP34=N9,\"\",Working!AP34)","v":12},null,null,null,{"$f":"IF(Working!AP44=R9,\"\",Working!AP44)","v":10}]
[]
[]
[]
[{"$f":"Working!B6","v":2},{"$f":"Working!AA6","v":1},{"$f":"Working!$Z6","v":" + "},{"$f":"Working!AC6","v":1},{"$f":"Working!B16","v":7},{"$f":"Working!AA16","v":5},{"$f":"Working!$Z16","v":" - "},{"$f":"Working!AC16","v":1},{"$f":"Working!B26","v":12},{"$f":"Working!AA26","v":1},{"$f":"Working!$Z26","v":" + "},{"$f":"Working!AC26","v":4},{"$f":"Working!B36","v":17},{"$f":"Working!AA36","v":1},{"$f":"Working!$Z36","v":" + "},{"$f":"Working!AC36","v":2},{"$f":"Working!B46","v":22},{"$f":"Working!AA46","v":9},{"$f":"Working!$Z46","v":" - "},{"$f":"Working!AC46","v":1}]
[null,{"$f":"Working!AA7","v":10},null,{"$f":"Working!AC7","v":5},null,{"$f":"Working!AA17","v":8},null,{"$f":"Working!AC17","v":3},null,{"$f":"Working!AA27","v":5},null,{"$f":"Working!AC27","v":5},null,{"$f":"Working!AA37","v":10},null,{"$f":"Working!AC37","v":5},null,{"$f":"Working!AA47","v":10},null,{"$f":"Working!AC47","v":10}]
["=",{"$f":"Working!$AE6","v":5},{"$f":"Working!$Z6","v":" + "},{"$f":"Working!$AG6","v":10},"=",{"$f":"Working!$AE16","v":15},{"$f":"Working!$Z16","v":" - "},{"$f":"Working!$AG16","v":8},"=",{"$f":"Working!$AE26","v":5},{"$f":"Working!$Z26","v":" + "},{"$f":"Working!$AG26","v":20},"=",{"$f":"Working!$AE36","v":5},{"$f":"Working!$Z36","v":" + "},{"$f":"Working!$AG36","v":20},"=",{"$f":"Working!$AE46","v":90},{"$f":"Working!$Z46","v":" - "},{"$f":"Working!$AG46","v":10}]
[null,{"$f":"Working!$AE7","v":10},null,{"$f":"Working!$AG7","v":50},null,{"$f":"Working!$AE17","v":24},null,{"$f":"Working!$AG17","v":24},null,{"$f":"Working!$AE27","v":5},null,{"$f":"Working!$AG27","v":25},null,{"$f":"Working!$AE37","v":10},null,{"$f":"Working!$AG37","v":50},null,{"$f":"Working!$AE47","v":100},null,{"$f":"Working!$AG47","v":100}]
["=",{"$f":"Working!$AI6","v":15},null,null,"=",{"$f":"Working!$AI16","v":7},null,null,"=",{"$f":"Working!$AI26","v":25},null,null,"=",{"$f":"Working!$AI36","v":25},null,null,"=",{"$f":"Working!$AI46","v":80}]
[null,{"$f":"Working!$AI7","v":50},null,null,null,{"$f":"Working!$AI17","v":24},null,null,null,{"$f":"Working!$AI27","v":25},null,null,null,{"$f":"Working!$AI37","v":50},null,null,null,{"$f":"Working!$AI47","v":100}]
[{"$f":"IF(B21=\"\",\"\",\"=\")","v":"="},{"$f":"IF(Working!AO6=B19,\"\",Working!AO6)","v":3},null,null,{"$f":"IF(F21=\"\",\"\",\"=\")","v":""},{"$f":"IF(Working!AO16=F19,\"\",Working!AO16)","v":""},null,null,{"$f":"IF(J21=\"\",\"\",\"=\")","v":"="},{"$f":"IF(Working!AO26=J19,\"\",Working!AO26)","v":1},null,null,{"$f":"IF(N21=\"\",\"\",\"=\")","v":"="},{"$f":"IF(Working!AO36=N19,\"\",Working!AO36)","v":1},null,null,{"$f":"IF(R21=\"\",\"\",\"=\")","v":"="},{"$f":"IF(Working!AO46=R19,\"\",Working!AO46)","v":4}]
[null,{"$f":"IF(Working!AP6=B20,\"\",Working!AP6)","v":10},null,null,null,{"$f":"IF(Working!AP16=F20,\"\",Working!AP16)","v":""},null,null,null,{"$f":"IF(Working!AP26=J20,\"\",Working!AP26)","v":""},null,null,null,{"$f":"IF(Working!AP36=N20,\"\",Working!AP36)","v":2},null,null,null,{"$f":"IF(Working!AP46=R20,\"\",Working!AP46)","v":5}]
[]
[]
[]
[{"$f":"Working!B8","v":3},{"$f":"Working!AA8","v":5},{"$f":"Working!$Z8","v":" + "},{"$f":"Working!AC8","v":1},{"$f":"Working!B18","v":8},{"$f":"Working!AA18","v":3},{"$f":"Working!$Z18","v":" - "},{"$f":"Working!AC18","v":3},{"$f":"Working!B28","v":13},{"$f":"Working!AA28","v":1},{"$f":"Working!$Z28","v":" - "},{"$f":"Working!AC28","v":1},{"$f":"Working!B38","v":18},{"$f":"Working!AA38","v":5},{"$f":"Working!$Z38","v":" - "},{"$f":"Working!AC38","v":1},{"$f":"Working!B48","v":23},{"$f":"Working!AA48","v":1},{"$f":"Working!$Z48","v":" + "},{"$f":"Working!AC48","v":4}]
[null,{"$f":"Working!AA9","v":6},null,{"$f":"Working!AC9","v":6},null,{"$f":"Working!AA19","v":8},null,{"$f":"Working!AC19","v":10},null,{"$f":"Working!AA29","v":4},null,{"$f":"Working!AC29","v":8},null,{"$f":"Working!AA39","v":8},null,{"$f":"Working!AC39","v":10},null,{"$f":"Working!AA49","v":10},null,{"$f":"Working!AC49","v":5}]
["=",{"$f":"Working!$AE8","v":30},{"$f":"Working!$Z8","v":" + "},{"$f":"Working!$AG8","v":6},"=",{"$f":"Working!$AE18","v":30},{"$f":"Working!$Z18","v":" - "},{"$f":"Working!$AG18","v":24},"=",{"$f":"Working!$AE28","v":8},{"$f":"Working!$Z28","v":" - "},{"$f":"Working!$AG28","v":4},"=",{"$f":"Working!$AE38","v":50},{"$f":"Working!$Z38","v":" - "},{"$f":"Working!$AG38","v":8},"=",{"$f":"Working!$AE48","v":5},{"$f":"Working!$Z48","v":" + "},{"$f":"Working!$AG48","v":40}]
[null,{"$f":"Working!$AE9","v":6},null,{"$f":"Working!$AG9","v":36},null,{"$f":"Working!$AE19","v":80},null,{"$f":"Working!$AG19","v":80},null,{"$f":"Working!$AE29","v":32},null,{"$f":"Working!$AG29","v":32},null,{"$f":"Working!$AE39","v":80},null,{"$f":"Working!$AG39","v":80},null,{"$f":"Working!$AE49","v":10},null,{"$f":"Working!$AG49","v":50}]
["=",{"$f":"Working!$AI8","v":36},null,null,"=",{"$f":"Working!$AI18","v":6},null,null,"=",{"$f":"Working!$AI28","v":4},null,null,"=",{"$f":"Working!$AI38","v":42},null,null,"=",{"$f":"Working!$AI48","v":45}]
[null,{"$f":"Working!$AI9","v":36},null,null,null,{"$f":"Working!$AI19","v":80},null,null,null,{"$f":"Working!$AI29","v":32},null,null,null,{"$f":"Working!$AI39","v":80},null,null,null,{"$f":"Working!$AI49","v":50}]
[{"$f":"IF(B32=\"\",\"\",\"=\")","v":"="},{"$f":"IF(Working!AO8=B30,\"\",Working!AO8)","v":1},null,null,{"$f":"IF(F32=\"\",\"\",\"=\")","v":"="},{"$f":"IF(Working!AO18=F30,\"\",Working!AO18)","v":3},null,null,{"$f":"IF(J32=\"\",\"\",\"=\")","v":"="},{"$f":"IF(Working!AO28=J30,\"\",Working!AO28)","v":1},null,null,{"$f":"IF(N32=\"\",\"\",\"=\")","v":"="},{"$f":"IF(Working!AO38=N30,\"\",Working!AO38)","v":21},null,null,{"$f":"IF(R32=\"\",\"\",\"=\")","v":"="},{"$f":"IF(Working!AO48=R30,\"\",Working!AO48)","v":9}]
[null,{"$f":"IF(Working!AP8=B31,\"\",Working!AP8)","v":""},null,null,null,{"$f":"IF(Working!AP18=F31,\"\",Working!AP18)","v":40},null,null,null,{"$f":"IF(Working!AP28=J31,\"\",Working!AP28)","v":8},null,null,null,{"$f":"IF(Working!AP38=N31,\"\",Working!AP38)","v":40},null,null,null,{"$f":"IF(Working!AP48=R31,\"\",Working!AP48)","v":10}]
[]
[]
[]
[{"$f":"Working!B10","v":4},{"$f":"Working!AA10","v":2},{"$f":"Working!$Z10","v":" + "},{"$f":"Working!AC10","v":1},{"$f":"Working!B20","v":9},{"$f":"Working!AA20","v":3},{"$f":"Working!$Z20","v":" - "},{"$f":"Working!AC20","v":1},{"$f":"Working!B30","v":14},{"$f":"Working!AA30","v":1},{"$f":"Working!$Z30","v":" + "},{"$f":"Working!AC30","v":2},{"$f":"Working!B40","v":19},{"$f":"Working!AA40","v":2},{"$f":"Working!$Z40","v":" - "},{"$f":"Working!AC40","v":3},{"$f":"Working!B50","v":24},{"$f":"Working!AA50","v":1},{"$f":"Working!$Z50","v":" + "},{"$f":"Working!AC50","v":1}]
[null,{"$f":"Working!AA11","v":3},null,{"$f":"Working!AC11","v":5},null,{"$f":"Working!AA21","v":5},null,{"$f":"Working!AC21","v":5},null,{"$f":"Working!AA31","v":5},null,{"$f":"Working!AC31","v":5},null,{"$f":"Working!AA41","v":5},null,{"$f":"Working!AC41","v":10},null,{"$f":"Working!AA51","v":4},null,{"$f":"Working!AC51","v":10}]
["=",{"$f":"Working!$AE10","v":10},{"$f":"Working!$Z10","v":" + "},{"$f":"Working!$AG10","v":3},"=",{"$f":"Working!$AE20","v":15},{"$f":"Working!$Z20","v":" - "},{"$f":"Working!$AG20","v":5},"=",{"$f":"Working!$AE30","v":5},{"$f":"Working!$Z30","v":" + "},{"$f":"Working!$AG30","v":10},"=",{"$f":"Working!$AE40","v":20},{"$f":"Working!$Z40","v":" - "},{"$f":"Working!$AG40","v":15},"=",{"$f":"Working!$AE50","v":10},{"$f":"Working!$Z50","v":" + "},{"$f":"Working!$AG50","v":4}]
[null,{"$f":"Working!$AE11","v":5},null,{"$f":"Working!$AG11","v":15},null,{"$f":"Working!$AE21","v":25},null,{"$f":"Working!$AG21","v":25},null,{"$f":"Working!$AE31","v":5},null,{"$f":"Working!$AG31","v":25},null,{"$f":"Working!$AE41","v":50},null,{"$f":"Working!$AG41","v":50},null,{"$f":"Working!$AE51","v":10},null,{"$f":"Working!$AG51","v":40}]
["=",{"$f":"Working!$AI10","v":13},null,null,"=",{"$f":"Working!$AI20","v":10},null,null,"=",{"$f":"Working!$AI30","v":15},null,null,"=",{"$f":"Working!$AI40","v":5},null,null,"=",{"$f":"Working!$AI50","v":14}]
[null,{"$f":"Working!$AI11","v":15},null,null,null,{"$f":"Working!$AI21","v":25},null,null,null,{"$f":"Working!$AI31","v":25},null,null,null,{"$f":"Working!$AI41","v":50},null,null,null,{"$f":"Working!$AI51","v":40}]
[{"$f":"IF(B43=\"\",\"\",\"=\")","v":""},{"$f":"IF(Working!AO10=B41,\"\",Working!AO10)","v":""},null,null,{"$f":"IF(F43=\"\",\"\",\"=\")","v":"="},{"$f":"IF(Working!AO20=F41,\"\",Working!AO20)","v":2},null,null,{"$f":"IF(J43=\"\",\"\",\"=\")","v":"="},{"$f":"IF(Working!AO30=J41,\"\",Working!AO30)","v":3},null,null,{"$f":"IF(N43=\"\",\"\",\"=\")","v":"="},{"$f":"IF(Working!AO40=N41,\"\",Working!AO40)","v":1},null,null,{"$f":"IF(R43=\"\",\"\",\"=\")","v":"="},{"$f":"IF(Working!AO50=R41,\"\",Working!AO50)","v":7}]
[null,{"$f":"IF(Working!AP10=B42,\"\",Working!AP10)","v":""},null,null,null,{"$f":"IF(Working!AP20=F42,\"\",Working!AP20)","v":5},null,null,null,{"$f":"IF(Working!AP30=J42,\"\",Working!AP30)","v":5},null,null,null,{"$f":"IF(Working!AP40=N42,\"\",Working!AP40)","v":10},null,null,null,{"$f":"IF(Working!AP50=R42,\"\",Working!AP50)","v":20}]
[]
[]
[]
[{"$f":"Working!B12","v":5},{"$f":"Working!AA12","v":5},{"$f":"Working!$Z12","v":" + "},{"$f":"Working!AC12","v":1},{"$f":"Working!B22","v":10},{"$f":"Working!AA22","v":1},{"$f":"Working!$Z22","v":" + "},{"$f":"Working!AC22","v":3},{"$f":"Working!B32","v":15},{"$f":"Working!AA32","v":1},{"$f":"Working!$Z32","v":" + "},{"$f":"Working!AC32","v":1},{"$f":"Working!B42","v":20},{"$f":"Working!AA42","v":4},{"$f":"Working!$Z42","v":" + "},{"$f":"Working!AC42","v":1},{"$f":"Working!B52","v":25},{"$f":"Working!AA52","v":1},{"$f":"Working!$Z52","v":" - "},{"$f":"Working!AC52","v":1}]
[null,{"$f":"Working!AA13","v":6},null,{"$f":"Working!AC13","v":6},null,{"$f":"Working!AA23","v":6},null,{"$f":"Working!AC23","v":10},null,{"$f":"Working!AA33","v":6},null,{"$f":"Working!AC33","v":4},null,{"$f":"Working!AA43","v":5},null,{"$f":"Working!AC43","v":5},null,{"$f":"Working!AA53","v":2},null,{"$f":"Working!AC53","v":8}]
["=",{"$f":"Working!$AE12","v":30},{"$f":"Working!$Z12","v":" + "},{"$f":"Working!$AG12","v":6},"=",{"$f":"Working!$AE22","v":10},{"$f":"Working!$Z22","v":" + "},{"$f":"Working!$AG22","v":18},"=",{"$f":"Working!$AE32","v":4},{"$f":"Working!$Z32","v":" + "},{"$f":"Working!$AG32","v":6},"=",{"$f":"Working!$AE42","v":20},{"$f":"Working!$Z42","v":" + "},{"$f":"Working!$AG42","v":5},"=",{"$f":"Working!$AE52","v":8},{"$f":"Working!$Z52","v":" - "},{"$f":"Working!$AG52","v":2}]
[null,{"$f":"Working!$AE13","v":6},null,{"$f":"Working!$AG13","v":36},null,{"$f":"Working!$AE23","v":6},null,{"$f":"Working!$AG23","v":60},null,{"$f":"Working!$AE33","v":6},null,{"$f":"Working!$AG33","v":24},null,{"$f":"Working!$AE43","v":5},null,{"$f":"Working!$AG43","v":25},null,{"$f":"Working!$AE53","v":16},null,{"$f":"Working!$AG53","v":16}]
["=",{"$f":"Working!$AI12","v":36},null,null,"=",{"$f":"Working!$AI22","v":28},null,null,"=",{"$f":"Working!$AI32","v":10},null,null,"=",{"$f":"Working!$AI42","v":25},null,null,"=",{"$f":"Working!$AI52","v":6}]
[null,{"$f":"Working!$AI13","v":36},null,null,null,{"$f":"Working!$AI23","v":60},null,null,null,{"$f":"Working!$AI33","v":24},null,null,null,{"$f":"Working!$AI43","v":25},null,null,null,{"$f":"Working!$AI53","v":16}]
[{"$f":"IF(B54=\"\",\"\",\"=\")","v":"="},{"$f":"IF(Working!AO12=B52,\"\",Working!AO12)","v":1},null,null,{"$f":"IF(F54=\"\",\"\",\"=\")","v":"="},{"$f":"IF(Working!AO22=F52,\"\",Working!AO22)","v":7},null,null,{"$f":"IF(J54=\"\",\"\",\"=\")","v":"="},{"$f":"IF(Working!AO32=J52,\"\",Working!AO32)","v":5},null,null,{"$f":"IF(N54=\"\",\"\",\"=\")","v":"="},{"$f":"IF(Working!AO42=N52,\"\",Working!AO42)","v":1},null,null,{"$f":"IF(R54=\"\",\"\",\"=\")","v":"="},{"$f":"IF(Working!AO52=R52,\"\",Working!AO52)","v":3}]
[null,{"$f":"IF(Working!AP12=B53,\"\",Working!AP12)","v":""},null,null,null,{"$f":"IF(Working!AP22=F53,\"\",Working!AP22)","v":15},null,null,null,{"$f":"IF(Working!AP32=J53,\"\",Working!AP32)","v":12},null,null,null,{"$f":"IF(Working!AP42=N53,\"\",Working!AP42)","v":""},null,null,null,{"$f":"IF(Working!AP52=R53,\"\",Working!AP52)","v":8}]

{"sheet":"Working","index":3,"n_rows":62,"n_cols":46,"rows_kept":62,"cut":false,"hidden":true,"merged":[]}
[{"$f":"INT(900*RAND()+100)","v":489},null,null,null,null,null,null,{"$f":"TEXT(A1,0)","v":"489"},null,"AFS - ",null,null,"ADDITION & SUBTRACTION OF FRACTIONS",null,null,null,null,null,null,null,null,null,null,null,2]
[]
[null,null,null,null,"a","b","c","d",null,"Subtraction"]
[null,1,{"$f":"IF($Y$1=3,\"2478\",IF($Y$1=2,\"111\",\"73\"))","v":"111"},{"$f":"RANDBETWEEN(1,C4)","v":7},{"$f":"LOOKUP(D4,Matrix!$A$4:$B$2481)","v":1},{"$f":"LOOKUP(D4,Matrix!$A$4:$C$2481)","v":2},{"$f":"LOOKUP(D4,Matrix!$A$4:$D$2481)","v":3},{"$f":"LOOKUP(D4,Matrix!$A$4:$E$2481)","v":10},null,{"$f":"E4","v":1},{"$f":"G4","v":3},{"$f":"E4*H4","v":10},{"$f":"G4*F4","v":6},{"$f":"IF(M4>L4,K4,J4)","v":1},{"$f":"IF(M4>L4,J4,K4)","v":3},{"$f":"IF(M4>L4,M4,L4)","v":10},{"$f":"IF(M4>L4,L4,M4)","v":6},{"$f":"P4-Q4","v":4},null,1,{"$f":"R4/T4","v":4},null,null,null,{"$f":"INT(2*RAND())","v":0},{"$f":"IF(Y4=0,\" + \",\" - \")","v":" + "},{"$f":"IF($Y4=1,N4,J4)","v":1},{"$f":"Z4","v":" + "},{"$f":"IF($Y4=1,O4,K4)","v":3},"=",{"$f":"IF($Y4=1,P4,L4)","v":10},{"$f":"Z4","v":" + "},{"$f":"IF($Y4=1,Q4,M4)","v":6},"=",{"$f":"IF($Y4=1,R4,L4+M4)","v":16},null,null,{"$f":"GCD(AI4,AI5)","v":4},{"$f":"AI4/AL4","v":4},null,{"$f":"AM4","v":4},{"$f":"IF(AND(AM4=1,AM5=1),\"\",AM5)","v":5},null,{"$f":"CONCATENATE(AI4,\"/\",AI5)","v":"16/20"},"=",{"$f":"CONCATENATE(AM4,\"/\",AM5)","v":"4/5"}]
[null,null,null,null,null,null,null,null,null,{"$f":"F4","v":2},{"$f":"H4","v":10},{"$f":"F4*H4","v":20},{"$f":"F4*H4","v":20},{"$f":"IF(M4>L4,K5,J5)","v":2},{"$f":"IF(M4>L4,J5,K5)","v":10},{"$f":"L5","v":20},{"$f":"M5","v":20},{"$f":"Q5","v":20},null,1,{"$f":"R5/T4","v":20},null,null,null,0,null,{"$f":"IF($Y4=1,N5,J5)","v":2},null,{"$f":"IF($Y4=1,O5,K5)","v":10},null,{"$f":"IF($Y4=1,Q5,O5)","v":10},null,{"$f":"IF($Y4=1,Q5,M5)","v":20},null,{"$f":"IF($Y4=1,R5,P5)","v":20},null,null,null,{"$f":"AI5/AL4","v":5}]
[null,2,{"$f":"IF($Y$1=3,\"2478\",IF($Y$1=2,\"111\",\"73\"))","v":"111"},{"$f":"RANDBETWEEN(1,C6)","v":47},{"$f":"LOOKUP(D6,Matrix!$A$4:$B$2481)","v":1},{"$f":"LOOKUP(D6,Matrix!$A$4:$C$2481)","v":10},{"$f":"LOOKUP(D6,Matrix!$A$4:$D$2481)","v":1},{"$f":"LOOKUP(D6,Matrix!$A$4:$E$2481)","v":5},null,{"$f":"E6","v":1},{"$f":"G6","v":1},{"$f":"E6*H6","v":5},{"$f":"G6*F6","v":10},{"$f":"IF(M6>L6,K6,J6)","v":1},{"$f":"IF(M6>L6,J6,K6)","v":1},{"$f":"IF(M6>L6,M6,L6)","v":10},{"$f":"IF(M6>L6,L6,M6)","v":5},{"$f":"P6-Q6","v":5},null,1,{"$f":"R6/T6","v":5},null,null,null,0,{"$f":"IF(Y6=0,\" + \",\" - \")","v":" + "},{"$f":"IF($Y6=1,N6,J6)","v":1},{"$f":"Z6","v":" + "},{"$f":"IF($Y6=1,O6,K6)","v":1},"=",{"$f":"IF($Y6=1,P6,L6)","v":5},{"$f":"Z6","v":" + "},{"$f":"IF($Y6=1,Q6,M6)","v":10},"=",{"$f":"IF($Y6=1,R6,L6+M6)","v":15},null,null,{"$f":"GCD(AI6,AI7)","v":5},{"$f":"AI6/AL6","v":3},null,{"$f":"AM6","v":3},{"$f":"IF(AND(AM6=1,AM7=1),\"\",AM7)","v":10},null,{"$f":"CONCATENATE(AI6,\"/\",AI7)","v":"15/50"},"=",{"$f":"CONCATENATE(AM6,\"/\",AM7)","v":"3/10"}]
[null,null,null,null,null,null,null,null,null,{"$f":"F6","v":10},{"$f":"H6","v":5},{"$f":"F6*H6","v":50},{"$f":"F6*H6","v":50},{"$f":"IF(M6>L6,K7,J7)","v":5},{"$f":"IF(M6>L6,J7,K7)","v":10},{"$f":"L7","v":50},{"$f":"M7","v":50},{"$f":"Q7","v":50},null,1,{"$f":"R7/T6","v":50},null,null,null,1,null,{"$f":"IF($Y6=1,N7,J7)","v":10},null,{"$f":"IF($Y6=1,O7,K7)","v":5},null,{"$f":"IF($Y6=1,Q7,O7)","v":10},null,{"$f":"IF($Y6=1,Q7,M7)","v":50},null,{"$f":"IF($Y6=1,R7,P7)","v":50},null,null,null,{"$f":"AI7/AL6","v":10}]
[null,3,{"$f":"IF($Y$1=3,\"2478\",IF($Y$1=2,\"111\",\"73\"))","v":"111"},109,{"$f":"LOOKUP(D8,Matrix!$A$4:$B$2481)","v":5},{"$f":"LOOKUP(D8,Matrix!$A$4:$C$2481)","v":6},{"$f":"LOOKUP(D8,Matrix!$A$4:$D$2481)","v":1},{"$f":"LOOKUP(D8,Matrix!$A$4:$E$2481)","v":6},null,{"$f":"E8","v":5},{"$f":"G8","v":1},{"$f":"E8*H8","v":30},{"$f":"G8*F8","v":6},{"$f":"IF(M8>L8,K8,J8)","v":5},{"$f":"IF(M8>L8,J8,K8)","v":1},{"$f":"IF(M8>L8,M8,L8)","v":30},{"$f":"IF(M8>L8,L8,M8)","v":6},{"$f":"P8-Q8","v":24},null,1,{"$f":"R8/T8","v":24},null,null,null,0,{"$f":"IF(Y8=0,\" + \",\" - \")","v":" + "},{"$f":"IF($Y8=1,N8,J8)","v":5},{"$f":"Z8","v":" + "},{"$f":"IF($Y8=1,O8,K8)","v":1},"=",{"$f":"IF($Y8=1,P8,L8)","v":30},{"$f":"Z8","v":" + "},{"$f":"IF($Y8=1,Q8,M8)","v":6},"=",{"$f":"IF($Y8=1,R8,L8+M8)","v":36},null,null,{"$f":"GCD(AI8,AI9)","v":36},{"$f":"AI8/AL8","v":1},null,{"$f":"AM8","v":1},{"$f":"IF(AND(AM8=1,AM9=1),\"\",AM9)","v":""},null,{"$f":"CONCATENATE(AI8,\"/\",AI9)","v":"36/36"},"=",{"$f":"CONCATENATE(AM8,\"/\",AM9)","v":"1/1"}]
[null,null,null,null,null,null,null,null,null,{"$f":"F8","v":6},{"$f":"H8","v":6},{"$f":"F8*H8","v":36},{"$f":"F8*H8","v":36},{"$f":"IF(M8>L8,K9,J9)","v":6},{"$f":"IF(M8>L8,J9,K9)","v":6},{"$f":"L9","v":36},{"$f":"M9","v":36},{"$f":"Q9","v":36},null,1,{"$f":"R9/T8","v":36},null,null,null,0,null,{"$f":"IF($Y8=1,N9,J9)","v":6},null,{"$f":"IF($Y8=1,O9,K9)","v":6},null,{"$f":"IF($Y8=1,Q9,O9)","v":6},null,{"$f":"IF($Y8=1,Q9,M9)","v":36},null,{"$f":"IF($Y8=1,R9,P9)","v":36},null,null,null,{"$f":"AI9/AL8","v":1}]
[null,4,{"$f":"IF($Y$1=3,\"2478\",IF($Y$1=2,\"111\",\"73\"))","v":"111"},88,{"$f":"LOOKUP(D10,Matrix!$A$4:$B$2481)","v":2},{"$f":"LOOKUP(D10,Matrix!$A$4:$C$2481)","v":3},{"$f":"LOOKUP(D10,Matrix!$A$4:$D$2481)","v":1},{"$f":"LOOKUP(D10,Matrix!$A$4:$E$2481)","v":5},null,{"$f":"E10","v":2},{"$f":"G10","v":1},{"$f":"E10*H10","v":10},{"$f":"G10*F10","v":3},{"$f":"IF(M10>L10,K10,J10)","v":2},{"$f":"IF(M10>L10,J10,K10)","v":1},{"$f":"IF(M10>L10,M10,L10)","v":10},{"$f":"IF(M10>L10,L10,M10)","v":3},{"$f":"P10-Q10","v":7},null,1,{"$f":"R10/T10","v":7},null,null,null,0,{"$f":"IF(Y10=0,\" + \",\" - \")","v":" + "},{"$f":"IF($Y10=1,N10,J10)","v":2},{"$f":"Z10","v":" + "},{"$f":"IF($Y10=1,O10,K10)","v":1},"=",{"$f":"IF($Y10=1,P10,L10)","v":10},{"$f":"Z10","v":" + "},{"$f":"IF($Y10=1,Q10,M10)","v":3},"=",{"$f":"IF($Y10=1,R10,L10+M10)","v":13},null,null,{"$f":"GCD(AI10,AI11)","v":1},{"$f":"AI10/AL10","v":13},null,{"$f":"AM10","v":13},{"$f":"IF(AND(AM10=1,AM11=1),\"\",AM11)","v":15},null,{"$f":"CONCATENATE(AI10,\"/\",AI11)","v":"13/15"},"=",{"$f":"CONCATENATE(AM10,\"/\",AM11)","v":"13/15"}]
[null,null,null,null,null,null,null,null,null,{"$f":"F10","v":3},{"$f":"H10","v":5},{"$f":"F10*H10","v":15},{"$f":"F10*H10","v":15},{"$f":"IF(M10>L10,K11,J11)","v":3},{"$f":"IF(M10>L10,J11,K11)","v":5},{"$f":"L11","v":15},{"$f":"M11","v":15},{"$f":"Q11","v":15},null,1,{"$f":"R11/T10","v":15},null,null,null,1,null,{"$f":"IF($Y10=1,N11,J11)","v":3},null,{"$f":"IF($Y10=1,O11,K11)","v":5},null,{"$f":"IF($Y10=1,Q11,O11)","v":5},null,{"$f":"IF($Y10=1,Q11,M11)","v":15},null,{"$f":"IF($Y10=1,R11,P11)","v":15},null,null,null,{"$f":"AI11/AL10","v":15}]
[null,5,{"$f":"IF($Y$1=3,\"2478\",IF($Y$1=2,\"111\",\"73\"))","v":"111"},109,{"$f":"LOOKUP(D12,Matrix!$A$4:$B$2481)","v":5},{"$f":"LOOKUP(D12,Matrix!$A$4:$C$2481)","v":6},{"$f":"LOOKUP(D12,Matrix!$A$4:$D$2481)","v":1},{"$f":"LOOKUP(D12,Matrix!$A$4:$E$2481)","v":6},null,{"$f":"E12","v":5},{"$f":"G12","v":1},{"$f":"E12*H12","v":30},{"$f":"G12*F12","v":6},{"$f":"IF(M12>L12,K12,J12)","v":5},{"$f":"IF(M12>L12,J12,K12)","v":1},{"$f":"IF(M12>L12,M12,L12)","v":30},{"$f":"IF(M12>L12,L12,M12)","v":6},{"$f":"P12-Q12","v":24},null,1,{"$f":"R12/T12","v":24},null,null,null,0,{"$f":"IF(Y12=0,\" + \",\" - \")","v":" + "},{"$f":"IF($Y12=1,N12,J12)","v":5},{"$f":"Z12","v":" + "},{"$f":"IF($Y12=1,O12,K12)","v":1},"=",{"$f":"IF($Y12=1,P12,L12)","v":30},{"$f":"Z12","v":" + "},{"$f":"IF($Y12=1,Q12,M12)","v":6},"=",{"$f":"IF($Y12=1,R12,L12+M12)","v":36},null,null,{"$f":"GCD(AI12,AI13)","v":36},{"$f":"AI12/AL12","v":1},null,{"$f":"AM12","v":1},{"$f":"IF(AND(AM12=1,AM13=1),\"\",AM13)","v":""},null,{"$f":"CONCATENATE(AI12,\"/\",AI13)","v":"36/36"},"=",{"$f":"CONCATENATE(AM12,\"/\",AM13)","v":"1/1"}]
[null,null,null,null,null,null,null,null,null,{"$f":"F12","v":6},{"$f":"H12","v":6},{"$f":"F12*H12","v":36},{"$f":"F12*H12","v":36},{"$f":"IF(M12>L12,K13,J13)","v":6},{"$f":"IF(M12>L12,J13,K13)","v":6},{"$f":"L13","v":36},{"$f":"M13","v":36},{"$f":"Q13","v":36},null,1,{"$f":"R13/T12","v":36},null,null,null,1,null,{"$f":"IF($Y12=1,N13,J13)","v":6},null,{"$f":"IF($Y12=1,O13,K13)","v":6},null,{"$f":"IF($Y12=1,Q13,O13)","v":6},null,{"$f":"IF($Y12=1,Q13,M13)","v":36},null,{"$f":"IF($Y12=1,R13,P13)","v":36},null,null,null,{"$f":"AI13/AL12","v":1}]
[null,6,{"$f":"IF($Y$1=3,\"2478\",IF($Y$1=2,\"111\",\"73\"))","v":"111"},101,{"$f":"LOOKUP(D14,Matrix!$A$4:$B$2481)","v":1},{"$f":"LOOKUP(D14,Matrix!$A$4:$C$2481)","v":6},{"$f":"LOOKUP(D14,Matrix!$A$4:$D$2481)","v":4},{"$f":"LOOKUP(D14,Matrix!$A$4:$E$2481)","v":5},null,{"$f":"E14","v":1},{"$f":"G14","v":4},{"$f":"E14*H14","v":5},{"$f":"G14*F14","v":24},{"$f":"IF(M14>L14,K14,J14)","v":4},{"$f":"IF(M14>L14,J14,K14)","v":1},{"$f":"IF(M14>L14,M14,L14)","v":24},{"$f":"IF(M14>L14,L14,M14)","v":5},{"$f":"P14-Q14","v":19},null,1,{"$f":"R14/T14","v":19},null,null,null,1,{"$f":"IF(Y14=0,\" + \",\" - \")","v":" - "},{"$f":"IF($Y14=1,N14,J14)","v":4},{"$f":"Z14","v":" - "},{"$f":"IF($Y14=1,O14,K14)","v":1},"=",{"$f":"IF($Y14=1,P14,L14)","v":24},{"$f":"Z14","v":" - "},{"$f":"IF($Y14=1,Q14,M14)","v":5},"=",{"$f":"IF($Y14=1,R14,L14+M14)","v":19},null,null,{"$f":"GCD(AI14,AI15)","v":1},{"$f":"AI14/AL14","v":19},null,{"$f":"AM14","v":19},{"$f":"IF(AND(AM14=1,AM15=1),\"\",AM15)","v":30},null,{"$f":"CONCATENATE(AI14,\"/\",AI15)","v":"19/30"},"=",{"$f":"CONCATENATE(AM14,\"/\",AM15)","v":"19/30"}]
[null,null,null,null,null,null,null,null,null,{"$f":"F14","v":6},{"$f":"H14","v":5},{"$f":"F14*H14","v":30},{"$f":"F14*H14","v":30},{"$f":"IF(M14>L14,K15,J15)","v":5},{"$f":"IF(M14>L14,J15,K15)","v":6},{"$f":"L15","v":30},{"$f":"M15","v":30},{"$f":"Q15","v":30},null,1,{"$f":"R15/T14","v":30},null,null,null,1,null,{"$f":"IF($Y14=1,N15,J15)","v":5},null,{"$f":"IF($Y14=1,O15,K15)","v":6},null,{"$f":"IF($Y14=1,Q15,O15)","v":30},null,{"$f":"IF($Y14=1,Q15,M15)","v":30},null,{"$f":"IF($Y14=1,R15,P15)","v":30},null,null,null,{"$f":"AI15/AL14","v":30}]
[null,7,{"$f":"IF($Y$1=3,\"2478\",IF($Y$1=2,\"111\",\"73\"))","v":"111"},83,{"$f":"LOOKUP(D16,Matrix!$A$4:$B$2481)","v":1},{"$f":"LOOKUP(D16,Matrix!$A$4:$C$2481)","v":3},{"$f":"LOOKUP(D16,Matrix!$A$4:$D$2481)","v":5},{"$f":"LOOKUP(D16,Matrix!$A$4:$E$2481)","v":8},null,{"$f":"E16","v":1},{"$f":"G16","v":5},{"$f":"E16*H16","v":8},{"$f":"G16*F16","v":15},{"$f":"IF(M16>L16,K16,J16)","v":5},{"$f":"IF(M16>L16,J16,K16)","v":1},{"$f":"IF(M16>L16,M16,L16)","v":15},{"$f":"IF(M16>L16,L16,M16)","v":8},{"$f":"P16-Q16","v":7},null,1,{"$f":"R16/T16","v":7},null,null,null,1,{"$f":"IF(Y16=0,\" + \",\" - \")","v":" - "},{"$f":"IF($Y16=1,N16,J16)","v":5},{"$f":"Z16","v":" - "},{"$f":"IF($Y16=1,O16,K16)","v":1},"=",{"$f":"IF($Y16=1,P16,L16)","v":15},{"$f":"Z16","v":" - "},{"$f":"IF($Y16=1,Q16,M16)","v":8},"=",{"$f":"IF($Y16=1,R16,L16+M16)","v":7},null,null,{"$f":"GCD(AI16,AI17)","v":1},{"$f":"AI16/AL16","v":7},null,{"$f":"AM16","v":7},{"$f":"IF(AND(AM16=1,AM17=1),\"\",AM17)","v":24},null,{"$f":"CONCATENATE(AI16,\"/\",AI17)","v":"7/24"},"=",{"$f":"CONCATENATE(AM16,\"/\",AM17)","v":"7/24"}]
[null,null,null,null,null,null,null,null,null,{"$f":"F16","v":3},{"$f":"H16","v":8},{"$f":"F16*H16","v":24},{"$f":"F16*H16","v":24},{"$f":"IF(M16>L16,K17,J17)","v":8},{"$f":"IF(M16>L16,J17,K17)","v":3},{"$f":"L17","v":24},{"$f":"M17","v":24},{"$f":"Q17","v":24},null,1,{"$f":"R17/T16","v":24},null,null,null,0,null,{"$f":"IF($Y16=1,N17,J17)","v":8},null,{"$f":"IF($Y16=1,O17,K17)","v":3},null,{"$f":"IF($Y16=1,Q17,O17)","v":24},null,{"$f":"IF($Y16=1,Q17,M17)","v":24},null,{"$f":"IF($Y16=1,R17,P17)","v":24},null,null,null,{"$f":"AI17/AL16","v":24}]
[null,8,{"$f":"IF($Y$1=3,\"2478\",IF($Y$1=2,\"111\",\"73\"))","v":"111"},64,{"$f":"LOOKUP(D18,Matrix!$A$4:$B$2481)","v":3},{"$f":"LOOKUP(D18,Matrix!$A$4:$C$2481)","v":10},{"$f":"LOOKUP(D18,Matrix!$A$4:$D$2481)","v":3},{"$f":"LOOKUP(D18,Matrix!$A$4:$E$2481)","v":8},null,{"$f":"E18","v":3},{"$f":"G18","v":3},{"$f":"E18*H18","v":24},{"$f":"G18*F18","v":30},{"$f":"IF(M18>L18,K18,J18)","v":3},{"$f":"IF(M18>L18,J18,K18)","v":3},{"$f":"IF(M18>L18,M18,L18)","v":30},{"$f":"IF(M18>L18,L18,M18)","v":24},{"$f":"P18-Q18","v":6},null,1,{"$f":"R18/T18","v":6},null,null,null,1,{"$f":"IF(Y18=0,\" + \",\" - \")","v":" - "},{"$f":"IF($Y18=1,N18,J18)","v":3},{"$f":"Z18","v":" - "},{"$f":"IF($Y18=1,O18,K18)","v":3},"=",{"$f":"IF($Y18=1,P18,L18)","v":30},{"$f":"Z18","v":" - "},{"$f":"IF($Y18=1,Q18,M18)","v":24},"=",{"$f":"IF($Y18=1,R18,L18+M18)","v":6},null,null,{"$f":"GCD(AI18,AI19)","v":2},{"$f":"AI18/AL18","v":3},null,{"$f":"AM18","v":3},{"$f":"IF(AND(AM18=1,AM19=1),\"\",AM19)","v":40},null,{"$f":"CONCATENATE(AI18,\"/\",AI19)","v":"6/80"},"=",{"$f":"CONCATENATE(AM18,\"/\",AM19)","v":"3/40"}]
[null,null,null,null,null,null,null,null,null,{"$f":"F18","v":10},{"$f":"H18","v":8},{"$f":"F18*H18","v":80},{"$f":"F18*H18","v":80},{"$f":"IF(M18>L18,K19,J19)","v":8},{"$f":"IF(M18>L18,J19,K19)","v":10},{"$f":"L19","v":80},{"$f":"M19","v":80},{"$f":"Q19","v":80},null,1,{"$f":"R19/T18","v":80},null,null,null,1,null,{"$f":"IF($Y18=1,N19,J19)","v":8},null,{"$f":"IF($Y18=1,O19,K19)","v":10},null,{"$f":"IF($Y18=1,Q19,O19)","v":80},null,{"$f":"IF($Y18=1,Q19,M19)","v":80},null,{"$f":"IF($Y18=1,R19,P19)","v":80},null,null,null,{"$f":"AI19/AL18","v":40}]
[null,9,{"$f":"IF($Y$1=3,\"2478\",IF($Y$1=2,\"111\",\"73\"))","v":"111"},26,{"$f":"LOOKUP(D20,Matrix!$A$4:$B$2481)","v":1},{"$f":"LOOKUP(D20,Matrix!$A$4:$C$2481)","v":5},{"$f":"LOOKUP(D20,Matrix!$A$4:$D$2481)","v":3},{"$f":"LOOKUP(D20,Matrix!$A$4:$E$2481)","v":5},null,{"$f":"E20","v":1},{"$f":"G20","v":3},{"$f":"E20*H20","v":5},{"$f":"G20*F20","v":15},{"$f":"IF(M20>L20,K20,J20)","v":3},{"$f":"IF(M20>L20,J20,K20)","v":1},{"$f":"IF(M20>L20,M20,L20)","v":15},{"$f":"IF(M20>L20,L20,M20)","v":5},{"$f":"P20-Q20","v":10},null,1,{"$f":"R20/T20","v":10},null,null,null,1,{"$f":"IF(Y20=0,\" + \",\" - \")","v":" - "},{"$f":"IF($Y20=1,N20,J20)","v":3},{"$f":"Z20","v":" - "},{"$f":"IF($Y20=1,O20,K20)","v":1},"=",{"$f":"IF($Y20=1,P20,L20)","v":15},{"$f":"Z20","v":" - "},{"$f":"IF($Y20=1,Q20,M20)","v":5},"=",{"$f":"IF($Y20=1,R20,L20+M20)","v":10},null,null,{"$f":"GCD(AI20,AI21)","v":5},{"$f":"AI20/AL20","v":2},null,{"$f":"AM20","v":2},{"$f":"IF(AND(AM20=1,AM21=1),\"\",AM21)","v":5},null,{"$f":"CONCATENATE(AI20,\"/\",AI21)","v":"10/25"},"=",{"$f":"CONCATENATE(AM20,\"/\",AM21)","v":"2/5"}]
[null,null,null,null,null,null,null,null,null,{"$f":"F20","v":5},{"$f":"H20","v":5},{"$f":"F20*H20","v":25},{"$f":"F20*H20","v":25},{"$f":"IF(M20>L20,K21,J21)","v":5},{"$f":"IF(M20>L20,J21,K21)","v":5},{"$f":"L21","v":25},{"$f":"M21","v":25},{"$f":"Q21","v":25},null,1,{"$f":"R21/T20","v":25},null,null,null,1,null,{"$f":"IF($Y20=1,N21,J21)","v":5},null,{"$f":"IF($Y20=1,O21,K21)","v":5},null,{"$f":"IF($Y20=1,Q21,O21)","v":25},null,{"$f":"IF($Y20=1,Q21,M21)","v":25},null,{"$f":"IF($Y20=1,R21,P21)","v":25},null,null,null,{"$f":"AI21/AL20","v":5}]
[null,10,{"$f":"IF($Y$1=3,\"2478\",IF($Y$1=2,\"111\",\"73\"))","v":"111"},107,{"$f":"LOOKUP(D22,Matrix!$A$4:$B$2481)","v":1},{"$f":"LOOKUP(D22,Matrix!$A$4:$C$2481)","v":6},{"$f":"LOOKUP(D22,Matrix!$A$4:$D$2481)","v":3},{"$f":"LOOKUP(D22,Matrix!$A$4:$E$2481)","v":10},null,{"$f":"E22","v":1},{"$f":"G22","v":3},{"$f":"E22*H22","v":10},{"$f":"G22*F22","v":18},{"$f":"IF(M22>L22,K22,J22)","v":3},{"$f":"IF(M22>L22,J22,K22)","v":1},{"$f":"IF(M22>L22,M22,L22)","v":18},{"$f":"IF(M22>L22,L22,M22)","v":10},{"$f":"P22-Q22","v":8},null,1,{"$f":"R22/T22","v":8},null,null,null,0,{"$f":"IF(Y22=0,\" + \",\" - \")","v":" + "},{"$f":"IF($Y22=1,N22,J22)","v":1},{"$f":"Z22","v":" + "},{"$f":"IF($Y22=1,O22,K22)","v":3},"=",{"$f":"IF($Y22=1,P22,L22)","v":10},{"$f":"Z22","v":" + "},{"$f":"IF($Y22=1,Q22,M22)","v":18},"=",{"$f":"IF($Y22=1,R22,L22+M22)","v":28},null,null,{"$f":"GCD(AI22,AI23)","v":4},{"$f":"AI22/AL22","v":7},null,{"$f":"AM22","v":7},{"$f":"IF(AND(AM22=1,AM23=1),\"\",AM23)","v":15},null,{"$f":"CONCATENATE(AI22,\"/\",AI23)","v":"28/60"},"=",{"$f":"CONCATENATE(AM22,\"/\",AM23)","v":"7/15"}]
[null,null,null,null,null,null,null,null,null,{"$f":"F22","v":6},{"$f":"H22","v":10},{"$f":"F22*H22","v":60},{"$f":"F22*H22","v":60},{"$f":"IF(M22>L22,K23,J23)","v":10},{"$f":"IF(M22>L22,J23,K23)","v":6},{"$f":"L23","v":60},{"$f":"M23","v":60},{"$f":"Q23","v":60},null,1,{"$f":"R23/T22","v":60},null,null,null,1,null,{"$f":"IF($Y22=1,N23,J23)","v":6},null,{"$f":"IF($Y22=1,O23,K23)","v":10},null,{"$f":"IF($Y22=1,Q23,O23)","v":6},null,{"$f":"IF($Y22=1,Q23,M23)","v":60},null,{"$f":"IF($Y22=1,R23,P23)","v":60},null,null,null,{"$f":"AI23/AL22","v":15}]
[null,11,{"$f":"IF($Y$1=3,\"2478\",IF($Y$1=2,\"111\",\"73\"))","v":"111"},57,{"$f":"LOOKUP(D24,Matrix!$A$4:$B$2481)","v":1},{"$f":"LOOKUP(D24,Matrix!$A$4:$C$2481)","v":10},{"$f":"LOOKUP(D24,Matrix!$A$4:$D$2481)","v":9},{"$f":"LOOKUP(D24,Matrix!$A$4:$E$2481)","v":10},null,{"$f":"E24","v":1},{"$f":"G24","v":9},{"$f":"E24*H24","v":10},{"$f":"G24*F24","v":90},{"$f":"IF(M24>L24,K24,J24)","v":9},{"$f":"IF(M24>L24,J24,K24)","v":1},{"$f":"IF(M24>L24,M24,L24)","v":90},{"$f":"IF(M24>L24,L24,M24)","v":10},{"$f":"P24-Q24","v":80},null,1,{"$f":"R24/T24","v":80},null,null,null,0,{"$f":"IF(Y24=0,\" + \",\" - \")","v":" + "},{"$f":"IF($Y24=1,N24,J24)","v":1},{"$f":"Z24","v":" + "},{"$f":"IF($Y24=1,O24,K24)","v":9},"=",{"$f":"IF($Y24=1,P24,L24)","v":10},{"$f":"Z24","v":" + "},{"$f":"IF($Y24=1,Q24,M24)","v":90},"=",{"$f":"IF($Y24=1,R24,L24+M24)","v":100},null,null,{"$f":"GCD(AI24,AI25)","v":100},{"$f":"AI24/AL24","v":1},null,{"$f":"AM24","v":1},{"$f":"IF(AND(AM24=1,AM25=1),\"\",AM25)","v":""},null,{"$f":"CONCATENATE(AI24,\"/\",AI25)","v":"100/100"},"=",{"$f":"CONCATENATE(AM24,\"/\",AM25)","v":"1/1"}]
[null,null,null,null,null,null,null,null,null,{"$f":"F24","v":10},{"$f":"H24","v":10},{"$f":"F24*H24","v":100},{"$f":"F24*H24","v":100},{"$f":"IF(M24>L24,K25,J25)","v":10},{"$f":"IF(M24>L24,J25,K25)","v":10},{"$f":"L25","v":100},{"$f":"M25","v":100},{"$f":"Q25","v":100},null,1,{"$f":"R25/T24","v":100},null,null,null,0,null,{"$f":"IF($Y24=1,N25,J25)","v":10},null,{"$f":"IF($Y24=1,O25,K25)","v":10},null,{"$f":"IF($Y24=1,Q25,O25)","v":10},null,{"$f":"IF($Y24=1,Q25,M25)","v":100},null,{"$f":"IF($Y24=1,R25,P25)","v":100},null,null,null,{"$f":"AI25/AL24","v":1}]
[null,12,{"$f":"IF($Y$1=3,\"2478\",IF($Y$1=2,\"111\",\"73\"))","v":"111"},27,{"$f":"LOOKUP(D26,Matrix!$A$4:$B$2481)","v":1},{"$f":"LOOKUP(D26,Matrix!$A$4:$C$2481)","v":5},{"$f":"LOOKUP(D26,Matrix!$A$4:$D$2481)","v":4},{"$f":"LOOKUP(D26,Matrix!$A$4:$E$2481)","v":5},null,{"$f":"E26","v":1},{"$f":"G26","v":4},{"$f":"E26*H26","v":5},{"$f":"G26*F26","v":20},{"$f":"IF(M26>L26,K26,J26)","v":4},{"$f":"IF(M26>L26,J26,K26)","v":1},{"$f":"IF(M26>L26,M26,L26)","v":20},{"$f":"IF(M26>L26,L26,M26)","v":5},{"$f":"P26-Q26","v":15},null,1,{"$f":"R26/T26","v":15},null,null,null,0,{"$f":"IF(Y26=0,\" + \",\" - \")","v":" + "},{"$f":"IF($Y26=1,N26,J26)","v":1},{"$f":"Z26","v":" + "},{"$f":"IF($Y26=1,O26,K26)","v":4},"=",{"$f":"IF($Y26=1,P26,L26)","v":5},{"$f":"Z26","v":" + "},{"$f":"IF($Y26=1,Q26,M26)","v":20},"=",{"$f":"IF($Y26=1,R26,L26+M26)","v":25},null,null,{"$f":"GCD(AI26,AI27)","v":25},{"$f":"AI26/AL26","v":1},null,{"$f":"AM26","v":1},{"$f":"IF(AND(AM26=1,AM27=1),\"\",AM27)","v":""},null,{"$f":"CONCATENATE(AI26,\"/\",AI27)","v":"25/25"},"=",{"$f":"CONCATENATE(AM26,\"/\",AM27)","v":"1/1"}]
[null,null,null,null,null,null,null,null,null,{"$f":"F26","v":5},{"$f":"H26","v":5},{"$f":"F26*H26","v":25},{"$f":"F26*H26","v":25},{"$f":"IF(M26>L26,K27,J27)","v":5},{"$f":"IF(M26>L26,J27,K27)","v":5},{"$f":"L27","v":25},{"$f":"M27","v":25},{"$f":"Q27","v":25},null,1,{"$f":"R27/T26","v":25},null,null,null,1,null,{"$f":"IF($Y26=1,N27,J27)","v":5},null,{"$f":"IF($Y26=1,O27,K27)","v":5},null,{"$f":"IF($Y26=1,Q27,O27)","v":5},null,{"$f":"IF($Y26=1,Q27,M27)","v":25},null,{"$f":"IF($Y26=1,R27,P27)","v":25},null,null,null,{"$f":"AI27/AL26","v":1}]
[null,13,{"$f":"IF($Y$1=3,\"2478\",IF($Y$1=2,\"111\",\"73\"))","v":"111"},12,{"$f":"LOOKUP(D28,Matrix!$A$4:$B$2481)","v":1},{"$f":"LOOKUP(D28,Matrix!$A$4:$C$2481)","v":4},{"$f":"LOOKUP(D28,Matrix!$A$4:$D$2481)","v":1},{"$f":"LOOKUP(D28,Matrix!$A$4:$E$2481)","v":8},null,{"$f":"E28","v":1},{"$f":"G28","v":1},{"$f":"E28*H28","v":8},{"$f":"G28*F28","v":4},{"$f":"IF(M28>L28,K28,J28)","v":1},{"$f":"IF(M28>L28,J28,K28)","v":1},{"$f":"IF(M28>L28,M28,L28)","v":8},{"$f":"IF(M28>L28,L28,M28)","v":4},{"$f":"P28-Q28","v":4},null,1,{"$f":"R28/T28","v":4},null,null,null,1,{"$f":"IF(Y28=0,\" + \",\" - \")","v":" - "},{"$f":"IF($Y28=1,N28,J28)","v":1},{"$f":"Z28","v":" - "},{"$f":"IF($Y28=1,O28,K28)","v":1},"=",{"$f":"IF($Y28=1,P28,L28)","v":8},{"$f":"Z28","v":" - "},{"$f":"IF($Y28=1,Q28,M28)","v":4},"=",{"$f":"IF($Y28=1,R28,L28+M28)","v":4},null,null,{"$f":"GCD(AI28,AI29)","v":4},{"$f":"AI28/AL28","v":1},null,{"$f":"AM28","v":1},{"$f":"IF(AND(AM28=1,AM29=1),\"\",AM29)","v":8},null,{"$f":"CONCATENATE(AI28,\"/\",AI29)","v":"4/32"},"=",{"$f":"CONCATENATE(AM28,\"/\",AM29)","v":"1/8"}]
[null,null,null,null,null,null,null,null,null,{"$f":"F28","v":4},{"$f":"H28","v":8},{"$f":"F28*H28","v":32},{"$f":"F28*H28","v":32},{"$f":"IF(M28>L28,K29,J29)","v":4},{"$f":"IF(M28>L28,J29,K29)","v":8},{"$f":"L29","v":32},{"$f":"M29","v":32},{"$f":"Q29","v":32},null,1,{"$f":"R29/T28","v":32},null,null,null,1,null,{"$f":"IF($Y28=1,N29,J29)","v":4},null,{"$f":"IF($Y28=1,O29,K29)","v":8},null,{"$f":"IF($Y28=1,Q29,O29)","v":32},null,{"$f":"IF($Y28=1,Q29,M29)","v":32},null,{"$f":"IF($Y28=1,R29,P29)","v":32},null,null,null,{"$f":"AI29/AL28","v":8}]
[null,14,{"$f":"IF($Y$1=3,\"2478\",IF($Y$1=2,\"111\",\"73\"))","v":"111"},25,{"$f":"LOOKUP(D30,Matrix!$A$4:$B$2481)","v":1},{"$f":"LOOKUP(D30,Matrix!$A$4:$C$2481)","v":5},{"$f":"LOOKUP(D30,Matrix!$A$4:$D$2481)","v":2},{"$f":"LOOKUP(D30,Matrix!$A$4:$E$2481)","v":5},null,{"$f":"E30","v":1},{"$f":"G30","v":2},{"$f":"E30*H30","v":5},{"$f":"G30*F30","v":10},{"$f":"IF(M30>L30,K30,J30)","v":2},{"$f":"IF(M30>L30,J30,K30)","v":1},{"$f":"IF(M30>L30,M30,L30)","v":10},{"$f":"IF(M30>L30,L30,M30)","v":5},{"$f":"P30-Q30","v":5},null,1,{"$f":"R30/T30","v":5},null,null,null,0,{"$f":"IF(Y30=0,\" + \",\" - \")","v":" + "},{"$f":"IF($Y30=1,N30,J30)","v":1},{"$f":"Z30","v":" + "},{"$f":"IF($Y30=1,O30,K30)","v":2},"=",{"$f":"IF($Y30=1,P30,L30)","v":5},{"$f":"Z30","v":" + "},{"$f":"IF($Y30=1,Q30,M30)","v":10},"=",{"$f":"IF($Y30=1,R30,L30+M30)","v":15},null,null,{"$f":"GCD(AI30,AI31)","v":5},{"$f":"AI30/AL30","v":3},null,{"$f":"AM30","v":3},{"$f":"IF(AND(AM30=1,AM31=1),\"\",AM31)","v":5},null,{"$f":"CONCATENATE(AI30,\"/\",AI31)","v":"15/25"},"=",{"$f":"CONCATENATE(AM30,\"/\",AM31)","v":"3/5"}]
[null,null,null,null,null,null,null,null,null,{"$f":"F30","v":5},{"$f":"H30","v":5},{"$f":"F30*H30","v":25},{"$f":"F30*H30","v":25},{"$f":"IF(M30>L30,K31,J31)","v":5},{"$f":"IF(M30>L30,J31,K31)","v":5},{"$f":"L31","v":25},{"$f":"M31","v":25},{"$f":"Q31","v":25},null,1,{"$f":"R31/T30","v":25},null,null,null,1,null,{"$f":"IF($Y30=1,N31,J31)","v":5},null,{"$f":"IF($Y30=1,O31,K31)","v":5},null,{"$f":"IF($Y30=1,Q31,O31)","v":5},null,{"$f":"IF($Y30=1,Q31,M31)","v":25},null,{"$f":"IF($Y30=1,R31,P31)","v":25},null,null,null,{"$f":"AI31/AL30","v":5}]
[null,15,{"$f":"IF($Y$1=3,\"2478\",IF($Y$1=2,\"111\",\"73\"))","v":"111"},96,{"$f":"LOOKUP(D32,Matrix!$A$4:$B$2481)","v":1},{"$f":"LOOKUP(D32,Matrix!$A$4:$C$2481)","v":6},{"$f":"LOOKUP(D32,Matrix!$A$4:$D$2481)","v":1},{"$f":"LOOKUP(D32,Matrix!$A$4:$E$2481)","v":4},null,{"$f":"E32","v":1},{"$f":"G32","v":1},{"$f":"E32*H32","v":4},{"$f":"G32*F32","v":6},{"$f":"IF(M32>L32,K32,J32)","v":1},{"$f":"IF(M32>L32,J32,K32)","v":1},{"$f":"IF(M32>L32,M32,L32)","v":6},{"$f":"IF(M32>L32,L32,M32)","v":4},{"$f":"P32-Q32","v":2},null,1,{"$f":"R32/T32","v":2},null,null,null,0,{"$f":"IF(Y32=0,\" + \",\" - \")","v":" + "},{"$f":"IF($Y32=1,N32,J32)","v":1},{"$f":"Z32","v":" + "},{"$f":"IF($Y32=1,O32,K32)","v":1},"=",{"$f":"IF($Y32=1,P32,L32)","v":4},{"$f":"Z32","v":" + "},{"$f":"IF($Y32=1,Q32,M32)","v":6},"=",{"$f":"IF($Y32=1,R32,L32+M32)","v":10},null,null,{"$f":"GCD(AI32,AI33)","v":2},{"$f":"AI32/AL32","v":5},null,{"$f":"AM32","v":5},{"$f":"IF(AND(AM32=1,AM33=1),\"\",AM33)","v":12},null,{"$f":"CONCATENATE(AI32,\"/\",AI33)","v":"10/24"},"=",{"$f":"CONCATENATE(AM32,\"/\",AM33)","v":"5/12"}]
[null,null,null,null,null,null,null,null,null,{"$f":"F32","v":6},{"$f":"H32","v":4},{"$f":"F32*H32","v":24},{"$f":"F32*H32","v":24},{"$f":"IF(M32>L32,K33,J33)","v":4},{"$f":"IF(M32>L32,J33,K33)","v":6},{"$f":"L33","v":24},{"$f":"M33","v":24},{"$f":"Q33","v":24},null,1,{"$f":"R33/T32","v":24},null,null,null,1,null,{"$f":"IF($Y32=1,N33,J33)","v":6},null,{"$f":"IF($Y32=1,O33,K33)","v":4},null,{"$f":"IF($Y32=1,Q33,O33)","v":6},null,{"$f":"IF($Y32=1,Q33,M33)","v":24},null,{"$f":"IF($Y32=1,R33,P33)","v":24},null,null,null,{"$f":"AI33/AL32","v":12}]
[null,16,{"$f":"IF($Y$1=3,\"2478\",IF($Y$1=2,\"111\",\"73\"))","v":"111"},97,{"$f":"LOOKUP(D34,Matrix!$A$4:$B$2481)","v":1},{"$f":"LOOKUP(D34,Matrix!$A$4:$C$2481)","v":6},{"$f":"LOOKUP(D34,Matrix!$A$4:$D$2481)","v":3},{"$f":"LOOKUP(D34,Matrix!$A$4:$E$2481)","v":4},null,{"$f":"E34","v":1},{"$f":"G34","v":3},{"$f":"E34*H34","v":4},{"$f":"G34*F34","v":18},{"$f":"IF(M34>L34,K34,J34)","v":3},{"$f":"IF(M34>L34,J34,K34)","v":1},{"$f":"IF(M34>L34,M34,L34)","v":18},{"$f":"IF(M34>L34,L34,M34)","v":4},{"$f":"P34-Q34","v":14},null,1,{"$f":"R34/T34","v":14},null,null,null,1,{"$f":"IF(Y34=0,\" + \",\" - \")","v":" - "},{"$f":"IF($Y34=1,N34,J34)","v":3},{"$f":"Z34","v":" - "},{"$f":"IF($Y34=1,O34,K34)","v":1},"=",{"$f":"IF($Y34=1,P34,L34)","v":18},{"$f":"Z34","v":" - "},{"$f":"IF($Y34=1,Q34,M34)","v":4},"=",{"$f":"IF($Y34=1,R34,L34+M34)","v":14},null,null,{"$f":"GCD(AI34,AI35)","v":2},{"$f":"AI34/AL34","v":7},null,{"$f":"AM34","v":7},{"$f":"IF(AND(AM34=1,AM35=1),\"\",AM35)","v":12},null,{"$f":"CONCATENATE(AI34,\"/\",AI35)","v":"14/24"},"=",{"$f":"CONCATENATE(AM34,\"/\",AM35)","v":"7/12"}]
[null,null,null,null,null,null,null,null,null,{"$f":"F34","v":6},{"$f":"H34","v":4},{"$f":"F34*H34","v":24},{"$f":"F34*H34","v":24},{"$f":"IF(M34>L34,K35,J35)","v":4},{"$f":"IF(M34>L34,J35,K35)","v":6},{"$f":"L35","v":24},{"$f":"M35","v":24},{"$f":"Q35","v":24},null,1,{"$f":"R35/T34","v":24},null,null,null,0,null,{"$f":"IF($Y34=1,N35,J35)","v":4},null,{"$f":"IF($Y34=1,O35,K35)","v":6},null,{"$f":"IF($Y34=1,Q35,O35)","v":24},null,{"$f":"IF($Y34=1,Q35,M35)","v":24},null,{"$f":"IF($Y34=1,R35,P35)","v":24},null,null,null,{"$f":"AI35/AL34","v":12}]
[null,17,{"$f":"IF($Y$1=3,\"2478\",IF($Y$1=2,\"111\",\"73\"))","v":"111"},48,{"$f":"LOOKUP(D36,Matrix!$A$4:$B$2481)","v":1},{"$f":"LOOKUP(D36,Matrix!$A$4:$C$2481)","v":10},{"$f":"LOOKUP(D36,Matrix!$A$4:$D$2481)","v":2},{"$f":"LOOKUP(D36,Matrix!$A$4:$E$2481)","v":5},null,{"$f":"E36","v":1},{"$f":"G36","v":2},{"$f":"E36*H36","v":5},{"$f":"G36*F36","v":20},{"$f":"IF(M36>L36,K36,J36)","v":2},{"$f":"IF(M36>L36,J36,K36)","v":1},{"$f":"IF(M36>L36,M36,L36)","v":20},{"$f":"IF(M36>L36,L36,M36)","v":5},{"$f":"P36-Q36","v":15},null,1,{"$f":"R36/T36","v":15},null,null,null,{"$f":"INT(2*RAND())","v":0},{"$f":"IF(Y36=0,\" + \",\" - \")","v":" + "},{"$f":"IF($Y36=1,N36,J36)","v":1},{"$f":"Z36","v":" + "},{"$f":"IF($Y36=1,O36,K36)","v":2},"=",{"$f":"IF($Y36=1,P36,L36)","v":5},{"$f":"Z36","v":" + "},{"$f":"IF($Y36=1,Q36,M36)","v":20},"=",{"$f":"IF($Y36=1,R36,L36+M36)","v":25},null,null,{"$f":"GCD(AI36,AI37)","v":25},{"$f":"AI36/AL36","v":1},null,{"$f":"AM36","v":1},{"$f":"IF(AND(AM36=1,AM37=1),\"\",AM37)","v":2},null,{"$f":"CONCATENATE(AI36,\"/\",AI37)","v":"25/50"},"=",{"$f":"CONCATENATE(AM36,\"/\",AM37)","v":"1/2"}]
[null,null,null,null,null,null,null,null,null,{"$f":"F36","v":10},{"$f":"H36","v":5},{"$f":"F36*H36","v":50},{"$f":"F36*H36","v":50},{"$f":"IF(M36>L36,K37,J37)","v":5},{"$f":"IF(M36>L36,J37,K37)","v":10},{"$f":"L37","v":50},{"$f":"M37","v":50},{"$f":"Q37","v":50},null,1,{"$f":"R37/T36","v":50},null,null,null,0,null,{"$f":"IF($Y36=1,N37,J37)","v":10},null,{"$f":"IF($Y36=1,O37,K37)","v":5},null,{"$f":"IF($Y36=1,Q37,O37)","v":10},null,{"$f":"IF($Y36=1,Q37,M37)","v":50},null,{"$f":"IF($Y36=1,R37,P37)","v":50},null,null,null,{"$f":"AI37/AL36","v":2}]
[null,18,{"$f":"IF($Y$1=3,\"2478\",IF($Y$1=2,\"111\",\"73\"))","v":"111"},53,{"$f":"LOOKUP(D38,Matrix!$A$4:$B$2481)","v":1},{"$f":"LOOKUP(D38,Matrix!$A$4:$C$2481)","v":10},{"$f":"LOOKUP(D38,Matrix!$A$4:$D$2481)","v":5},{"$f":"LOOKUP(D38,Matrix!$A$4:$E$2481)","v":8},null,{"$f":"E38","v":1},{"$f":"G38","v":5},{"$f":"E38*H38","v":8},{"$f":"G38*F38","v":50},{"$f":"IF(M38>L38,K38,J38)","v":5},{"$f":"IF(M38>L38,J38,K38)","v":1},{"$f":"IF(M38>L38,M38,L38)","v":50},{"$f":"IF(M38>L38,L38,M38)","v":8},{"$f":"P38-Q38","v":42},null,1,{"$f":"R38/T38","v":42},null,null,null,1,{"$f":"IF(Y38=0,\" + \",\" - \")","v":" - "},{"$f":"IF($Y38=1,N38,J38)","v":5},{"$f":"Z38","v":" - "},{"$f":"IF($Y38=1,O38,K38)","v":1},"=",{"$f":"IF($Y38=1,P38,L38)","v":50},{"$f":"Z38","v":" - "},{"$f":"IF($Y38=1,Q38,M38)","v":8},"=",{"$f":"IF($Y38=1,R38,L38+M38)","v":42},null,null,{"$f":"GCD(AI38,AI39)","v":2},{"$f":"AI38/AL38","v":21},null,{"$f":"AM38","v":21},{"$f":"IF(AND(AM38=1,AM39=1),\"\",AM39)","v":40},null,{"$f":"CONCATENATE(AI38,\"/\",AI39)","v":"42/80"},"=",{"$f":"CONCATENATE(AM38,\"/\",AM39)","v":"21/40"}]
[null,null,null,null,null,null,null,null,null,{"$f":"F38","v":10},{"$f":"H38","v":8},{"$f":"F38*H38","v":80},{"$f":"F38*H38","v":80},{"$f":"IF(M38>L38,K39,J39)","v":8},{"$f":"IF(M38>L38,J39,K39)","v":10},{"$f":"L39","v":80},{"$f":"M39","v":80},{"$f":"Q39","v":80},null,1,{"$f":"R39/T38","v":80},null,null,null,0,null,{"$f":"IF($Y38=1,N39,J39)","v":8},null,{"$f":"IF($Y38=1,O39,K39)","v":10},null,{"$f":"IF($Y38=1,Q39,O39)","v":80},null,{"$f":"IF($Y38=1,Q39,M39)","v":80},null,{"$f":"IF($Y38=1,R39,P39)","v":80},null,null,null,{"$f":"AI39/AL38","v":40}]
[null,19,{"$f":"IF($Y$1=3,\"2478\",IF($Y$1=2,\"111\",\"73\"))","v":"111"},61,{"$f":"LOOKUP(D40,Matrix!$A$4:$B$2481)","v":3},{"$f":"LOOKUP(D40,Matrix!$A$4:$C$2481)","v":10},{"$f":"LOOKUP(D40,Matrix!$A$4:$D$2481)","v":2},{"$f":"LOOKUP(D40,Matrix!$A$4:$E$2481)","v":5},null,{"$f":"E40","v":3},{"$f":"G40","v":2},{"$f":"E40*H40","v":15},{"$f":"G40*F40","v":20},{"$f":"IF(M40>L40,K40,J40)","v":2},{"$f":"IF(M40>L40,J40,K40)","v":3},{"$f":"IF(M40>L40,M40,L40)","v":20},{"$f":"IF(M40>L40,L40,M40)","v":15},{"$f":"P40-Q40","v":5},null,1,{"$f":"R40/T40","v":5},null,null,null,1,{"$f":"IF(Y40=0,\" + \",\" - \")","v":" - "},{"$f":"IF($Y40=1,N40,J40)","v":2},{"$f":"Z40","v":" - "},{"$f":"IF($Y40=1,O40,K40)","v":3},"=",{"$f":"IF($Y40=1,P40,L40)","v":20},{"$f":"Z40","v":" - "},{"$f":"IF($Y40=1,Q40,M40)","v":15},"=",{"$f":"IF($Y40=1,R40,L40+M40)","v":5},null,null,{"$f":"GCD(AI40,AI41)","v":5},{"$f":"AI40/AL40","v":1},null,{"$f":"AM40","v":1},{"$f":"IF(AND(AM40=1,AM41=1),\"\",AM41)","v":10},null,{"$f":"CONCATENATE(AI40,\"/\",AI41)","v":"5/50"},"=",{"$f":"CONCATENATE(AM40,\"/\",AM41)","v":"1/10"}]
[null,null,null,null,null,null,null,null,null,{"$f":"F40","v":10},{"$f":"H40","v":5},{"$f":"F40*H40","v":50},{"$f":"F40*H40","v":50},{"$f":"IF(M40>L40,K41,J41)","v":5},{"$f":"IF(M40>L40,J41,K41)","v":10},{"$f":"L41","v":50},{"$f":"M41","v":50},{"$f":"Q41","v":50},null,1,{"$f":"R41/T40","v":50},null,null,null,1,null,{"$f":"IF($Y40=1,N41,J41)","v":5},null,{"$f":"IF($Y40=1,O41,K41)","v":10},null,{"$f":"IF($Y40=1,Q41,O41)","v":50},null,{"$f":"IF($Y40=1,Q41,M41)","v":50},null,{"$f":"IF($Y40=1,R41,P41)","v":50},null,null,null,{"$f":"AI41/AL40","v":10}]
[null,20,{"$f":"IF($Y$1=3,\"2478\",IF($Y$1=2,\"111\",\"73\"))","v":"111"},41,{"$f":"LOOKUP(D42,Matrix!$A$4:$B$2481)","v":4},{"$f":"LOOKUP(D42,Matrix!$A$4:$C$2481)","v":5},{"$f":"LOOKUP(D42,Matrix!$A$4:$D$2481)","v":1},{"$f":"LOOKUP(D42,Matrix!$A$4:$E$2481)","v":5},null,{"$f":"E42","v":4},{"$f":"G42","v":1},{"$f":"E42*H42","v":20},{"$f":"G42*F42","v":5},{"$f":"IF(M42>L42,K42,J42)","v":4},{"$f":"IF(M42>L42,J42,K42)","v":1},{"$f":"IF(M42>L42,M42,L42)","v":20},{"$f":"IF(M42>L42,L42,M42)","v":5},{"$f":"P42-Q42","v":15},null,1,{"$f":"R42/T42","v":15},null,null,null,0,{"$f":"IF(Y42=0,\" + \",\" - \")","v":" + "},{"$f":"IF($Y42=1,N42,J42)","v":4},{"$f":"Z42","v":" + "},{"$f":"IF($Y42=1,O42,K42)","v":1},"=",{"$f":"IF($Y42=1,P42,L42)","v":20},{"$f":"Z42","v":" + "},{"$f":"IF($Y42=1,Q42,M42)","v":5},"=",{"$f":"IF($Y42=1,R42,L42+M42)","v":25},null,null,{"$f":"GCD(AI42,AI43)","v":25},{"$f":"AI42/AL42","v":1},null,{"$f":"AM42","v":1},{"$f":"IF(AND(AM42=1,AM43=1),\"\",AM43)","v":""},null,{"$f":"CONCATENATE(AI42,\"/\",AI43)","v":"25/25"},"=",{"$f":"CONCATENATE(AM42,\"/\",AM43)","v":"1/1"}]
[null,null,null,null,null,null,null,null,null,{"$f":"F42","v":5},{"$f":"H42","v":5},{"$f":"F42*H42","v":25},{"$f":"F42*H42","v":25},{"$f":"IF(M42>L42,K43,J43)","v":5},{"$f":"IF(M42>L42,J43,K43)","v":5},{"$f":"L43","v":25},{"$f":"M43","v":25},{"$f":"Q43","v":25},null,1,{"$f":"R43/T42","v":25},null,null,null,1,null,{"$f":"IF($Y42=1,N43,J43)","v":5},null,{"$f":"IF($Y42=1,O43,K43)","v":5},null,{"$f":"IF($Y42=1,Q43,O43)","v":5},null,{"$f":"IF($Y42=1,Q43,M43)","v":25},null,{"$f":"IF($Y42=1,R43,P43)","v":25},null,null,null,{"$f":"AI43/AL42","v":1}]
[null,21,{"$f":"IF($Y$1=3,\"2478\",IF($Y$1=2,\"111\",\"73\"))","v":"111"},32,{"$f":"LOOKUP(D44,Matrix!$A$4:$B$2481)","v":1},{"$f":"LOOKUP(D44,Matrix!$A$4:$C$2481)","v":5},{"$f":"LOOKUP(D44,Matrix!$A$4:$D$2481)","v":3},{"$f":"LOOKUP(D44,Matrix!$A$4:$E$2481)","v":10},null,{"$f":"E44","v":1},{"$f":"G44","v":3},{"$f":"E44*H44","v":10},{"$f":"G44*F44","v":15},{"$f":"IF(M44>L44,K44,J44)","v":3},{"$f":"IF(M44>L44,J44,K44)","v":1},{"$f":"IF(M44>L44,M44,L44)","v":15},{"$f":"IF(M44>L44,L44,M44)","v":10},{"$f":"P44-Q44","v":5},null,1,{"$f":"R44/T44","v":5},null,null,null,1,{"$f":"IF(Y44=0,\" + \",\" - \")","v":" - "},{"$f":"IF($Y44=1,N44,J44)","v":3},{"$f":"Z44","v":" - "},{"$f":"IF($Y44=1,O44,K44)","v":1},"=",{"$f":"IF($Y44=1,P44,L44)","v":15},{"$f":"Z44","v":" - "},{"$f":"IF($Y44=1,Q44,M44)","v":10},"=",{"$f":"IF($Y44=1,R44,L44+M44)","v":5},null,null,{"$f":"GCD(AI44,AI45)","v":5},{"$f":"AI44/AL44","v":1},null,{"$f":"AM44","v":1},{"$f":"IF(AND(AM44=1,AM45=1),\"\",AM45)","v":10},null,{"$f":"CONCATENATE(AI44,\"/\",AI45)","v":"5/50"},"=",{"$f":"CONCATENATE(AM44,\"/\",AM45)","v":"1/10"}]
[null,null,null,null,null,null,null,null,null,{"$f":"F44","v":5},{"$f":"H44","v":10},{"$f":"F44*H44","v":50},{"$f":"F44*H44","v":50},{"$f":"IF(M44>L44,K45,J45)","v":10},{"$f":"IF(M44>L44,J45,K45)","v":5},{"$f":"L45","v":50},{"$f":"M45","v":50},{"$f":"Q45","v":50},null,1,{"$f":"R45/T44","v":50},null,null,null,1,null,{"$f":"IF($Y44=1,N45,J45)","v":10},null,{"$f":"IF($Y44=1,O45,K45)","v":5},null,{"$f":"IF($Y44=1,Q45,O45)","v":50},null,{"$f":"IF($Y44=1,Q45,M45)","v":50},null,{"$f":"IF($Y44=1,R45,P45)","v":50},null,null,null,{"$f":"AI45/AL44","v":10}]
[null,22,{"$f":"IF($Y$1=3,\"2478\",IF($Y$1=2,\"111\",\"73\"))","v":"111"},73,{"$f":"LOOKUP(D46,Matrix!$A$4:$B$2481)","v":9},{"$f":"LOOKUP(D46,Matrix!$A$4:$C$2481)","v":10},{"$f":"LOOKUP(D46,Matrix!$A$4:$D$2481)","v":1},{"$f":"LOOKUP(D46,Matrix!$A$4:$E$2481)","v":10},null,{"$f":"E46","v":9},{"$f":"G46","v":1},{"$f":"E46*H46","v":90},{"$f":"G46*F46","v":10},{"$f":"IF(M46>L46,K46,J46)","v":9},{"$f":"IF(M46>L46,J46,K46)","v":1},{"$f":"IF(M46>L46,M46,L46)","v":90},{"$f":"IF(M46>L46,L46,M46)","v":10},{"$f":"P46-Q46","v":80},null,1,{"$f":"R46/T46","v":80},null,null,null,1,{"$f":"IF(Y46=0,\" + \",\" - \")","v":" - "},{"$f":"IF($Y46=1,N46,J46)","v":9},{"$f":"Z46","v":" - "},{"$f":"IF($Y46=1,O46,K46)","v":1},"=",{"$f":"IF($Y46=1,P46,L46)","v":90},{"$f":"Z46","v":" - "},{"$f":"IF($Y46=1,Q46,M46)","v":10},"=",{"$f":"IF($Y46=1,R46,L46+M46)","v":80},null,null,{"$f":"GCD(AI46,AI47)","v":20},{"$f":"AI46/AL46","v":4},null,{"$f":"AM46","v":4},{"$f":"IF(AND(AM46=1,AM47=1),\"\",AM47)","v":5},null,{"$f":"CONCATENATE(AI46,\"/\",AI47)","v":"80/100"},"=",{"$f":"CONCATENATE(AM46,\"/\",AM47)","v":"4/5"}]
[null,null,null,null,null,null,null,null,null,{"$f":"F46","v":10},{"$f":"H46","v":10},{"$f":"F46*H46","v":100},{"$f":"F46*H46","v":100},{"$f":"IF(M46>L46,K47,J47)","v":10},{"$f":"IF(M46>L46,J47,K47)","v":10},{"$f":"L47","v":100},{"$f":"M47","v":100},{"$f":"Q47","v":100},null,1,{"$f":"R47/T46","v":100},null,null,null,1,null,{"$f":"IF($Y46=1,N47,J47)","v":10},null,{"$f":"IF($Y46=1,O47,K47)","v":10},null,{"$f":"IF($Y46=1,Q47,O47)","v":100},null,{"$f":"IF($Y46=1,Q47,M47)","v":100},null,{"$f":"IF($Y46=1,R47,P47)","v":100},null,null,null,{"$f":"AI47/AL46","v":5}]
[null,23,{"$f":"IF($Y$1=3,\"2478\",IF($Y$1=2,\"111\",\"73\"))","v":"111"},50,{"$f":"LOOKUP(D48,Matrix!$A$4:$B$2481)","v":1},{"$f":"LOOKUP(D48,Matrix!$A$4:$C$2481)","v":10},{"$f":"LOOKUP(D48,Matrix!$A$4:$D$2481)","v":4},{"$f":"LOOKUP(D48,Matrix!$A$4:$E$2481)","v":5},null,{"$f":"E48","v":1},{"$f":"G48","v":4},{"$f":"E48*H48","v":5},{"$f":"G48*F48","v":40},{"$f":"IF(M48>L48,K48,J48)","v":4},{"$f":"IF(M48>L48,J48,K48)","v":1},{"$f":"IF(M48>L48,M48,L48)","v":40},{"$f":"IF(M48>L48,L48,M48)","v":5},{"$f":"P48-Q48","v":35},null,1,{"$f":"R48/T48","v":35},null,null,null,0,{"$f":"IF(Y48=0,\" + \",\" - \")","v":" + "},{"$f":"IF($Y48=1,N48,J48)","v":1},{"$f":"Z48","v":" + "},{"$f":"IF($Y48=1,O48,K48)","v":4},"=",{"$f":"IF($Y48=1,P48,L48)","v":5},{"$f":"Z48","v":" + "},{"$f":"IF($Y48=1,Q48,M48)","v":40},"=",{"$f":"IF($Y48=1,R48,L48+M48)","v":45},null,null,{"$f":"GCD(AI48,AI49)","v":5},{"$f":"AI48/AL48","v":9},null,{"$f":"AM48","v":9},{"$f":"IF(AND(AM48=1,AM49=1),\"\",AM49)","v":10},null,{"$f":"CONCATENATE(AI48,\"/\",AI49)","v":"45/50"},"=",{"$f":"CONCATENATE(AM48,\"/\",AM49)","v":"9/10"}]
[null,null,null,null,null,null,null,null,null,{"$f":"F48","v":10},{"$f":"H48","v":5},{"$f":"F48*H48","v":50},{"$f":"F48*H48","v":50},{"$f":"IF(M48>L48,K49,J49)","v":5},{"$f":"IF(M48>L48,J49,K49)","v":10},{"$f":"L49","v":50},{"$f":"M49","v":50},{"$f":"Q49","v":50},null,1,{"$f":"R49/T48","v":50},null,null,null,0,null,{"$f":"IF($Y48=1,N49,J49)","v":10},null,{"$f":"IF($Y48=1,O49,K49)","v":5},null,{"$f":"IF($Y48=1,Q49,O49)","v":10},null,{"$f":"IF($Y48=1,Q49,M49)","v":50},null,{"$f":"IF($Y48=1,R49,P49)","v":50},null,null,null,{"$f":"AI49/AL48","v":10}]
[null,24,{"$f":"IF($Y$1=3,\"2478\",IF($Y$1=2,\"111\",\"73\"))","v":"111"},15,{"$f":"LOOKUP(D50,Matrix!$A$4:$B$2481)","v":1},{"$f":"LOOKUP(D50,Matrix!$A$4:$C$2481)","v":4},{"$f":"LOOKUP(D50,Matrix!$A$4:$D$2481)","v":1},{"$f":"LOOKUP(D50,Matrix!$A$4:$E$2481)","v":10},null,{"$f":"E50","v":1},{"$f":"G50","v":1},{"$f":"E50*H50","v":10},{"$f":"G50*F50","v":4},{"$f":"IF(M50>L50,K50,J50)","v":1},{"$f":"IF(M50>L50,J50,K50)","v":1},{"$f":"IF(M50>L50,M50,L50)","v":10},{"$f":"IF(M50>L50,L50,M50)","v":4},{"$f":"P50-Q50","v":6},null,1,{"$f":"R50/T50","v":6},null,null,null,0,{"$f":"IF(Y50=0,\" + \",\" - \")","v":" + "},{"$f":"IF($Y50=1,N50,J50)","v":1},{"$f":"Z50","v":" + "},{"$f":"IF($Y50=1,O50,K50)","v":1},"=",{"$f":"IF($Y50=1,P50,L50)","v":10},{"$f":"Z50","v":" + "},{"$f":"IF($Y50=1,Q50,M50)","v":4},"=",{"$f":"IF($Y50=1,R50,L50+M50)","v":14},null,null,{"$f":"GCD(AI50,AI51)","v":2},{"$f":"AI50/AL50","v":7},null,{"$f":"AM50","v":7},{"$f":"IF(AND(AM50=1,AM51=1),\"\",AM51)","v":20},null,{"$f":"CONCATENATE(AI50,\"/\",AI51)","v":"14/40"},"=",{"$f":"CONCATENATE(AM50,\"/\",AM51)","v":"7/20"}]
[null,null,null,null,null,null,null,null,null,{"$f":"F50","v":4},{"$f":"H50","v":10},{"$f":"F50*H50","v":40},{"$f":"F50*H50","v":40},{"$f":"IF(M50>L50,K51,J51)","v":4},{"$f":"IF(M50>L50,J51,K51)","v":10},{"$f":"L51","v":40},{"$f":"M51","v":40},{"$f":"Q51","v":40},null,1,{"$f":"R51/T50","v":40},null,null,null,1,null,{"$f":"IF($Y50=1,N51,J51)","v":4},null,{"$f":"IF($Y50=1,O51,K51)","v":10},null,{"$f":"IF($Y50=1,Q51,O51)","v":10},null,{"$f":"IF($Y50=1,Q51,M51)","v":40},null,{"$f":"IF($Y50=1,R51,P51)","v":40},null,null,null,{"$f":"AI51/AL50","v":20}]
[null,25,{"$f":"IF($Y$1=3,\"2478\",IF($Y$1=2,\"111\",\"73\"))","v":"111"},4,{"$f":"LOOKUP(D52,Matrix!$A$4:$B$2481)","v":1},{"$f":"LOOKUP(D52,Matrix!$A$4:$C$2481)","v":2},{"$f":"LOOKUP(D52,Matrix!$A$4:$D$2481)","v":1},{"$f":"LOOKUP(D52,Matrix!$A$4:$E$2481)","v":8},null,{"$f":"E52","v":1},{"$f":"G52","v":1},{"$f":"E52*H52","v":8},{"$f":"G52*F52","v":2},{"$f":"IF(M52>L52,K52,J52)","v":1},{"$f":"IF(M52>L52,J52,K52)","v":1},{"$f":"IF(M52>L52,M52,L52)","v":8},{"$f":"IF(M52>L52,L52,M52)","v":2},{"$f":"P52-Q52","v":6},null,1,{"$f":"R52/T52","v":6},null,null,null,1,{"$f":"IF(Y52=0,\" + \",\" - \")","v":" - "},{"$f":"IF($Y52=1,N52,J52)","v":1},{"$f":"Z52","v":" - "},{"$f":"IF($Y52=1,O52,K52)","v":1},"=",{"$f":"IF($Y52=1,P52,L52)","v":8},{"$f":"Z52","v":" - "},{"$f":"IF($Y52=1,Q52,M52)","v":2},"=",{"$f":"IF($Y52=1,R52,L52+M52)","v":6},null,null,{"$f":"GCD(AI52,AI53)","v":2},{"$f":"AI52/AL52","v":3},null,{"$f":"AM52","v":3},{"$f":"IF(AND(AM52=1,AM53=1),\"\",AM53)","v":8},null,{"$f":"CONCATENATE(AI52,\"/\",AI53)","v":"6/16"},"=",{"$f":"CONCATENATE(AM52,\"/\",AM53)","v":"3/8"}]
[null,null,null,null,null,null,null,null,null,{"$f":"F52","v":2},{"$f":"H52","v":8},{"$f":"F52*H52","v":16},{"$f":"F52*H52","v":16},{"$f":"IF(M52>L52,K53,J53)","v":2},{"$f":"IF(M52>L52,J53,K53)","v":8},{"$f":"L53","v":16},{"$f":"M53","v":16},{"$f":"Q53","v":16},null,1,{"$f":"R53/T52","v":16},null,null,null,0,null,{"$f":"IF($Y52=1,N53,J53)","v":2},null,{"$f":"IF($Y52=1,O53,K53)","v":8},null,{"$f":"IF($Y52=1,Q53,O53)","v":16},null,{"$f":"IF($Y52=1,Q53,M53)","v":16},null,{"$f":"IF($Y52=1,R53,P53)","v":16},null,null,null,{"$f":"AI53/AL52","v":8}]
[null,null,null,null,null,null,null,null,null,null,null,null,null,null,null,null,null,null,null,1,null,null,null,null,1]
[null,null,null,null,null,null,null,null,null,null,null,null,null,null,null,null,null,null,null,1,null,null,null,null,0]
[null,null,null,null,null,null,null,null,null,null,null,null,null,null,null,null,null,null,null,1,null,null,null,null,1]
[null,null,null,null,null,null,null,null,null,null,null,null,null,null,null,null,null,null,null,1,null,null,null,null,0]
[null,null,null,null,null,null,null,null,null,null,null,null,null,null,null,null,null,null,null,1,null,null,null,null,0]
[null,null,null,null,null,null,null,null,null,null,null,null,null,null,null,null,null,null,null,1,null,null,null,null,1]
[null,null,null,null,null,null,null,null,null,null,null,null,null,null,null,null,null,null,null,1,null,null,null,null,0]
[null,null,null,null,null,null,null,null,null,null,null,null,null,null,null,null,null,null,null,1,null,null,null,null,1]
[null,null,null,null,null,null,null,null,null,null,null,null,null,null,null,null,null,null,null,1,null,null,null,null,0]

{"sheet":"Matrix","index":4,"n_rows":2481,"n_cols":6,"rows_kept":2481,"cut":false,"hidden":true,"merged":[[2,1,2,2]]}
[null,"a/b + c/d"]
[null,"a","b","c","d"]
[null,"2 -4 - 5 - 8 -10"]
[1,1,2,1,4,{"$f":"B4/C4+D4/E4","v":0.75}]
[2,1,2,1,5,0.7]
[3,1,2,2,5,0.9]
[4,1,2,1,8,0.625]
[5,1,2,3,8,0.875]
[6,1,2,1,10,0.6]
[7,1,2,3,10,0.8]
[8,1,4,1,2,0.75]
[9,1,4,3,4,1]
[10,1,4,1,5,0.45]
[11,1,4,2,5,0.65]
[12,1,4,1,8,0.375]
[13,1,4,3,8,0.625]
[14,1,4,5,8,0.875]
[15,1,4,1,10,0.35]
[16,1,4,3,10,0.55000000000000004]
[17,1,4,7,10,0.95]
[18,3,4,1,4,1]
[19,3,4,1,5,0.95]
[20,3,4,1,8,0.875]
[21,3,4,1,10,0.85]
[22,1,5,1,2,0.7]
[23,1,5,1,4,0.45]
[24,1,5,3,4,0.95]
[25,1,5,2,5,0.60000000000000009]
[26,1,5,3,5,0.8]
[27,1,5,4,5,1]
[28,1,5,1,8,0.32500000000000001]
[29,1,5,3,8,0.57499999999999996]
[30,1,5,5,8,0.82499999999999996]
[31,1,5,1,10,0.30000000000000004]
[32,1,5,3,10,0.5]
[33,1,5,7,10,0.89999999999999991]
[34,3,5,1,4,0.85]
[35,3,5,1,5,0.8]
[36,3,5,2,5,1]
[37,3,5,1,8,0.72499999999999998]
[38,3,5,3,8,0.97499999999999998]
[39,3,5,1,10,0.7]
[40,3,5,3,10,0.89999999999999991]
[41,4,5,1,5,1]
[42,4,5,1,8,0.92500000000000004]
[43,4,5,1,10,0.9]
[44,1,10,1,2,0.6]
[45,1,10,1,4,0.35]
[46,1,10,3,4,0.85]
[47,1,10,1,5,0.30000000000000004]
[48,1,10,2,5,0.5]
[49,1,10,3,5,0.7]
[50,1,10,4,5,0.9]
[51,1,10,1,8,0.22500000000000001]
[52,1,10,3,8,0.47499999999999998]
[53,1,10,5,8,0.72499999999999998]
[54,1,10,7,8,0.97499999999999998]
[55,1,10,3,10,0.4]
[56,1,10,7,10,0.79999999999999993]
[57,1,10,9,10,1]
[58,3,10,1,2,0.8]
[59,3,10,1,4,0.55000000000000004]
[60,3,10,1,5,0.5]
[61,3,10,2,5,{"$f":"B64/C64+D64/E64","v":0.7}]
[62,3,10,3,5,0.89999999999999991]
[63,3,10,1,8,0.42499999999999999]
[64,3,10,3,8,0.67500000000000004]
[65,3,10,5,8,0.92500000000000004]
[66,3,10,1,10,0.4]
[67,3,10,7,10,1]
[68,7,10,1,4,0.95]
[69,7,10,1,5,0.89999999999999991]
[70,7,10,1,8,0.82499999999999996]
[71,7,10,1,10,0.79999999999999993]
[72,7,10,3,10,1]
[73,9,10,1,10,1]
[74,1,3,1,2,0.83333333333333326]
[75,1,3,2,3,1]
[76,1,3,1,4,0.58333333333333326]
[77,1,3,1,5,0.53333333333333333]
[78,1,3,2,5,0.73333333333333339]
[79,1,3,3,5,0.93333333333333335]
[80,1,3,1,6,0.5]
[81,1,3,1,8,0.45833333333333331]
[82,1,3,3,8,0.70833333333333326]
[83,1,3,5,8,0.95833333333333326]
[84,1,3,1,10,0.43333333333333335]
[85,1,3,3,10,0.6333333333333333]
[86,2,3,1,3,1]
[87,2,3,1,4,0.91666666666666663]
[88,2,3,1,5,0.8666666666666667]
[89,2,3,1,6,0.83333333333333326]
[90,2,3,1,8,0.79166666666666663]
[91,2,3,1,10,0.76666666666666661]
[92,2,3,3,10,0.96666666666666656]
[93,1,6,1,2,0.66666666666666663]
[94,1,6,1,3,0.5]
[95,1,6,2,3,0.83333333333333326]
[96,1,6,1,4,0.41666666666666663]
[97,1,6,3,4,0.91666666666666663]
[98,1,6,1,5,0.3666666666666667]
[99,1,6,2,5,0.56666666666666665]
[100,1,6,3,5,0.76666666666666661]
[101,1,6,4,5,0.96666666666666667]
[102,1,6,5,6,1]
[103,1,6,1,8,0.29166666666666663]
[104,1,6,3,8,0.54166666666666663]
[105,1,6,5,8,0.79166666666666663]
[106,1,6,1,10,0.26666666666666666]
[107,1,6,3,10,0.46666666666666667]
[108,1,6,7,10,0.86666666666666659]
[109,5,6,1,6,1]
[110,5,6,1,8,0.95833333333333337]
[111,5,6,1,10,0.93333333333333335]
[112,1,7,1,2,0.64285714285714279]
[113,1,7,1,3,0.47619047619047616]
[114,1,7,2,3,0.80952380952380953]
[115,1,7,1,4,0.39285714285714285]
[116,1,7,3,4,0.89285714285714279]
[117,1,7,1,5,0.34285714285714286]
[118,1,7,2,5,0.54285714285714293]
[119,1,7,3,5,0.74285714285714288]
[120,1,7,4,5,0.94285714285714284]
[121,1,7,1,6,0.30952380952380953]
[122,1,7,5,6,{"$f":"B125/C125+D125/E125","v":0.97619047619047628}]
[123,1,7,2,7,0.42857142857142855]
[124,1,7,3,7,0.5714285714285714]
[125,1,7,4,7,0.71428571428571419]
[126,1,7,5,7,0.85714285714285721]
[127,1,7,6,7,1]
[128,1,7,1,8,0.26785714285714285]
[129,1,7,3,8,0.51785714285714279]
[130,1,7,5,8,0.76785714285714279]
[131,1,7,1,9,0.25396825396825395]
[132,1,7,2,9,0.36507936507936506]
[133,1,7,4,9,0.58730158730158721]
[134,1,7,5,9,0.69841269841269837]
[135,1,7,7,9,0.92063492063492069]
[136,1,7,1,10,0.24285714285714285]
[137,1,7,3,10,0.44285714285714284]
[138,1,7,7,10,0.84285714285714275]
[139,1,7,1,11,0.23376623376623376]
[140,1,7,2,11,0.32467532467532467]
[141,1,7,3,11,0.41558441558441556]
[142,1,7,4,11,0.50649350649350655]
[143,1,7,5,11,0.59740259740259738]
[144,1,7,6,11,0.68831168831168821]
[145,1,7,7,11,0.77922077922077926]
[146,1,7,8,11,0.87012987012987009]
[147,1,7,9,11,0.96103896103896114]
[148,1,7,1,12,0.22619047619047616]
[149,1,7,5,12,0.55952380952380953]
[150,1,7,7,12,0.72619047619047628]
[151,1,7,1,13,0.21978021978021978]
[152,1,7,2,13,0.2967032967032967]
[153,1,7,3,13,0.37362637362637363]
[154,1,7,4,13,0.45054945054945056]
[155,1,7,5,13,0.52747252747252749]
[156,1,7,6,13,0.60439560439560447]
[157,1,7,7,13,0.68131868131868134]
[158,1,7,8,13,0.75824175824175821]
[159,1,7,9,13,0.83516483516483508]
[160,1,7,10,13,0.91208791208791218]
[161,1,7,11,13,0.98901098901098905]
[162,1,7,1,14,0.21428571428571427]
[163,1,7,3,14,0.3571428571428571]
[164,1,7,5,14,0.5]
[165,1,7,9,14,0.78571428571428581]
[166,1,7,11,14,0.9285714285714286]
[167,1,7,1,15,0.2095238095238095]
[168,1,7,2,15,0.27619047619047621]
[169,1,7,4,15,0.40952380952380951]
[170,1,7,7,15,0.60952380952380958]
[171,1,7,8,15,0.67619047619047623]
[172,1,7,11,15,0.87619047619047619]
[173,1,7,1,16,0.20535714285714285]
[174,1,7,3,16,0.33035714285714285]
[175,1,7,5,16,0.45535714285714285]
[176,1,7,7,16,0.58035714285714279]
[177,1,7,9,16,0.70535714285714279]
[178,1,7,11,16,0.83035714285714279]
[179,1,7,13,16,0.95535714285714279]
[180,2,7,1,2,0.7857142857142857]
[181,2,7,1,3,0.61904761904761907]
[182,2,7,2,3,0.95238095238095233]
[183,2,7,1,4,0.5357142857142857]
[184,2,7,1,5,0.48571428571428571]
[185,2,7,2,5,{"$f":"B188/C188+D188/E188","v":0.68571428571428572}]
[186,2,7,3,5,0.88571428571428568]
[187,2,7,1,6,0.45238095238095233]
[188,2,7,1,7,0.42857142857142855]
[189,2,7,3,7,0.71428571428571419]
[190,2,7,4,7,0.8571428571428571]
[191,2,7,5,7,1]
[192,2,7,1,8,0.4107142857142857]
[193,2,7,3,8,0.6607142857142857]
[194,2,7,5,8,0.9107142857142857]
[195,2,7,1,9,0.3968253968253968]
[196,2,7,2,9,0.50793650793650791]
[197,2,7,4,9,0.73015873015873012]
[198,2,7,5,9,0.84126984126984128]
[199,2,7,1,10,0.38571428571428568]
[200,2,7,3,10,0.58571428571428563]
[201,2,7,7,10,0.98571428571428565]
[202,2,7,1,11,0.37662337662337664]
[203,2,7,2,11,0.46753246753246752]
[204,2,7,3,11,0.55844155844155841]
[205,2,7,4,11,0.64935064935064934]
[206,2,7,5,11,0.74025974025974017]
[207,2,7,6,11,0.83116883116883111]
[208,2,7,7,11,0.92207792207792205]
[209,2,7,1,12,0.36904761904761901]
[210,2,7,5,12,0.70238095238095233]
[211,2,7,7,12,0.86904761904761907]
[212,2,7,1,13,0.36263736263736263]
[213,2,7,2,13,0.43956043956043955]
[214,2,7,3,13,0.51648351648351642]
[215,2,7,4,13,0.59340659340659341]
[216,2,7,5,13,0.67032967032967039]
[217,2,7,6,13,0.74725274725274726]
[218,2,7,7,13,0.82417582417582413]
[219,2,7,8,13,0.90109890109890112]
[220,2,7,9,13,0.97802197802197799]
[221,2,7,1,14,0.3571428571428571]
[222,2,7,3,14,0.5]
[223,2,7,5,14,0.64285714285714279]
[224,2,7,9,14,0.9285714285714286]
[225,2,7,1,15,0.35238095238095235]
[226,2,7,2,15,0.419047619047619]
[227,2,7,4,15,0.55238095238095242]
[228,2,7,7,15,0.75238095238095237]
[229,2,7,8,15,0.81904761904761902]
[230,2,7,1,16,0.3482142857142857]
[231,2,7,3,16,0.4732142857142857]
[232,2,7,5,16,0.5982142857142857]
[233,2,7,7,16,0.7232142857142857]
[234,2,7,9,16,0.8482142857142857]
[235,2,7,11,16,0.9732142857142857]
[236,3,7,1,2,0.9285714285714286]
[237,3,7,1,3,0.76190476190476186]
[238,3,7,1,4,0.6785714285714286]
[239,3,7,1,5,0.62857142857142856]
[240,3,7,2,5,0.82857142857142851]
[241,3,7,1,6,0.59523809523809523]
[242,3,7,1,7,0.5714285714285714]
[243,3,7,2,7,0.71428571428571419]
[244,3,7,3,7,0.8571428571428571]
[245,3,7,4,7,1]
[246,3,7,1,8,0.5535714285714286]
[247,3,7,3,8,0.8035714285714286]
[248,3,7,1,9,{"$f":"B251/C251+D251/E251","v":0.53968253968253965}]
[249,3,7,2,9,0.6507936507936507]
[250,3,7,4,9,0.87301587301587302]
[251,3,7,5,9,0.98412698412698418]
[252,3,7,1,10,0.52857142857142858]
[253,3,7,3,10,0.72857142857142854]
[254,3,7,1,11,0.51948051948051943]
[255,3,7,2,11,0.61038961038961037]
[256,3,7,3,11,0.70129870129870131]
[257,3,7,4,11,0.79220779220779214]
[258,3,7,5,11,0.88311688311688308]
[259,3,7,6,11,0.97402597402597402]
[260,3,7,1,12,0.51190476190476186]
[261,3,7,5,12,0.84523809523809523]
[262,3,7,1,13,0.50549450549450547]
[263,3,7,2,13,0.58241758241758235]
[264,3,7,3,13,0.65934065934065933]
[265,3,7,4,13,0.73626373626373631]
[266,3,7,5,13,0.81318681318681318]
[267,3,7,6,13,0.89010989010989006]
[268,3,7,7,13,0.96703296703296693]
[269,3,7,1,14,0.5]
[270,3,7,3,14,0.64285714285714279]
[271,3,7,5,14,0.7857142857142857]
[272,3,7,1,15,0.4952380952380952]
[273,3,7,2,15,0.56190476190476191]
[274,3,7,4,15,0.69523809523809521]
[275,3,7,7,15,0.89523809523809517]
[276,3,7,8,15,0.96190476190476182]
[277,3,7,1,16,0.49107142857142855]
[278,3,7,3,16,0.6160714285714286]
[279,3,7,5,16,0.7410714285714286]
[280,3,7,7,16,0.8660714285714286]
[281,3,7,9,16,0.9910714285714286]
[282,4,7,1,3,0.90476190476190466]
[283,4,7,1,4,0.8214285714285714]
[284,4,7,1,5,0.77142857142857135]
[285,4,7,2,5,0.97142857142857142]
[286,4,7,1,6,0.73809523809523803]
[287,4,7,1,7,0.71428571428571419]
[288,4,7,2,7,0.8571428571428571]
[289,4,7,3,7,1]
[290,4,7,1,8,0.6964285714285714]
[291,4,7,3,8,0.9464285714285714]
[292,4,7,1,9,0.68253968253968256]
[293,4,7,2,9,0.79365079365079361]
[294,4,7,1,10,0.67142857142857137]
[295,4,7,3,10,0.87142857142857144]
[296,4,7,1,11,0.66233766233766234]
[297,4,7,2,11,0.75324675324675328]
[298,4,7,3,11,0.8441558441558441]
[299,4,7,4,11,0.93506493506493504]
[300,4,7,1,12,0.65476190476190477]
[301,4,7,5,12,0.98809523809523814]
[302,4,7,1,13,0.64835164835164827]
[303,4,7,2,13,0.72527472527472525]
[304,4,7,3,13,0.80219780219780223]
[305,4,7,4,13,0.87912087912087911]
[306,4,7,5,13,0.95604395604395598]
[307,4,7,1,14,0.64285714285714279]
[308,4,7,3,14,0.7857142857142857]
[309,4,7,5,14,0.9285714285714286]
[310,4,7,1,15,0.63809523809523805]
[311,4,7,2,15,0.7047619047619047]
[312,4,7,4,15,{"$f":"B315/C315+D315/E315","v":0.838095238095238}]
[313,4,7,1,16,0.6339285714285714]
[314,4,7,3,16,0.7589285714285714]
[315,4,7,5,16,0.8839285714285714]
[316,5,7,1,4,0.9642857142857143]
[317,5,7,1,5,0.91428571428571437]
[318,5,7,1,6,0.88095238095238093]
[319,5,7,1,7,0.85714285714285721]
[320,5,7,2,7,1]
[321,5,7,1,8,0.8392857142857143]
[322,5,7,1,9,0.82539682539682535]
[323,5,7,2,9,0.93650793650793651]
[324,5,7,1,10,0.81428571428571428]
[325,5,7,1,11,0.80519480519480524]
[326,5,7,2,11,0.89610389610389607]
[327,5,7,3,11,0.98701298701298701]
[328,5,7,1,12,0.79761904761904767]
[329,5,7,1,13,0.79120879120879128]
[330,5,7,2,13,0.86813186813186816]
[331,5,7,3,13,0.94505494505494503]
[332,5,7,1,14,0.7857142857142857]
[333,5,7,3,14,0.9285714285714286]
[334,5,7,1,15,0.78095238095238095]
[335,5,7,2,15,0.84761904761904761]
[336,5,7,4,15,0.98095238095238102]
[337,5,7,1,16,0.7767857142857143]
[338,5,7,3,16,0.9017857142857143]
[339,6,7,1,7,1]
[340,6,7,1,8,0.9821428571428571]
[341,6,7,1,9,0.96825396825396814]
[342,6,7,1,10,0.95714285714285707]
[343,6,7,1,11,0.94805194805194803]
[344,6,7,1,12,0.94047619047619047]
[345,6,7,1,13,0.93406593406593408]
[346,6,7,1,14,0.92857142857142849]
[347,6,7,1,15,0.92380952380952375]
[348,6,7,2,15,0.9904761904761904]
[349,6,7,1,16,0.9196428571428571]
[350,1,9,1,2,0.61111111111111116]
[351,1,9,1,3,0.44444444444444442]
[352,1,9,2,3,0.77777777777777768]
[353,1,9,1,4,0.3611111111111111]
[354,1,9,3,4,0.86111111111111116]
[355,1,9,1,5,0.31111111111111112]
[356,1,9,2,5,0.51111111111111107]
[357,1,9,3,5,0.71111111111111103]
[358,1,9,4,5,0.9111111111111112]
[359,1,9,1,6,0.27777777777777779]
[360,1,9,5,6,0.94444444444444442]
[361,1,9,1,7,0.25396825396825395]
[362,1,9,2,7,0.3968253968253968]
[363,1,9,3,7,0.53968253968253965]
[364,1,9,4,7,0.68253968253968256]
[365,1,9,5,7,0.82539682539682535]
[366,1,9,6,7,0.96825396825396814]
[367,1,9,1,8,0.2361111111111111]
[368,1,9,3,8,0.4861111111111111]
[369,1,9,5,8,0.73611111111111116]
[370,1,9,7,8,0.98611111111111116]
[371,1,9,2,9,0.33333333333333331]
[372,1,9,4,9,0.55555555555555558]
[373,1,9,5,9,0.66666666666666674]
[374,1,9,7,9,0.88888888888888884]
[375,1,9,8,9,{"$f":"B378/C378+D378/E378","v":1}]
[376,1,9,1,10,0.21111111111111111]
[377,1,9,3,10,0.41111111111111109]
[378,1,9,7,10,0.81111111111111112]
[379,1,9,1,11,0.20202020202020202]
[380,1,9,2,11,0.29292929292929293]
[381,1,9,3,11,0.38383838383838381]
[382,1,9,4,11,0.47474747474747475]
[383,1,9,5,11,0.56565656565656564]
[384,1,9,6,11,0.65656565656565657]
[385,1,9,7,11,0.7474747474747474]
[386,1,9,8,11,0.83838383838383845]
[387,1,9,9,11,0.92929292929292928]
[388,1,9,1,12,0.19444444444444442]
[389,1,9,5,12,0.52777777777777779]
[390,1,9,7,12,0.69444444444444442]
[391,1,9,1,13,0.18803418803418803]
[392,1,9,2,13,0.26495726495726496]
[393,1,9,3,13,0.34188034188034189]
[394,1,9,4,13,0.41880341880341881]
[395,1,9,5,13,0.49572649572649574]
[396,1,9,6,13,0.57264957264957261]
[397,1,9,7,13,0.64957264957264949]
[398,1,9,8,13,0.72649572649572658]
[399,1,9,9,13,0.80341880341880345]
[400,1,9,10,13,0.88034188034188032]
[401,1,9,11,13,0.95726495726495719]
[402,1,9,1,14,0.18253968253968253]
[403,1,9,3,14,0.32539682539682535]
[404,1,9,5,14,0.46825396825396826]
[405,1,9,9,14,0.75396825396825395]
[406,1,9,11,14,0.89682539682539675]
[407,1,9,1,15,0.17777777777777776]
[408,1,9,2,15,0.24444444444444444]
[409,1,9,4,15,0.37777777777777777]
[410,1,9,7,15,0.57777777777777772]
[411,1,9,8,15,0.64444444444444438]
[412,1,9,11,15,0.84444444444444433]
[413,1,9,13,15,0.97777777777777786]
[414,1,9,1,16,0.1736111111111111]
[415,1,9,3,16,0.2986111111111111]
[416,1,9,5,16,0.4236111111111111]
[417,1,9,7,16,0.54861111111111116]
[418,1,9,9,16,0.67361111111111116]
[419,1,9,11,16,0.79861111111111116]
[420,1,9,13,16,0.92361111111111116]
[421,2,9,1,2,0.72222222222222221]
[422,2,9,1,3,0.55555555555555558]
[423,2,9,2,3,0.88888888888888884]
[424,2,9,1,4,0.47222222222222221]
[425,2,9,3,4,0.97222222222222221]
[426,2,9,1,5,0.42222222222222222]
[427,2,9,2,5,0.62222222222222223]
[428,2,9,3,5,0.82222222222222219]
[429,2,9,1,6,0.38888888888888884]
[430,2,9,1,7,0.36507936507936506]
[431,2,9,2,7,0.50793650793650791]
[432,2,9,3,7,0.6507936507936507]
[433,2,9,4,7,0.79365079365079361]
[434,2,9,5,7,0.93650793650793651]
[435,2,9,1,8,0.34722222222222221]
[436,2,9,3,8,0.59722222222222221]
[437,2,9,5,8,0.84722222222222221]
[438,2,9,1,9,0.33333333333333331]
[439,2,9,4,9,{"$f":"B442/C442+D442/E442","v":0.66666666666666663}]
[440,2,9,5,9,0.77777777777777779]
[441,2,9,7,9,1]
[442,2,9,1,10,0.32222222222222219]
[443,2,9,3,10,0.52222222222222214]
[444,2,9,7,10,0.92222222222222217]
[445,2,9,1,11,0.31313131313131315]
[446,2,9,2,11,0.40404040404040403]
[447,2,9,3,11,0.49494949494949492]
[448,2,9,4,11,0.58585858585858586]
[449,2,9,5,11,0.67676767676767668]
[450,2,9,6,11,0.76767676767676762]
[451,2,9,7,11,0.85858585858585856]
[452,2,9,8,11,0.9494949494949495]
[453,2,9,1,12,0.30555555555555552]
[454,2,9,5,12,0.63888888888888884]
[455,2,9,7,12,0.80555555555555558]
[456,2,9,1,13,0.29914529914529914]
[457,2,9,2,13,0.37606837606837606]
[458,2,9,3,13,0.45299145299145299]
[459,2,9,4,13,0.52991452991452992]
[460,2,9,5,13,0.6068376068376069]
[461,2,9,6,13,0.68376068376068377]
[462,2,9,7,13,0.76068376068376065]
[463,2,9,8,13,0.83760683760683763]
[464,2,9,9,13,0.9145299145299145]
[465,2,9,10,13,0.99145299145299148]
[466,2,9,1,14,0.29365079365079361]
[467,2,9,3,14,0.43650793650793651]
[468,2,9,5,14,0.57936507936507931]
[469,2,9,9,14,0.86507936507936511]
[470,2,9,1,15,0.28888888888888886]
[471,2,9,2,15,0.35555555555555551]
[472,2,9,4,15,0.48888888888888887]
[473,2,9,7,15,0.68888888888888888]
[474,2,9,8,15,0.75555555555555554]
[475,2,9,11,15,0.95555555555555549]
[476,2,9,1,16,0.28472222222222221]
[477,2,9,3,16,0.40972222222222221]
[478,2,9,5,16,0.53472222222222221]
[479,2,9,7,16,0.65972222222222221]
[480,2,9,9,16,0.78472222222222221]
[481,2,9,11,16,0.90972222222222221]
[482,4,9,1,2,0.94444444444444442]
[483,4,9,1,3,0.77777777777777768]
[484,4,9,1,4,0.69444444444444442]
[485,4,9,1,5,0.64444444444444438]
[486,4,9,2,5,0.84444444444444444]
[487,4,9,1,6,0.61111111111111105]
[488,4,9,1,7,0.58730158730158721]
[489,4,9,2,7,0.73015873015873012]
[490,4,9,3,7,0.87301587301587302]
[491,4,9,1,8,0.56944444444444442]
[492,4,9,3,8,0.81944444444444442]
[493,4,9,1,9,0.55555555555555558]
[494,4,9,2,9,0.66666666666666663]
[495,4,9,5,9,1]
[496,4,9,1,10,0.5444444444444444]
[497,4,9,3,10,0.74444444444444446]
[498,4,9,1,11,0.53535353535353536]
[499,4,9,2,11,0.6262626262626263]
[500,4,9,3,11,0.71717171717171713]
[501,4,9,4,11,{"$f":"B504/C504+D504/E504","v":0.80808080808080807}]
[502,4,9,5,11,0.89898989898989901]
[503,4,9,6,11,0.98989898989898983]
[504,4,9,1,12,0.52777777777777779]
[505,4,9,5,12,0.86111111111111116]
[506,4,9,1,13,0.52136752136752129]
[507,4,9,2,13,0.59829059829059827]
[508,4,9,3,13,0.67521367521367526]
[509,4,9,4,13,0.75213675213675213]
[510,4,9,5,13,0.829059829059829]
[511,4,9,6,13,0.90598290598290598]
[512,4,9,7,13,0.98290598290598286]
[513,4,9,1,14,0.51587301587301582]
[514,4,9,3,14,0.65873015873015872]
[515,4,9,5,14,0.80158730158730163]
[516,4,9,1,15,0.51111111111111107]
[517,4,9,2,15,0.57777777777777772]
[518,4,9,4,15,0.71111111111111103]
[519,4,9,7,15,0.91111111111111109]
[520,4,9,8,15,0.97777777777777775]
[521,4,9,1,16,0.50694444444444442]
[522,4,9,3,16,0.63194444444444442]
[523,4,9,5,16,0.75694444444444442]
[524,4,9,7,16,0.88194444444444442]
[525,5,9,1,3,0.88888888888888884]
[526,5,9,1,4,0.80555555555555558]
[527,5,9,1,5,0.75555555555555554]
[528,5,9,2,5,0.9555555555555556]
[529,5,9,1,6,0.72222222222222221]
[530,5,9,1,7,0.69841269841269837]
[531,5,9,2,7,0.84126984126984128]
[532,5,9,3,7,0.98412698412698418]
[533,5,9,1,8,0.68055555555555558]
[534,5,9,3,8,0.93055555555555558]
[535,5,9,1,9,0.66666666666666674]
[536,5,9,2,9,0.77777777777777779]
[537,5,9,4,9,1]
[538,5,9,1,10,0.65555555555555556]
[539,5,9,3,10,0.85555555555555562]
[540,5,9,1,11,0.64646464646464652]
[541,5,9,2,11,0.73737373737373746]
[542,5,9,3,11,0.82828282828282829]
[543,5,9,4,11,0.91919191919191923]
[544,5,9,1,12,0.63888888888888895]
[545,5,9,5,12,0.97222222222222232]
[546,5,9,1,13,0.63247863247863245]
[547,5,9,2,13,0.70940170940170943]
[548,5,9,3,13,0.78632478632478642]
[549,5,9,4,13,0.86324786324786329]
[550,5,9,5,13,0.94017094017094016]
[551,5,9,1,14,0.62698412698412698]
[552,5,9,3,14,0.76984126984126988]
[553,5,9,5,14,0.91269841269841279]
[554,5,9,1,15,0.62222222222222223]
[555,5,9,2,15,0.68888888888888888]
[556,5,9,4,15,0.82222222222222219]
[557,5,9,1,16,0.61805555555555558]
[558,5,9,3,16,0.74305555555555558]
[559,5,9,5,16,0.86805555555555558]
[560,5,9,7,16,0.99305555555555558]
[561,7,9,1,5,0.97777777777777786]
[562,7,9,1,6,0.94444444444444442]
[563,7,9,1,7,0.92063492063492069]
[564,7,9,1,8,0.90277777777777779]
[565,7,9,1,9,{"$f":"B568/C568+D568/E568","v":0.88888888888888884}]
[566,7,9,2,9,1]
[567,7,9,1,10,0.87777777777777777]
[568,7,9,1,11,0.86868686868686873]
[569,7,9,2,11,0.95959595959595956]
[570,7,9,1,12,0.86111111111111116]
[571,7,9,1,13,0.85470085470085477]
[572,7,9,2,13,0.93162393162393164]
[573,7,9,1,14,0.84920634920634919]
[574,7,9,3,14,0.99206349206349209]
[575,7,9,1,15,0.84444444444444444]
[576,7,9,2,15,0.91111111111111109]
[577,7,9,1,16,0.84027777777777779]
[578,7,9,3,16,0.96527777777777779]
[579,8,9,1,9,1]
[580,8,9,1,10,0.98888888888888882]
[581,8,9,1,11,0.97979797979797978]
[582,8,9,1,12,0.97222222222222221]
[583,8,9,1,13,0.96581196581196571]
[584,8,9,1,14,0.96031746031746024]
[585,8,9,1,15,0.95555555555555549]
[586,8,9,1,16,0.95138888888888884]
[587,1,11,1,3,0.4242424242424242]
[588,1,11,2,3,0.75757575757575757]
[589,1,11,1,4,0.34090909090909094]
[590,1,11,3,4,0.84090909090909094]
[591,1,11,1,5,0.29090909090909089]
[592,1,11,2,5,0.49090909090909096]
[593,1,11,3,5,0.69090909090909092]
[594,1,11,4,5,0.89090909090909098]
[595,1,11,1,6,0.25757575757575757]
[596,1,11,5,6,0.92424242424242431]
[597,1,11,1,7,0.23376623376623376]
[598,1,11,2,7,0.37662337662337664]
[599,1,11,3,7,0.51948051948051943]
[600,1,11,4,7,0.66233766233766234]
[601,1,11,5,7,0.80519480519480524]
[602,1,11,6,7,0.94805194805194803]
[603,1,11,1,8,0.21590909090909091]
[604,1,11,3,8,0.46590909090909094]
[605,1,11,5,8,0.71590909090909094]
[606,1,11,7,8,0.96590909090909094]
[607,1,11,1,9,0.20202020202020202]
[608,1,11,2,9,0.31313131313131315]
[609,1,11,4,9,0.53535353535353536]
[610,1,11,5,9,0.64646464646464652]
[611,1,11,7,9,0.86868686868686873]
[612,1,11,8,9,0.97979797979797978]
[613,1,11,1,10,0.19090909090909092]
[614,1,11,3,10,0.39090909090909087]
[615,1,11,7,10,0.79090909090909089]
[616,1,11,9,10,0.99090909090909096]
[617,1,11,2,11,0.27272727272727271]
[618,1,11,3,11,0.36363636363636365]
[619,1,11,4,11,0.45454545454545459]
[620,1,11,5,11,0.54545454545454541]
[621,1,11,6,11,0.63636363636363635]
[622,1,11,7,11,0.72727272727272729]
[623,1,11,8,11,0.81818181818181823]
[624,1,11,9,11,0.90909090909090917]
[625,1,11,10,11,1]
[626,1,11,1,12,0.17424242424242425]
[627,1,11,5,12,0.50757575757575757]
[628,1,11,7,12,{"$f":"B631/C631+D631/E631","v":0.67424242424242431}]
[629,1,11,1,13,0.16783216783216784]
[630,1,11,2,13,0.24475524475524477]
[631,1,11,3,13,0.32167832167832167]
[632,1,11,4,13,0.39860139860139865]
[633,1,11,5,13,0.47552447552447552]
[634,1,11,6,13,0.5524475524475525]
[635,1,11,7,13,0.62937062937062938]
[636,1,11,8,13,0.70629370629370636]
[637,1,11,9,13,0.78321678321678323]
[638,1,11,10,13,0.86013986013986021]
[639,1,11,11,13,0.93706293706293708]
[640,1,11,1,14,0.16233766233766234]
[641,1,11,3,14,0.30519480519480519]
[642,1,11,5,14,0.44805194805194803]
[643,1,11,9,14,0.73376623376623384]
[644,1,11,11,14,0.87662337662337664]
[645,1,11,1,15,0.15757575757575759]
[646,1,11,2,15,0.22424242424242424]
[647,1,11,4,15,0.35757575757575755]
[648,1,11,7,15,0.55757575757575761]
[649,1,11,8,15,0.62424242424242427]
[650,1,11,11,15,0.82424242424242422]
[651,1,11,13,15,0.95757575757575764]
[652,1,11,1,16,0.15340909090909091]
[653,1,11,3,16,0.27840909090909094]
[654,1,11,5,16,0.40340909090909094]
[655,1,11,7,16,0.52840909090909094]
[656,1,11,9,16,0.65340909090909094]
[657,1,11,11,16,0.77840909090909094]
[658,1,11,13,16,0.90340909090909094]
[659,2,11,1,2,0.68181818181818188]
[660,2,11,1,3,0.51515151515151514]
[661,2,11,2,3,0.8484848484848484]
[662,2,11,1,4,0.43181818181818182]
[663,2,11,3,4,0.93181818181818188]
[664,2,11,1,5,0.38181818181818183]
[665,2,11,2,5,0.58181818181818179]
[666,2,11,3,5,0.78181818181818175]
[667,2,11,4,5,0.98181818181818192]
[668,2,11,1,6,0.34848484848484851]
[669,2,11,1,7,0.32467532467532467]
[670,2,11,2,7,0.46753246753246752]
[671,2,11,3,7,0.61038961038961037]
[672,2,11,4,7,0.75324675324675328]
[673,2,11,5,7,0.89610389610389607]
[674,2,11,1,8,0.30681818181818182]
[675,2,11,3,8,0.55681818181818188]
[676,2,11,5,8,0.80681818181818188]
[677,2,11,1,9,0.29292929292929293]
[678,2,11,2,9,0.40404040404040403]
[679,2,11,4,9,0.6262626262626263]
[680,2,11,5,9,0.73737373737373746]
[681,2,11,7,9,0.95959595959595956]
[682,2,11,1,10,0.28181818181818186]
[683,2,11,3,10,0.48181818181818181]
[684,2,11,7,10,0.88181818181818183]
[685,2,11,1,11,0.27272727272727271]
[686,2,11,3,11,0.45454545454545453]
[687,2,11,4,11,0.54545454545454541]
[688,2,11,5,11,0.63636363636363635]
[689,2,11,6,11,0.72727272727272729]
[690,2,11,7,11,0.81818181818181812]
[691,2,11,8,11,{"$f":"B694/C694+D694/E694","v":0.90909090909090917}]
[692,2,11,9,11,1]
[693,2,11,1,12,0.26515151515151514]
[694,2,11,5,12,0.59848484848484851]
[695,2,11,7,12,0.76515151515151514]
[696,2,11,1,13,0.25874125874125875]
[697,2,11,2,13,0.33566433566433568]
[698,2,11,3,13,0.41258741258741261]
[699,2,11,4,13,0.48951048951048953]
[700,2,11,5,13,0.56643356643356646]
[701,2,11,6,13,0.64335664335664333]
[702,2,11,7,13,0.7202797202797202]
[703,2,11,8,13,0.7972027972027973]
[704,2,11,9,13,0.87412587412587417]
[705,2,11,10,13,0.95104895104895104]
[706,2,11,1,14,0.25324675324675328]
[707,2,11,3,14,0.39610389610389607]
[708,2,11,5,14,0.53896103896103897]
[709,2,11,9,14,0.82467532467532467]
[710,2,11,11,14,0.96753246753246747]
[711,2,11,1,15,0.24848484848484848]
[712,2,11,2,15,0.31515151515151518]
[713,2,11,4,15,0.44848484848484849]
[714,2,11,7,15,0.64848484848484844]
[715,2,11,8,15,0.71515151515151509]
[716,2,11,11,15,0.91515151515151505]
[717,2,11,1,16,0.24431818181818182]
[718,2,11,3,16,0.36931818181818182]
[719,2,11,5,16,0.49431818181818182]
[720,2,11,7,16,0.61931818181818188]
[721,2,11,9,16,0.74431818181818188]
[722,2,11,11,16,0.86931818181818188]
[723,2,11,13,16,0.99431818181818188]
[724,3,11,1,2,0.77272727272727271]
[725,3,11,1,3,0.60606060606060597]
[726,3,11,2,3,0.93939393939393934]
[727,3,11,1,4,0.52272727272727271]
[728,3,11,1,5,0.47272727272727272]
[729,3,11,2,5,0.67272727272727273]
[730,3,11,3,5,0.87272727272727268]
[731,3,11,1,6,0.43939393939393934]
[732,3,11,1,7,0.41558441558441556]
[733,3,11,2,7,0.55844155844155841]
[734,3,11,3,7,0.70129870129870131]
[735,3,11,4,7,0.8441558441558441]
[736,3,11,5,7,0.98701298701298701]
[737,3,11,1,8,0.39772727272727271]
[738,3,11,3,8,0.64772727272727271]
[739,3,11,5,8,0.89772727272727271]
[740,3,11,1,9,0.38383838383838381]
[741,3,11,2,9,0.49494949494949492]
[742,3,11,4,9,0.71717171717171713]
[743,3,11,5,9,0.82828282828282829]
[744,3,11,1,10,0.37272727272727268]
[745,3,11,3,10,0.57272727272727275]
[746,3,11,7,10,0.97272727272727266]
[747,3,11,1,11,0.36363636363636365]
[748,3,11,2,11,0.45454545454545453]
[749,3,11,4,11,0.63636363636363635]
[750,3,11,5,11,0.72727272727272729]
[751,3,11,6,11,0.81818181818181812]
[752,3,11,7,11,0.90909090909090906]
[753,3,11,8,11,1]
[754,3,11,1,12,{"$f":"B757/C757+D757/E757","v":0.35606060606060602}]
[755,3,11,5,12,0.68939393939393945]
[756,3,11,7,12,0.85606060606060608]
[757,3,11,1,13,0.34965034965034963]
[758,3,11,2,13,0.42657342657342656]
[759,3,11,3,13,0.50349650349650354]
[760,3,11,4,13,0.58041958041958042]
[761,3,11,5,13,0.65734265734265729]
[762,3,11,6,13,0.73426573426573427]
[763,3,11,7,13,0.81118881118881114]
[764,3,11,8,13,0.88811188811188813]
[765,3,11,9,13,0.965034965034965]
[766,3,11,1,14,0.3441558441558441]
[767,3,11,3,14,0.48701298701298701]
[768,3,11,5,14,0.62987012987012991]
[769,3,11,9,14,0.91558441558441561]
[770,3,11,1,15,0.33939393939393936]
[771,3,11,2,15,0.40606060606060601]
[772,3,11,4,15,0.53939393939393931]
[773,3,11,7,15,0.73939393939393938]
[774,3,11,8,15,0.80606060606060603]
[775,3,11,1,16,0.33522727272727271]
[776,3,11,3,16,0.46022727272727271]
[777,3,11,5,16,0.58522727272727271]
[778,3,11,7,16,0.71022727272727271]
[779,3,11,9,16,0.83522727272727271]
[780,3,11,11,16,0.96022727272727271]
[781,4,11,1,2,0.86363636363636365]
[782,4,11,1,3,0.69696969696969702]
[783,4,11,1,4,0.61363636363636365]
[784,4,11,1,5,0.56363636363636371]
[785,4,11,2,5,0.76363636363636367]
[786,4,11,3,5,0.96363636363636362]
[787,4,11,1,6,0.53030303030303028]
[788,4,11,1,7,0.50649350649350655]
[789,4,11,2,7,0.64935064935064934]
[790,4,11,3,7,0.79220779220779214]
[791,4,11,4,7,0.93506493506493504]
[792,4,11,1,8,0.48863636363636365]
[793,4,11,3,8,0.73863636363636365]
[794,4,11,5,8,0.98863636363636365]
[795,4,11,1,9,0.47474747474747475]
[796,4,11,2,9,0.58585858585858586]
[797,4,11,4,9,0.80808080808080807]
[798,4,11,5,9,0.91919191919191923]
[799,4,11,1,10,0.46363636363636362]
[800,4,11,3,10,0.66363636363636358]
[801,4,11,1,11,0.45454545454545459]
[802,4,11,2,11,0.54545454545454541]
[803,4,11,3,11,0.63636363636363635]
[804,4,11,5,11,0.81818181818181812]
[805,4,11,6,11,0.90909090909090906]
[806,4,11,7,11,1]
[807,4,11,1,12,0.44696969696969696]
[808,4,11,5,12,0.78030303030303028]
[809,4,11,7,12,0.94696969696969702]
[810,4,11,1,13,0.44055944055944057]
[811,4,11,2,13,0.5174825174825175]
[812,4,11,3,13,0.59440559440559437]
[813,4,11,4,13,0.67132867132867136]
[814,4,11,5,13,0.74825174825174834]
[815,4,11,6,13,0.82517482517482521]
[816,4,11,7,13,0.90209790209790208]
[817,4,11,8,13,{"$f":"B820/C820+D820/E820","v":0.97902097902097907}]
[818,4,11,1,14,0.43506493506493504]
[819,4,11,3,14,0.57792207792207795]
[820,4,11,5,14,0.72077922077922074]
[821,4,11,1,15,0.4303030303030303]
[822,4,11,2,15,0.49696969696969695]
[823,4,11,4,15,0.63030303030303036]
[824,4,11,7,15,0.83030303030303032]
[825,4,11,8,15,0.89696969696969697]
[826,4,11,1,16,0.42613636363636365]
[827,4,11,3,16,0.55113636363636365]
[828,4,11,5,16,0.67613636363636365]
[829,4,11,7,16,0.80113636363636365]
[830,4,11,9,16,0.92613636363636365]
[831,5,11,1,2,0.95454545454545459]
[832,5,11,1,3,0.78787878787878785]
[833,5,11,1,4,0.70454545454545459]
[834,5,11,1,5,0.65454545454545454]
[835,5,11,2,5,0.8545454545454545]
[836,5,11,1,6,0.62121212121212122]
[837,5,11,1,7,0.59740259740259738]
[838,5,11,2,7,0.74025974025974017]
[839,5,11,3,7,0.88311688311688308]
[840,5,11,1,8,0.57954545454545459]
[841,5,11,3,8,0.82954545454545459]
[842,5,11,1,9,0.56565656565656564]
[843,5,11,2,9,0.67676767676767668]
[844,5,11,4,9,0.89898989898989901]
[845,5,11,1,10,0.55454545454545456]
[846,5,11,3,10,0.75454545454545452]
[847,5,11,1,11,0.54545454545454541]
[848,5,11,2,11,0.63636363636363635]
[849,5,11,3,11,0.72727272727272729]
[850,5,11,4,11,0.81818181818181812]
[851,5,11,6,11,1]
[852,5,11,1,12,0.53787878787878785]
[853,5,11,5,12,0.87121212121212122]
[854,5,11,1,13,0.53146853146853146]
[855,5,11,2,13,0.60839160839160833]
[856,5,11,3,13,0.68531468531468531]
[857,5,11,4,13,0.7622377622377623]
[858,5,11,5,13,0.83916083916083917]
[859,5,11,6,13,0.91608391608391604]
[860,5,11,7,13,0.99300699300699291]
[861,5,11,1,14,0.52597402597402598]
[862,5,11,3,14,0.66883116883116878]
[863,5,11,5,14,0.81168831168831168]
[864,5,11,1,15,0.52121212121212124]
[865,5,11,2,15,0.58787878787878789]
[866,5,11,4,15,0.72121212121212119]
[867,5,11,7,15,0.92121212121212115]
[868,5,11,8,15,0.9878787878787878]
[869,5,11,1,16,0.51704545454545459]
[870,5,11,3,16,0.64204545454545459]
[871,5,11,5,16,0.76704545454545459]
[872,5,11,7,16,0.89204545454545459]
[873,6,11,1,3,0.87878787878787867]
[874,6,11,1,4,0.79545454545454541]
[875,6,11,1,5,0.74545454545454537]
[876,6,11,2,5,0.94545454545454544]
[877,6,11,1,6,0.71212121212121204]
[878,6,11,1,7,0.68831168831168821]
[879,6,11,2,7,0.83116883116883111]
[880,6,11,3,7,{"$f":"B883/C883+D883/E883","v":0.97402597402597402}]
[881,6,11,1,8,0.67045454545454541]
[882,6,11,3,8,0.92045454545454541]
[883,6,11,1,9,0.65656565656565657]
[884,6,11,2,9,0.76767676767676762]
[885,6,11,4,9,0.98989898989898983]
[886,6,11,1,10,0.64545454545454539]
[887,6,11,3,10,0.84545454545454546]
[888,6,11,1,11,0.63636363636363635]
[889,6,11,2,11,0.72727272727272729]
[890,6,11,3,11,0.81818181818181812]
[891,6,11,4,11,0.90909090909090906]
[892,6,11,5,11,1]
[893,6,11,1,12,0.62878787878787878]
[894,6,11,5,12,0.96212121212121215]
[895,6,11,1,13,0.62237762237762229]
[896,6,11,2,13,0.69930069930069927]
[897,6,11,3,13,0.77622377622377625]
[898,6,11,4,13,0.85314685314685312]
[899,6,11,5,13,0.93006993006993]
[900,6,11,1,14,0.61688311688311681]
[901,6,11,3,14,0.75974025974025972]
[902,6,11,5,14,0.90259740259740262]
[903,6,11,1,15,0.61212121212121207]
[904,6,11,2,15,0.67878787878787872]
[905,6,11,4,15,0.81212121212121202]
[906,6,11,1,16,0.60795454545454541]
[907,6,11,3,16,0.73295454545454541]
[908,6,11,5,16,0.85795454545454541]
[909,6,11,7,16,0.98295454545454541]
[910,7,11,1,3,0.96969696969696972]
[911,7,11,1,4,0.88636363636363635]
[912,7,11,1,5,0.83636363636363642]
[913,7,11,1,6,0.80303030303030298]
[914,7,11,1,7,0.77922077922077926]
[915,7,11,2,7,0.92207792207792205]
[916,7,11,1,8,0.76136363636363635]
[917,7,11,1,9,0.7474747474747474]
[918,7,11,2,9,0.85858585858585856]
[919,7,11,1,10,0.73636363636363633]
[920,7,11,3,10,0.93636363636363629]
[921,7,11,1,11,0.72727272727272729]
[922,7,11,2,11,0.81818181818181812]
[923,7,11,3,11,0.90909090909090906]
[924,7,11,4,11,1]
[925,7,11,1,12,0.71969696969696972]
[926,7,11,1,13,0.71328671328671334]
[927,7,11,2,13,0.79020979020979021]
[928,7,11,3,13,0.86713286713286708]
[929,7,11,4,13,0.94405594405594406]
[930,7,11,1,14,0.70779220779220775]
[931,7,11,3,14,0.85064935064935066]
[932,7,11,5,14,0.99350649350649345]
[933,7,11,1,15,0.70303030303030301]
[934,7,11,2,15,0.76969696969696966]
[935,7,11,4,15,0.90303030303030307]
[936,7,11,1,16,0.69886363636363635]
[937,7,11,3,16,0.82386363636363635]
[938,7,11,5,16,0.94886363636363635]
[939,8,11,1,4,0.97727272727272729]
[940,8,11,1,5,0.92727272727272725]
[941,8,11,1,6,0.89393939393939392]
[942,8,11,1,7,0.87012987012987009]
[943,8,11,1,8,0.85227272727272729]
[944,8,11,1,9,{"$f":"B947/C947+D947/E947","v":0.83838383838383845}]
[945,8,11,2,9,0.9494949494949495]
[946,8,11,1,10,0.82727272727272727]
[947,8,11,1,11,0.81818181818181823]
[948,8,11,2,11,0.90909090909090917]
[949,8,11,3,11,1]
[950,8,11,1,12,0.81060606060606066]
[951,8,11,1,13,0.80419580419580416]
[952,8,11,2,13,0.88111888111888115]
[953,8,11,3,13,0.95804195804195813]
[954,8,11,1,14,0.79870129870129869]
[955,8,11,3,14,0.94155844155844159]
[956,8,11,1,15,0.79393939393939394]
[957,8,11,2,15,0.8606060606060606]
[958,8,11,4,15,0.9939393939393939]
[959,8,11,1,16,0.78977272727272729]
[960,8,11,3,16,0.91477272727272729]
[961,9,11,1,6,0.98484848484848486]
[962,9,11,1,7,0.96103896103896114]
[963,9,11,1,8,0.94318181818181823]
[964,9,11,1,9,0.92929292929292928]
[965,9,11,1,10,0.91818181818181821]
[966,9,11,1,11,0.90909090909090917]
[967,9,11,2,11,1]
[968,9,11,1,12,0.9015151515151516]
[969,9,11,1,13,0.89510489510489522]
[970,9,11,2,13,0.97202797202797209]
[971,9,11,1,14,0.88961038961038963]
[972,9,11,1,15,0.88484848484848488]
[973,9,11,2,15,0.95151515151515154]
[974,9,11,1,16,0.88068181818181823]
[975,10,11,1,11,1]
[976,10,11,1,12,0.99242424242424243]
[977,10,11,1,13,0.98601398601398604]
[978,10,11,1,14,0.98051948051948046]
[979,10,11,1,15,0.97575757575757571]
[980,10,11,1,16,0.97159090909090906]
[981,1,12,1,3,0.41666666666666663]
[982,1,12,2,3,0.75]
[983,1,12,1,4,0.33333333333333331]
[984,1,12,3,4,0.83333333333333337]
[985,1,12,1,5,0.28333333333333333]
[986,1,12,2,5,0.48333333333333334]
[987,1,12,3,5,0.68333333333333335]
[988,1,12,4,5,0.88333333333333341]
[989,1,12,1,6,0.25]
[990,1,12,5,6,0.91666666666666674]
[991,1,12,1,7,0.22619047619047616]
[992,1,12,2,7,0.36904761904761901]
[993,1,12,3,7,0.51190476190476186]
[994,1,12,4,7,0.65476190476190477]
[995,1,12,5,7,0.79761904761904767]
[996,1,12,6,7,0.94047619047619047]
[997,1,12,1,8,0.20833333333333331]
[998,1,12,3,8,0.45833333333333331]
[999,1,12,5,8,0.70833333333333337]
[1000,1,12,7,8,0.95833333333333337]
[1001,1,12,1,9,0.19444444444444442]
[1002,1,12,2,9,0.30555555555555552]
[1003,1,12,4,9,0.52777777777777779]
[1004,1,12,5,9,0.63888888888888895]
[1005,1,12,7,9,0.86111111111111116]
[1006,1,12,8,9,0.97222222222222221]
[1007,1,12,1,10,0.18333333333333335]
[1008,1,12,3,10,{"$f":"B1011/C1011+D1011/E1011","v":0.3833333333333333}]
[1009,1,12,7,10,0.78333333333333333]
[1010,1,12,9,10,0.98333333333333339]
[1011,1,12,1,11,0.17424242424242425]
[1012,1,12,2,11,0.26515151515151514]
[1013,1,12,3,11,0.35606060606060602]
[1014,1,12,4,11,0.44696969696969696]
[1015,1,12,5,11,0.53787878787878785]
[1016,1,12,6,11,0.62878787878787878]
[1017,1,12,7,11,0.71969696969696972]
[1018,1,12,8,11,0.81060606060606066]
[1019,1,12,9,11,0.9015151515151516]
[1020,1,12,10,11,0.99242424242424243]
[1021,1,12,5,12,0.5]
[1022,1,12,7,12,0.66666666666666674]
[1023,1,12,11,12,1]
[1024,1,12,1,13,0.16025641025641024]
[1025,1,12,2,13,0.23717948717948717]
[1026,1,12,3,13,0.3141025641025641]
[1027,1,12,4,13,0.39102564102564102]
[1028,1,12,5,13,0.46794871794871795]
[1029,1,12,6,13,0.54487179487179493]
[1030,1,12,7,13,0.62179487179487181]
[1031,1,12,8,13,0.69871794871794879]
[1032,1,12,9,13,0.77564102564102566]
[1033,1,12,10,13,0.85256410256410264]
[1034,1,12,11,13,0.92948717948717952]
[1035,1,12,1,14,0.15476190476190477]
[1036,1,12,3,14,0.29761904761904762]
[1037,1,12,5,14,0.44047619047619047]
[1038,1,12,9,14,0.72619047619047628]
[1039,1,12,11,14,0.86904761904761907]
[1040,1,12,1,15,0.15]
[1041,1,12,2,15,0.21666666666666667]
[1042,1,12,4,15,0.35]
[1043,1,12,7,15,0.55000000000000004]
[1044,1,12,8,15,0.6166666666666667]
[1045,1,12,11,15,0.81666666666666665]
[1046,1,12,13,15,0.95000000000000007]
[1047,1,12,1,16,0.14583333333333331]
[1048,1,12,3,16,0.27083333333333331]
[1049,1,12,5,16,0.39583333333333331]
[1050,1,12,7,16,0.52083333333333337]
[1051,1,12,9,16,0.64583333333333337]
[1052,1,12,11,16,0.77083333333333337]
[1053,1,12,13,16,0.89583333333333337]
[1054,5,12,1,2,0.91666666666666674]
[1055,5,12,1,3,0.75]
[1056,5,12,1,4,0.66666666666666674]
[1057,5,12,1,5,0.6166666666666667]
[1058,5,12,2,5,0.81666666666666665]
[1059,5,12,1,6,0.58333333333333337]
[1060,5,12,1,7,0.55952380952380953]
[1061,5,12,2,7,0.70238095238095233]
[1062,5,12,3,7,0.84523809523809523]
[1063,5,12,4,7,0.98809523809523814]
[1064,5,12,1,8,0.54166666666666674]
[1065,5,12,3,8,0.79166666666666674]
[1066,5,12,1,9,0.52777777777777779]
[1067,5,12,2,9,0.63888888888888884]
[1068,5,12,4,9,0.86111111111111116]
[1069,5,12,5,9,0.97222222222222232]
[1070,5,12,1,10,0.51666666666666672]
[1071,5,12,3,10,{"$f":"B1074/C1074+D1074/E1074","v":0.71666666666666667}]
[1072,5,12,1,11,0.50757575757575757]
[1073,5,12,2,11,0.59848484848484851]
[1074,5,12,3,11,0.68939393939393945]
[1075,5,12,4,11,0.78030303030303028]
[1076,5,12,5,11,0.87121212121212122]
[1077,5,12,6,11,0.96212121212121215]
[1078,5,12,1,12,0.5]
[1079,5,12,7,12,1]
[1080,5,12,1,13,0.49358974358974361]
[1081,5,12,2,13,0.57051282051282048]
[1082,5,12,3,13,0.64743589743589747]
[1083,5,12,4,13,0.72435897435897445]
[1084,5,12,5,13,0.80128205128205132]
[1085,5,12,6,13,0.87820512820512819]
[1086,5,12,7,13,0.95512820512820507]
[1087,5,12,1,14,0.48809523809523814]
[1088,5,12,3,14,0.63095238095238093]
[1089,5,12,5,14,0.77380952380952384]
[1090,5,12,1,15,0.48333333333333334]
[1091,5,12,2,15,0.55000000000000004]
[1092,5,12,4,15,0.68333333333333335]
[1093,5,12,7,15,0.8833333333333333]
[1094,5,12,8,15,0.95]
[1095,5,12,1,16,0.47916666666666669]
[1096,5,12,3,16,0.60416666666666674]
[1097,5,12,5,16,0.72916666666666674]
[1098,5,12,7,16,0.85416666666666674]
[1099,5,12,9,16,0.97916666666666674]
[1100,7,12,1,3,0.91666666666666674]
[1101,7,12,1,4,0.83333333333333337]
[1102,7,12,1,5,0.78333333333333344]
[1103,7,12,2,5,0.98333333333333339]
[1104,7,12,1,6,0.75]
[1105,7,12,1,7,0.72619047619047628]
[1106,7,12,2,7,0.86904761904761907]
[1107,7,12,1,8,0.70833333333333337]
[1108,7,12,3,8,0.95833333333333337]
[1109,7,12,1,9,0.69444444444444442]
[1110,7,12,2,9,0.80555555555555558]
[1111,7,12,1,10,0.68333333333333335]
[1112,7,12,3,10,0.8833333333333333]
[1113,7,12,1,11,0.67424242424242431]
[1114,7,12,2,11,0.76515151515151514]
[1115,7,12,3,11,0.85606060606060608]
[1116,7,12,4,11,0.94696969696969702]
[1117,7,12,1,12,0.66666666666666674]
[1118,7,12,5,12,1]
[1119,7,12,1,13,0.66025641025641035]
[1120,7,12,2,13,0.73717948717948723]
[1121,7,12,3,13,0.8141025641025641]
[1122,7,12,4,13,0.89102564102564108]
[1123,7,12,5,13,0.96794871794871806]
[1124,7,12,1,14,0.65476190476190477]
[1125,7,12,3,14,0.79761904761904767]
[1126,7,12,5,14,0.94047619047619047]
[1127,7,12,1,15,0.65]
[1128,7,12,2,15,0.71666666666666667]
[1129,7,12,4,15,0.85000000000000009]
[1130,7,12,1,16,0.64583333333333337]
[1131,7,12,3,16,0.77083333333333337]
[1132,7,12,5,16,0.89583333333333337]
[1133,11,12,1,12,1]
[1134,11,12,1,13,{"$f":"B1137/C1137+D1137/E1137","v":0.99358974358974361}]
[1135,11,12,1,14,0.98809523809523803]
[1136,11,12,1,15,0.98333333333333328]
[1137,11,12,1,16,0.97916666666666663]
[1138,1,13,1,2,0.57692307692307687]
[1139,1,13,1,3,0.41025641025641024]
[1140,1,13,2,3,0.74358974358974361]
[1141,1,13,1,4,0.32692307692307693]
[1142,1,13,3,4,0.82692307692307687]
[1143,1,13,1,5,0.27692307692307694]
[1144,1,13,2,5,0.47692307692307695]
[1145,1,13,3,5,0.67692307692307696]
[1146,1,13,4,5,0.87692307692307692]
[1147,1,13,1,6,0.24358974358974358]
[1148,1,13,5,6,0.91025641025641035]
[1149,1,13,1,7,0.21978021978021978]
[1150,1,13,2,7,0.36263736263736263]
[1151,1,13,3,7,0.50549450549450547]
[1152,1,13,4,7,0.64835164835164827]
[1153,1,13,5,7,0.79120879120879128]
[1154,1,13,6,7,0.93406593406593408]
[1155,1,13,1,8,0.20192307692307693]
[1156,1,13,3,8,0.45192307692307693]
[1157,1,13,5,8,0.70192307692307687]
[1158,1,13,7,8,0.95192307692307687]
[1159,1,13,1,9,0.18803418803418803]
[1160,1,13,2,9,0.29914529914529914]
[1161,1,13,4,9,0.52136752136752129]
[1162,1,13,5,9,0.63247863247863245]
[1163,1,13,7,9,0.85470085470085477]
[1164,1,13,8,9,0.96581196581196571]
[1165,1,13,1,10,0.17692307692307693]
[1166,1,13,3,10,0.37692307692307692]
[1167,1,13,7,10,0.77692307692307683]
[1168,1,13,9,10,0.97692307692307701]
[1169,1,13,1,11,0.16783216783216784]
[1170,1,13,2,11,0.25874125874125875]
[1171,1,13,3,11,0.34965034965034963]
[1172,1,13,4,11,0.44055944055944057]
[1173,1,13,5,11,0.53146853146853146]
[1174,1,13,6,11,0.62237762237762229]
[1175,1,13,7,11,0.71328671328671334]
[1176,1,13,8,11,0.80419580419580416]
[1177,1,13,9,11,0.89510489510489522]
[1178,1,13,10,11,0.98601398601398604]
[1179,1,13,1,12,0.16025641025641024]
[1180,1,13,5,12,0.49358974358974361]
[1181,1,13,7,12,0.66025641025641035]
[1182,1,13,11,12,0.99358974358974361]
[1183,1,13,2,13,0.23076923076923078]
[1184,1,13,3,13,0.30769230769230771]
[1185,1,13,4,13,0.38461538461538464]
[1186,1,13,5,13,0.46153846153846156]
[1187,1,13,6,13,0.53846153846153855]
[1188,1,13,7,13,0.61538461538461542]
[1189,1,13,8,13,0.69230769230769229]
[1190,1,13,9,13,0.76923076923076916]
[1191,1,13,10,13,0.84615384615384626]
[1192,1,13,11,13,0.92307692307692313]
[1193,1,13,12,13,1]
[1194,1,13,1,14,0.14835164835164835]
[1195,1,13,3,14,0.29120879120879117]
[1196,1,13,5,14,0.43406593406593408]
[1197,1,13,9,14,{"$f":"B1200/C1200+D1200/E1200","v":0.71978021978021989}]
[1198,1,13,11,14,0.86263736263736268]
[1199,1,13,1,15,0.14358974358974358]
[1200,1,13,2,15,0.21025641025641026]
[1201,1,13,4,15,0.34358974358974359]
[1202,1,13,7,15,0.54358974358974366]
[1203,1,13,8,15,0.61025641025641031]
[1204,1,13,11,15,0.81025641025641026]
[1205,1,13,13,15,0.94358974358974357]
[1206,1,13,1,16,0.13942307692307693]
[1207,1,13,3,16,0.26442307692307693]
[1208,1,13,5,16,0.38942307692307693]
[1209,1,13,7,16,0.51442307692307687]
[1210,1,13,9,16,0.63942307692307687]
[1211,1,13,11,16,0.76442307692307687]
[1212,1,13,13,16,0.88942307692307687]
[1213,2,13,1,2,0.65384615384615385]
[1214,2,13,1,3,0.48717948717948717]
[1215,2,13,2,3,0.82051282051282048]
[1216,2,13,1,4,0.40384615384615385]
[1217,2,13,3,4,0.90384615384615385]
[1218,2,13,1,5,0.35384615384615387]
[1219,2,13,2,5,0.55384615384615388]
[1220,2,13,3,5,0.75384615384615383]
[1221,2,13,4,5,0.9538461538461539]
[1222,2,13,1,6,0.32051282051282048]
[1223,2,13,5,6,0.98717948717948723]
[1224,2,13,1,7,0.2967032967032967]
[1225,2,13,2,7,0.43956043956043955]
[1226,2,13,3,7,0.58241758241758235]
[1227,2,13,4,7,0.72527472527472525]
[1228,2,13,5,7,0.86813186813186816]
[1229,2,13,1,8,0.27884615384615385]
[1230,2,13,3,8,0.52884615384615385]
[1231,2,13,5,8,0.77884615384615385]
[1232,2,13,1,9,0.26495726495726496]
[1233,2,13,2,9,0.37606837606837606]
[1234,2,13,4,9,0.59829059829059827]
[1235,2,13,5,9,0.70940170940170943]
[1236,2,13,7,9,0.93162393162393164]
[1237,2,13,1,10,0.25384615384615383]
[1238,2,13,3,10,0.45384615384615384]
[1239,2,13,7,10,0.85384615384615381]
[1240,2,13,1,11,0.24475524475524477]
[1241,2,13,2,11,0.33566433566433568]
[1242,2,13,3,11,0.42657342657342656]
[1243,2,13,4,11,0.5174825174825175]
[1244,2,13,5,11,0.60839160839160833]
[1245,2,13,6,11,0.69930069930069927]
[1246,2,13,7,11,0.79020979020979021]
[1247,2,13,8,11,0.88111888111888115]
[1248,2,13,9,11,0.97202797202797209]
[1249,2,13,1,12,0.23717948717948717]
[1250,2,13,5,12,0.57051282051282048]
[1251,2,13,7,12,0.73717948717948723]
[1252,2,13,1,13,0.23076923076923078]
[1253,2,13,3,13,0.38461538461538464]
[1254,2,13,4,13,0.46153846153846156]
[1255,2,13,5,13,0.53846153846153855]
[1256,2,13,6,13,0.61538461538461542]
[1257,2,13,7,13,0.69230769230769229]
[1258,2,13,8,13,0.76923076923076927]
[1259,2,13,9,13,0.84615384615384615]
[1260,2,13,10,13,{"$f":"B1263/C1263+D1263/E1263","v":0.92307692307692313}]
[1261,2,13,11,13,1]
[1262,2,13,1,14,0.22527472527472528]
[1263,2,13,3,14,0.36813186813186816]
[1264,2,13,5,14,0.51098901098901095]
[1265,2,13,9,14,0.79670329670329676]
[1266,2,13,11,14,0.93956043956043955]
[1267,2,13,1,15,0.22051282051282051]
[1268,2,13,2,15,0.28717948717948716]
[1269,2,13,4,15,0.42051282051282052]
[1270,2,13,7,15,0.62051282051282053]
[1271,2,13,8,15,0.68717948717948718]
[1272,2,13,11,15,0.88717948717948714]
[1273,2,13,1,16,0.21634615384615385]
[1274,2,13,3,16,0.34134615384615385]
[1275,2,13,5,16,0.46634615384615385]
[1276,2,13,7,16,0.59134615384615385]
[1277,2,13,9,16,0.71634615384615385]
[1278,2,13,11,16,0.84134615384615385]
[1279,2,13,13,16,0.96634615384615385]
[1280,3,13,1,2,0.73076923076923084]
[1281,3,13,1,3,0.5641025641025641]
[1282,3,13,2,3,0.89743589743589736]
[1283,3,13,1,4,0.48076923076923078]
[1284,3,13,3,4,0.98076923076923084]
[1285,3,13,1,5,0.43076923076923079]
[1286,3,13,2,5,0.63076923076923075]
[1287,3,13,3,5,0.8307692307692307]
[1288,3,13,1,6,0.39743589743589747]
[1289,3,13,1,7,0.37362637362637363]
[1290,3,13,2,7,0.51648351648351642]
[1291,3,13,3,7,0.65934065934065933]
[1292,3,13,4,7,0.80219780219780223]
[1293,3,13,5,7,0.94505494505494503]
[1294,3,13,1,8,0.35576923076923078]
[1295,3,13,3,8,0.60576923076923084]
[1296,3,13,5,8,0.85576923076923084]
[1297,3,13,1,9,0.34188034188034189]
[1298,3,13,2,9,0.45299145299145299]
[1299,3,13,4,9,0.67521367521367526]
[1300,3,13,5,9,0.78632478632478642]
[1301,3,13,1,10,0.33076923076923082]
[1302,3,13,3,10,0.53076923076923077]
[1303,3,13,7,10,0.93076923076923079]
[1304,3,13,1,11,0.32167832167832167]
[1305,3,13,2,11,0.41258741258741261]
[1306,3,13,3,11,0.50349650349650354]
[1307,3,13,4,11,0.59440559440559437]
[1308,3,13,5,11,0.68531468531468531]
[1309,3,13,6,11,0.77622377622377625]
[1310,3,13,7,11,0.86713286713286708]
[1311,3,13,8,11,0.95804195804195813]
[1312,3,13,1,12,0.3141025641025641]
[1313,3,13,5,12,0.64743589743589747]
[1314,3,13,7,12,0.8141025641025641]
[1315,3,13,1,13,0.30769230769230771]
[1316,3,13,2,13,0.38461538461538464]
[1317,3,13,4,13,0.53846153846153855]
[1318,3,13,5,13,0.61538461538461542]
[1319,3,13,6,13,0.69230769230769229]
[1320,3,13,7,13,0.76923076923076916]
[1321,3,13,8,13,0.84615384615384626]
[1322,3,13,9,13,0.92307692307692313]
[1323,3,13,10,13,{"$f":"B1326/C1326+D1326/E1326","v":1}]
[1324,3,13,1,14,0.30219780219780223]
[1325,3,13,3,14,0.44505494505494503]
[1326,3,13,5,14,0.58791208791208793]
[1327,3,13,9,14,0.87362637362637363]
[1328,3,13,1,15,0.29743589743589743]
[1329,3,13,2,15,0.36410256410256414]
[1330,3,13,4,15,0.49743589743589745]
[1331,3,13,7,15,0.6974358974358974]
[1332,3,13,8,15,0.76410256410256405]
[1333,3,13,11,15,0.96410256410256401]
[1334,3,13,1,16,0.29326923076923078]
[1335,3,13,3,16,0.41826923076923078]
[1336,3,13,5,16,0.54326923076923084]
[1337,3,13,7,16,0.66826923076923084]
[1338,3,13,9,16,0.79326923076923084]
[1339,3,13,11,16,0.91826923076923084]
[1340,4,13,1,2,0.80769230769230771]
[1341,4,13,1,3,0.64102564102564097]
[1342,4,13,2,3,0.97435897435897434]
[1343,4,13,1,4,0.55769230769230771]
[1344,4,13,1,5,0.50769230769230766]
[1345,4,13,2,5,0.70769230769230773]
[1346,4,13,3,5,0.90769230769230769]
[1347,4,13,1,6,0.47435897435897434]
[1348,4,13,1,7,0.45054945054945056]
[1349,4,13,2,7,0.59340659340659341]
[1350,4,13,3,7,0.73626373626373631]
[1351,4,13,4,7,0.87912087912087911]
[1352,4,13,1,8,0.43269230769230771]
[1353,4,13,3,8,0.68269230769230771]
[1354,4,13,5,8,0.93269230769230771]
[1355,4,13,1,9,0.41880341880341881]
[1356,4,13,2,9,0.52991452991452992]
[1357,4,13,4,9,0.75213675213675213]
[1358,4,13,5,9,0.86324786324786329]
[1359,4,13,1,10,0.40769230769230769]
[1360,4,13,3,10,0.60769230769230775]
[1361,4,13,1,11,0.39860139860139865]
[1362,4,13,2,11,0.48951048951048953]
[1363,4,13,3,11,0.58041958041958042]
[1364,4,13,4,11,0.67132867132867136]
[1365,4,13,5,11,0.7622377622377623]
[1366,4,13,6,11,0.85314685314685312]
[1367,4,13,7,11,0.94405594405594406]
[1368,4,13,1,12,0.39102564102564102]
[1369,4,13,5,12,0.72435897435897445]
[1370,4,13,7,12,0.89102564102564108]
[1371,4,13,1,13,0.38461538461538464]
[1372,4,13,2,13,0.46153846153846156]
[1373,4,13,3,13,0.53846153846153855]
[1374,4,13,5,13,0.69230769230769229]
[1375,4,13,6,13,0.76923076923076927]
[1376,4,13,7,13,0.84615384615384615]
[1377,4,13,8,13,0.92307692307692313]
[1378,4,13,9,13,1]
[1379,4,13,1,14,0.37912087912087911]
[1380,4,13,3,14,0.52197802197802201]
[1381,4,13,5,14,0.66483516483516492]
[1382,4,13,9,14,0.95054945054945061]
[1383,4,13,1,15,0.37435897435897436]
[1384,4,13,2,15,0.44102564102564101]
[1385,4,13,4,15,0.57435897435897432]
[1386,4,13,7,15,{"$f":"B1389/C1389+D1389/E1389","v":0.77435897435897438}]
[1387,4,13,8,15,0.84102564102564104]
[1388,4,13,1,16,0.37019230769230771]
[1389,4,13,3,16,0.49519230769230771]
[1390,4,13,5,16,0.62019230769230771]
[1391,4,13,7,16,0.74519230769230771]
[1392,4,13,9,16,0.87019230769230771]
[1393,4,13,11,16,0.99519230769230771]
[1394,5,13,1,2,0.88461538461538458]
[1395,5,13,1,3,0.71794871794871795]
[1396,5,13,1,4,0.63461538461538458]
[1397,5,13,1,5,0.58461538461538465]
[1398,5,13,2,5,0.78461538461538471]
[1399,5,13,3,5,0.98461538461538467]
[1400,5,13,1,6,0.55128205128205132]
[1401,5,13,1,7,0.52747252747252749]
[1402,5,13,2,7,0.67032967032967039]
[1403,5,13,3,7,0.81318681318681318]
[1404,5,13,4,7,0.95604395604395598]
[1405,5,13,1,8,0.50961538461538458]
[1406,5,13,3,8,0.75961538461538458]
[1407,5,13,1,9,0.49572649572649574]
[1408,5,13,2,9,0.6068376068376069]
[1409,5,13,4,9,0.829059829059829]
[1410,5,13,5,9,0.94017094017094016]
[1411,5,13,1,10,0.48461538461538467]
[1412,5,13,3,10,0.68461538461538463]
[1413,5,13,1,11,0.47552447552447552]
[1414,5,13,2,11,0.56643356643356646]
[1415,5,13,3,11,0.65734265734265729]
[1416,5,13,4,11,0.74825174825174834]
[1417,5,13,5,11,0.83916083916083917]
[1418,5,13,6,11,0.93006993006993]
[1419,5,13,1,12,0.46794871794871795]
[1420,5,13,5,12,0.80128205128205132]
[1421,5,13,7,12,0.96794871794871806]
[1422,5,13,1,13,0.46153846153846156]
[1423,5,13,2,13,0.53846153846153855]
[1424,5,13,3,13,0.61538461538461542]
[1425,5,13,4,13,0.69230769230769229]
[1426,5,13,6,13,0.84615384615384626]
[1427,5,13,7,13,0.92307692307692313]
[1428,5,13,8,13,1]
[1429,5,13,1,14,0.45604395604395609]
[1430,5,13,3,14,0.59890109890109888]
[1431,5,13,5,14,0.74175824175824179]
[1432,5,13,1,15,0.45128205128205129]
[1433,5,13,2,15,0.517948717948718]
[1434,5,13,4,15,0.6512820512820513]
[1435,5,13,7,15,0.85128205128205137]
[1436,5,13,8,15,0.91794871794871802]
[1437,5,13,1,16,0.44711538461538464]
[1438,5,13,3,16,0.57211538461538458]
[1439,5,13,5,16,0.69711538461538458]
[1440,5,13,7,16,0.82211538461538458]
[1441,5,13,9,16,0.94711538461538458]
[1442,6,13,1,2,0.96153846153846156]
[1443,6,13,1,3,0.79487179487179493]
[1444,6,13,1,4,0.71153846153846156]
[1445,6,13,1,5,0.66153846153846163]
[1446,6,13,2,5,0.86153846153846159]
[1447,6,13,1,6,0.62820512820512819]
[1448,6,13,1,7,0.60439560439560447]
[1449,6,13,2,7,{"$f":"B1452/C1452+D1452/E1452","v":0.74725274725274726}]
[1450,6,13,3,7,0.89010989010989006]
[1451,6,13,1,8,0.58653846153846156]
[1452,6,13,3,8,0.83653846153846156]
[1453,6,13,1,9,0.57264957264957261]
[1454,6,13,2,9,0.68376068376068377]
[1455,6,13,4,9,0.90598290598290598]
[1456,6,13,1,10,0.56153846153846154]
[1457,6,13,3,10,0.7615384615384615]
[1458,6,13,1,11,0.5524475524475525]
[1459,6,13,2,11,0.64335664335664333]
[1460,6,13,3,11,0.73426573426573427]
[1461,6,13,4,11,0.82517482517482521]
[1462,6,13,5,11,0.91608391608391604]
[1463,6,13,1,12,0.54487179487179493]
[1464,6,13,5,12,0.87820512820512819]
[1465,6,13,1,13,0.53846153846153855]
[1466,6,13,2,13,0.61538461538461542]
[1467,6,13,3,13,0.69230769230769229]
[1468,6,13,4,13,0.76923076923076927]
[1469,6,13,5,13,0.84615384615384626]
[1470,6,13,7,13,1]
[1471,6,13,1,14,0.53296703296703296]
[1472,6,13,3,14,0.67582417582417587]
[1473,6,13,5,14,0.81868131868131866]
[1474,6,13,1,15,0.52820512820512822]
[1475,6,13,2,15,0.59487179487179487]
[1476,6,13,4,15,0.72820512820512828]
[1477,6,13,7,15,0.92820512820512824]
[1478,6,13,8,15,0.99487179487179489]
[1479,6,13,1,16,0.52403846153846156]
[1480,6,13,3,16,0.64903846153846156]
[1481,6,13,5,16,0.77403846153846156]
[1482,6,13,7,16,0.89903846153846156]
[1483,7,13,1,3,0.87179487179487181]
[1484,7,13,1,4,0.78846153846153844]
[1485,7,13,1,5,0.7384615384615385]
[1486,7,13,2,5,0.93846153846153846]
[1487,7,13,1,6,0.70512820512820507]
[1488,7,13,1,7,0.68131868131868134]
[1489,7,13,2,7,0.82417582417582413]
[1490,7,13,3,7,0.96703296703296693]
[1491,7,13,1,8,0.66346153846153844]
[1492,7,13,3,8,0.91346153846153844]
[1493,7,13,1,9,0.64957264957264949]
[1494,7,13,2,9,0.76068376068376065]
[1495,7,13,4,9,0.98290598290598286]
[1496,7,13,1,10,0.63846153846153841]
[1497,7,13,3,10,0.83846153846153837]
[1498,7,13,1,11,0.62937062937062938]
[1499,7,13,2,11,0.7202797202797202]
[1500,7,13,3,11,0.81118881118881114]
[1501,7,13,4,11,0.90209790209790208]
[1502,7,13,5,11,0.99300699300699291]
[1503,7,13,1,12,0.62179487179487181]
[1504,7,13,5,12,0.95512820512820507]
[1505,7,13,1,13,0.61538461538461542]
[1506,7,13,2,13,0.69230769230769229]
[1507,7,13,3,13,0.76923076923076916]
[1508,7,13,4,13,0.84615384615384615]
[1509,7,13,5,13,0.92307692307692313]
[1510,7,13,6,13,1]
[1511,7,13,1,14,0.60989010989010983]
[1512,7,13,3,14,{"$f":"B1515/C1515+D1515/E1515","v":0.75274725274725274}]
[1513,7,13,5,14,0.89560439560439553]
[1514,7,13,1,15,0.60512820512820509]
[1515,7,13,2,15,0.67179487179487174]
[1516,7,13,4,15,0.80512820512820515]
[1517,7,13,1,16,0.60096153846153844]
[1518,7,13,3,16,0.72596153846153844]
[1519,7,13,5,16,0.85096153846153844]
[1520,7,13,7,16,0.97596153846153844]
[1521,8,13,1,3,0.94871794871794868]
[1522,8,13,1,4,0.86538461538461542]
[1523,8,13,1,5,0.81538461538461537]
[1524,8,13,1,6,0.78205128205128205]
[1525,8,13,1,7,0.75824175824175821]
[1526,8,13,2,7,0.90109890109890112]
[1527,8,13,1,8,0.74038461538461542]
[1528,8,13,3,8,0.99038461538461542]
[1529,8,13,1,9,0.72649572649572658]
[1530,8,13,2,9,0.83760683760683763]
[1531,8,13,1,10,0.7153846153846154]
[1532,8,13,3,10,0.91538461538461546]
[1533,8,13,1,11,0.70629370629370636]
[1534,8,13,2,11,0.7972027972027973]
[1535,8,13,3,11,0.88811188811188813]
[1536,8,13,4,11,0.97902097902097907]
[1537,8,13,1,12,0.69871794871794879]
[1538,8,13,1,13,0.69230769230769229]
[1539,8,13,2,13,0.76923076923076927]
[1540,8,13,3,13,0.84615384615384626]
[1541,8,13,4,13,0.92307692307692313]
[1542,8,13,5,13,1]
[1543,8,13,1,14,0.68681318681318682]
[1544,8,13,3,14,0.82967032967032972]
[1545,8,13,5,14,0.97252747252747263]
[1546,8,13,1,15,0.68205128205128207]
[1547,8,13,2,15,0.74871794871794872]
[1548,8,13,4,15,0.88205128205128203]
[1549,8,13,1,16,0.67788461538461542]
[1550,8,13,3,16,0.80288461538461542]
[1551,8,13,5,16,0.92788461538461542]
[1552,9,13,1,4,0.94230769230769229]
[1553,9,13,1,5,0.89230769230769225]
[1554,9,13,1,6,0.85897435897435892]
[1555,9,13,1,7,0.83516483516483508]
[1556,9,13,2,7,0.97802197802197799]
[1557,9,13,1,8,0.81730769230769229]
[1558,9,13,1,9,0.80341880341880345]
[1559,9,13,2,9,0.9145299145299145]
[1560,9,13,1,10,0.79230769230769227]
[1561,9,13,3,10,0.99230769230769234]
[1562,9,13,1,11,0.78321678321678323]
[1563,9,13,2,11,0.87412587412587417]
[1564,9,13,3,11,0.965034965034965]
[1565,9,13,1,12,0.77564102564102566]
[1566,9,13,1,13,0.76923076923076916]
[1567,9,13,2,13,0.84615384615384615]
[1568,9,13,3,13,0.92307692307692313]
[1569,9,13,4,13,1]
[1570,9,13,1,14,0.76373626373626369]
[1571,9,13,3,14,0.90659340659340659]
[1572,9,13,1,15,0.75897435897435894]
[1573,9,13,2,15,0.82564102564102559]
[1574,9,13,4,15,0.9589743589743589]
[1575,9,13,1,16,0.75480769230769229]
[1576,9,13,3,16,{"$f":"B1579/C1579+D1579/E1579","v":0.87980769230769229}]
[1577,10,13,1,5,0.96923076923076934]
[1578,10,13,1,6,0.9358974358974359]
[1579,10,13,1,7,0.91208791208791218]
[1580,10,13,1,8,0.89423076923076927]
[1581,10,13,1,9,0.88034188034188032]
[1582,10,13,2,9,0.99145299145299148]
[1583,10,13,1,10,0.86923076923076925]
[1584,10,13,1,11,0.86013986013986021]
[1585,10,13,2,11,0.95104895104895104]
[1586,10,13,1,12,0.85256410256410264]
[1587,10,13,1,13,0.84615384615384626]
[1588,10,13,2,13,0.92307692307692313]
[1589,10,13,3,13,1]
[1590,10,13,1,14,0.84065934065934067]
[1591,10,13,3,14,0.98351648351648358]
[1592,10,13,1,15,0.83589743589743593]
[1593,10,13,2,15,0.90256410256410258]
[1594,10,13,1,16,0.83173076923076927]
[1595,10,13,3,16,0.95673076923076927]
[1596,11,13,1,7,0.98901098901098905]
[1597,11,13,1,8,0.97115384615384615]
[1598,11,13,1,9,0.95726495726495719]
[1599,11,13,1,10,0.94615384615384612]
[1600,11,13,1,11,0.93706293706293708]
[1601,11,13,1,12,0.92948717948717952]
[1602,11,13,1,13,0.92307692307692313]
[1603,11,13,2,13,1]
[1604,11,13,1,14,0.91758241758241754]
[1605,11,13,1,15,0.9128205128205128]
[1606,11,13,2,15,0.97948717948717945]
[1607,11,13,1,16,0.90865384615384615]
[1608,12,13,1,13,1]
[1609,12,13,1,14,0.99450549450549453]
[1610,12,13,1,15,0.98974358974358978]
[1611,12,13,1,16,0.98557692307692313]
[1612,1,14,1,2,0.5714285714285714]
[1613,1,14,1,3,0.40476190476190477]
[1614,1,14,2,3,0.73809523809523803]
[1615,1,14,1,4,0.3214285714285714]
[1616,1,14,3,4,0.8214285714285714]
[1617,1,14,1,5,0.27142857142857146]
[1618,1,14,2,5,0.47142857142857142]
[1619,1,14,3,5,0.67142857142857137]
[1620,1,14,4,5,0.87142857142857144]
[1621,1,14,1,6,0.23809523809523808]
[1622,1,14,5,6,0.90476190476190477]
[1623,1,14,1,7,0.21428571428571427]
[1624,1,14,2,7,0.3571428571428571]
[1625,1,14,3,7,0.5]
[1626,1,14,4,7,0.64285714285714279]
[1627,1,14,5,7,0.7857142857142857]
[1628,1,14,6,7,0.92857142857142849]
[1629,1,14,1,8,0.19642857142857142]
[1630,1,14,3,8,0.4464285714285714]
[1631,1,14,5,8,0.6964285714285714]
[1632,1,14,7,8,0.9464285714285714]
[1633,1,14,1,9,0.18253968253968253]
[1634,1,14,2,9,0.29365079365079361]
[1635,1,14,4,9,0.51587301587301582]
[1636,1,14,5,9,0.62698412698412698]
[1637,1,14,7,9,0.84920634920634919]
[1638,1,14,8,9,0.96031746031746024]
[1639,1,14,1,10,0.17142857142857143]
[1640,1,14,3,10,{"$f":"B1643/C1643+D1643/E1643","v":0.37142857142857144}]
[1641,1,14,7,10,0.77142857142857135]
[1642,1,14,9,10,0.97142857142857142]
[1643,1,14,1,11,0.16233766233766234]
[1644,1,14,2,11,0.25324675324675328]
[1645,1,14,3,11,0.3441558441558441]
[1646,1,14,4,11,0.43506493506493504]
[1647,1,14,5,11,0.52597402597402598]
[1648,1,14,6,11,0.61688311688311681]
[1649,1,14,7,11,0.70779220779220775]
[1650,1,14,8,11,0.79870129870129869]
[1651,1,14,9,11,0.88961038961038963]
[1652,1,14,10,11,0.98051948051948046]
[1653,1,14,1,12,0.15476190476190477]
[1654,1,14,5,12,0.48809523809523814]
[1655,1,14,7,12,0.65476190476190477]
[1656,1,14,11,12,0.98809523809523803]
[1657,1,14,1,13,0.14835164835164835]
[1658,1,14,2,13,0.22527472527472528]
[1659,1,14,3,13,0.30219780219780223]
[1660,1,14,4,13,0.37912087912087911]
[1661,1,14,5,13,0.45604395604395609]
[1662,1,14,6,13,0.53296703296703296]
[1663,1,14,7,13,0.60989010989010983]
[1664,1,14,8,13,0.68681318681318682]
[1665,1,14,9,13,0.76373626373626369]
[1666,1,14,10,13,0.84065934065934067]
[1667,1,14,11,13,0.91758241758241754]
[1668,1,14,12,13,0.99450549450549453]
[1669,1,14,3,14,0.2857142857142857]
[1670,1,14,5,14,0.4285714285714286]
[1671,1,14,9,14,0.7142857142857143]
[1672,1,14,11,14,0.8571428571428571]
[1673,1,14,13,14,1]
[1674,1,14,1,15,0.1380952380952381]
[1675,1,14,2,15,0.20476190476190476]
[1676,1,14,4,15,0.33809523809523812]
[1677,1,14,7,15,0.53809523809523807]
[1678,1,14,8,15,0.60476190476190472]
[1679,1,14,11,15,0.80476190476190468]
[1680,1,14,13,15,0.93809523809523809]
[1681,1,14,1,16,0.13392857142857142]
[1682,1,14,3,16,0.2589285714285714]
[1683,1,14,5,16,0.3839285714285714]
[1684,1,14,7,16,0.5089285714285714]
[1685,1,14,9,16,0.6339285714285714]
[1686,1,14,11,16,0.7589285714285714]
[1687,1,14,13,16,0.8839285714285714]
[1688,3,14,1,2,0.7142857142857143]
[1689,3,14,1,3,0.54761904761904756]
[1690,3,14,2,3,0.88095238095238093]
[1691,3,14,1,4,0.4642857142857143]
[1692,3,14,3,4,0.9642857142857143]
[1693,3,14,1,5,0.41428571428571426]
[1694,3,14,2,5,0.61428571428571432]
[1695,3,14,3,5,0.81428571428571428]
[1696,3,14,1,6,0.38095238095238093]
[1697,3,14,1,7,0.3571428571428571]
[1698,3,14,2,7,0.5]
[1699,3,14,3,7,0.64285714285714279]
[1700,3,14,4,7,0.7857142857142857]
[1701,3,14,5,7,0.9285714285714286]
[1702,3,14,1,8,0.3392857142857143]
[1703,3,14,3,8,{"$f":"B1706/C1706+D1706/E1706","v":0.5892857142857143}]
[1704,3,14,5,8,0.8392857142857143]
[1705,3,14,1,9,0.32539682539682535]
[1706,3,14,2,9,0.43650793650793651]
[1707,3,14,4,9,0.65873015873015872]
[1708,3,14,5,9,0.76984126984126988]
[1709,3,14,7,9,0.99206349206349209]
[1710,3,14,1,10,0.31428571428571428]
[1711,3,14,3,10,0.51428571428571423]
[1712,3,14,7,10,0.91428571428571426]
[1713,3,14,1,11,0.30519480519480519]
[1714,3,14,2,11,0.39610389610389607]
[1715,3,14,3,11,0.48701298701298701]
[1716,3,14,4,11,0.57792207792207795]
[1717,3,14,5,11,0.66883116883116878]
[1718,3,14,6,11,0.75974025974025972]
[1719,3,14,7,11,0.85064935064935066]
[1720,3,14,8,11,0.94155844155844159]
[1721,3,14,1,12,0.29761904761904762]
[1722,3,14,5,12,0.63095238095238093]
[1723,3,14,7,12,0.79761904761904767]
[1724,3,14,1,13,0.29120879120879117]
[1725,3,14,2,13,0.36813186813186816]
[1726,3,14,3,13,0.44505494505494503]
[1727,3,14,4,13,0.52197802197802201]
[1728,3,14,5,13,0.59890109890109888]
[1729,3,14,6,13,0.67582417582417587]
[1730,3,14,7,13,0.75274725274725274]
[1731,3,14,8,13,0.82967032967032972]
[1732,3,14,9,13,0.90659340659340659]
[1733,3,14,10,13,0.98351648351648358]
[1734,3,14,1,14,0.2857142857142857]
[1735,3,14,5,14,0.5714285714285714]
[1736,3,14,9,14,0.85714285714285721]
[1737,3,14,11,14,1]
[1738,3,14,1,15,0.28095238095238095]
[1739,3,14,2,15,0.34761904761904761]
[1740,3,14,4,15,0.48095238095238091]
[1741,3,14,7,15,0.68095238095238098]
[1742,3,14,8,15,0.74761904761904763]
[1743,3,14,11,15,0.94761904761904758]
[1744,3,14,1,16,0.2767857142857143]
[1745,3,14,3,16,0.4017857142857143]
[1746,3,14,5,16,0.5267857142857143]
[1747,3,14,7,16,0.6517857142857143]
[1748,3,14,9,16,0.7767857142857143]
[1749,3,14,11,16,0.9017857142857143]
[1750,5,14,1,2,0.85714285714285721]
[1751,5,14,1,3,0.69047619047619047]
[1752,5,14,1,4,0.60714285714285721]
[1753,5,14,1,5,0.55714285714285716]
[1754,5,14,2,5,0.75714285714285712]
[1755,5,14,3,5,0.95714285714285707]
[1756,5,14,1,6,0.52380952380952384]
[1757,5,14,1,7,0.5]
[1758,5,14,2,7,0.64285714285714279]
[1759,5,14,3,7,0.7857142857142857]
[1760,5,14,4,7,0.9285714285714286]
[1761,5,14,1,8,0.48214285714285715]
[1762,5,14,3,8,0.73214285714285721]
[1763,5,14,5,8,0.98214285714285721]
[1764,5,14,1,9,0.46825396825396826]
[1765,5,14,2,9,0.57936507936507931]
[1766,5,14,4,9,{"$f":"B1769/C1769+D1769/E1769","v":0.80158730158730163}]
[1767,5,14,5,9,0.91269841269841279]
[1768,5,14,1,10,0.45714285714285718]
[1769,5,14,3,10,0.65714285714285714]
[1770,5,14,1,11,0.44805194805194803]
[1771,5,14,2,11,0.53896103896103897]
[1772,5,14,3,11,0.62987012987012991]
[1773,5,14,4,11,0.72077922077922074]
[1774,5,14,5,11,0.81168831168831168]
[1775,5,14,6,11,0.90259740259740262]
[1776,5,14,7,11,0.99350649350649345]
[1777,5,14,1,12,0.44047619047619047]
[1778,5,14,5,12,0.77380952380952384]
[1779,5,14,7,12,0.94047619047619047]
[1780,5,14,1,13,0.43406593406593408]
[1781,5,14,2,13,0.51098901098901095]
[1782,5,14,3,13,0.58791208791208793]
[1783,5,14,4,13,0.66483516483516492]
[1784,5,14,5,13,0.74175824175824179]
[1785,5,14,6,13,0.81868131868131866]
[1786,5,14,7,13,0.89560439560439553]
[1787,5,14,8,13,0.97252747252747263]
[1788,5,14,1,14,0.4285714285714286]
[1789,5,14,3,14,0.5714285714285714]
[1790,5,14,9,14,1]
[1791,5,14,1,15,0.4238095238095238]
[1792,5,14,2,15,0.49047619047619051]
[1793,5,14,4,15,0.62380952380952381]
[1794,5,14,7,15,0.82380952380952377]
[1795,5,14,8,15,0.89047619047619042]
[1796,5,14,1,16,0.41964285714285715]
[1797,5,14,3,16,0.54464285714285721]
[1798,5,14,5,16,0.66964285714285721]
[1799,5,14,7,16,0.79464285714285721]
[1800,5,14,9,16,0.91964285714285721]
[1801,9,14,1,3,0.97619047619047628]
[1802,9,14,1,4,0.8928571428571429]
[1803,9,14,1,5,0.84285714285714297]
[1804,9,14,1,6,0.80952380952380953]
[1805,9,14,1,7,0.78571428571428581]
[1806,9,14,2,7,0.9285714285714286]
[1807,9,14,1,8,0.7678571428571429]
[1808,9,14,1,9,0.75396825396825395]
[1809,9,14,2,9,0.86507936507936511]
[1810,9,14,1,10,0.74285714285714288]
[1811,9,14,3,10,0.94285714285714284]
[1812,9,14,1,11,0.73376623376623384]
[1813,9,14,2,11,0.82467532467532467]
[1814,9,14,3,11,0.91558441558441561]
[1815,9,14,1,12,0.72619047619047628]
[1816,9,14,1,13,0.71978021978021989]
[1817,9,14,2,13,0.79670329670329676]
[1818,9,14,3,13,0.87362637362637363]
[1819,9,14,4,13,0.95054945054945061]
[1820,9,14,1,14,0.7142857142857143]
[1821,9,14,3,14,0.85714285714285721]
[1822,9,14,5,14,1]
[1823,9,14,1,15,0.70952380952380956]
[1824,9,14,2,15,0.77619047619047621]
[1825,9,14,4,15,0.90952380952380962]
[1826,9,14,1,16,0.7053571428571429]
[1827,9,14,3,16,0.8303571428571429]
[1828,9,14,5,16,0.9553571428571429]
[1829,11,14,1,5,{"$f":"B1832/C1832+D1832/E1832","v":0.98571428571428577}]
[1830,11,14,1,6,0.95238095238095233]
[1831,11,14,1,7,0.9285714285714286]
[1832,11,14,1,8,0.9107142857142857]
[1833,11,14,1,9,0.89682539682539675]
[1834,11,14,1,10,0.88571428571428568]
[1835,11,14,1,11,0.87662337662337664]
[1836,11,14,2,11,0.96753246753246747]
[1837,11,14,1,12,0.86904761904761907]
[1838,11,14,1,13,0.86263736263736268]
[1839,11,14,1,14,0.8571428571428571]
[1840,11,14,3,14,1]
[1841,11,14,1,15,0.85238095238095235]
[1842,11,14,2,15,0.919047619047619]
[1843,11,14,1,16,0.8482142857142857]
[1844,11,14,3,16,0.9732142857142857]
[1845,1,15,1,2,0.56666666666666665]
[1846,1,15,1,3,0.39999999999999997]
[1847,1,15,2,3,0.73333333333333328]
[1848,1,15,1,4,0.31666666666666665]
[1849,1,15,3,4,0.81666666666666665]
[1850,1,15,1,5,0.26666666666666666]
[1851,1,15,2,5,0.46666666666666667]
[1852,1,15,3,5,0.66666666666666663]
[1853,1,15,4,5,0.8666666666666667]
[1854,1,15,1,6,0.23333333333333334]
[1855,1,15,5,6,0.9]
[1856,1,15,1,7,0.2095238095238095]
[1857,1,15,2,7,0.35238095238095235]
[1858,1,15,3,7,0.4952380952380952]
[1859,1,15,4,7,0.63809523809523805]
[1860,1,15,5,7,0.78095238095238095]
[1861,1,15,6,7,0.92380952380952375]
[1862,1,15,1,8,0.19166666666666665]
[1863,1,15,3,8,0.44166666666666665]
[1864,1,15,5,8,0.69166666666666665]
[1865,1,15,7,8,0.94166666666666665]
[1866,1,15,1,9,0.17777777777777776]
[1867,1,15,2,9,0.28888888888888886]
[1868,1,15,4,9,0.51111111111111107]
[1869,1,15,5,9,0.62222222222222223]
[1870,1,15,7,9,0.84444444444444444]
[1871,1,15,8,9,0.95555555555555549]
[1872,1,15,1,10,0.16666666666666669]
[1873,1,15,3,10,0.36666666666666664]
[1874,1,15,7,10,0.76666666666666661]
[1875,1,15,9,10,0.96666666666666667]
[1876,1,15,1,11,0.15757575757575759]
[1877,1,15,2,11,0.24848484848484848]
[1878,1,15,3,11,0.33939393939393936]
[1879,1,15,4,11,0.4303030303030303]
[1880,1,15,5,11,0.52121212121212124]
[1881,1,15,6,11,0.61212121212121207]
[1882,1,15,7,11,0.70303030303030301]
[1883,1,15,8,11,0.79393939393939394]
[1884,1,15,9,11,0.88484848484848488]
[1885,1,15,10,11,0.97575757575757571]
[1886,1,15,1,12,0.15]
[1887,1,15,5,12,0.48333333333333334]
[1888,1,15,7,12,0.65]
[1889,1,15,11,12,0.98333333333333328]
[1890,1,15,1,13,0.14358974358974358]
[1891,1,15,2,13,0.22051282051282051]
[1892,1,15,3,13,0.29743589743589743]
[1893,1,15,4,13,{"$f":"B1896/C1896+D1896/E1896","v":0.37435897435897436}]
[1894,1,15,5,13,0.45128205128205129]
[1895,1,15,6,13,0.52820512820512822]
[1896,1,15,7,13,0.60512820512820509]
[1897,1,15,8,13,0.68205128205128207]
[1898,1,15,9,13,0.75897435897435894]
[1899,1,15,10,13,0.83589743589743593]
[1900,1,15,11,13,0.9128205128205128]
[1901,1,15,12,13,0.98974358974358978]
[1902,1,15,1,14,0.1380952380952381]
[1903,1,15,3,14,0.28095238095238095]
[1904,1,15,5,14,0.4238095238095238]
[1905,1,15,9,14,0.70952380952380956]
[1906,1,15,11,14,0.85238095238095235]
[1907,1,15,13,14,0.99523809523809526]
[1908,1,15,2,15,0.2]
[1909,1,15,4,15,0.33333333333333331]
[1910,1,15,7,15,0.53333333333333333]
[1911,1,15,8,15,0.6]
[1912,1,15,11,15,0.79999999999999993]
[1913,1,15,13,15,0.93333333333333335]
[1914,1,15,14,15,1]
[1915,1,15,1,16,0.12916666666666665]
[1916,1,15,3,16,0.25416666666666665]
[1917,1,15,5,16,0.37916666666666665]
[1918,1,15,7,16,0.50416666666666665]
[1919,1,15,9,16,0.62916666666666665]
[1920,1,15,11,16,0.75416666666666665]
[1921,1,15,13,16,0.87916666666666665]
[1922,2,15,1,2,0.6333333333333333]
[1923,2,15,1,3,0.46666666666666667]
[1924,2,15,2,3,0.79999999999999993]
[1925,2,15,1,4,0.3833333333333333]
[1926,2,15,3,4,0.8833333333333333]
[1927,2,15,1,5,0.33333333333333337]
[1928,2,15,2,5,0.53333333333333333]
[1929,2,15,3,5,0.73333333333333328]
[1930,2,15,4,5,0.93333333333333335]
[1931,2,15,1,6,0.3]
[1932,2,15,5,6,0.96666666666666667]
[1933,2,15,1,7,0.27619047619047621]
[1934,2,15,2,7,0.419047619047619]
[1935,2,15,3,7,0.56190476190476191]
[1936,2,15,4,7,0.7047619047619047]
[1937,2,15,5,7,0.84761904761904761]
[1938,2,15,6,7,0.9904761904761904]
[1939,2,15,1,8,0.2583333333333333]
[1940,2,15,3,8,0.5083333333333333]
[1941,2,15,5,8,0.7583333333333333]
[1942,2,15,1,9,0.24444444444444444]
[1943,2,15,2,9,0.35555555555555551]
[1944,2,15,4,9,0.57777777777777772]
[1945,2,15,5,9,0.68888888888888888]
[1946,2,15,7,9,0.91111111111111109]
[1947,2,15,1,10,0.23333333333333334]
[1948,2,15,3,10,0.43333333333333335]
[1949,2,15,7,10,0.83333333333333326]
[1950,2,15,1,11,0.22424242424242424]
[1951,2,15,2,11,0.31515151515151518]
[1952,2,15,3,11,0.40606060606060601]
[1953,2,15,4,11,0.49696969696969695]
[1954,2,15,5,11,0.58787878787878789]
[1955,2,15,6,11,0.67878787878787872]
[1956,2,15,7,11,{"$f":"B1959/C1959+D1959/E1959","v":0.76969696969696966}]
[1957,2,15,8,11,0.8606060606060606]
[1958,2,15,9,11,0.95151515151515154]
[1959,2,15,1,12,0.21666666666666667]
[1960,2,15,5,12,0.55000000000000004]
[1961,2,15,7,12,0.71666666666666667]
[1962,2,15,1,13,0.21025641025641026]
[1963,2,15,2,13,0.28717948717948716]
[1964,2,15,3,13,0.36410256410256414]
[1965,2,15,4,13,0.44102564102564101]
[1966,2,15,5,13,0.517948717948718]
[1967,2,15,6,13,0.59487179487179487]
[1968,2,15,7,13,0.67179487179487174]
[1969,2,15,8,13,0.74871794871794872]
[1970,2,15,9,13,0.82564102564102559]
[1971,2,15,10,13,0.90256410256410258]
[1972,2,15,11,13,0.97948717948717945]
[1973,2,15,1,14,0.20476190476190476]
[1974,2,15,3,14,0.34761904761904761]
[1975,2,15,5,14,0.49047619047619051]
[1976,2,15,9,14,0.77619047619047621]
[1977,2,15,11,14,0.919047619047619]
[1978,2,15,1,15,0.2]
[1979,2,15,4,15,0.4]
[1980,2,15,7,15,0.6]
[1981,2,15,8,15,0.66666666666666663]
[1982,2,15,11,15,0.86666666666666659]
[1983,2,15,13,15,1]
[1984,2,15,1,16,0.19583333333333333]
[1985,2,15,3,16,0.3208333333333333]
[1986,2,15,5,16,0.4458333333333333]
[1987,2,15,7,16,0.5708333333333333]
[1988,2,15,9,16,0.6958333333333333]
[1989,2,15,11,16,0.8208333333333333]
[1990,2,15,13,16,0.9458333333333333]
[1991,4,15,1,2,0.76666666666666661]
[1992,4,15,1,3,0.6]
[1993,4,15,2,3,0.93333333333333335]
[1994,4,15,1,4,0.51666666666666661]
[1995,4,15,1,5,0.46666666666666667]
[1996,4,15,2,5,0.66666666666666674]
[1997,4,15,3,5,0.8666666666666667]
[1998,4,15,1,6,0.43333333333333335]
[1999,4,15,1,7,0.40952380952380951]
[2000,4,15,2,7,0.55238095238095242]
[2001,4,15,3,7,0.69523809523809521]
[2002,4,15,4,7,0.838095238095238]
[2003,4,15,5,7,0.98095238095238102]
[2004,4,15,1,8,0.39166666666666666]
[2005,4,15,3,8,0.64166666666666661]
[2006,4,15,5,8,0.89166666666666661]
[2007,4,15,1,9,0.37777777777777777]
[2008,4,15,2,9,0.48888888888888887]
[2009,4,15,4,9,0.71111111111111103]
[2010,4,15,5,9,0.82222222222222219]
[2011,4,15,1,10,0.3666666666666667]
[2012,4,15,3,10,0.56666666666666665]
[2013,4,15,7,10,0.96666666666666656]
[2014,4,15,1,11,0.35757575757575755]
[2015,4,15,2,11,0.44848484848484849]
[2016,4,15,3,11,0.53939393939393931]
[2017,4,15,4,11,0.63030303030303036]
[2018,4,15,5,11,0.72121212121212119]
[2019,4,15,6,11,{"$f":"B2022/C2022+D2022/E2022","v":0.81212121212121202}]
[2020,4,15,7,11,0.90303030303030307]
[2021,4,15,8,11,0.9939393939393939]
[2022,4,15,1,12,0.35]
[2023,4,15,5,12,0.68333333333333335]
[2024,4,15,7,12,0.85000000000000009]
[2025,4,15,1,13,0.34358974358974359]
[2026,4,15,2,13,0.42051282051282052]
[2027,4,15,3,13,0.49743589743589745]
[2028,4,15,4,13,0.57435897435897432]
[2029,4,15,5,13,0.6512820512820513]
[2030,4,15,6,13,0.72820512820512828]
[2031,4,15,7,13,0.80512820512820515]
[2032,4,15,8,13,0.88205128205128203]
[2033,4,15,9,13,0.9589743589743589]
[2034,4,15,1,14,0.33809523809523812]
[2035,4,15,3,14,0.48095238095238091]
[2036,4,15,5,14,0.62380952380952381]
[2037,4,15,9,14,0.90952380952380962]
[2038,4,15,1,15,0.33333333333333331]
[2039,4,15,2,15,0.4]
[2040,4,15,7,15,0.73333333333333339]
[2041,4,15,8,15,0.8]
[2042,4,15,11,15,1]
[2043,4,15,1,16,0.32916666666666666]
[2044,4,15,3,16,0.45416666666666666]
[2045,4,15,5,16,0.57916666666666661]
[2046,4,15,7,16,0.70416666666666661]
[2047,4,15,9,16,0.82916666666666661]
[2048,4,15,11,16,0.95416666666666661]
[2049,7,15,1,2,0.96666666666666667]
[2050,7,15,1,3,0.8]
[2051,7,15,1,4,0.71666666666666667]
[2052,7,15,1,5,0.66666666666666674]
[2053,7,15,2,5,0.8666666666666667]
[2054,7,15,1,6,0.6333333333333333]
[2055,7,15,1,7,0.60952380952380958]
[2056,7,15,2,7,0.75238095238095237]
[2057,7,15,3,7,0.89523809523809517]
[2058,7,15,1,8,0.59166666666666667]
[2059,7,15,3,8,0.84166666666666667]
[2060,7,15,1,9,0.57777777777777772]
[2061,7,15,2,9,0.68888888888888888]
[2062,7,15,4,9,0.91111111111111109]
[2063,7,15,1,10,0.56666666666666665]
[2064,7,15,3,10,0.76666666666666661]
[2065,7,15,1,11,0.55757575757575761]
[2066,7,15,2,11,0.64848484848484844]
[2067,7,15,3,11,0.73939393939393938]
[2068,7,15,4,11,0.83030303030303032]
[2069,7,15,5,11,0.92121212121212115]
[2070,7,15,1,12,0.55000000000000004]
[2071,7,15,5,12,0.8833333333333333]
[2072,7,15,1,13,0.54358974358974366]
[2073,7,15,2,13,0.62051282051282053]
[2074,7,15,3,13,0.6974358974358974]
[2075,7,15,4,13,0.77435897435897438]
[2076,7,15,5,13,0.85128205128205137]
[2077,7,15,6,13,0.92820512820512824]
[2078,7,15,1,14,0.53809523809523807]
[2079,7,15,3,14,0.68095238095238098]
[2080,7,15,5,14,0.82380952380952377]
[2081,7,15,1,15,0.53333333333333333]
[2082,7,15,2,15,{"$f":"B2085/C2085+D2085/E2085","v":0.6}]
[2083,7,15,4,15,0.73333333333333339]
[2084,7,15,8,15,1]
[2085,7,15,1,16,0.52916666666666667]
[2086,7,15,3,16,0.65416666666666667]
[2087,7,15,5,16,0.77916666666666667]
[2088,7,15,7,16,0.90416666666666667]
[2089,8,15,1,3,0.8666666666666667]
[2090,8,15,1,4,0.78333333333333333]
[2091,8,15,1,5,0.73333333333333339]
[2092,8,15,2,5,0.93333333333333335]
[2093,8,15,1,6,0.7]
[2094,8,15,1,7,0.67619047619047623]
[2095,8,15,2,7,0.81904761904761902]
[2096,8,15,3,7,0.96190476190476182]
[2097,8,15,1,8,0.65833333333333333]
[2098,8,15,3,8,0.90833333333333333]
[2099,8,15,1,9,0.64444444444444438]
[2100,8,15,2,9,0.75555555555555554]
[2101,8,15,4,9,0.97777777777777775]
[2102,8,15,1,10,0.6333333333333333]
[2103,8,15,3,10,0.83333333333333326]
[2104,8,15,1,11,0.62424242424242427]
[2105,8,15,2,11,0.71515151515151509]
[2106,8,15,3,11,0.80606060606060603]
[2107,8,15,4,11,0.89696969696969697]
[2108,8,15,5,11,0.9878787878787878]
[2109,8,15,1,12,0.6166666666666667]
[2110,8,15,5,12,0.95]
[2111,8,15,1,13,0.61025641025641031]
[2112,8,15,2,13,0.68717948717948718]
[2113,8,15,3,13,0.76410256410256405]
[2114,8,15,4,13,0.84102564102564104]
[2115,8,15,5,13,0.91794871794871802]
[2116,8,15,6,13,0.99487179487179489]
[2117,8,15,1,14,0.60476190476190472]
[2118,8,15,3,14,0.74761904761904763]
[2119,8,15,5,14,0.89047619047619042]
[2120,8,15,1,15,0.6]
[2121,8,15,2,15,0.66666666666666663]
[2122,8,15,4,15,0.8]
[2123,8,15,7,15,1]
[2124,8,15,1,16,0.59583333333333333]
[2125,8,15,3,16,0.72083333333333333]
[2126,8,15,5,16,0.84583333333333333]
[2127,8,15,7,16,0.97083333333333333]
[2128,11,15,1,4,0.98333333333333328]
[2129,11,15,1,5,0.93333333333333335]
[2130,11,15,1,6,0.89999999999999991]
[2131,11,15,1,7,0.87619047619047619]
[2132,11,15,1,8,0.85833333333333328]
[2133,11,15,1,9,0.84444444444444433]
[2134,11,15,2,9,0.95555555555555549]
[2135,11,15,1,11,0.82424242424242422]
[2136,11,15,2,11,0.91515151515151505]
[2137,11,15,1,13,0.81025641025641026]
[2138,11,15,2,13,0.88717948717948714]
[2139,11,15,3,13,0.96410256410256401]
[2140,11,15,1,14,0.80476190476190468]
[2141,11,15,3,14,0.94761904761904758]
[2142,11,15,1,15,0.79999999999999993]
[2143,13,15,1,12,0.95000000000000007]
[2144,14,15,1,15,1]
[2145,14,15,1,16,{"$f":"B2148/C2148+D2148/E2148","v":0.99583333333333335}]
[2146,1,16,1,2,0.5625]
[2147,1,16,1,3,0.39583333333333331]
[2148,1,16,2,3,0.72916666666666663]
[2149,1,16,1,4,0.3125]
[2150,1,16,3,4,0.8125]
[2151,1,16,1,5,0.26250000000000001]
[2152,1,16,2,5,0.46250000000000002]
[2153,1,16,3,5,0.66249999999999998]
[2154,1,16,4,5,0.86250000000000004]
[2155,1,16,1,6,0.22916666666666666]
[2156,1,16,5,6,0.89583333333333337]
[2157,1,16,1,7,0.20535714285714285]
[2158,1,16,2,7,0.3482142857142857]
[2159,1,16,3,7,0.49107142857142855]
[2160,1,16,4,7,0.6339285714285714]
[2161,1,16,5,7,0.7767857142857143]
[2162,1,16,6,7,0.9196428571428571]
[2163,1,16,1,8,0.1875]
[2164,1,16,3,8,0.4375]
[2165,1,16,5,8,0.6875]
[2166,1,16,7,8,0.9375]
[2167,1,16,1,9,0.1736111111111111]
[2168,1,16,2,9,0.28472222222222221]
[2169,1,16,4,9,0.50694444444444442]
[2170,1,16,5,9,0.61805555555555558]
[2171,1,16,7,9,0.84027777777777779]
[2172,1,16,8,9,0.95138888888888884]
[2173,1,16,1,10,0.16250000000000001]
[2174,1,16,3,10,0.36249999999999999]
[2175,1,16,7,10,0.76249999999999996]
[2176,1,16,9,10,0.96250000000000002]
[2177,1,16,1,11,0.15340909090909091]
[2178,1,16,2,11,0.24431818181818182]
[2179,1,16,3,11,0.33522727272727271]
[2180,1,16,4,11,0.42613636363636365]
[2181,1,16,5,11,0.51704545454545459]
[2182,1,16,6,11,0.60795454545454541]
[2183,1,16,7,11,0.69886363636363635]
[2184,1,16,8,11,0.78977272727272729]
[2185,1,16,9,11,0.88068181818181823]
[2186,1,16,10,11,0.97159090909090906]
[2187,1,16,1,12,0.14583333333333331]
[2188,1,16,5,12,0.47916666666666669]
[2189,1,16,7,12,0.64583333333333337]
[2190,1,16,11,12,0.97916666666666663]
[2191,1,16,1,13,0.13942307692307693]
[2192,1,16,2,13,0.21634615384615385]
[2193,1,16,3,13,0.29326923076923078]
[2194,1,16,4,13,0.37019230769230771]
[2195,1,16,5,13,0.44711538461538464]
[2196,1,16,6,13,0.52403846153846156]
[2197,1,16,7,13,0.60096153846153844]
[2198,1,16,8,13,0.67788461538461542]
[2199,1,16,9,13,0.75480769230769229]
[2200,1,16,10,13,0.83173076923076927]
[2201,1,16,11,13,0.90865384615384615]
[2202,1,16,12,13,0.98557692307692313]
[2203,1,16,1,14,0.13392857142857142]
[2204,1,16,3,14,0.2767857142857143]
[2205,1,16,5,14,0.41964285714285715]
[2206,1,16,9,14,0.7053571428571429]
[2207,1,16,11,14,0.8482142857142857]
[2208,1,16,13,14,0.9910714285714286]
[2209,1,16,1,15,{"$f":"B2212/C2212+D2212/E2212","v":0.12916666666666665}]
[2210,1,16,2,15,0.19583333333333333]
[2211,1,16,4,15,0.32916666666666666]
[2212,1,16,7,15,0.52916666666666667]
[2213,1,16,8,15,0.59583333333333333]
[2214,1,16,11,15,0.79583333333333328]
[2215,1,16,13,15,0.9291666666666667]
[2216,1,16,14,15,0.99583333333333335]
[2217,1,16,3,16,0.25]
[2218,1,16,5,16,0.375]
[2219,1,16,7,16,0.5]
[2220,1,16,9,16,0.625]
[2221,1,16,11,16,0.75]
[2222,1,16,13,16,0.875]
[2223,1,16,15,16,1]
[2224,3,16,1,2,0.6875]
[2225,3,16,1,3,0.52083333333333326]
[2226,3,16,2,3,0.85416666666666663]
[2227,3,16,1,4,0.4375]
[2228,3,16,3,4,0.9375]
[2229,3,16,1,5,0.38750000000000001]
[2230,3,16,2,5,0.58750000000000002]
[2231,3,16,3,5,0.78749999999999998]
[2232,3,16,4,5,0.98750000000000004]
[2233,3,16,1,6,0.35416666666666663]
[2234,3,16,1,7,0.33035714285714285]
[2235,3,16,2,7,0.4732142857142857]
[2236,3,16,3,7,0.6160714285714286]
[2237,3,16,4,7,0.7589285714285714]
[2238,3,16,5,7,0.9017857142857143]
[2239,3,16,1,8,0.3125]
[2240,3,16,3,8,0.5625]
[2241,3,16,5,8,0.8125]
[2242,3,16,1,9,0.2986111111111111]
[2243,3,16,2,9,0.40972222222222221]
[2244,3,16,4,9,0.63194444444444442]
[2245,3,16,5,9,0.74305555555555558]
[2246,3,16,7,9,0.96527777777777779]
[2247,3,16,1,10,0.28749999999999998]
[2248,3,16,3,10,0.48749999999999999]
[2249,3,16,7,10,0.88749999999999996]
[2250,3,16,1,11,0.27840909090909094]
[2251,3,16,2,11,0.36931818181818182]
[2252,3,16,3,11,0.46022727272727271]
[2253,3,16,4,11,0.55113636363636365]
[2254,3,16,5,11,0.64204545454545459]
[2255,3,16,6,11,0.73295454545454541]
[2256,3,16,7,11,0.82386363636363635]
[2257,3,16,8,11,0.91477272727272729]
[2258,3,16,1,12,0.27083333333333331]
[2259,3,16,5,12,0.60416666666666674]
[2260,3,16,7,12,0.77083333333333337]
[2261,3,16,1,13,0.26442307692307693]
[2262,3,16,2,13,0.34134615384615385]
[2263,3,16,3,13,0.41826923076923078]
[2264,3,16,4,13,0.49519230769230771]
[2265,3,16,5,13,0.57211538461538458]
[2266,3,16,6,13,0.64903846153846156]
[2267,3,16,7,13,0.72596153846153844]
[2268,3,16,8,13,0.80288461538461542]
[2269,3,16,9,13,0.87980769230769229]
[2270,3,16,10,13,0.95673076923076927]
[2271,3,16,1,14,0.2589285714285714]
[2272,3,16,3,14,{"$f":"B2275/C2275+D2275/E2275","v":0.4017857142857143}]
[2273,3,16,5,14,0.54464285714285721]
[2274,3,16,9,14,0.8303571428571429]
[2275,3,16,11,14,0.9732142857142857]
[2276,3,16,1,15,0.25416666666666665]
[2277,3,16,2,15,0.3208333333333333]
[2278,3,16,4,15,0.45416666666666666]
[2279,3,16,7,15,0.65416666666666667]
[2280,3,16,8,15,0.72083333333333333]
[2281,3,16,11,15,0.92083333333333328]
[2282,3,16,1,16,0.25]
[2283,3,16,5,16,0.5]
[2284,3,16,7,16,0.625]
[2285,3,16,9,16,0.75]
[2286,3,16,11,16,0.875]
[2287,3,16,13,16,1]
[2288,5,16,1,2,0.8125]
[2289,5,16,1,3,0.64583333333333326]
[2290,5,16,2,3,0.97916666666666663]
[2291,5,16,1,4,0.5625]
[2292,5,16,1,5,0.51249999999999996]
[2293,5,16,2,5,0.71250000000000002]
[2294,5,16,3,5,0.91249999999999998]
[2295,5,16,1,6,0.47916666666666663]
[2296,5,16,1,7,0.45535714285714285]
[2297,5,16,2,7,0.5982142857142857]
[2298,5,16,3,7,0.7410714285714286]
[2299,5,16,4,7,0.8839285714285714]
[2300,5,16,1,8,0.4375]
[2301,5,16,3,8,0.6875]
[2302,5,16,5,8,0.9375]
[2303,5,16,1,9,0.4236111111111111]
[2304,5,16,2,9,0.53472222222222221]
[2305,5,16,4,9,0.75694444444444442]
[2306,5,16,5,9,0.86805555555555558]
[2307,5,16,1,10,0.41249999999999998]
[2308,5,16,3,10,0.61250000000000004]
[2309,5,16,1,11,0.40340909090909094]
[2310,5,16,2,11,0.49431818181818182]
[2311,5,16,3,11,0.58522727272727271]
[2312,5,16,4,11,0.67613636363636365]
[2313,5,16,5,11,0.76704545454545459]
[2314,5,16,6,11,0.85795454545454541]
[2315,5,16,7,11,0.94886363636363635]
[2316,5,16,1,12,0.39583333333333331]
[2317,5,16,5,12,0.72916666666666674]
[2318,5,16,7,12,0.89583333333333337]
[2319,5,16,1,13,0.38942307692307693]
[2320,5,16,2,13,0.46634615384615385]
[2321,5,16,3,13,0.54326923076923084]
[2322,5,16,4,13,0.62019230769230771]
[2323,5,16,5,13,0.69711538461538458]
[2324,5,16,6,13,0.77403846153846156]
[2325,5,16,7,13,0.85096153846153844]
[2326,5,16,8,13,0.92788461538461542]
[2327,5,16,1,14,0.3839285714285714]
[2328,5,16,3,14,0.5267857142857143]
[2329,5,16,5,14,0.66964285714285721]
[2330,5,16,9,14,0.9553571428571429]
[2331,5,16,1,15,0.37916666666666665]
[2332,5,16,2,15,0.4458333333333333]
[2333,5,16,4,15,0.57916666666666661]
[2334,5,16,7,15,0.77916666666666667]
[2335,5,16,8,15,{"$f":"B2338/C2338+D2338/E2338","v":0.84583333333333333}]
[2336,5,16,1,16,0.375]
[2337,5,16,3,16,0.5]
[2338,5,16,7,16,0.75]
[2339,5,16,9,16,0.875]
[2340,5,16,11,16,1]
[2341,7,16,1,2,0.9375]
[2342,7,16,1,3,0.77083333333333326]
[2343,7,16,1,4,0.6875]
[2344,7,16,1,5,0.63749999999999996]
[2345,7,16,2,5,0.83750000000000002]
[2346,7,16,1,6,0.60416666666666663]
[2347,7,16,1,7,0.58035714285714279]
[2348,7,16,2,7,0.7232142857142857]
[2349,7,16,3,7,0.8660714285714286]
[2350,7,16,1,8,0.5625]
[2351,7,16,3,8,0.8125]
[2352,7,16,1,9,0.54861111111111116]
[2353,7,16,2,9,0.65972222222222221]
[2354,7,16,4,9,0.88194444444444442]
[2355,7,16,5,9,0.99305555555555558]
[2356,7,16,1,10,0.53749999999999998]
[2357,7,16,3,10,0.73750000000000004]
[2358,7,16,1,11,0.52840909090909094]
[2359,7,16,2,11,0.61931818181818188]
[2360,7,16,3,11,0.71022727272727271]
[2361,7,16,4,11,0.80113636363636365]
[2362,7,16,5,11,0.89204545454545459]
[2363,7,16,6,11,0.98295454545454541]
[2364,7,16,1,12,0.52083333333333337]
[2365,7,16,5,12,0.85416666666666674]
[2366,7,16,1,13,0.51442307692307687]
[2367,7,16,2,13,0.59134615384615385]
[2368,7,16,3,13,0.66826923076923084]
[2369,7,16,4,13,0.74519230769230771]
[2370,7,16,5,13,0.82211538461538458]
[2371,7,16,6,13,0.89903846153846156]
[2372,7,16,7,13,0.97596153846153844]
[2373,7,16,1,14,0.5089285714285714]
[2374,7,16,3,14,0.6517857142857143]
[2375,7,16,5,14,0.79464285714285721]
[2376,7,16,1,15,0.50416666666666665]
[2377,7,16,2,15,0.5708333333333333]
[2378,7,16,4,15,0.70416666666666661]
[2379,7,16,7,15,0.90416666666666667]
[2380,7,16,8,15,0.97083333333333333]
[2381,7,16,1,16,0.5]
[2382,7,16,3,16,0.625]
[2383,7,16,5,16,0.75]
[2384,7,16,9,16,1]
[2385,9,16,1,3,0.89583333333333326]
[2386,9,16,1,4,0.8125]
[2387,9,16,1,5,0.76249999999999996]
[2388,9,16,2,5,0.96250000000000002]
[2389,9,16,1,6,0.72916666666666663]
[2390,9,16,1,7,0.70535714285714279]
[2391,9,16,2,7,0.8482142857142857]
[2392,9,16,3,7,0.9910714285714286]
[2393,9,16,1,8,0.6875]
[2394,9,16,3,8,0.9375]
[2395,9,16,1,9,0.67361111111111116]
[2396,9,16,2,9,0.78472222222222221]
[2397,9,16,1,10,{"$f":"B2400/C2400+D2400/E2400","v":0.66249999999999998}]
[2398,9,16,3,10,0.86250000000000004]
[2399,9,16,1,11,0.65340909090909094]
[2400,9,16,2,11,0.74431818181818188]
[2401,9,16,3,11,0.83522727272727271]
[2402,9,16,4,11,0.92613636363636365]
[2403,9,16,1,12,0.64583333333333337]
[2404,9,16,5,12,0.97916666666666674]
[2405,9,16,1,13,0.63942307692307687]
[2406,9,16,2,13,0.71634615384615385]
[2407,9,16,3,13,0.79326923076923084]
[2408,9,16,4,13,0.87019230769230771]
[2409,9,16,5,13,0.94711538461538458]
[2410,9,16,1,14,0.6339285714285714]
[2411,9,16,3,14,0.7767857142857143]
[2412,9,16,5,14,0.91964285714285721]
[2413,9,16,1,15,0.62916666666666665]
[2414,9,16,2,15,0.6958333333333333]
[2415,9,16,4,15,0.82916666666666661]
[2416,9,16,1,16,0.625]
[2417,9,16,3,16,0.75]
[2418,9,16,5,16,0.875]
[2419,9,16,7,16,1]
[2420,11,16,1,4,0.9375]
[2421,11,16,1,5,0.88749999999999996]
[2422,11,16,1,6,0.85416666666666663]
[2423,11,16,1,7,0.83035714285714279]
[2424,11,16,2,7,0.9732142857142857]
[2425,11,16,1,8,0.8125]
[2426,11,16,1,9,0.79861111111111116]
[2427,11,16,2,9,0.90972222222222221]
[2428,11,16,1,10,0.78749999999999998]
[2429,11,16,3,10,0.98750000000000004]
[2430,11,16,1,16,0.75]
[2431,11,16,3,16,0.875]
[2432,11,16,5,16,1]
[2433,13,16,1,8,0.9375]
[2434,13,16,1,10,0.91249999999999998]
[2435,13,16,1,16,0.875]
[2436,13,16,3,16,1]
[2437,11,16,2,13,0.84134615384615385]
[2438,11,16,2,15,0.8208333333333333]
[2439,11,16,3,10,0.98750000000000004]
[2440,11,16,3,11,0.96022727272727271]
[2441,11,16,3,13,0.91826923076923084]
[2442,11,16,3,14,0.9017857142857143]
[2443,11,16,3,16,0.875]
[2444,11,16,4,13,0.99519230769230771]
[2445,11,16,4,15,0.95416666666666661]
[2446,11,16,5,16,1]
[2447,12,13,1,13,1]
[2448,12,13,1,14,0.99450549450549453]
[2449,12,13,1,15,0.98974358974358978]
[2450,12,13,1,16,0.98557692307692313]
[2451,13,15,1,8,0.9916666666666667]
[2452,13,15,1,9,0.97777777777777786]
[2453,13,15,1,10,0.96666666666666667]
[2454,13,15,1,11,0.95757575757575764]
[2455,13,15,1,12,0.95000000000000007]
[2456,13,15,1,13,0.94358974358974357]
[2457,13,15,1,14,0.93809523809523809]
[2458,13,15,1,15,0.93333333333333335]
[2459,13,15,1,16,0.9291666666666667]
[2460,13,15,2,15,1]
[2461,13,16,1,6,{"$f":"B2464/C2464+D2464/E2464","v":0.97916666666666663}]
[2462,13,16,1,7,0.95535714285714279]
[2463,13,16,1,8,0.9375]
[2464,13,16,1,9,0.92361111111111116]
[2465,13,16,1,10,0.91249999999999998]
[2466,13,16,1,11,0.90340909090909094]
[2467,13,16,1,12,0.89583333333333337]
[2468,13,16,1,13,0.88942307692307687]
[2469,13,16,1,14,0.8839285714285714]
[2470,13,16,1,15,0.87916666666666665]
[2471,13,16,1,16,0.875]
[2472,13,16,2,11,0.99431818181818188]
[2473,13,16,2,13,0.96634615384615385]
[2474,13,16,2,15,0.9458333333333333]
[2475,13,16,3,16,1]
[2476,14,15,1,15,1]
[2477,14,15,1,16,0.99583333333333335]
[2478,15,16,1,16,1]