{"text_format":"1","workbook":"xlsx","n_sheets":4,"sheets":["Values","Worksheet","Answers","Working"],"not_rendered":{"charts":0,"images":0,"macros":1,"external_links":0,"defined_names":0,"comments":0,"pivot_tables":0},"unopened":[],"bounds":{"document_bytes":16777216,"sheet_cells":100000,"rows_first":2000,"rows_last":500,"rows_between":2000,"halvings":0,"cell_chars":16384,"cell_head_chars":4096},"cells_cut":0,"cells_raw":0,"read":"whole","date_system":"1900"}

{"sheet":"Values","index":0,"n_rows":18,"n_cols":9,"rows_kept":18,"cut":false,"hidden":false,"merged":[[7,8,11,9],[9,2,12,7],[1,2,1,6],[3,2,4,7],[5,2,5,4],[7,2,7,6]]}
[null,null,null,null,"ADDITITION"]
[null,null,"INSTRUCTIONS"]
[]
[null,"Step 1","Enter the number of digits to be used for this sheet. (A whole number >1 and <=8)"]
[]
[null,null,"No. of digits"]
[]
[null,"Step 2","Click on WorkSheet tab below.",null,null,null,null,null,"PRESS F9 for NEW WorkSheet"]
[]
[null,"Note","If you hold down shift then click on the WorkSheet tab and the Solutions tab, you will be able to print both the WorkSheet and the solutions."]
[]
[]
[]
[]
[null,null,"NOTES"]
[null,null,"* Practise the addition algorithm with two numbers with the number of digits chosen."]
[null,null,"* You can choose the maximum number of digits in the addends."]
[null,null,"* This WorkSheet will generate 40 questions at random."]

{"sheet":"Worksheet","index":1,"n_rows":41,"n_cols":11,"rows_kept":41,"cut":false,"hidden":false,"merged":[]}
[null,null,null,null,null,null,"ADDITION"]
[null,null,null,null,null,null,null,null,null,{"$f":"CONCATENATE(\"Worksheet \",Working!C1,Working!B1)","v":"Worksheet ADB-393"}]
["Evaluate the following;"]
[{"$f":"CONCATENATE(Working!A3,\")\")","v":"1)"},{"$f":"Working!$F3","v":"0"},null,{"$f":"CONCATENATE(Working!A13,\")\")","v":"11)"},{"$f":"Working!$F13","v":"0"},null,{"$f":"CONCATENATE(Working!A23,\")\")","v":"21)"},{"$f":"Working!$F23","v":"0"},null,{"$f":"CONCATENATE(Working!A33,\")\")","v":"31)"},{"$f":"Working!$F33","v":"0"}]
[null,{"$f":"Working!$J3","v":"+ 0"},null,null,{"$f":"Working!$J13","v":"+ 0"},null,null,{"$f":"Working!$J23","v":"+ 0"},null,null,{"$f":"Working!$J33","v":"+ 0"}]
[]
[]
[{"$f":"CONCATENATE(Working!A4,\")\")","v":"2)"},{"$f":"Working!$F4","v":"0"},null,{"$f":"CONCATENATE(Working!A14,\")\")","v":"12)"},{"$f":"Working!$F14","v":"0"},null,{"$f":"CONCATENATE(Working!A24,\")\")","v":"22)"},{"$f":"Working!$F24","v":"0"},null,{"$f":"CONCATENATE(Working!A34,\")\")","v":"32)"},{"$f":"Working!$F34","v":"0"}]
[null,{"$f":"Working!$J4","v":"+ 0"},null,null,{"$f":"Working!$J14","v":"+ 0"},null,null,{"$f":"Working!$J24","v":"+ 0"},null,null,{"$f":"Working!$J34","v":"+ 0"}]
[]
[]
[{"$f":"CONCATENATE(Working!A5,\")\")","v":"3)"},{"$f":"Working!$F5","v":"0"},null,{"$f":"CONCATENATE(Working!A15,\")\")","v":"13)"},{"$f":"Working!$F15","v":"0"},null,{"$f":"CONCATENATE(Working!A25,\")\")","v":"23)"},{"$f":"Working!$F25","v":"0"},null,{"$f":"CONCATENATE(Working!A35,\")\")","v":"33)"},{"$f":"Working!$F35","v":"0"}]
[null,{"$f":"Working!$J5","v":"+ 0"},null,null,{"$f":"Working!$J15","v":"+ 0"},null,null,{"$f":"Working!$J25","v":"+ 0"},null,null,{"$f":"Working!$J35","v":"+ 0"}]
[]
[]
[{"$f":"CONCATENATE(Working!A6,\")\")","v":"4)"},{"$f":"Working!$F6","v":"0"},null,{"$f":"CONCATENATE(Working!A16,\")\")","v":"14)"},{"$f":"Working!$F16","v":"0"},null,{"$f":"CONCATENATE(Working!A26,\")\")","v":"24)"},{"$f":"Working!$F26","v":"0"},null,{"$f":"CONCATENATE(Working!A36,\")\")","v":"34)"},{"$f":"Working!$F36","v":"0"}]
[null,{"$f":"Working!$J6","v":"+ 0"},null,null,{"$f":"Working!$J16","v":"+ 0"},null,null,{"$f":"Working!$J26","v":"+ 0"},null,null,{"$f":"Working!$J36","v":"+ 0"}]
[]
[]
[{"$f":"CONCATENATE(Working!A7,\")\")","v":"5)"},{"$f":"Working!$F7","v":"0"},null,{"$f":"CONCATENATE(Working!A17,\")\")","v":"15)"},{"$f":"Working!$F17","v":"0"},null,{"$f":"CONCATENATE(Working!A27,\")\")","v":"25)"},{"$f":"Working!$F27","v":"0"},null,{"$f":"CONCATENATE(Working!A37,\")\")","v":"35)"},{"$f":"Working!$F37","v":"0"}]
[null,{"$f":"Working!$J7","v":"+ 0"},null,null,{"$f":"Working!$J17","v":"+ 0"},null,null,{"$f":"Working!$J27","v":"+ 0"},null,null,{"$f":"Working!$J37","v":"+ 0"}]
[]
[]
[{"$f":"CONCATENATE(Working!A8,\")\")","v":"6)"},{"$f":"Working!$F8","v":"0"},null,{"$f":"CONCATENATE(Working!A18,\")\")","v":"16)"},{"$f":"Working!$F18","v":"0"},null,{"$f":"CONCATENATE(Working!A28,\")\")","v":"26)"},{"$f":"Working!$F28","v":"0"},null,{"$f":"CONCATENATE(Working!A38,\")\")","v":"36)"},{"$f":"Working!$F38","v":"0"}]
[null,{"$f":"Working!$J8","v":"+ 0"},null,null,{"$f":"Working!J18","v":"+ 0"},null,null,{"$f":"Working!J28","v":"+ 0"},null,null,{"$f":"Working!J38","v":"+ 0"}]
[]
[]
[{"$f":"CONCATENATE(Working!A9,\")\")","v":"7)"},{"$f":"Working!$F9","v":"0"},null,{"$f":"CONCATENATE(Working!A19,\")\")","v":"17)"},{"$f":"Working!$F19","v":"0"},null,{"$f":"CONCATENATE(Working!A29,\")\")","v":"27)"},{"$f":"Working!$F29","v":"0"},null,{"$f":"CONCATENATE(Working!A39,\")\")","v":"37)"},{"$f":"Working!$F39","v":"0"}]
[null,{"$f":"Working!J9","v":"+ 0"},null,null,{"$f":"Working!J19","v":"+ 0"},null,null,{"$f":"Working!J29","v":"+ 0"},null,null,{"$f":"Working!J39","v":"+ 0"}]
[]
[]
[{"$f":"CONCATENATE(Working!A10,\")\")","v":"8)"},{"$f":"Working!$F10","v":"0"},null,{"$f":"CONCATENATE(Working!A20,\")\")","v":"18)"},{"$f":"Working!$F20","v":"0"},null,{"$f":"CONCATENATE(Working!A30,\")\")","v":"28)"},{"$f":"Working!$F30","v":"0"},null,{"$f":"CONCATENATE(Working!A40,\")\")","v":"38)"},{"$f":"Working!$F40","v":"0"}]
[null,{"$f":"Working!J10","v":"+ 0"},null,null,{"$f":"Working!J20","v":"+ 0"},null,null,{"$f":"Working!J30","v":"+ 0"},null,null,{"$f":"Working!J40","v":"+ 0"}]
[]
[]
[{"$f":"CONCATENATE(Working!A11,\")\")","v":"9)"},{"$f":"Working!$F11","v":"0"},null,{"$f":"CONCATENATE(Working!A21,\")\")","v":"19)"},{"$f":"Working!$F21","v":"0"},null,{"$f":"CONCATENATE(Working!A31,\")\")","v":"29)"},{"$f":"Working!$F31","v":"0"},null,{"$f":"CONCATENATE(Working!A41,\")\")","v":"39)"},{"$f":"Working!$F41","v":"0"}]
[null,{"$f":"Working!J11","v":"+ 0"},null,null,{"$f":"Working!J21","v":"+ 0"},null,null,{"$f":"Working!J31","v":"+ 0"},null,null,{"$f":"Working!J41","v":"+ 0"}]
[]
[]
[{"$f":"CONCATENATE(Working!A12,\")\")","v":"10)"},{"$f":"Working!$F12","v":"0"},null,{"$f":"CONCATENATE(Working!A22,\")\")","v":"20)"},{"$f":"Working!$F22","v":"0"},null,{"$f":"CONCATENATE(Working!A32,\")\")","v":"30)"},{"$f":"Working!$F32","v":"0"},null,{"$f":"CONCATENATE(Working!A42,\")\")","v":"40)"},{"$f":"Working!$F42","v":"0"}]
[null,{"$f":"Working!J12","v":"+ 0"},null,null,{"$f":"Working!J22","v":"+ 0"},null,null,{"$f":"Working!J32","v":"+ 0"},null,null,{"$f":"Working!J42","v":"+ 0"}]

{"sheet":"Answers","index":2,"n_rows":42,"n_cols":11,"rows_kept":42,"cut":false,"hidden":false,"merged":[]}
[null,null,null,null,null,null,"ADDITION"]
[null,null,null,null,null,null,"ANSWERS",null,null,{"$f":"CONCATENATE(\"Worksheet \",Working!C1,Working!B1)","v":"Worksheet ADB-393"}]
["Evaluate the following;"]
[{"$f":"CONCATENATE(Working!A3,\")\")","v":"1)"},{"$f":"Working!$F3","v":"0"},null,{"$f":"CONCATENATE(Working!A13,\")\")","v":"11)"},{"$f":"Working!$F13","v":"0"},null,{"$f":"CONCATENATE(Working!A23,\")\")","v":"21)"},{"$f":"Working!$F23","v":"0"},null,{"$f":"CONCATENATE(Working!A33,\")\")","v":"31)"},{"$f":"Working!$F33","v":"0"}]
[null,{"$f":"Working!$J3","v":"+ 0"},null,null,{"$f":"Working!$J13","v":"+ 0"},null,null,{"$f":"Working!$J23","v":"+ 0"},null,null,{"$f":"Working!$J33","v":"+ 0"}]
[null,{"$f":"Working!$L3","v":"0"},null,null,{"$f":"Working!$L13","v":"0"},null,null,{"$f":"Working!$L23","v":"0"},null,null,{"$f":"Working!$L33","v":"0"}]
[]
[{"$f":"CONCATENATE(Working!A4,\")\")","v":"2)"},{"$f":"Working!$F4","v":"0"},null,{"$f":"CONCATENATE(Working!A14,\")\")","v":"12)"},{"$f":"Working!$F14","v":"0"},null,{"$f":"CONCATENATE(Working!A24,\")\")","v":"22)"},{"$f":"Working!$F24","v":"0"},null,{"$f":"CONCATENATE(Working!A34,\")\")","v":"32)"},{"$f":"Working!$F34","v":"0"}]
[null,{"$f":"Working!$J4","v":"+ 0"},null,null,{"$f":"Working!$J14","v":"+ 0"},null,null,{"$f":"Working!$J24","v":"+ 0"},null,null,{"$f":"Working!$J34","v":"+ 0"}]
[null,{"$f":"Working!$L4","v":"0"},null,null,{"$f":"Working!$L14","v":"0"},null,null,{"$f":"Working!$L24","v":"0"},null,null,{"$f":"Working!$L34","v":"0"}]
[]
[{"$f":"CONCATENATE(Working!A5,\")\")","v":"3)"},{"$f":"Working!$F5","v":"0"},null,{"$f":"CONCATENATE(Working!A15,\")\")","v":"13)"},{"$f":"Working!$F15","v":"0"},null,{"$f":"CONCATENATE(Working!A25,\")\")","v":"23)"},{"$f":"Working!$F25","v":"0"},null,{"$f":"CONCATENATE(Working!A35,\")\")","v":"33)"},{"$f":"Working!$F35","v":"0"}]
[null,{"$f":"Working!$J5","v":"+ 0"},null,null,{"$f":"Working!$J15","v":"+ 0"},null,null,{"$f":"Working!$J25","v":"+ 0"},null,null,{"$f":"Working!$J35","v":"+ 0"}]
[null,{"$f":"Working!$L5","v":"0"},null,null,{"$f":"Working!$L15","v":"0"},null,null,{"$f":"Working!$L25","v":"0"},null,null,{"$f":"Working!$L35","v":"0"}]
[]
[{"$f":"CONCATENATE(Working!A6,\")\")","v":"4)"},{"$f":"Working!$F6","v":"0"},null,{"$f":"CONCATENATE(Working!A16,\")\")","v":"14)"},{"$f":"Working!$F16","v":"0"},null,{"$f":"CONCATENATE(Working!A26,\")\")","v":"24)"},{"$f":"Working!$F26","v":"0"},null,{"$f":"CONCATENATE(Working!A36,\")\")","v":"34)"},{"$f":"Working!$F36","v":"0"}]
[null,{"$f":"Working!$J6","v":"+ 0"},null,null,{"$f":"Working!$J16","v":"+ 0"},null,null,{"$f":"Working!$J26","v":"+ 0"},null,null,{"$f":"Working!$J36","v":"+ 0"}]
[null,{"$f":"Working!$L6","v":"0"},null,null,{"$f":"Working!$L16","v":"0"},null,null,{"$f":"Working!$L26","v":"0"},null,null,{"$f":"Working!$L36","v":"0"}]
[]
[{"$f":"CONCATENATE(Working!A7,\")\")","v":"5)"},{"$f":"Working!$F7","v":"0"},null,{"$f":"CONCATENATE(Working!A17,\")\")","v":"15)"},{"$f":"Working!$F17","v":"0"},null,{"$f":"CONCATENATE(Working!A27,\")\")","v":"25)"},{"$f":"Working!$F27","v":"0"},null,{"$f":"CONCATENATE(Working!A37,\")\")","v":"35)"},{"$f":"Working!$F37","v":"0"}]
[null,{"$f":"Working!$J7","v":"+ 0"},null,null,{"$f":"Working!$J17","v":"+ 0"},null,null,{"$f":"Working!$J27","v":"+ 0"},null,null,{"$f":"Working!$J37","v":"+ 0"}]
[null,{"$f":"Working!$L7","v":"0"},null,null,{"$f":"Working!$L17","v":"0"},null,null,{"$f":"Working!$L27","v":"0"},null,null,{"$f":"Working!$L37","v":"0"}]
[]
[{"$f":"CONCATENATE(Working!A8,\")\")","v":"6)"},{"$f":"Working!$F8","v":"0"},null,{"$f":"CONCATENATE(Working!A18,\")\")","v":"16)"},{"$f":"Working!$F18","v":"0"},null,{"$f":"CONCATENATE(Working!A28,\")\")","v":"26)"},{"$f":"Working!$F28","v":"0"},null,{"$f":"CONCATENATE(Working!A38,\")\")","v":"36)"},{"$f":"Working!$F38","v":"0"}]
[null,{"$f":"Working!$J8","v":"+ 0"},null,null,{"$f":"Working!J18","v":"+ 0"},null,null,{"$f":"Working!J28","v":"+ 0"},null,null,{"$f":"Working!J38","v":"+ 0"}]
[null,{"$f":"Working!$L8","v":"0"},null,null,{"$f":"Working!L18","v":"0"},null,null,{"$f":"Working!L28","v":"0"},null,null,{"$f":"Working!L38","v":"0"}]
[]
[{"$f":"CONCATENATE(Working!A9,\")\")","v":"7)"},{"$f":"Working!$F9","v":"0"},null,{"$f":"CONCATENATE(Working!A19,\")\")","v":"17)"},{"$f":"Working!$F19","v":"0"},null,{"$f":"CONCATENATE(Working!A29,\")\")","v":"27)"},{"$f":"Working!$F29","v":"0"},null,{"$f":"CONCATENATE(Working!A39,\")\")","v":"37)"},{"$f":"Working!$F39","v":"0"}]
[null,{"$f":"Working!J9","v":"+ 0"},null,null,{"$f":"Working!J19","v":"+ 0"},null,null,{"$f":"Working!J29","v":"+ 0"},null,null,{"$f":"Working!J39","v":"+ 0"}]
[null,{"$f":"Working!L9","v":"0"},null,null,{"$f":"Working!L19","v":"0"},null,null,{"$f":"Working!L29","v":"0"},null,null,{"$f":"Working!L39","v":"0"}]
[]
[{"$f":"CONCATENATE(Working!A10,\")\")","v":"8)"},{"$f":"Working!$F10","v":"0"},null,{"$f":"CONCATENATE(Working!A20,\")\")","v":"18)"},{"$f":"Working!$F20","v":"0"},null,{"$f":"CONCATENATE(Working!A30,\")\")","v":"28)"},{"$f":"Working!$F30","v":"0"},null,{"$f":"CONCATENATE(Working!A40,\")\")","v":"38)"},{"$f":"Working!$F40","v":"0"}]
[null,{"$f":"Working!J10","v":"+ 0"},null,null,{"$f":"Working!J20","v":"+ 0"},null,null,{"$f":"Working!J30","v":"+ 0"},null,null,{"$f":"Working!J40","v":"+ 0"}]
[null,{"$f":"Working!L10","v":"0"},null,null,{"$f":"Working!L20","v":"0"},null,null,{"$f":"Working!L30","v":"0"},null,null,{"$f":"Working!L40","v":"0"}]
[]
[{"$f":"CONCATENATE(Working!A11,\")\")","v":"9)"},{"$f":"Working!$F11","v":"0"},null,{"$f":"CONCATENATE(Working!A21,\")\")","v":"19)"},{"$f":"Working!$F21","v":"0"},null,{"$f":"CONCATENATE(Working!A31,\")\")","v":"29)"},{"$f":"Working!$F31","v":"0"},null,{"$f":"CONCATENATE(Working!A41,\")\")","v":"39)"},{"$f":"Working!$F41","v":"0"}]
[null,{"$f":"Working!J11","v":"+ 0"},null,null,{"$f":"Working!J21","v":"+ 0"},null,null,{"$f":"Working!J31","v":"+ 0"},null,null,{"$f":"Working!J41","v":"+ 0"}]
[null,{"$f":"Working!L11","v":"0"},null,null,{"$f":"Working!L21","v":"0"},null,null,{"$f":"Working!L31","v":"0"},null,null,{"$f":"Working!L41","v":"0"}]
[]
[{"$f":"CONCATENATE(Working!A12,\")\")","v":"10)"},{"$f":"Working!$F12","v":"0"},null,{"$f":"CONCATENATE(Working!A22,\")\")","v":"20)"},{"$f":"Working!$F22","v":"0"},null,{"$f":"CONCATENATE(Working!A32,\")\")","v":"30)"},{"$f":"Working!$F32","v":"0"},null,{"$f":"CONCATENATE(Working!A42,\")\")","v":"40)"},{"$f":"Working!$F42","v":"0"}]
[null,{"$f":"Working!J12","v":"+ 0"},null,null,{"$f":"Working!J22","v":"+ 0"},null,null,{"$f":"Working!J32","v":"+ 0"},null,null,{"$f":"Working!J42","v":"+ 0"}]
[null,{"$f":"Working!L12","v":"0"},null,null,{"$f":"Working!L22","v":"0"},null,null,{"$f":"Working!L32","v":"0"},null,null,{"$f":"Working!L42","v":"0"}]

{"sheet":"Working","index":3,"n_rows":42,"n_cols":12,"rows_kept":42,"cut":false,"hidden":true,"merged":[]}
[{"$f":"INT(900*RAND()+100)","v":393},{"$f":"TEXT(1,A1)","v":"393"},"ADB-",null,"Type","+"]
[null,null,"1st",null,null,null,null,"Type","2nd",null,"Equals"]
[1,{"$f":"CHAR(INT(26*RAND()+97))","v":"l"},{"$f":"INT(9*(10^((Values!$F$6)-1))*RAND())","v":0},null,null,{"$f":"CONCATENATE(C3)","v":"0"},{"$f":"INT(1*RAND())","v":0},{"$f":"IF(G3=0,\"+ \",\"- \")","v":"+ "},{"$f":"INT(9*(10^((Values!$F$6)-1))*RAND())","v":0},{"$f":"CONCATENATE(H3,I3)","v":"+ 0"},{"$f":"C3+I3","v":0},{"$f":"IF(K3=1,\"\",TEXT(K3,0))","v":"0"}]
[2,{"$f":"CHAR(INT(26*RAND()+97))","v":"h"},{"$f":"INT(9*(10^((Values!$F$6)-1))*RAND())","v":0},null,null,{"$f":"CONCATENATE(C4)","v":"0"},{"$f":"INT(1*RAND())","v":0},{"$f":"IF(G4=0,\"+ \",\"- \")","v":"+ "},{"$f":"INT(9*(10^((Values!$F$6)-1))*RAND())","v":0},{"$f":"CONCATENATE(H4,I4)","v":"+ 0"},0,{"$f":"IF(K4=1,\"\",TEXT(K4,0))","v":"0"}]
[3,"o",{"$f":"INT(9*(10^((Values!$F$6)-1))*RAND())","v":0},null,null,{"$f":"CONCATENATE(C5)","v":"0"},{"$f":"INT(1*RAND())","v":0},{"$f":"IF(G5=0,\"+ \",\"- \")","v":"+ "},{"$f":"INT(9*(10^((Values!$F$6)-1))*RAND())","v":0},{"$f":"CONCATENATE(H5,I5)","v":"+ 0"},0,"0"]
[4,"p",{"$f":"INT(9*(10^((Values!$F$6)-1))*RAND())","v":0},null,null,"0",0,"+ ",{"$f":"INT(9*(10^((Values!$F$6)-1))*RAND())","v":0},"+ 0",0,"0"]
[5,"b",{"$f":"INT(9*(10^((Values!$F$6)-1))*RAND())","v":0},null,null,"0",0,"+ ",{"$f":"INT(9*(10^((Values!$F$6)-1))*RAND())","v":0},"+ 0",0,"0"]
[6,"y",{"$f":"INT(9*(10^((Values!$F$6)-1))*RAND())","v":0},null,null,"0",0,"+ ",{"$f":"INT(9*(10^((Values!$F$6)-1))*RAND())","v":0},"+ 0",0,"0"]
[7,"k",{"$f":"INT(9*(10^((Values!$F$6)-1))*RAND())","v":0},null,null,"0",0,"+ ",{"$f":"INT(9*(10^((Values!$F$6)-1))*RAND())","v":0},"+ 0",0,"0"]
[8,"q",{"$f":"INT(9*(10^((Values!$F$6)-1))*RAND())","v":0},null,null,"0",0,"+ ",{"$f":"INT(9*(10^((Values!$F$6)-1))*RAND())","v":0},"+ 0",0,"0"]
[9,"b",{"$f":"INT(9*(10^((Values!$F$6)-1))*RAND())","v":0},null,null,"0",0,"+ ",{"$f":"INT(9*(10^((Values!$F$6)-1))*RAND())","v":0},"+ 0",0,"0"]
[10,"x",{"$f":"INT(9*(10^((Values!$F$6)-1))*RAND())","v":0},null,null,"0",0,"+ ",{"$f":"INT(9*(10^((Values!$F$6)-1))*RAND())","v":0},"+ 0",0,"0"]
[11,"t",{"$f":"INT(9*(10^((Values!$F$6)-1))*RAND())","v":0},null,null,"0",0,"+ ",{"$f":"INT(9*(10^((Values!$F$6)-1))*RAND())","v":0},"+ 0",0,"0"]
[12,"w",{"$f":"INT(9*(10^((Values!$F$6)-1))*RAND())","v":0},null,null,"0",0,"+ ",{"$f":"INT(9*(10^((Values!$F$6)-1))*RAND())","v":0},"+ 0",0,"0"]
[13,"q",{"$f":"INT(9*(10^((Values!$F$6)-1))*RAND())","v":0},null,null,"0",0,"+ ",{"$f":"INT(9*(10^((Values!$F$6)-1))*RAND())","v":0},"+ 0",0,"0"]
[14,"e",{"$f":"INT(9*(10^((Values!$F$6)-1))*RAND())","v":0},null,null,"0",0,"+ ",{"$f":"INT(9*(10^((Values!$F$6)-1))*RAND())","v":0},"+ 0",0,"0"]
[15,"m",{"$f":"INT(9*(10^((Values!$F$6)-1))*RAND())","v":0},null,null,"0",0,"+ ",{"$f":"INT(9*(10^((Values!$F$6)-1))*RAND())","v":0},"+ 0",0,"0"]
[16,"z",{"$f":"INT(9*(10^((Values!$F$6)-1))*RAND())","v":0},null,null,"0",0,"+ ",{"$f":"INT(9*(10^((Values!$F$6)-1))*RAND())","v":0},"+ 0",0,"0"]
[17,"c",{"$f":"INT(9*(10^((Values!$F$6)-1))*RAND())","v":0},null,null,"0",0,"+ ",{"$f":"INT(9*(10^((Values!$F$6)-1))*RAND())","v":0},"+ 0",0,"0"]
[18,"p",{"$f":"INT(9*(10^((Values!$F$6)-1))*RAND())","v":0},null,null,"0",0,"+ ",{"$f":"INT(9*(10^((Values!$F$6)-1))*RAND())","v":0},"+ 0",0,"0"]
[19,"q",{"$f":"INT(9*(10^((Values!$F$6)-1))*RAND())","v":0},null,null,"0",0,"+ ",{"$f":"INT(9*(10^((Values!$F$6)-1))*RAND())","v":0},"+ 0",0,"0"]
[20,"y",{"$f":"INT(9*(10^((Values!$F$6)-1))*RAND())","v":0},null,null,"0",0,"+ ",{"$f":"INT(9*(10^((Values!$F$6)-1))*RAND())","v":0},"+ 0",0,"0"]
[21,"f",{"$f":"INT(9*(10^((Values!$F$6)-1))*RAND())","v":0},null,null,"0",0,"+ ",{"$f":"INT(9*(10^((Values!$F$6)-1))*RAND())","v":0},"+ 0",0,"0"]
[22,"o",{"$f":"INT(9*(10^((Values!$F$6)-1))*RAND())","v":0},null,null,"0",0,"+ ",{"$f":"INT(9*(10^((Values!$F$6)-1))*RAND())","v":0},"+ 0",0,"0"]
[23,"m",{"$f":"INT(9*(10^((Values!$F$6)-1))*RAND())","v":0},null,null,"0",0,"+ ",{"$f":"INT(9*(10^((Values!$F$6)-1))*RAND())","v":0},"+ 0",0,"0"]
[24,"s",{"$f":"INT(9*(10^((Values!$F$6)-1))*RAND())","v":0},null,null,"0",0,"+ ",{"$f":"INT(9*(10^((Values!$F$6)-1))*RAND())","v":0},"+ 0",0,"0"]
[25,"o",{"$f":"INT(9*(10^((Values!$F$6)-1))*RAND())","v":0},null,null,"0",0,"+ ",{"$f":"INT(9*(10^((Values!$F$6)-1))*RAND())","v":0},"+ 0",0,"0"]
[26,"y",{"$f":"INT(9*(10^((Values!$F$6)-1))*RAND())","v":0},null,null,"0",0,"+ ",{"$f":"INT(9*(10^((Values!$F$6)-1))*RAND())","v":0},"+ 0",0,"0"]
[27,"e",{"$f":"INT(9*(10^((Values!$F$6)-1))*RAND())","v":0},null,null,"0",0,"+ ",{"$f":"INT(9*(10^((Values!$F$6)-1))*RAND())","v":0},"+ 0",0,"0"]
[28,"q",{"$f":"INT(9*(10^((Values!$F$6)-1))*RAND())","v":0},null,null,"0",0,"+ ",{"$f":"INT(9*(10^((Values!$F$6)-1))*RAND())","v":0},"+ 0",0,"0"]
[29,"d",{"$f":"INT(9*(10^((Values!$F$6)-1))*RAND())","v":0},null,null,"0",0,"+ ",{"$f":"INT(9*(10^((Values!$F$6)-1))*RAND())","v":0},"+ 0",0,"0"]
[30,"l",{"$f":"INT(9*(10^((Values!$F$6)-1))*RAND())","v":0},null,null,"0",0,"+ ",{"$f":"INT(9*(10^((Values!$F$6)-1))*RAND())","v":0},"+ 0",0,"0"]
[31,"m",{"$f":"INT(9*(10^((Values!$F$6)-1))*RAND())","v":0},null,null,"0",0,"+ ",{"$f":"INT(9*(10^((Values!$F$6)-1))*RAND())","v":0},"+ 0",0,"0"]
[32,"i",{"$f":"INT(9*(10^((Values!$F$6)-1))*RAND())","v":0},null,null,"0",0,"+ ",{"$f":"INT(9*(10^((Values!$F$6)-1))*RAND())","v":0},"+ 0",0,"0"]
[33,"r",{"$f":"INT(9*(10^((Values!$F$6)-1))*RAND())","v":0},null,null,"0",0,"+ ",{"$f":"INT(9*(10^((Values!$F$6)-1))*RAND())","v":0},"+ 0",0,"0"]
[34,"i",{"$f":"INT(9*(10^((Values!$F$6)-1))*RAND())","v":0},null,null,"0",0,"+ ",{"$f":"INT(9*(10^((Values!$F$6)-1))*RAND())","v":0},"+ 0",0,"0"]
[35,"l",{"$f":"INT(9*(10^((Values!$F$6)-1))*RAND())","v":0},null,null,"0",0,"+ ",{"$f":"INT(9*(10^((Values!$F$6)-1))*RAND())","v":0},"+ 0",0,"0"]
[36,"t",{"$f":"INT(9*(10^((Values!$F$6)-1))*RAND())","v":0},null,null,"0",0,"+ ",{"$f":"INT(9*(10^((Values!$F$6)-1))*RAND())","v":0},"+ 0",0,"0"]
[37,"l",{"$f":"INT(9*(10^((Values!$F$6)-1))*RAND())","v":0},null,null,"0",0,"+ ",{"$f":"INT(9*(10^((Values!$F$6)-1))*RAND())","v":0},"+ 0",0,"0"]
[38,"l",{"$f":"INT(9*(10^((Values!$F$6)-1))*RAND())","v":0},null,null,"0",0,"+ ",{"$f":"INT(9*(10^((Values!$F$6)-1))*RAND())","v":0},"+ 0",0,"0"]
[39,"o",{"$f":"INT(9*(10^((Values!$F$6)-1))*RAND())","v":0},null,null,"0",0,"+ ",{"$f":"INT(9*(10^((Values!$F$6)-1))*RAND())","v":0},"+ 0",0,"0"]
[40,"q",{"$f":"INT(9*(10^((Values!$F$6)-1))*RAND())","v":0},null,null,"0",0,"+ ",{"$f":"INT(9*(10^((Values!$F$6)-1))*RAND())","v":0},"+ 0",0,"0"]