{"text_format":"1","workbook":"xlsx","n_sheets":4,"sheets":["Values","Worksheet","Answers","Working"],"not_rendered":{"charts":0,"images":0,"macros":1,"external_links":0,"defined_names":0,"comments":0,"pivot_tables":0},"unopened":[],"bounds":{"document_bytes":16777216,"sheet_cells":100000,"rows_first":2000,"rows_last":500,"rows_between":2000,"halvings":0,"cell_chars":16384,"cell_head_chars":4096},"cells_cut":0,"cells_raw":0,"read":"whole","date_system":"1900"}

{"sheet":"Values","index":0,"n_rows":18,"n_cols":9,"rows_kept":18,"cut":false,"hidden":false,"merged":[[7,8,11,9],[9,2,12,7],[1,2,1,6],[3,2,4,7],[5,2,5,4],[7,2,7,6]]}
[null,null,null,null,"ADDITITION"]
[null,null,"INSTRUCTIONS"]
[]
[null,"Step 1","Enter the number of digits to be used for this sheet. (A whole number >1 and <=8)"]
[]
[null,null,"No. of digits"]
[]
[null,"Step 2","Click on WorkSheet tab below.",null,null,null,null,null,"PRESS F9 for NEW WorkSheet"]
[]
[null,"Note","If you hold down shift then click on the WorkSheet tab and the Solutions tab, you will be able to print both the WorkSheet and the solutions."]
[]
[]
[]
[]
[null,null,"NOTES"]
[null,null,"* Practise the addition algorithm with four numbers with the number of digits chosen."]
[null,null,"* You can choose the maximum number of digits in the addends."]
[null,null,"* This WorkSheet will generate 24 questions at random."]

{"sheet":"Worksheet","index":1,"n_rows":37,"n_cols":12,"rows_kept":37,"cut":false,"hidden":false,"merged":[]}
[null,null,null,null,null,null,"ADDITION"]
[null,null,null,null,null,null,null,null,null,{"$f":"CONCATENATE(\"Worksheet \",Working!B1,Working!A1)","v":"Worksheet ADB-145"}]
["Evaluate the following;"]
[{"$f":"CONCATENATE(Working!A3,\")\")","v":"1)"},{"$f":"Working!$B3","v":0},"+",{"$f":"CONCATENATE(Working!A9,\")\")","v":"7)"},{"$f":"Working!$B9","v":0},"+",{"$f":"CONCATENATE(Working!A15,\")\")","v":"13)"},{"$f":"Working!$B3","v":0},"+",{"$f":"CONCATENATE(Working!A21,\")\")","v":"19)"},{"$f":"Working!$B21","v":0},"+"]
[null,{"$f":"Working!$C3","v":0},null,null,{"$f":"Working!$C9","v":0},null,null,{"$f":"Working!$C3","v":0},null,null,{"$f":"Working!$C21","v":0}]
[null,{"$f":"Working!$D3","v":0},null,null,{"$f":"Working!$D9","v":0},null,null,{"$f":"Working!$D3","v":0},null,null,{"$f":"Working!$D21","v":0}]
[null,{"$f":"Working!$E3","v":0},null,null,{"$f":"Working!$E9","v":0},null,null,{"$f":"Working!$E15","v":0},null,null,{"$f":"Working!$E21","v":0}]
[]
[]
[{"$f":"CONCATENATE(Working!A4,\")\")","v":"2)"},{"$f":"Working!$B4","v":0},"+",{"$f":"CONCATENATE(Working!A10,\")\")","v":"8)"},{"$f":"Working!$B10","v":0},"+",{"$f":"CONCATENATE(Working!A16,\")\")","v":"14)"},{"$f":"Working!$B4","v":0},"+",{"$f":"CONCATENATE(Working!A22,\")\")","v":"20)"},{"$f":"Working!$B22","v":0},"+"]
[null,{"$f":"Working!$C4","v":0},null,null,{"$f":"Working!$C10","v":0},null,null,{"$f":"Working!$C4","v":0},null,null,{"$f":"Working!$C22","v":0}]
[null,{"$f":"Working!$D4","v":0},null,null,{"$f":"Working!$D10","v":0},null,null,{"$f":"Working!$D4","v":0},null,null,{"$f":"Working!$D22","v":0}]
[null,{"$f":"Working!$E4","v":0},null,null,{"$f":"Working!$E10","v":0},null,null,{"$f":"Working!$E16","v":0},null,null,{"$f":"Working!$E22","v":0}]
[]
[]
[{"$f":"CONCATENATE(Working!A5,\")\")","v":"3)"},{"$f":"Working!$B5","v":0},"+",{"$f":"CONCATENATE(Working!A11,\")\")","v":"9)"},{"$f":"Working!$B11","v":0},"+",{"$f":"CONCATENATE(Working!A17,\")\")","v":"15)"},{"$f":"Working!$B5","v":0},"+",{"$f":"CONCATENATE(Working!A23,\")\")","v":"21)"},{"$f":"Working!$B23","v":0},"+"]
[null,{"$f":"Working!$C5","v":0},null,null,{"$f":"Working!$C11","v":0},null,null,{"$f":"Working!$C5","v":0},null,null,{"$f":"Working!$C23","v":0}]
[null,{"$f":"Working!$D5","v":0},null,null,{"$f":"Working!$D11","v":0},null,null,{"$f":"Working!$D5","v":0},null,null,{"$f":"Working!$D23","v":0}]
[null,{"$f":"Working!$E5","v":0},null,null,{"$f":"Working!$E11","v":0},null,null,{"$f":"Working!$E17","v":0},null,null,{"$f":"Working!$E23","v":0}]
[]
[]
[{"$f":"CONCATENATE(Working!A6,\")\")","v":"4)"},{"$f":"Working!$B6","v":0},"+",{"$f":"CONCATENATE(Working!A12,\")\")","v":"10)"},{"$f":"Working!$B12","v":0},"+",{"$f":"CONCATENATE(Working!A18,\")\")","v":"16)"},{"$f":"Working!$B19","v":0},"+",{"$f":"CONCATENATE(Working!A24,\")\")","v":"22)"},{"$f":"Working!$B24","v":0},"+"]
[null,{"$f":"Working!$C6","v":0},null,null,{"$f":"Working!$C12","v":0},null,null,{"$f":"Working!$C19","v":0},null,null,{"$f":"Working!$C24","v":0}]
[null,{"$f":"Working!$D6","v":0},null,null,{"$f":"Working!$D12","v":0},null,null,{"$f":"Working!$D19","v":0},null,null,{"$f":"Working!$D24","v":0}]
[null,{"$f":"Working!$E6","v":0},null,null,{"$f":"Working!$E12","v":0},null,null,{"$f":"Working!$E18","v":0},null,null,{"$f":"Working!$E24","v":0}]
[]
[]
[{"$f":"CONCATENATE(Working!A7,\")\")","v":"5)"},{"$f":"Working!$B7","v":0},"+",{"$f":"CONCATENATE(Working!A13,\")\")","v":"11)"},{"$f":"Working!$B13","v":0},"+",{"$f":"CONCATENATE(Working!A19,\")\")","v":"17)"},{"$f":"Working!$B20","v":0},"+",{"$f":"CONCATENATE(Working!A25,\")\")","v":"23)"},{"$f":"Working!$B25","v":0},"+"]
[null,{"$f":"Working!$C7","v":0},null,null,{"$f":"Working!$C13","v":0},null,null,{"$f":"Working!$C20","v":0},null,null,{"$f":"Working!$C25","v":0}]
[null,{"$f":"Working!$D7","v":0},null,null,{"$f":"Working!$D13","v":0},null,null,{"$f":"Working!$D20","v":0},null,null,{"$f":"Working!$D25","v":0}]
[null,{"$f":"Working!$E7","v":0},null,null,{"$f":"Working!$E13","v":0},null,null,{"$f":"Working!$E19","v":0},null,null,{"$f":"Working!$E25","v":0}]
[]
[]
[{"$f":"CONCATENATE(Working!A8,\")\")","v":"6)"},{"$f":"Working!$B8","v":0},"+",{"$f":"CONCATENATE(Working!A14,\")\")","v":"12)"},{"$f":"Working!$B14","v":0},"+",{"$f":"CONCATENATE(Working!A20,\")\")","v":"18)"},{"$f":"Working!$B20","v":0},"+",{"$f":"CONCATENATE(Working!A26,\")\")","v":"24)"},{"$f":"Working!$B26","v":0},"+"]
[null,{"$f":"Working!$C8","v":0},null,null,{"$f":"Working!$C14","v":0},null,null,{"$f":"Working!$C20","v":0},null,null,{"$f":"Working!$C26","v":0}]
[null,{"$f":"Working!$D8","v":0},null,null,{"$f":"Working!$D14","v":0},null,null,{"$f":"Working!$D20","v":0},null,null,{"$f":"Working!$D26","v":0}]
[null,{"$f":"Working!$E8","v":0},null,null,{"$f":"Working!$E14","v":0},null,null,{"$f":"Working!$E20","v":0},null,null,{"$f":"Working!$E26","v":0}]

{"sheet":"Answers","index":2,"n_rows":38,"n_cols":12,"rows_kept":38,"cut":false,"hidden":false,"merged":[]}
[null,null,null,null,null,null,"ADDITION"]
[null,null,null,null,null,null,"Answers",null,null,{"$f":"CONCATENATE(\"Worksheet \",Working!B1,Working!A1)","v":"Worksheet ADB-145"}]
["Evaluate the following;"]
[{"$f":"CONCATENATE(Working!A3,\")\")","v":"1)"},{"$f":"Working!$B3","v":0},"+",{"$f":"CONCATENATE(Working!A9,\")\")","v":"7)"},{"$f":"Working!$B9","v":0},"+",{"$f":"CONCATENATE(Working!A15,\")\")","v":"13)"},{"$f":"Working!$B3","v":0},"+",{"$f":"CONCATENATE(Working!A21,\")\")","v":"19)"},{"$f":"Working!$B21","v":0},"+"]
[null,{"$f":"Working!$C3","v":0},null,null,{"$f":"Working!$C9","v":0},null,null,{"$f":"Working!$C3","v":0},null,null,{"$f":"Working!$C21","v":0}]
[null,{"$f":"Working!$D3","v":0},null,null,{"$f":"Working!$D9","v":0},null,null,{"$f":"Working!$D3","v":0},null,null,{"$f":"Working!$D21","v":0}]
[null,{"$f":"Working!$E3","v":0},null,null,{"$f":"Working!$E9","v":0},null,null,{"$f":"Working!$E15","v":0},null,null,{"$f":"Working!$E21","v":0}]
[null,{"$f":"Working!$F3","v":0},null,null,{"$f":"Working!$F9","v":0},null,null,{"$f":"Working!$F15","v":0},null,null,{"$f":"Working!$F21","v":0}]
[]
[{"$f":"CONCATENATE(Working!A4,\")\")","v":"2)"},{"$f":"Working!$B4","v":0},"+",{"$f":"CONCATENATE(Working!A10,\")\")","v":"8)"},{"$f":"Working!$B10","v":0},"+",{"$f":"CONCATENATE(Working!A16,\")\")","v":"14)"},{"$f":"Working!$B4","v":0},"+",{"$f":"CONCATENATE(Working!A22,\")\")","v":"20)"},{"$f":"Working!$B22","v":0},"+"]
[null,{"$f":"Working!$C4","v":0},null,null,{"$f":"Working!$C10","v":0},null,null,{"$f":"Working!$C4","v":0},null,null,{"$f":"Working!$C22","v":0}]
[null,{"$f":"Working!$D4","v":0},null,null,{"$f":"Working!$D10","v":0},null,null,{"$f":"Working!$D4","v":0},null,null,{"$f":"Working!$D22","v":0}]
[null,{"$f":"Working!$E4","v":0},null,null,{"$f":"Working!$E10","v":0},null,null,{"$f":"Working!$E16","v":0},null,null,{"$f":"Working!$E22","v":0}]
[null,{"$f":"Working!$F4","v":0},null,null,{"$f":"Working!$F10","v":0},null,null,{"$f":"Working!$F16","v":0},null,null,{"$f":"Working!$F22","v":0}]
[]
[{"$f":"CONCATENATE(Working!A5,\")\")","v":"3)"},{"$f":"Working!$B5","v":0},"+",{"$f":"CONCATENATE(Working!A11,\")\")","v":"9)"},{"$f":"Working!$B11","v":0},"+",{"$f":"CONCATENATE(Working!A17,\")\")","v":"15)"},{"$f":"Working!$B5","v":0},"+",{"$f":"CONCATENATE(Working!A23,\")\")","v":"21)"},{"$f":"Working!$B23","v":0},"+"]
[null,{"$f":"Working!$C5","v":0},null,null,{"$f":"Working!$C11","v":0},null,null,{"$f":"Working!$C5","v":0},null,null,{"$f":"Working!$C23","v":0}]
[null,{"$f":"Working!$D5","v":0},null,null,{"$f":"Working!$D11","v":0},null,null,{"$f":"Working!$D5","v":0},null,null,{"$f":"Working!$D23","v":0}]
[null,{"$f":"Working!$E5","v":0},null,null,{"$f":"Working!$E11","v":0},null,null,{"$f":"Working!$E17","v":0},null,null,{"$f":"Working!$E23","v":0}]
[null,{"$f":"Working!$F5","v":0},null,null,{"$f":"Working!$F11","v":0},null,null,{"$f":"Working!$F17","v":0},null,null,{"$f":"Working!$F23","v":0}]
[]
[{"$f":"CONCATENATE(Working!A6,\")\")","v":"4)"},{"$f":"Working!$B6","v":0},"+",{"$f":"CONCATENATE(Working!A12,\")\")","v":"10)"},{"$f":"Working!$B12","v":0},"+",{"$f":"CONCATENATE(Working!A18,\")\")","v":"16)"},{"$f":"Working!$B19","v":0},"+",{"$f":"CONCATENATE(Working!A24,\")\")","v":"22)"},{"$f":"Working!$B24","v":0},"+"]
[null,{"$f":"Working!$C6","v":0},null,null,{"$f":"Working!$C12","v":0},null,null,{"$f":"Working!$C19","v":0},null,null,{"$f":"Working!$C24","v":0}]
[null,{"$f":"Working!$D6","v":0},null,null,{"$f":"Working!$D12","v":0},null,null,{"$f":"Working!$D19","v":0},null,null,{"$f":"Working!$D24","v":0}]
[null,{"$f":"Working!$E6","v":0},null,null,{"$f":"Working!$E12","v":0},null,null,{"$f":"Working!$E18","v":0},null,null,{"$f":"Working!$E24","v":0}]
[null,{"$f":"Working!$F6","v":0},null,null,{"$f":"Working!$F12","v":0},null,null,{"$f":"Working!$F18","v":0},null,null,{"$f":"Working!$F24","v":0}]
[]
[{"$f":"CONCATENATE(Working!A7,\")\")","v":"5)"},{"$f":"Working!$B7","v":0},"+",{"$f":"CONCATENATE(Working!A13,\")\")","v":"11)"},{"$f":"Working!$B13","v":0},"+",{"$f":"CONCATENATE(Working!A19,\")\")","v":"17)"},{"$f":"Working!$B20","v":0},"+",{"$f":"CONCATENATE(Working!A25,\")\")","v":"23)"},{"$f":"Working!$B25","v":0},"+"]
[null,{"$f":"Working!$C7","v":0},null,null,{"$f":"Working!$C13","v":0},null,null,{"$f":"Working!$C20","v":0},null,null,{"$f":"Working!$C25","v":0}]
[null,{"$f":"Working!$D7","v":0},null,null,{"$f":"Working!$D13","v":0},null,null,{"$f":"Working!$D20","v":0},null,null,{"$f":"Working!$D25","v":0}]
[null,{"$f":"Working!$E7","v":0},null,null,{"$f":"Working!$E13","v":0},null,null,{"$f":"Working!$E19","v":0},null,null,{"$f":"Working!$E25","v":0}]
[null,{"$f":"Working!$F7","v":0},null,null,{"$f":"Working!$F13","v":0},null,null,{"$f":"Working!$F19","v":0},null,null,{"$f":"Working!$F25","v":0}]
[]
[{"$f":"CONCATENATE(Working!A8,\")\")","v":"6)"},{"$f":"Working!$B8","v":0},"+",{"$f":"CONCATENATE(Working!A14,\")\")","v":"12)"},{"$f":"Working!$B14","v":0},"+",{"$f":"CONCATENATE(Working!A20,\")\")","v":"18)"},{"$f":"Working!$B20","v":0},"+",{"$f":"CONCATENATE(Working!A26,\")\")","v":"24)"},{"$f":"Working!$B26","v":0},"+"]
[null,{"$f":"Working!$C8","v":0},null,null,{"$f":"Working!$C14","v":0},null,null,{"$f":"Working!$C20","v":0},null,null,{"$f":"Working!$C26","v":0}]
[null,{"$f":"Working!$D8","v":0},null,null,{"$f":"Working!$D14","v":0},null,null,{"$f":"Working!$D20","v":0},null,null,{"$f":"Working!$D26","v":0}]
[null,{"$f":"Working!$E8","v":0},null,null,{"$f":"Working!$E14","v":0},null,null,{"$f":"Working!$E20","v":0},null,null,{"$f":"Working!$E26","v":0}]
[null,{"$f":"Working!$F8","v":0},null,null,{"$f":"Working!$F14","v":0},null,null,{"$f":"Working!$F20","v":0},null,null,{"$f":"Working!$F26","v":0}]

{"sheet":"Working","index":3,"n_rows":42,"n_cols":6,"rows_kept":42,"cut":false,"hidden":true,"merged":[]}
[{"$f":"INT(900*RAND()+100)","v":145},"ADB-"]
[null,"1st","2nd","3rd","4th","Equals"]
[1,{"$f":"INT(9*(10^((Values!$F$6)-1))*RAND())","v":0},{"$f":"INT(9*(10^((Values!$F$6)-1))*RAND())","v":0},{"$f":"INT(9*(10^((Values!$F$6)-1))*RAND())","v":0},{"$f":"INT(9*(10^((Values!$F$6)-1))*RAND())","v":0},{"$f":"B3+C3+D3+E3","v":0}]
[2,{"$f":"INT(9*(10^((Values!$F$6)-1))*RAND())","v":0},{"$f":"INT(9*(10^((Values!$F$6)-1))*RAND())","v":0},{"$f":"INT(9*(10^((Values!$F$6)-1))*RAND())","v":0},{"$f":"INT(9*(10^((Values!$F$6)-1))*RAND())","v":0},{"$f":"B4+C4+D4+E4","v":0}]
[3,{"$f":"INT(9*(10^((Values!$F$6)-1))*RAND())","v":0},{"$f":"INT(9*(10^((Values!$F$6)-1))*RAND())","v":0},{"$f":"INT(9*(10^((Values!$F$6)-1))*RAND())","v":0},{"$f":"INT(9*(10^((Values!$F$6)-1))*RAND())","v":0},0]
[4,{"$f":"INT(9*(10^((Values!$F$6)-1))*RAND())","v":0},{"$f":"INT(9*(10^((Values!$F$6)-1))*RAND())","v":0},{"$f":"INT(9*(10^((Values!$F$6)-1))*RAND())","v":0},{"$f":"INT(9*(10^((Values!$F$6)-1))*RAND())","v":0},0]
[5,{"$f":"INT(9*(10^((Values!$F$6)-1))*RAND())","v":0},{"$f":"INT(9*(10^((Values!$F$6)-1))*RAND())","v":0},{"$f":"INT(9*(10^((Values!$F$6)-1))*RAND())","v":0},{"$f":"INT(9*(10^((Values!$F$6)-1))*RAND())","v":0},0]
[6,{"$f":"INT(9*(10^((Values!$F$6)-1))*RAND())","v":0},{"$f":"INT(9*(10^((Values!$F$6)-1))*RAND())","v":0},{"$f":"INT(9*(10^((Values!$F$6)-1))*RAND())","v":0},{"$f":"INT(9*(10^((Values!$F$6)-1))*RAND())","v":0},0]
[7,{"$f":"INT(9*(10^((Values!$F$6)-1))*RAND())","v":0},{"$f":"INT(9*(10^((Values!$F$6)-1))*RAND())","v":0},{"$f":"INT(9*(10^((Values!$F$6)-1))*RAND())","v":0},{"$f":"INT(9*(10^((Values!$F$6)-1))*RAND())","v":0},0]
[8,{"$f":"INT(9*(10^((Values!$F$6)-1))*RAND())","v":0},{"$f":"INT(9*(10^((Values!$F$6)-1))*RAND())","v":0},{"$f":"INT(9*(10^((Values!$F$6)-1))*RAND())","v":0},{"$f":"INT(9*(10^((Values!$F$6)-1))*RAND())","v":0},0]
[9,{"$f":"INT(9*(10^((Values!$F$6)-1))*RAND())","v":0},{"$f":"INT(9*(10^((Values!$F$6)-1))*RAND())","v":0},{"$f":"INT(9*(10^((Values!$F$6)-1))*RAND())","v":0},{"$f":"INT(9*(10^((Values!$F$6)-1))*RAND())","v":0},0]
[10,{"$f":"INT(9*(10^((Values!$F$6)-1))*RAND())","v":0},{"$f":"INT(9*(10^((Values!$F$6)-1))*RAND())","v":0},{"$f":"INT(9*(10^((Values!$F$6)-1))*RAND())","v":0},{"$f":"INT(9*(10^((Values!$F$6)-1))*RAND())","v":0},0]
[11,{"$f":"INT(9*(10^((Values!$F$6)-1))*RAND())","v":0},{"$f":"INT(9*(10^((Values!$F$6)-1))*RAND())","v":0},{"$f":"INT(9*(10^((Values!$F$6)-1))*RAND())","v":0},{"$f":"INT(9*(10^((Values!$F$6)-1))*RAND())","v":0},0]
[12,{"$f":"INT(9*(10^((Values!$F$6)-1))*RAND())","v":0},{"$f":"INT(9*(10^((Values!$F$6)-1))*RAND())","v":0},{"$f":"INT(9*(10^((Values!$F$6)-1))*RAND())","v":0},{"$f":"INT(9*(10^((Values!$F$6)-1))*RAND())","v":0},0]
[13,{"$f":"INT(9*(10^((Values!$F$6)-1))*RAND())","v":0},{"$f":"INT(9*(10^((Values!$F$6)-1))*RAND())","v":0},{"$f":"INT(9*(10^((Values!$F$6)-1))*RAND())","v":0},{"$f":"INT(9*(10^((Values!$F$6)-1))*RAND())","v":0},0]
[14,{"$f":"INT(9*(10^((Values!$F$6)-1))*RAND())","v":0},{"$f":"INT(9*(10^((Values!$F$6)-1))*RAND())","v":0},{"$f":"INT(9*(10^((Values!$F$6)-1))*RAND())","v":0},{"$f":"INT(9*(10^((Values!$F$6)-1))*RAND())","v":0},0]
[15,{"$f":"INT(9*(10^((Values!$F$6)-1))*RAND())","v":0},{"$f":"INT(9*(10^((Values!$F$6)-1))*RAND())","v":0},{"$f":"INT(9*(10^((Values!$F$6)-1))*RAND())","v":0},{"$f":"INT(9*(10^((Values!$F$6)-1))*RAND())","v":0},0]
[16,{"$f":"INT(9*(10^((Values!$F$6)-1))*RAND())","v":0},{"$f":"INT(9*(10^((Values!$F$6)-1))*RAND())","v":0},{"$f":"INT(9*(10^((Values!$F$6)-1))*RAND())","v":0},{"$f":"INT(9*(10^((Values!$F$6)-1))*RAND())","v":0},0]
[17,{"$f":"INT(9*(10^((Values!$F$6)-1))*RAND())","v":0},{"$f":"INT(9*(10^((Values!$F$6)-1))*RAND())","v":0},{"$f":"INT(9*(10^((Values!$F$6)-1))*RAND())","v":0},{"$f":"INT(9*(10^((Values!$F$6)-1))*RAND())","v":0},0]
[18,{"$f":"INT(9*(10^((Values!$F$6)-1))*RAND())","v":0},{"$f":"INT(9*(10^((Values!$F$6)-1))*RAND())","v":0},{"$f":"INT(9*(10^((Values!$F$6)-1))*RAND())","v":0},{"$f":"INT(9*(10^((Values!$F$6)-1))*RAND())","v":0},0]
[19,{"$f":"INT(9*(10^((Values!$F$6)-1))*RAND())","v":0},{"$f":"INT(9*(10^((Values!$F$6)-1))*RAND())","v":0},{"$f":"INT(9*(10^((Values!$F$6)-1))*RAND())","v":0},{"$f":"INT(9*(10^((Values!$F$6)-1))*RAND())","v":0},0]
[20,{"$f":"INT(9*(10^((Values!$F$6)-1))*RAND())","v":0},{"$f":"INT(9*(10^((Values!$F$6)-1))*RAND())","v":0},{"$f":"INT(9*(10^((Values!$F$6)-1))*RAND())","v":0},{"$f":"INT(9*(10^((Values!$F$6)-1))*RAND())","v":0},0]
[21,{"$f":"INT(9*(10^((Values!$F$6)-1))*RAND())","v":0},{"$f":"INT(9*(10^((Values!$F$6)-1))*RAND())","v":0},{"$f":"INT(9*(10^((Values!$F$6)-1))*RAND())","v":0},{"$f":"INT(9*(10^((Values!$F$6)-1))*RAND())","v":0},0]
[22,{"$f":"INT(9*(10^((Values!$F$6)-1))*RAND())","v":0},{"$f":"INT(9*(10^((Values!$F$6)-1))*RAND())","v":0},{"$f":"INT(9*(10^((Values!$F$6)-1))*RAND())","v":0},{"$f":"INT(9*(10^((Values!$F$6)-1))*RAND())","v":0},0]
[23,{"$f":"INT(9*(10^((Values!$F$6)-1))*RAND())","v":0},{"$f":"INT(9*(10^((Values!$F$6)-1))*RAND())","v":0},{"$f":"INT(9*(10^((Values!$F$6)-1))*RAND())","v":0},{"$f":"INT(9*(10^((Values!$F$6)-1))*RAND())","v":0},0]
[24,{"$f":"INT(9*(10^((Values!$F$6)-1))*RAND())","v":0},{"$f":"INT(9*(10^((Values!$F$6)-1))*RAND())","v":0},{"$f":"INT(9*(10^((Values!$F$6)-1))*RAND())","v":0},{"$f":"INT(9*(10^((Values!$F$6)-1))*RAND())","v":0},0]
[25,{"$f":"INT(9*(10^((Values!$F$6)-1))*RAND())","v":0},{"$f":"INT(9*(10^((Values!$F$6)-1))*RAND())","v":0},{"$f":"INT(9*(10^((Values!$F$6)-1))*RAND())","v":0},{"$f":"INT(9*(10^((Values!$F$6)-1))*RAND())","v":0},0]
[26,{"$f":"INT(9*(10^((Values!$F$6)-1))*RAND())","v":0},{"$f":"INT(9*(10^((Values!$F$6)-1))*RAND())","v":0},{"$f":"INT(9*(10^((Values!$F$6)-1))*RAND())","v":0},{"$f":"INT(9*(10^((Values!$F$6)-1))*RAND())","v":0},0]
[27,{"$f":"INT(9*(10^((Values!$F$6)-1))*RAND())","v":0},{"$f":"INT(9*(10^((Values!$F$6)-1))*RAND())","v":0},{"$f":"INT(9*(10^((Values!$F$6)-1))*RAND())","v":0},{"$f":"INT(9*(10^((Values!$F$6)-1))*RAND())","v":0},0]
[28,{"$f":"INT(9*(10^((Values!$F$6)-1))*RAND())","v":0},{"$f":"INT(9*(10^((Values!$F$6)-1))*RAND())","v":0},{"$f":"INT(9*(10^((Values!$F$6)-1))*RAND())","v":0},{"$f":"INT(9*(10^((Values!$F$6)-1))*RAND())","v":0},0]
[29,{"$f":"INT(9*(10^((Values!$F$6)-1))*RAND())","v":0},{"$f":"INT(9*(10^((Values!$F$6)-1))*RAND())","v":0},{"$f":"INT(9*(10^((Values!$F$6)-1))*RAND())","v":0},{"$f":"INT(9*(10^((Values!$F$6)-1))*RAND())","v":0},0]
[30,{"$f":"INT(9*(10^((Values!$F$6)-1))*RAND())","v":0},{"$f":"INT(9*(10^((Values!$F$6)-1))*RAND())","v":0},{"$f":"INT(9*(10^((Values!$F$6)-1))*RAND())","v":0},{"$f":"INT(9*(10^((Values!$F$6)-1))*RAND())","v":0},0]
[31,{"$f":"INT(9*(10^((Values!$F$6)-1))*RAND())","v":0},{"$f":"INT(9*(10^((Values!$F$6)-1))*RAND())","v":0},{"$f":"INT(9*(10^((Values!$F$6)-1))*RAND())","v":0},{"$f":"INT(9*(10^((Values!$F$6)-1))*RAND())","v":0},0]
[32,{"$f":"INT(9*(10^((Values!$F$6)-1))*RAND())","v":0},{"$f":"INT(9*(10^((Values!$F$6)-1))*RAND())","v":0},{"$f":"INT(9*(10^((Values!$F$6)-1))*RAND())","v":0},{"$f":"INT(9*(10^((Values!$F$6)-1))*RAND())","v":0},0]
[33,{"$f":"INT(9*(10^((Values!$F$6)-1))*RAND())","v":0},{"$f":"INT(9*(10^((Values!$F$6)-1))*RAND())","v":0},{"$f":"INT(9*(10^((Values!$F$6)-1))*RAND())","v":0},{"$f":"INT(9*(10^((Values!$F$6)-1))*RAND())","v":0},0]
[34,{"$f":"INT(9*(10^((Values!$F$6)-1))*RAND())","v":0},{"$f":"INT(9*(10^((Values!$F$6)-1))*RAND())","v":0},{"$f":"INT(9*(10^((Values!$F$6)-1))*RAND())","v":0},{"$f":"INT(9*(10^((Values!$F$6)-1))*RAND())","v":0},0]
[35,{"$f":"INT(9*(10^((Values!$F$6)-1))*RAND())","v":0},{"$f":"INT(9*(10^((Values!$F$6)-1))*RAND())","v":0},{"$f":"INT(9*(10^((Values!$F$6)-1))*RAND())","v":0},{"$f":"INT(9*(10^((Values!$F$6)-1))*RAND())","v":0},0]
[36,{"$f":"INT(9*(10^((Values!$F$6)-1))*RAND())","v":0},{"$f":"INT(9*(10^((Values!$F$6)-1))*RAND())","v":0},{"$f":"INT(9*(10^((Values!$F$6)-1))*RAND())","v":0},{"$f":"INT(9*(10^((Values!$F$6)-1))*RAND())","v":0},0]
[37,{"$f":"INT(9*(10^((Values!$F$6)-1))*RAND())","v":0},{"$f":"INT(9*(10^((Values!$F$6)-1))*RAND())","v":0},{"$f":"INT(9*(10^((Values!$F$6)-1))*RAND())","v":0},{"$f":"INT(9*(10^((Values!$F$6)-1))*RAND())","v":0},0]
[38,{"$f":"INT(9*(10^((Values!$F$6)-1))*RAND())","v":0},{"$f":"INT(9*(10^((Values!$F$6)-1))*RAND())","v":0},{"$f":"INT(9*(10^((Values!$F$6)-1))*RAND())","v":0},{"$f":"INT(9*(10^((Values!$F$6)-1))*RAND())","v":0},0]
[39,{"$f":"INT(9*(10^((Values!$F$6)-1))*RAND())","v":0},{"$f":"INT(9*(10^((Values!$F$6)-1))*RAND())","v":0},{"$f":"INT(9*(10^((Values!$F$6)-1))*RAND())","v":0},{"$f":"INT(9*(10^((Values!$F$6)-1))*RAND())","v":0},0]
[40,{"$f":"INT(9*(10^((Values!$F$6)-1))*RAND())","v":0},{"$f":"INT(9*(10^((Values!$F$6)-1))*RAND())","v":0},{"$f":"INT(9*(10^((Values!$F$6)-1))*RAND())","v":0},{"$f":"INT(9*(10^((Values!$F$6)-1))*RAND())","v":0},0]