{"text_format":"1","workbook":"xlsx","n_sheets":4,"sheets":["Values","Questions","Answers","Working"],"not_rendered":{"charts":0,"images":0,"macros":1,"external_links":0,"defined_names":1,"comments":0,"pivot_tables":0},"unopened":[],"bounds":{"document_bytes":16777216,"sheet_cells":100000,"rows_first":2000,"rows_last":500,"rows_between":2000,"halvings":0,"cell_chars":16384,"cell_head_chars":4096},"cells_cut":0,"cells_raw":0,"read":"whole","date_system":"1900"}

{"sheet":"Values","index":0,"n_rows":26,"n_cols":9,"rows_kept":26,"cut":false,"hidden":false,"merged":[[12,8,16,9],[14,2,17,7],[1,2,1,6],[3,2,4,7],[5,2,5,4],[7,2,8,7],[10,2,10,4],[12,2,12,6]]}
[null,null,null,null,"ADDITION & SUBTRACTION FACTS"]
[null,null,"INSTRUCTIONS"]
[]
[null,"Step 1","Enter the lowest answer to be used for this sheet. (A whole number >1 and < or = 20)"]
[]
[null,null,"Lowest Number"]
[]
[null,"Step 2","Enter the highest answer to be used for this sheet. (A whole number ≥ your lowest number and ≤ 20)"]
[]
[]
[null,null,"Highest Number"]
[]
[null,"Step 3","Click on WorkSheet tab below.",null,null,null,null,null,"PRESS F9 for NEW WorkSheet"]
[]
[null,"Note","If you hold down shift then click on the WorkSheet tab and the Answers tab, you will be able to print both the WorkSheet and the solutions."]
[]
[]
[]
[]
[null,null,"NOTES"]
[null,null,"* Practise adding and subtracting two numbers."]
[null,null,"* Addition gives an answer from 2 to 20 while subtraction in the inverse."]
[null,null,"* The questions have 1 and 2 digit numbers"]
[null,null,"* You can choose a single number or a range."]
[null,null,"* This WorkSheet will generate 100 questions at random."]
[null,null,"* Using 2 smaller numbers will generate a trivial WorkSheet"]

{"sheet":"Questions","index":1,"n_rows":28,"n_cols":23,"rows_kept":28,"cut":false,"hidden":false,"merged":[]}
[null,null,null,null,null,null,null,null,null,null,null,"ADDITION & SUBTRACTION FACTS"]
[null,null,null,null,null,null,null,null,null,null,null,null,null,null,null,null,"Worksheet ",null,null,{"$f":"CONCATENATE(Working!$B1,Working!$A1)","v":"ADF-813"}]
[]
[{"$f":"Working!A4","v":"1)"},{"$f":"Working!F4","v":{"$error":"#NUM!"}},"+",{"$f":"Working!D4","v":{"$error":"#NUM!"}},"=",null,{"$f":"Working!G4","v":"26)"},{"$f":"Working!L4","v":{"$error":"#NUM!"}},"+",{"$f":"Working!J4","v":{"$error":"#NUM!"}},"=",null,{"$f":"Working!M4","v":"51)"},{"$f":"Working!N4","v":0},"-",{"$f":"Working!P4","v":{"$error":"#NUM!"}},"=",null,{"$f":"Working!S4","v":"76)"},{"$f":"Working!T4","v":0},{"$f":"Working!U4","v":"-"},{"$f":"Working!V4","v":{"$error":"#NUM!"}},{"$f":"Working!W4","v":"="}]
[{"$f":"Working!A5","v":"2)"},{"$f":"Working!F5","v":{"$error":"#NUM!"}},"+",{"$f":"Working!D5","v":{"$error":"#NUM!"}},"=",null,{"$f":"Working!G5","v":"27)"},{"$f":"Working!L5","v":{"$error":"#NUM!"}},"+",{"$f":"Working!J5","v":{"$error":"#NUM!"}},"=",null,{"$f":"Working!M5","v":"52)"},{"$f":"Working!N5","v":0},"-",{"$f":"Working!P5","v":{"$error":"#NUM!"}},"=",null,{"$f":"Working!S5","v":"77)"},{"$f":"Working!T5","v":0},{"$f":"Working!U5","v":"-"},{"$f":"Working!V5","v":{"$error":"#NUM!"}},{"$f":"Working!W5","v":"="}]
[{"$f":"Working!A6","v":"3)"},{"$f":"Working!F6","v":{"$error":"#NUM!"}},"+",{"$f":"Working!D6","v":{"$error":"#NUM!"}},"=",null,{"$f":"Working!G6","v":"28)"},{"$f":"Working!L6","v":{"$error":"#NUM!"}},"+",{"$f":"Working!J6","v":{"$error":"#NUM!"}},"=",null,{"$f":"Working!M6","v":"53)"},{"$f":"Working!N6","v":0},"-",{"$f":"Working!P6","v":{"$error":"#NUM!"}},"=",null,{"$f":"Working!S6","v":"78)"},{"$f":"Working!T6","v":0},{"$f":"Working!U6","v":"-"},{"$f":"Working!V6","v":{"$error":"#NUM!"}},{"$f":"Working!W6","v":"="}]
[{"$f":"Working!A7","v":"4)"},{"$f":"Working!F7","v":{"$error":"#NUM!"}},"+",{"$f":"Working!D7","v":{"$error":"#NUM!"}},"=",null,{"$f":"Working!G7","v":"29)"},{"$f":"Working!L7","v":{"$error":"#NUM!"}},"+",{"$f":"Working!J7","v":{"$error":"#NUM!"}},"=",null,{"$f":"Working!M7","v":"54)"},{"$f":"Working!N7","v":0},"-",{"$f":"Working!P7","v":{"$error":"#NUM!"}},"=",null,{"$f":"Working!S7","v":"79)"},{"$f":"Working!T7","v":0},{"$f":"Working!U7","v":"-"},{"$f":"Working!V7","v":{"$error":"#NUM!"}},{"$f":"Working!W7","v":"="}]
[{"$f":"Working!A8","v":"5)"},{"$f":"Working!F8","v":{"$error":"#NUM!"}},"+",{"$f":"Working!D8","v":{"$error":"#NUM!"}},"=",null,{"$f":"Working!G8","v":"30)"},{"$f":"Working!L8","v":{"$error":"#NUM!"}},"+",{"$f":"Working!J8","v":{"$error":"#NUM!"}},"=",null,{"$f":"Working!M8","v":"55)"},{"$f":"Working!N8","v":0},"-",{"$f":"Working!P8","v":{"$error":"#NUM!"}},"=",null,{"$f":"Working!S8","v":"80)"},{"$f":"Working!T8","v":0},{"$f":"Working!U8","v":"-"},{"$f":"Working!V8","v":{"$error":"#NUM!"}},{"$f":"Working!W8","v":"="}]
[{"$f":"Working!A9","v":"6)"},{"$f":"Working!F9","v":{"$error":"#NUM!"}},"+",{"$f":"Working!D9","v":{"$error":"#NUM!"}},"=",null,{"$f":"Working!G9","v":"31)"},{"$f":"Working!L9","v":{"$error":"#NUM!"}},"+",{"$f":"Working!J9","v":{"$error":"#NUM!"}},"=",null,{"$f":"Working!M9","v":"56)"},{"$f":"Working!N9","v":0},"-",{"$f":"Working!P9","v":{"$error":"#NUM!"}},"=",null,{"$f":"Working!S9","v":"81)"},{"$f":"Working!T9","v":0},{"$f":"Working!U9","v":"-"},{"$f":"Working!V9","v":{"$error":"#NUM!"}},{"$f":"Working!W9","v":"="}]
[{"$f":"Working!A10","v":"7)"},{"$f":"Working!F10","v":{"$error":"#NUM!"}},"+",{"$f":"Working!D10","v":{"$error":"#NUM!"}},"=",null,{"$f":"Working!G10","v":"32)"},{"$f":"Working!L10","v":{"$error":"#NUM!"}},"+",{"$f":"Working!J10","v":{"$error":"#NUM!"}},"=",null,{"$f":"Working!M10","v":"57)"},{"$f":"Working!N10","v":0},"-",{"$f":"Working!P10","v":{"$error":"#NUM!"}},"=",null,{"$f":"Working!S10","v":"82)"},{"$f":"Working!T10","v":0},{"$f":"Working!U10","v":"-"},{"$f":"Working!V10","v":{"$error":"#NUM!"}},{"$f":"Working!W10","v":"="}]
[{"$f":"Working!A11","v":"8)"},{"$f":"Working!F11","v":{"$error":"#NUM!"}},"+",{"$f":"Working!D11","v":{"$error":"#NUM!"}},"=",null,{"$f":"Working!G11","v":"33)"},{"$f":"Working!L11","v":{"$error":"#NUM!"}},"+",{"$f":"Working!J11","v":{"$error":"#NUM!"}},"=",null,{"$f":"Working!M11","v":"58)"},{"$f":"Working!N11","v":0},"-",{"$f":"Working!P11","v":{"$error":"#NUM!"}},"=",null,{"$f":"Working!S11","v":"83)"},{"$f":"Working!T11","v":0},{"$f":"Working!U11","v":"-"},{"$f":"Working!V11","v":{"$error":"#NUM!"}},{"$f":"Working!W11","v":"="}]
[{"$f":"Working!A12","v":"9)"},{"$f":"Working!F12","v":{"$error":"#NUM!"}},"+",{"$f":"Working!D12","v":{"$error":"#NUM!"}},"=",null,{"$f":"Working!G12","v":"34)"},{"$f":"Working!L12","v":{"$error":"#NUM!"}},"+",{"$f":"Working!J12","v":{"$error":"#NUM!"}},"=",null,{"$f":"Working!M12","v":"59)"},{"$f":"Working!N12","v":0},"-",{"$f":"Working!P12","v":{"$error":"#NUM!"}},"=",null,{"$f":"Working!S12","v":"84)"},{"$f":"Working!T12","v":0},{"$f":"Working!U12","v":"-"},{"$f":"Working!V12","v":{"$error":"#NUM!"}},{"$f":"Working!W12","v":"="}]
[{"$f":"Working!A13","v":"10)"},{"$f":"Working!F13","v":{"$error":"#NUM!"}},"+",{"$f":"Working!D13","v":{"$error":"#NUM!"}},"=",null,{"$f":"Working!G13","v":"35)"},{"$f":"Working!L13","v":{"$error":"#NUM!"}},"+",{"$f":"Working!J13","v":{"$error":"#NUM!"}},"=",null,{"$f":"Working!M13","v":"60)"},{"$f":"Working!N13","v":0},"-",{"$f":"Working!P13","v":{"$error":"#NUM!"}},"=",null,{"$f":"Working!S13","v":"85)"},{"$f":"Working!T13","v":0},{"$f":"Working!U13","v":"-"},{"$f":"Working!V13","v":{"$error":"#NUM!"}},{"$f":"Working!W13","v":"="}]
[{"$f":"Working!A14","v":"11)"},{"$f":"Working!F14","v":{"$error":"#NUM!"}},"+",{"$f":"Working!D14","v":{"$error":"#NUM!"}},"=",null,{"$f":"Working!G14","v":"36)"},{"$f":"Working!L14","v":{"$error":"#NUM!"}},"+",{"$f":"Working!J14","v":{"$error":"#NUM!"}},"=",null,{"$f":"Working!M14","v":"61)"},{"$f":"Working!N14","v":0},"-",{"$f":"Working!P14","v":{"$error":"#NUM!"}},"=",null,{"$f":"Working!S14","v":"86)"},{"$f":"Working!T14","v":0},{"$f":"Working!U14","v":"-"},{"$f":"Working!V14","v":{"$error":"#NUM!"}},{"$f":"Working!W14","v":"="}]
[{"$f":"Working!A15","v":"12)"},{"$f":"Working!F15","v":{"$error":"#NUM!"}},"+",{"$f":"Working!D15","v":{"$error":"#NUM!"}},"=",null,{"$f":"Working!G15","v":"37)"},{"$f":"Working!L15","v":{"$error":"#NUM!"}},"+",{"$f":"Working!J15","v":{"$error":"#NUM!"}},"=",null,{"$f":"Working!M15","v":"62)"},{"$f":"Working!N15","v":0},"-",{"$f":"Working!P15","v":{"$error":"#NUM!"}},"=",null,{"$f":"Working!S15","v":"87)"},{"$f":"Working!T15","v":0},{"$f":"Working!U15","v":"-"},{"$f":"Working!V15","v":{"$error":"#NUM!"}},{"$f":"Working!W15","v":"="}]
[{"$f":"Working!A16","v":"13)"},{"$f":"Working!F16","v":{"$error":"#NUM!"}},"+",{"$f":"Working!D16","v":{"$error":"#NUM!"}},"=",null,{"$f":"Working!G16","v":"38)"},{"$f":"Working!L16","v":{"$error":"#NUM!"}},"+",{"$f":"Working!J16","v":{"$error":"#NUM!"}},"=",null,{"$f":"Working!M16","v":"63)"},{"$f":"Working!N16","v":0},"-",{"$f":"Working!P16","v":{"$error":"#NUM!"}},"=",null,{"$f":"Working!S16","v":"88)"},{"$f":"Working!T16","v":0},{"$f":"Working!U16","v":"-"},{"$f":"Working!V16","v":{"$error":"#NUM!"}},{"$f":"Working!W16","v":"="}]
[{"$f":"Working!A17","v":"14)"},{"$f":"Working!F17","v":{"$error":"#NUM!"}},"+",{"$f":"Working!D17","v":{"$error":"#NUM!"}},"=",null,{"$f":"Working!G17","v":"39)"},{"$f":"Working!L17","v":{"$error":"#NUM!"}},"+",{"$f":"Working!J17","v":{"$error":"#NUM!"}},"=",null,{"$f":"Working!M17","v":"64)"},{"$f":"Working!N17","v":0},"-",{"$f":"Working!P17","v":{"$error":"#NUM!"}},"=",null,{"$f":"Working!S17","v":"89)"},{"$f":"Working!T17","v":0},{"$f":"Working!U17","v":"-"},{"$f":"Working!V17","v":{"$error":"#NUM!"}},{"$f":"Working!W17","v":"="}]
[{"$f":"Working!A18","v":"15)"},{"$f":"Working!F18","v":{"$error":"#NUM!"}},"+",{"$f":"Working!D18","v":{"$error":"#NUM!"}},"=",null,{"$f":"Working!G18","v":"40)"},{"$f":"Working!L18","v":{"$error":"#NUM!"}},"+",{"$f":"Working!J18","v":{"$error":"#NUM!"}},"=",null,{"$f":"Working!M18","v":"65)"},{"$f":"Working!N18","v":0},"-",{"$f":"Working!P18","v":{"$error":"#NUM!"}},"=",null,{"$f":"Working!S18","v":"90)"},{"$f":"Working!T18","v":0},{"$f":"Working!U18","v":"-"},{"$f":"Working!V18","v":{"$error":"#NUM!"}},{"$f":"Working!W18","v":"="}]
[{"$f":"Working!A19","v":"16)"},{"$f":"Working!F19","v":{"$error":"#NUM!"}},"+",{"$f":"Working!D19","v":{"$error":"#NUM!"}},"=",null,{"$f":"Working!G19","v":"41)"},{"$f":"Working!L19","v":{"$error":"#NUM!"}},"+",{"$f":"Working!J19","v":{"$error":"#NUM!"}},"=",null,{"$f":"Working!M19","v":"66)"},{"$f":"Working!N19","v":0},"-",{"$f":"Working!P19","v":{"$error":"#NUM!"}},"=",null,{"$f":"Working!S19","v":"91)"},{"$f":"Working!T19","v":0},{"$f":"Working!U19","v":"-"},{"$f":"Working!V19","v":{"$error":"#NUM!"}},{"$f":"Working!W19","v":"="}]
[{"$f":"Working!A20","v":"17)"},{"$f":"Working!F20","v":{"$error":"#NUM!"}},"+",{"$f":"Working!D20","v":{"$error":"#NUM!"}},"=",null,{"$f":"Working!G20","v":"42)"},{"$f":"Working!L20","v":{"$error":"#NUM!"}},"+",{"$f":"Working!J20","v":{"$error":"#NUM!"}},"=",null,{"$f":"Working!M20","v":"67)"},{"$f":"Working!N20","v":0},"-",{"$f":"Working!P20","v":{"$error":"#NUM!"}},"=",null,{"$f":"Working!S20","v":"92)"},{"$f":"Working!T20","v":0},{"$f":"Working!U20","v":"-"},{"$f":"Working!V20","v":{"$error":"#NUM!"}},{"$f":"Working!W20","v":"="}]
[{"$f":"Working!A21","v":"18)"},{"$f":"Working!F21","v":{"$error":"#NUM!"}},"+",{"$f":"Working!D21","v":{"$error":"#NUM!"}},"=",null,{"$f":"Working!G21","v":"43)"},{"$f":"Working!L21","v":{"$error":"#NUM!"}},"+",{"$f":"Working!J21","v":{"$error":"#NUM!"}},"=",null,{"$f":"Working!M21","v":"68)"},{"$f":"Working!N21","v":0},"-",{"$f":"Working!P21","v":{"$error":"#NUM!"}},"=",null,{"$f":"Working!S21","v":"93)"},{"$f":"Working!T21","v":0},{"$f":"Working!U21","v":"-"},{"$f":"Working!V21","v":{"$error":"#NUM!"}},{"$f":"Working!W21","v":"="}]
[{"$f":"Working!A22","v":"19)"},{"$f":"Working!F22","v":{"$error":"#NUM!"}},"+",{"$f":"Working!D22","v":{"$error":"#NUM!"}},"=",null,{"$f":"Working!G22","v":"44)"},{"$f":"Working!L22","v":{"$error":"#NUM!"}},"+",{"$f":"Working!J22","v":{"$error":"#NUM!"}},"=",null,{"$f":"Working!M22","v":"69)"},{"$f":"Working!N22","v":0},"-",{"$f":"Working!P22","v":{"$error":"#NUM!"}},"=",null,{"$f":"Working!S22","v":"94)"},{"$f":"Working!T22","v":0},{"$f":"Working!U22","v":"-"},{"$f":"Working!V22","v":{"$error":"#NUM!"}},{"$f":"Working!W22","v":"="}]
[{"$f":"Working!A23","v":"20)"},{"$f":"Working!F23","v":{"$error":"#NUM!"}},"+",{"$f":"Working!D23","v":{"$error":"#NUM!"}},"=",null,{"$f":"Working!G23","v":"45)"},{"$f":"Working!L23","v":{"$error":"#NUM!"}},"+",{"$f":"Working!J23","v":{"$error":"#NUM!"}},"=",null,{"$f":"Working!M23","v":"70)"},{"$f":"Working!N23","v":0},"-",{"$f":"Working!P23","v":{"$error":"#NUM!"}},"=",null,{"$f":"Working!S23","v":"95)"},{"$f":"Working!T23","v":0},{"$f":"Working!U23","v":"-"},{"$f":"Working!V23","v":{"$error":"#NUM!"}},{"$f":"Working!W23","v":"="}]
[{"$f":"Working!A24","v":"21)"},{"$f":"Working!F24","v":{"$error":"#NUM!"}},"+",{"$f":"Working!D24","v":{"$error":"#NUM!"}},"=",null,{"$f":"Working!G24","v":"46)"},{"$f":"Working!L24","v":{"$error":"#NUM!"}},"+",{"$f":"Working!J24","v":{"$error":"#NUM!"}},"=",null,{"$f":"Working!M24","v":"71)"},{"$f":"Working!N24","v":0},"-",{"$f":"Working!P24","v":{"$error":"#NUM!"}},"=",null,{"$f":"Working!S24","v":"96)"},{"$f":"Working!T24","v":0},{"$f":"Working!U24","v":"-"},{"$f":"Working!V24","v":{"$error":"#NUM!"}},{"$f":"Working!W24","v":"="}]
[{"$f":"Working!A25","v":"22)"},{"$f":"Working!F25","v":{"$error":"#NUM!"}},"+",{"$f":"Working!D25","v":{"$error":"#NUM!"}},"=",null,{"$f":"Working!G25","v":"47)"},{"$f":"Working!L25","v":{"$error":"#NUM!"}},"+",{"$f":"Working!J25","v":{"$error":"#NUM!"}},"=",null,{"$f":"Working!M25","v":"72)"},{"$f":"Working!N25","v":0},"-",{"$f":"Working!P25","v":{"$error":"#NUM!"}},"=",null,{"$f":"Working!S25","v":"97)"},{"$f":"Working!T25","v":0},{"$f":"Working!U25","v":"-"},{"$f":"Working!V25","v":{"$error":"#NUM!"}},{"$f":"Working!W25","v":"="}]
[{"$f":"Working!A26","v":"23)"},{"$f":"Working!F26","v":{"$error":"#NUM!"}},"+",{"$f":"Working!D26","v":{"$error":"#NUM!"}},"=",null,{"$f":"Working!G26","v":"48)"},{"$f":"Working!L26","v":{"$error":"#NUM!"}},"+",{"$f":"Working!J26","v":{"$error":"#NUM!"}},"=",null,{"$f":"Working!M26","v":"73)"},{"$f":"Working!N26","v":0},"-",{"$f":"Working!P26","v":{"$error":"#NUM!"}},"=",null,{"$f":"Working!S26","v":"98)"},{"$f":"Working!T26","v":0},{"$f":"Working!U26","v":"-"},{"$f":"Working!V26","v":{"$error":"#NUM!"}},{"$f":"Working!W26","v":"="}]
[{"$f":"Working!A27","v":"24)"},{"$f":"Working!F27","v":{"$error":"#NUM!"}},"+",{"$f":"Working!D27","v":{"$error":"#NUM!"}},"=",null,{"$f":"Working!G27","v":"49)"},{"$f":"Working!L27","v":{"$error":"#NUM!"}},"+",{"$f":"Working!J27","v":{"$error":"#NUM!"}},"=",null,{"$f":"Working!M27","v":"74)"},{"$f":"Working!N27","v":0},"-",{"$f":"Working!P27","v":{"$error":"#NUM!"}},"=",null,{"$f":"Working!S27","v":"99)"},{"$f":"Working!T27","v":0},{"$f":"Working!U27","v":"-"},{"$f":"Working!V27","v":{"$error":"#NUM!"}},{"$f":"Working!W27","v":"="}]
[{"$f":"Working!A28","v":"25)"},{"$f":"Working!F28","v":{"$error":"#NUM!"}},"+",{"$f":"Working!D28","v":{"$error":"#NUM!"}},"=",null,{"$f":"Working!G28","v":"50)"},{"$f":"Working!L28","v":{"$error":"#NUM!"}},"+",{"$f":"Working!J28","v":{"$error":"#NUM!"}},"=",null,{"$f":"Working!M28","v":"75)"},{"$f":"Working!N28","v":0},"-",{"$f":"Working!P28","v":{"$error":"#NUM!"}},"=",null,{"$f":"Working!S28","v":"100)"},{"$f":"Working!T28","v":0},{"$f":"Working!U28","v":"-"},{"$f":"Working!V28","v":{"$error":"#NUM!"}},{"$f":"Working!W28","v":"="}]

{"sheet":"Answers","index":2,"n_rows":28,"n_cols":24,"rows_kept":28,"cut":false,"hidden":false,"merged":[]}
[null,null,null,null,null,null,null,null,null,null,null,"ADDITION & SUBTRACTION FACTS"]
[null,null,null,null,null,null,null,null,null,null,null,"ANSWERS",null,null,null,null,"Worksheet ",null,null,{"$f":"CONCATENATE(Working!$B1,Working!$A1)","v":"ADF-813"}]
[]
[{"$f":"Working!A4","v":"1)"},{"$f":"Working!F4","v":{"$error":"#NUM!"}},"+",{"$f":"Working!D4","v":{"$error":"#NUM!"}},"=",{"$f":"Working!B4","v":0},{"$f":"Working!G4","v":"26)"},{"$f":"Working!L4","v":{"$error":"#NUM!"}},"+",{"$f":"Working!J4","v":{"$error":"#NUM!"}},"=",{"$f":"Working!H4","v":0},{"$f":"Working!M4","v":"51)"},{"$f":"Working!N4","v":0},"-",{"$f":"Working!P4","v":{"$error":"#NUM!"}},"=",{"$f":"Working!R4","v":{"$error":"#NUM!"}},{"$f":"Working!S4","v":"76)"},{"$f":"Working!T4","v":0},{"$f":"Working!U4","v":"-"},{"$f":"Working!V4","v":{"$error":"#NUM!"}},{"$f":"Working!W4","v":"="},{"$f":"Working!X4","v":{"$error":"#NUM!"}}]
[{"$f":"Working!A5","v":"2)"},{"$f":"Working!F5","v":{"$error":"#NUM!"}},"+",{"$f":"Working!D5","v":{"$error":"#NUM!"}},"=",{"$f":"Working!B5","v":0},{"$f":"Working!G5","v":"27)"},{"$f":"Working!L5","v":{"$error":"#NUM!"}},"+",{"$f":"Working!J5","v":{"$error":"#NUM!"}},"=",{"$f":"Working!H5","v":0},{"$f":"Working!M5","v":"52)"},{"$f":"Working!N5","v":0},"-",{"$f":"Working!P5","v":{"$error":"#NUM!"}},"=",{"$f":"Working!R5","v":{"$error":"#NUM!"}},{"$f":"Working!S5","v":"77)"},{"$f":"Working!T5","v":0},{"$f":"Working!U5","v":"-"},{"$f":"Working!V5","v":{"$error":"#NUM!"}},{"$f":"Working!W5","v":"="},{"$f":"Working!X5","v":{"$error":"#NUM!"}}]
[{"$f":"Working!A6","v":"3)"},{"$f":"Working!F6","v":{"$error":"#NUM!"}},"+",{"$f":"Working!D6","v":{"$error":"#NUM!"}},"=",{"$f":"Working!B6","v":0},{"$f":"Working!G6","v":"28)"},{"$f":"Working!L6","v":{"$error":"#NUM!"}},"+",{"$f":"Working!J6","v":{"$error":"#NUM!"}},"=",{"$f":"Working!H6","v":0},{"$f":"Working!M6","v":"53)"},{"$f":"Working!N6","v":0},"-",{"$f":"Working!P6","v":{"$error":"#NUM!"}},"=",{"$f":"Working!R6","v":{"$error":"#NUM!"}},{"$f":"Working!S6","v":"78)"},{"$f":"Working!T6","v":0},{"$f":"Working!U6","v":"-"},{"$f":"Working!V6","v":{"$error":"#NUM!"}},{"$f":"Working!W6","v":"="},{"$f":"Working!X6","v":{"$error":"#NUM!"}}]
[{"$f":"Working!A7","v":"4)"},{"$f":"Working!F7","v":{"$error":"#NUM!"}},"+",{"$f":"Working!D7","v":{"$error":"#NUM!"}},"=",{"$f":"Working!B7","v":0},{"$f":"Working!G7","v":"29)"},{"$f":"Working!L7","v":{"$error":"#NUM!"}},"+",{"$f":"Working!J7","v":{"$error":"#NUM!"}},"=",{"$f":"Working!H7","v":0},{"$f":"Working!M7","v":"54)"},{"$f":"Working!N7","v":0},"-",{"$f":"Working!P7","v":{"$error":"#NUM!"}},"=",{"$f":"Working!R7","v":{"$error":"#NUM!"}},{"$f":"Working!S7","v":"79)"},{"$f":"Working!T7","v":0},{"$f":"Working!U7","v":"-"},{"$f":"Working!V7","v":{"$error":"#NUM!"}},{"$f":"Working!W7","v":"="},{"$f":"Working!X7","v":{"$error":"#NUM!"}}]
[{"$f":"Working!A8","v":"5)"},{"$f":"Working!F8","v":{"$error":"#NUM!"}},"+",{"$f":"Working!D8","v":{"$error":"#NUM!"}},"=",{"$f":"Working!B8","v":0},{"$f":"Working!G8","v":"30)"},{"$f":"Working!L8","v":{"$error":"#NUM!"}},"+",{"$f":"Working!J8","v":{"$error":"#NUM!"}},"=",{"$f":"Working!H8","v":0},{"$f":"Working!M8","v":"55)"},{"$f":"Working!N8","v":0},"-",{"$f":"Working!P8","v":{"$error":"#NUM!"}},"=",{"$f":"Working!R8","v":{"$error":"#NUM!"}},{"$f":"Working!S8","v":"80)"},{"$f":"Working!T8","v":0},{"$f":"Working!U8","v":"-"},{"$f":"Working!V8","v":{"$error":"#NUM!"}},{"$f":"Working!W8","v":"="},{"$f":"Working!X8","v":{"$error":"#NUM!"}}]
[{"$f":"Working!A9","v":"6)"},{"$f":"Working!F9","v":{"$error":"#NUM!"}},"+",{"$f":"Working!D9","v":{"$error":"#NUM!"}},"=",{"$f":"Working!B9","v":0},{"$f":"Working!G9","v":"31)"},{"$f":"Working!L9","v":{"$error":"#NUM!"}},"+",{"$f":"Working!J9","v":{"$error":"#NUM!"}},"=",{"$f":"Working!H9","v":0},{"$f":"Working!M9","v":"56)"},{"$f":"Working!N9","v":0},"-",{"$f":"Working!P9","v":{"$error":"#NUM!"}},"=",{"$f":"Working!R9","v":{"$error":"#NUM!"}},{"$f":"Working!S9","v":"81)"},{"$f":"Working!T9","v":0},{"$f":"Working!U9","v":"-"},{"$f":"Working!V9","v":{"$error":"#NUM!"}},{"$f":"Working!W9","v":"="},{"$f":"Working!X9","v":{"$error":"#NUM!"}}]
[{"$f":"Working!A10","v":"7)"},{"$f":"Working!F10","v":{"$error":"#NUM!"}},"+",{"$f":"Working!D10","v":{"$error":"#NUM!"}},"=",{"$f":"Working!B10","v":0},{"$f":"Working!G10","v":"32)"},{"$f":"Working!L10","v":{"$error":"#NUM!"}},"+",{"$f":"Working!J10","v":{"$error":"#NUM!"}},"=",{"$f":"Working!H10","v":0},{"$f":"Working!M10","v":"57)"},{"$f":"Working!N10","v":0},"-",{"$f":"Working!P10","v":{"$error":"#NUM!"}},"=",{"$f":"Working!R10","v":{"$error":"#NUM!"}},{"$f":"Working!S10","v":"82)"},{"$f":"Working!T10","v":0},{"$f":"Working!U10","v":"-"},{"$f":"Working!V10","v":{"$error":"#NUM!"}},{"$f":"Working!W10","v":"="},{"$f":"Working!X10","v":{"$error":"#NUM!"}}]
[{"$f":"Working!A11","v":"8)"},{"$f":"Working!F11","v":{"$error":"#NUM!"}},"+",{"$f":"Working!D11","v":{"$error":"#NUM!"}},"=",{"$f":"Working!B11","v":0},{"$f":"Working!G11","v":"33)"},{"$f":"Working!L11","v":{"$error":"#NUM!"}},"+",{"$f":"Working!J11","v":{"$error":"#NUM!"}},"=",{"$f":"Working!H11","v":0},{"$f":"Working!M11","v":"58)"},{"$f":"Working!N11","v":0},"-",{"$f":"Working!P11","v":{"$error":"#NUM!"}},"=",{"$f":"Working!R11","v":{"$error":"#NUM!"}},{"$f":"Working!S11","v":"83)"},{"$f":"Working!T11","v":0},{"$f":"Working!U11","v":"-"},{"$f":"Working!V11","v":{"$error":"#NUM!"}},{"$f":"Working!W11","v":"="},{"$f":"Working!X11","v":{"$error":"#NUM!"}}]
[{"$f":"Working!A12","v":"9)"},{"$f":"Working!F12","v":{"$error":"#NUM!"}},"+",{"$f":"Working!D12","v":{"$error":"#NUM!"}},"=",{"$f":"Working!B12","v":0},{"$f":"Working!G12","v":"34)"},{"$f":"Working!L12","v":{"$error":"#NUM!"}},"+",{"$f":"Working!J12","v":{"$error":"#NUM!"}},"=",{"$f":"Working!H12","v":0},{"$f":"Working!M12","v":"59)"},{"$f":"Working!N12","v":0},"-",{"$f":"Working!P12","v":{"$error":"#NUM!"}},"=",{"$f":"Working!R12","v":{"$error":"#NUM!"}},{"$f":"Working!S12","v":"84)"},{"$f":"Working!T12","v":0},{"$f":"Working!U12","v":"-"},{"$f":"Working!V12","v":{"$error":"#NUM!"}},{"$f":"Working!W12","v":"="},{"$f":"Working!X12","v":{"$error":"#NUM!"}}]
[{"$f":"Working!A13","v":"10)"},{"$f":"Working!F13","v":{"$error":"#NUM!"}},"+",{"$f":"Working!D13","v":{"$error":"#NUM!"}},"=",{"$f":"Working!B13","v":0},{"$f":"Working!G13","v":"35)"},{"$f":"Working!L13","v":{"$error":"#NUM!"}},"+",{"$f":"Working!J13","v":{"$error":"#NUM!"}},"=",{"$f":"Working!H13","v":0},{"$f":"Working!M13","v":"60)"},{"$f":"Working!N13","v":0},"-",{"$f":"Working!P13","v":{"$error":"#NUM!"}},"=",{"$f":"Working!R13","v":{"$error":"#NUM!"}},{"$f":"Working!S13","v":"85)"},{"$f":"Working!T13","v":0},{"$f":"Working!U13","v":"-"},{"$f":"Working!V13","v":{"$error":"#NUM!"}},{"$f":"Working!W13","v":"="},{"$f":"Working!X13","v":{"$error":"#NUM!"}}]
[{"$f":"Working!A14","v":"11)"},{"$f":"Working!F14","v":{"$error":"#NUM!"}},"+",{"$f":"Working!D14","v":{"$error":"#NUM!"}},"=",{"$f":"Working!B14","v":0},{"$f":"Working!G14","v":"36)"},{"$f":"Working!L14","v":{"$error":"#NUM!"}},"+",{"$f":"Working!J14","v":{"$error":"#NUM!"}},"=",{"$f":"Working!H14","v":0},{"$f":"Working!M14","v":"61)"},{"$f":"Working!N14","v":0},"-",{"$f":"Working!P14","v":{"$error":"#NUM!"}},"=",{"$f":"Working!R14","v":{"$error":"#NUM!"}},{"$f":"Working!S14","v":"86)"},{"$f":"Working!T14","v":0},{"$f":"Working!U14","v":"-"},{"$f":"Working!V14","v":{"$error":"#NUM!"}},{"$f":"Working!W14","v":"="},{"$f":"Working!X14","v":{"$error":"#NUM!"}}]
[{"$f":"Working!A15","v":"12)"},{"$f":"Working!F15","v":{"$error":"#NUM!"}},"+",{"$f":"Working!D15","v":{"$error":"#NUM!"}},"=",{"$f":"Working!B15","v":0},{"$f":"Working!G15","v":"37)"},{"$f":"Working!L15","v":{"$error":"#NUM!"}},"+",{"$f":"Working!J15","v":{"$error":"#NUM!"}},"=",{"$f":"Working!H15","v":0},{"$f":"Working!M15","v":"62)"},{"$f":"Working!N15","v":0},"-",{"$f":"Working!P15","v":{"$error":"#NUM!"}},"=",{"$f":"Working!R15","v":{"$error":"#NUM!"}},{"$f":"Working!S15","v":"87)"},{"$f":"Working!T15","v":0},{"$f":"Working!U15","v":"-"},{"$f":"Working!V15","v":{"$error":"#NUM!"}},{"$f":"Working!W15","v":"="},{"$f":"Working!X15","v":{"$error":"#NUM!"}}]
[{"$f":"Working!A16","v":"13)"},{"$f":"Working!F16","v":{"$error":"#NUM!"}},"+",{"$f":"Working!D16","v":{"$error":"#NUM!"}},"=",{"$f":"Working!B16","v":0},{"$f":"Working!G16","v":"38)"},{"$f":"Working!L16","v":{"$error":"#NUM!"}},"+",{"$f":"Working!J16","v":{"$error":"#NUM!"}},"=",{"$f":"Working!H16","v":0},{"$f":"Working!M16","v":"63)"},{"$f":"Working!N16","v":0},"-",{"$f":"Working!P16","v":{"$error":"#NUM!"}},"=",{"$f":"Working!R16","v":{"$error":"#NUM!"}},{"$f":"Working!S16","v":"88)"},{"$f":"Working!T16","v":0},{"$f":"Working!U16","v":"-"},{"$f":"Working!V16","v":{"$error":"#NUM!"}},{"$f":"Working!W16","v":"="},{"$f":"Working!X16","v":{"$error":"#NUM!"}}]
[{"$f":"Working!A17","v":"14)"},{"$f":"Working!F17","v":{"$error":"#NUM!"}},"+",{"$f":"Working!D17","v":{"$error":"#NUM!"}},"=",{"$f":"Working!B17","v":0},{"$f":"Working!G17","v":"39)"},{"$f":"Working!L17","v":{"$error":"#NUM!"}},"+",{"$f":"Working!J17","v":{"$error":"#NUM!"}},"=",{"$f":"Working!H17","v":0},{"$f":"Working!M17","v":"64)"},{"$f":"Working!N17","v":0},"-",{"$f":"Working!P17","v":{"$error":"#NUM!"}},"=",{"$f":"Working!R17","v":{"$error":"#NUM!"}},{"$f":"Working!S17","v":"89)"},{"$f":"Working!T17","v":0},{"$f":"Working!U17","v":"-"},{"$f":"Working!V17","v":{"$error":"#NUM!"}},{"$f":"Working!W17","v":"="},{"$f":"Working!X17","v":{"$error":"#NUM!"}}]
[{"$f":"Working!A18","v":"15)"},{"$f":"Working!F18","v":{"$error":"#NUM!"}},"+",{"$f":"Working!D18","v":{"$error":"#NUM!"}},"=",{"$f":"Working!B18","v":0},{"$f":"Working!G18","v":"40)"},{"$f":"Working!L18","v":{"$error":"#NUM!"}},"+",{"$f":"Working!J18","v":{"$error":"#NUM!"}},"=",{"$f":"Working!H18","v":0},{"$f":"Working!M18","v":"65)"},{"$f":"Working!N18","v":0},"-",{"$f":"Working!P18","v":{"$error":"#NUM!"}},"=",{"$f":"Working!R18","v":{"$error":"#NUM!"}},{"$f":"Working!S18","v":"90)"},{"$f":"Working!T18","v":0},{"$f":"Working!U18","v":"-"},{"$f":"Working!V18","v":{"$error":"#NUM!"}},{"$f":"Working!W18","v":"="},{"$f":"Working!X18","v":{"$error":"#NUM!"}}]
[{"$f":"Working!A19","v":"16)"},{"$f":"Working!F19","v":{"$error":"#NUM!"}},"+",{"$f":"Working!D19","v":{"$error":"#NUM!"}},"=",{"$f":"Working!B19","v":0},{"$f":"Working!G19","v":"41)"},{"$f":"Working!L19","v":{"$error":"#NUM!"}},"+",{"$f":"Working!J19","v":{"$error":"#NUM!"}},"=",{"$f":"Working!H19","v":0},{"$f":"Working!M19","v":"66)"},{"$f":"Working!N19","v":0},"-",{"$f":"Working!P19","v":{"$error":"#NUM!"}},"=",{"$f":"Working!R19","v":{"$error":"#NUM!"}},{"$f":"Working!S19","v":"91)"},{"$f":"Working!T19","v":0},{"$f":"Working!U19","v":"-"},{"$f":"Working!V19","v":{"$error":"#NUM!"}},{"$f":"Working!W19","v":"="},{"$f":"Working!X19","v":{"$error":"#NUM!"}}]
[{"$f":"Working!A20","v":"17)"},{"$f":"Working!F20","v":{"$error":"#NUM!"}},"+",{"$f":"Working!D20","v":{"$error":"#NUM!"}},"=",{"$f":"Working!B20","v":0},{"$f":"Working!G20","v":"42)"},{"$f":"Working!L20","v":{"$error":"#NUM!"}},"+",{"$f":"Working!J20","v":{"$error":"#NUM!"}},"=",{"$f":"Working!H20","v":0},{"$f":"Working!M20","v":"67)"},{"$f":"Working!N20","v":0},"-",{"$f":"Working!P20","v":{"$error":"#NUM!"}},"=",{"$f":"Working!R20","v":{"$error":"#NUM!"}},{"$f":"Working!S20","v":"92)"},{"$f":"Working!T20","v":0},{"$f":"Working!U20","v":"-"},{"$f":"Working!V20","v":{"$error":"#NUM!"}},{"$f":"Working!W20","v":"="},{"$f":"Working!X20","v":{"$error":"#NUM!"}}]
[{"$f":"Working!A21","v":"18)"},{"$f":"Working!F21","v":{"$error":"#NUM!"}},"+",{"$f":"Working!D21","v":{"$error":"#NUM!"}},"=",{"$f":"Working!B21","v":0},{"$f":"Working!G21","v":"43)"},{"$f":"Working!L21","v":{"$error":"#NUM!"}},"+",{"$f":"Working!J21","v":{"$error":"#NUM!"}},"=",{"$f":"Working!H21","v":0},{"$f":"Working!M21","v":"68)"},{"$f":"Working!N21","v":0},"-",{"$f":"Working!P21","v":{"$error":"#NUM!"}},"=",{"$f":"Working!R21","v":{"$error":"#NUM!"}},{"$f":"Working!S21","v":"93)"},{"$f":"Working!T21","v":0},{"$f":"Working!U21","v":"-"},{"$f":"Working!V21","v":{"$error":"#NUM!"}},{"$f":"Working!W21","v":"="},{"$f":"Working!X21","v":{"$error":"#NUM!"}}]
[{"$f":"Working!A22","v":"19)"},{"$f":"Working!F22","v":{"$error":"#NUM!"}},"+",{"$f":"Working!D22","v":{"$error":"#NUM!"}},"=",{"$f":"Working!B22","v":0},{"$f":"Working!G22","v":"44)"},{"$f":"Working!L22","v":{"$error":"#NUM!"}},"+",{"$f":"Working!J22","v":{"$error":"#NUM!"}},"=",{"$f":"Working!H22","v":0},{"$f":"Working!M22","v":"69)"},{"$f":"Working!N22","v":0},"-",{"$f":"Working!P22","v":{"$error":"#NUM!"}},"=",{"$f":"Working!R22","v":{"$error":"#NUM!"}},{"$f":"Working!S22","v":"94)"},{"$f":"Working!T22","v":0},{"$f":"Working!U22","v":"-"},{"$f":"Working!V22","v":{"$error":"#NUM!"}},{"$f":"Working!W22","v":"="},{"$f":"Working!X22","v":{"$error":"#NUM!"}}]
[{"$f":"Working!A23","v":"20)"},{"$f":"Working!F23","v":{"$error":"#NUM!"}},"+",{"$f":"Working!D23","v":{"$error":"#NUM!"}},"=",{"$f":"Working!B23","v":0},{"$f":"Working!G23","v":"45)"},{"$f":"Working!L23","v":{"$error":"#NUM!"}},"+",{"$f":"Working!J23","v":{"$error":"#NUM!"}},"=",{"$f":"Working!H23","v":0},{"$f":"Working!M23","v":"70)"},{"$f":"Working!N23","v":0},"-",{"$f":"Working!P23","v":{"$error":"#NUM!"}},"=",{"$f":"Working!R23","v":{"$error":"#NUM!"}},{"$f":"Working!S23","v":"95)"},{"$f":"Working!T23","v":0},{"$f":"Working!U23","v":"-"},{"$f":"Working!V23","v":{"$error":"#NUM!"}},{"$f":"Working!W23","v":"="},{"$f":"Working!X23","v":{"$error":"#NUM!"}}]
[{"$f":"Working!A24","v":"21)"},{"$f":"Working!F24","v":{"$error":"#NUM!"}},"+",{"$f":"Working!D24","v":{"$error":"#NUM!"}},"=",{"$f":"Working!B24","v":0},{"$f":"Working!G24","v":"46)"},{"$f":"Working!L24","v":{"$error":"#NUM!"}},"+",{"$f":"Working!J24","v":{"$error":"#NUM!"}},"=",{"$f":"Working!H24","v":0},{"$f":"Working!M24","v":"71)"},{"$f":"Working!N24","v":0},"-",{"$f":"Working!P24","v":{"$error":"#NUM!"}},"=",{"$f":"Working!R24","v":{"$error":"#NUM!"}},{"$f":"Working!S24","v":"96)"},{"$f":"Working!T24","v":0},{"$f":"Working!U24","v":"-"},{"$f":"Working!V24","v":{"$error":"#NUM!"}},{"$f":"Working!W24","v":"="},{"$f":"Working!X24","v":{"$error":"#NUM!"}}]
[{"$f":"Working!A25","v":"22)"},{"$f":"Working!F25","v":{"$error":"#NUM!"}},"+",{"$f":"Working!D25","v":{"$error":"#NUM!"}},"=",{"$f":"Working!B25","v":0},{"$f":"Working!G25","v":"47)"},{"$f":"Working!L25","v":{"$error":"#NUM!"}},"+",{"$f":"Working!J25","v":{"$error":"#NUM!"}},"=",{"$f":"Working!H25","v":0},{"$f":"Working!M25","v":"72)"},{"$f":"Working!N25","v":0},"-",{"$f":"Working!P25","v":{"$error":"#NUM!"}},"=",{"$f":"Working!R25","v":{"$error":"#NUM!"}},{"$f":"Working!S25","v":"97)"},{"$f":"Working!T25","v":0},{"$f":"Working!U25","v":"-"},{"$f":"Working!V25","v":{"$error":"#NUM!"}},{"$f":"Working!W25","v":"="},{"$f":"Working!X25","v":{"$error":"#NUM!"}}]
[{"$f":"Working!A26","v":"23)"},{"$f":"Working!F26","v":{"$error":"#NUM!"}},"+",{"$f":"Working!D26","v":{"$error":"#NUM!"}},"=",{"$f":"Working!B26","v":0},{"$f":"Working!G26","v":"48)"},{"$f":"Working!L26","v":{"$error":"#NUM!"}},"+",{"$f":"Working!J26","v":{"$error":"#NUM!"}},"=",{"$f":"Working!H26","v":0},{"$f":"Working!M26","v":"73)"},{"$f":"Working!N26","v":0},"-",{"$f":"Working!P26","v":{"$error":"#NUM!"}},"=",{"$f":"Working!R26","v":{"$error":"#NUM!"}},{"$f":"Working!S26","v":"98)"},{"$f":"Working!T26","v":0},{"$f":"Working!U26","v":"-"},{"$f":"Working!V26","v":{"$error":"#NUM!"}},{"$f":"Working!W26","v":"="},{"$f":"Working!X26","v":{"$error":"#NUM!"}}]
[{"$f":"Working!A27","v":"24)"},{"$f":"Working!F27","v":{"$error":"#NUM!"}},"+",{"$f":"Working!D27","v":{"$error":"#NUM!"}},"=",{"$f":"Working!B27","v":0},{"$f":"Working!G27","v":"49)"},{"$f":"Working!L27","v":{"$error":"#NUM!"}},"+",{"$f":"Working!J27","v":{"$error":"#NUM!"}},"=",{"$f":"Working!H27","v":0},{"$f":"Working!M27","v":"74)"},{"$f":"Working!N27","v":0},"-",{"$f":"Working!P27","v":{"$error":"#NUM!"}},"=",{"$f":"Working!R27","v":{"$error":"#NUM!"}},{"$f":"Working!S27","v":"99)"},{"$f":"Working!T27","v":0},{"$f":"Working!U27","v":"-"},{"$f":"Working!V27","v":{"$error":"#NUM!"}},{"$f":"Working!W27","v":"="},{"$f":"Working!X27","v":{"$error":"#NUM!"}}]
[{"$f":"Working!A28","v":"25)"},{"$f":"Working!F28","v":{"$error":"#NUM!"}},"+",{"$f":"Working!D28","v":{"$error":"#NUM!"}},"=",{"$f":"Working!B28","v":0},{"$f":"Working!G28","v":"50)"},{"$f":"Working!L28","v":{"$error":"#NUM!"}},"+",{"$f":"Working!J28","v":{"$error":"#NUM!"}},"=",{"$f":"Working!H28","v":0},{"$f":"Working!M28","v":"75)"},{"$f":"Working!N28","v":0},"-",{"$f":"Working!P28","v":{"$error":"#NUM!"}},"=",{"$f":"Working!R28","v":{"$error":"#NUM!"}},{"$f":"Working!S28","v":"100)"},{"$f":"Working!T28","v":0},{"$f":"Working!U28","v":"-"},{"$f":"Working!V28","v":{"$error":"#NUM!"}},{"$f":"Working!W28","v":"="},{"$f":"Working!X28","v":{"$error":"#NUM!"}}]

{"sheet":"Working","index":3,"n_rows":28,"n_cols":24,"rows_kept":28,"cut":false,"hidden":true,"merged":[]}
[{"$f":"INT(1000*RAND()+10)","v":813},"ADF-",null,null,null,null,null,null,"ADDITION FACTS"]
[]
[null,"A",null,"1st",null,"2nd"]
["1)",{"$f":"INT((Values!$F$11-Values!$F$6+1)*RAND()+Values!$F$6)","v":0},"-",{"$f":"RANDBETWEEN(1,B4-1)","v":{"$error":"#NUM!"}},"=",{"$f":"B4-D4","v":{"$error":"#NUM!"}},"26)",{"$f":"INT((Values!$F$11-Values!$F$6+1)*RAND()+Values!$F$6)","v":0},"-",{"$f":"RANDBETWEEN(1,H4-1)","v":{"$error":"#NUM!"}},"=",{"$f":"H4-J4","v":{"$error":"#NUM!"}},"51)",{"$f":"INT((Values!$F$11-Values!$F$6+1)*RAND()+Values!$F$6)","v":0},"-",{"$f":"RANDBETWEEN(1,N4-1)","v":{"$error":"#NUM!"}},"=",{"$f":"N4-P4","v":{"$error":"#NUM!"}},"76)",{"$f":"INT((Values!$F$11-Values!$F$6+1)*RAND()+Values!$F$6)","v":0},"-",{"$f":"RANDBETWEEN(1,T4-1)","v":{"$error":"#NUM!"}},"=",{"$f":"T4-V4","v":{"$error":"#NUM!"}}]
["2)",{"$f":"INT((Values!$F$11-Values!$F$6+1)*RAND()+Values!$F$6)","v":0},"-",{"$f":"RANDBETWEEN(1,B5-1)","v":{"$error":"#NUM!"}},"=",{"$error":"#NUM!"},"27)",{"$f":"INT((Values!$F$11-Values!$F$6+1)*RAND()+Values!$F$6)","v":0},"-",{"$f":"RANDBETWEEN(1,H5-1)","v":{"$error":"#NUM!"}},"=",{"$error":"#NUM!"},"52)",{"$f":"INT((Values!$F$11-Values!$F$6+1)*RAND()+Values!$F$6)","v":0},"-",{"$f":"RANDBETWEEN(1,N5-1)","v":{"$error":"#NUM!"}},"=",{"$error":"#NUM!"},"77)",{"$f":"INT((Values!$F$11-Values!$F$6+1)*RAND()+Values!$F$6)","v":0},"-",{"$f":"RANDBETWEEN(1,T5-1)","v":{"$error":"#NUM!"}},"=",{"$error":"#NUM!"}]
["3)",{"$f":"INT((Values!$F$11-Values!$F$6+1)*RAND()+Values!$F$6)","v":0},"-",{"$error":"#NUM!"},"=",{"$error":"#NUM!"},"28)",{"$f":"INT((Values!$F$11-Values!$F$6+1)*RAND()+Values!$F$6)","v":0},"-",{"$error":"#NUM!"},"=",{"$error":"#NUM!"},"53)",{"$f":"INT((Values!$F$11-Values!$F$6+1)*RAND()+Values!$F$6)","v":0},"-",{"$error":"#NUM!"},"=",{"$error":"#NUM!"},"78)",{"$f":"INT((Values!$F$11-Values!$F$6+1)*RAND()+Values!$F$6)","v":0},"-",{"$error":"#NUM!"},"=",{"$error":"#NUM!"}]
["4)",{"$f":"INT((Values!$F$11-Values!$F$6+1)*RAND()+Values!$F$6)","v":0},"-",{"$error":"#NUM!"},"=",{"$error":"#NUM!"},"29)",{"$f":"INT((Values!$F$11-Values!$F$6+1)*RAND()+Values!$F$6)","v":0},"-",{"$error":"#NUM!"},"=",{"$error":"#NUM!"},"54)",{"$f":"INT((Values!$F$11-Values!$F$6+1)*RAND()+Values!$F$6)","v":0},"-",{"$error":"#NUM!"},"=",{"$error":"#NUM!"},"79)",{"$f":"INT((Values!$F$11-Values!$F$6+1)*RAND()+Values!$F$6)","v":0},"-",{"$error":"#NUM!"},"=",{"$error":"#NUM!"}]
["5)",{"$f":"INT((Values!$F$11-Values!$F$6+1)*RAND()+Values!$F$6)","v":0},"-",{"$error":"#NUM!"},"=",{"$error":"#NUM!"},"30)",{"$f":"INT((Values!$F$11-Values!$F$6+1)*RAND()+Values!$F$6)","v":0},"-",{"$error":"#NUM!"},"=",{"$error":"#NUM!"},"55)",{"$f":"INT((Values!$F$11-Values!$F$6+1)*RAND()+Values!$F$6)","v":0},"-",{"$error":"#NUM!"},"=",{"$error":"#NUM!"},"80)",{"$f":"INT((Values!$F$11-Values!$F$6+1)*RAND()+Values!$F$6)","v":0},"-",{"$error":"#NUM!"},"=",{"$error":"#NUM!"}]
["6)",{"$f":"INT((Values!$F$11-Values!$F$6+1)*RAND()+Values!$F$6)","v":0},"-",{"$error":"#NUM!"},"=",{"$error":"#NUM!"},"31)",{"$f":"INT((Values!$F$11-Values!$F$6+1)*RAND()+Values!$F$6)","v":0},"-",{"$error":"#NUM!"},"=",{"$error":"#NUM!"},"56)",{"$f":"INT((Values!$F$11-Values!$F$6+1)*RAND()+Values!$F$6)","v":0},"-",{"$error":"#NUM!"},"=",{"$error":"#NUM!"},"81)",{"$f":"INT((Values!$F$11-Values!$F$6+1)*RAND()+Values!$F$6)","v":0},"-",{"$error":"#NUM!"},"=",{"$error":"#NUM!"}]
["7)",{"$f":"INT((Values!$F$11-Values!$F$6+1)*RAND()+Values!$F$6)","v":0},"-",{"$error":"#NUM!"},"=",{"$error":"#NUM!"},"32)",{"$f":"INT((Values!$F$11-Values!$F$6+1)*RAND()+Values!$F$6)","v":0},"-",{"$error":"#NUM!"},"=",{"$error":"#NUM!"},"57)",{"$f":"INT((Values!$F$11-Values!$F$6+1)*RAND()+Values!$F$6)","v":0},"-",{"$error":"#NUM!"},"=",{"$error":"#NUM!"},"82)",{"$f":"INT((Values!$F$11-Values!$F$6+1)*RAND()+Values!$F$6)","v":0},"-",{"$error":"#NUM!"},"=",{"$error":"#NUM!"}]
["8)",{"$f":"INT((Values!$F$11-Values!$F$6+1)*RAND()+Values!$F$6)","v":0},"-",{"$error":"#NUM!"},"=",{"$error":"#NUM!"},"33)",{"$f":"INT((Values!$F$11-Values!$F$6+1)*RAND()+Values!$F$6)","v":0},"-",{"$error":"#NUM!"},"=",{"$error":"#NUM!"},"58)",{"$f":"INT((Values!$F$11-Values!$F$6+1)*RAND()+Values!$F$6)","v":0},"-",{"$error":"#NUM!"},"=",{"$error":"#NUM!"},"83)",{"$f":"INT((Values!$F$11-Values!$F$6+1)*RAND()+Values!$F$6)","v":0},"-",{"$error":"#NUM!"},"=",{"$error":"#NUM!"}]
["9)",{"$f":"INT((Values!$F$11-Values!$F$6+1)*RAND()+Values!$F$6)","v":0},"-",{"$error":"#NUM!"},"=",{"$error":"#NUM!"},"34)",{"$f":"INT((Values!$F$11-Values!$F$6+1)*RAND()+Values!$F$6)","v":0},"-",{"$error":"#NUM!"},"=",{"$error":"#NUM!"},"59)",{"$f":"INT((Values!$F$11-Values!$F$6+1)*RAND()+Values!$F$6)","v":0},"-",{"$error":"#NUM!"},"=",{"$error":"#NUM!"},"84)",{"$f":"INT((Values!$F$11-Values!$F$6+1)*RAND()+Values!$F$6)","v":0},"-",{"$error":"#NUM!"},"=",{"$error":"#NUM!"}]
["10)",{"$f":"INT((Values!$F$11-Values!$F$6+1)*RAND()+Values!$F$6)","v":0},"-",{"$error":"#NUM!"},"=",{"$error":"#NUM!"},"35)",{"$f":"INT((Values!$F$11-Values!$F$6+1)*RAND()+Values!$F$6)","v":0},"-",{"$error":"#NUM!"},"=",{"$error":"#NUM!"},"60)",{"$f":"INT((Values!$F$11-Values!$F$6+1)*RAND()+Values!$F$6)","v":0},"-",{"$error":"#NUM!"},"=",{"$error":"#NUM!"},"85)",{"$f":"INT((Values!$F$11-Values!$F$6+1)*RAND()+Values!$F$6)","v":0},"-",{"$error":"#NUM!"},"=",{"$error":"#NUM!"}]
["11)",{"$f":"INT((Values!$F$11-Values!$F$6+1)*RAND()+Values!$F$6)","v":0},"-",{"$error":"#NUM!"},"=",{"$error":"#NUM!"},"36)",{"$f":"INT((Values!$F$11-Values!$F$6+1)*RAND()+Values!$F$6)","v":0},"-",{"$error":"#NUM!"},"=",{"$error":"#NUM!"},"61)",{"$f":"INT((Values!$F$11-Values!$F$6+1)*RAND()+Values!$F$6)","v":0},"-",{"$error":"#NUM!"},"=",{"$error":"#NUM!"},"86)",{"$f":"INT((Values!$F$11-Values!$F$6+1)*RAND()+Values!$F$6)","v":0},"-",{"$error":"#NUM!"},"=",{"$error":"#NUM!"}]
["12)",{"$f":"INT((Values!$F$11-Values!$F$6+1)*RAND()+Values!$F$6)","v":0},"-",{"$error":"#NUM!"},"=",{"$error":"#NUM!"},"37)",{"$f":"INT((Values!$F$11-Values!$F$6+1)*RAND()+Values!$F$6)","v":0},"-",{"$error":"#NUM!"},"=",{"$error":"#NUM!"},"62)",{"$f":"INT((Values!$F$11-Values!$F$6+1)*RAND()+Values!$F$6)","v":0},"-",{"$error":"#NUM!"},"=",{"$error":"#NUM!"},"87)",{"$f":"INT((Values!$F$11-Values!$F$6+1)*RAND()+Values!$F$6)","v":0},"-",{"$error":"#NUM!"},"=",{"$error":"#NUM!"}]
["13)",{"$f":"INT((Values!$F$11-Values!$F$6+1)*RAND()+Values!$F$6)","v":0},"-",{"$error":"#NUM!"},"=",{"$error":"#NUM!"},"38)",{"$f":"INT((Values!$F$11-Values!$F$6+1)*RAND()+Values!$F$6)","v":0},"-",{"$error":"#NUM!"},"=",{"$error":"#NUM!"},"63)",{"$f":"INT((Values!$F$11-Values!$F$6+1)*RAND()+Values!$F$6)","v":0},"-",{"$error":"#NUM!"},"=",{"$error":"#NUM!"},"88)",{"$f":"INT((Values!$F$11-Values!$F$6+1)*RAND()+Values!$F$6)","v":0},"-",{"$error":"#NUM!"},"=",{"$error":"#NUM!"}]
["14)",{"$f":"INT((Values!$F$11-Values!$F$6+1)*RAND()+Values!$F$6)","v":0},"-",{"$error":"#NUM!"},"=",{"$error":"#NUM!"},"39)",{"$f":"INT((Values!$F$11-Values!$F$6+1)*RAND()+Values!$F$6)","v":0},"-",{"$error":"#NUM!"},"=",{"$error":"#NUM!"},"64)",{"$f":"INT((Values!$F$11-Values!$F$6+1)*RAND()+Values!$F$6)","v":0},"-",{"$error":"#NUM!"},"=",{"$error":"#NUM!"},"89)",{"$f":"INT((Values!$F$11-Values!$F$6+1)*RAND()+Values!$F$6)","v":0},"-",{"$error":"#NUM!"},"=",{"$error":"#NUM!"}]
["15)",{"$f":"INT((Values!$F$11-Values!$F$6+1)*RAND()+Values!$F$6)","v":0},"-",{"$error":"#NUM!"},"=",{"$error":"#NUM!"},"40)",{"$f":"INT((Values!$F$11-Values!$F$6+1)*RAND()+Values!$F$6)","v":0},"-",{"$error":"#NUM!"},"=",{"$error":"#NUM!"},"65)",{"$f":"INT((Values!$F$11-Values!$F$6+1)*RAND()+Values!$F$6)","v":0},"-",{"$error":"#NUM!"},"=",{"$error":"#NUM!"},"90)",{"$f":"INT((Values!$F$11-Values!$F$6+1)*RAND()+Values!$F$6)","v":0},"-",{"$error":"#NUM!"},"=",{"$error":"#NUM!"}]
["16)",{"$f":"INT((Values!$F$11-Values!$F$6+1)*RAND()+Values!$F$6)","v":0},"-",{"$error":"#NUM!"},"=",{"$error":"#NUM!"},"41)",{"$f":"INT((Values!$F$11-Values!$F$6+1)*RAND()+Values!$F$6)","v":0},"-",{"$error":"#NUM!"},"=",{"$error":"#NUM!"},"66)",{"$f":"INT((Values!$F$11-Values!$F$6+1)*RAND()+Values!$F$6)","v":0},"-",{"$error":"#NUM!"},"=",{"$error":"#NUM!"},"91)",{"$f":"INT((Values!$F$11-Values!$F$6+1)*RAND()+Values!$F$6)","v":0},"-",{"$error":"#NUM!"},"=",{"$error":"#NUM!"}]
["17)",{"$f":"INT((Values!$F$11-Values!$F$6+1)*RAND()+Values!$F$6)","v":0},"-",{"$error":"#NUM!"},"=",{"$error":"#NUM!"},"42)",{"$f":"INT((Values!$F$11-Values!$F$6+1)*RAND()+Values!$F$6)","v":0},"-",{"$error":"#NUM!"},"=",{"$error":"#NUM!"},"67)",{"$f":"INT((Values!$F$11-Values!$F$6+1)*RAND()+Values!$F$6)","v":0},"-",{"$error":"#NUM!"},"=",{"$f":"N20-P20","v":{"$error":"#NUM!"}},"92)",{"$f":"INT((Values!$F$11-Values!$F$6+1)*RAND()+Values!$F$6)","v":0},"-",{"$error":"#NUM!"},"=",{"$error":"#NUM!"}]
["18)",{"$f":"INT((Values!$F$11-Values!$F$6+1)*RAND()+Values!$F$6)","v":0},"-",{"$error":"#NUM!"},"=",{"$f":"B21-D21","v":{"$error":"#NUM!"}},"43)",{"$f":"INT((Values!$F$11-Values!$F$6+1)*RAND()+Values!$F$6)","v":0},"-",{"$error":"#NUM!"},"=",{"$f":"H21-J21","v":{"$error":"#NUM!"}},"68)",{"$f":"INT((Values!$F$11-Values!$F$6+1)*RAND()+Values!$F$6)","v":0},"-",{"$error":"#NUM!"},"=",{"$error":"#NUM!"},"93)",{"$f":"INT((Values!$F$11-Values!$F$6+1)*RAND()+Values!$F$6)","v":0},"-",{"$error":"#NUM!"},"=",{"$error":"#NUM!"}]
["19)",{"$f":"INT((Values!$F$11-Values!$F$6+1)*RAND()+Values!$F$6)","v":0},"-",{"$error":"#NUM!"},"=",{"$error":"#NUM!"},"44)",{"$f":"INT((Values!$F$11-Values!$F$6+1)*RAND()+Values!$F$6)","v":0},"-",{"$error":"#NUM!"},"=",{"$error":"#NUM!"},"69)",{"$f":"INT((Values!$F$11-Values!$F$6+1)*RAND()+Values!$F$6)","v":0},"-",{"$error":"#NUM!"},"=",{"$error":"#NUM!"},"94)",{"$f":"INT((Values!$F$11-Values!$F$6+1)*RAND()+Values!$F$6)","v":0},"-",{"$error":"#NUM!"},"=",{"$error":"#NUM!"}]
["20)",{"$f":"INT((Values!$F$11-Values!$F$6+1)*RAND()+Values!$F$6)","v":0},"-",{"$error":"#NUM!"},"=",{"$error":"#NUM!"},"45)",{"$f":"INT((Values!$F$11-Values!$F$6+1)*RAND()+Values!$F$6)","v":0},"-",{"$error":"#NUM!"},"=",{"$error":"#NUM!"},"70)",{"$f":"INT((Values!$F$11-Values!$F$6+1)*RAND()+Values!$F$6)","v":0},"-",{"$error":"#NUM!"},"=",{"$error":"#NUM!"},"95)",{"$f":"INT((Values!$F$11-Values!$F$6+1)*RAND()+Values!$F$6)","v":0},"-",{"$error":"#NUM!"},"=",{"$error":"#NUM!"}]
["21)",{"$f":"INT((Values!$F$11-Values!$F$6+1)*RAND()+Values!$F$6)","v":0},"-",{"$error":"#NUM!"},"=",{"$error":"#NUM!"},"46)",{"$f":"INT((Values!$F$11-Values!$F$6+1)*RAND()+Values!$F$6)","v":0},"-",{"$error":"#NUM!"},"=",{"$error":"#NUM!"},"71)",{"$f":"INT((Values!$F$11-Values!$F$6+1)*RAND()+Values!$F$6)","v":0},"-",{"$error":"#NUM!"},"=",{"$error":"#NUM!"},"96)",{"$f":"INT((Values!$F$11-Values!$F$6+1)*RAND()+Values!$F$6)","v":0},"-",{"$error":"#NUM!"},"=",{"$error":"#NUM!"}]
["22)",{"$f":"INT((Values!$F$11-Values!$F$6+1)*RAND()+Values!$F$6)","v":0},"-",{"$error":"#NUM!"},"=",{"$error":"#NUM!"},"47)",{"$f":"INT((Values!$F$11-Values!$F$6+1)*RAND()+Values!$F$6)","v":0},"-",{"$error":"#NUM!"},"=",{"$error":"#NUM!"},"72)",{"$f":"INT((Values!$F$11-Values!$F$6+1)*RAND()+Values!$F$6)","v":0},"-",{"$error":"#NUM!"},"=",{"$error":"#NUM!"},"97)",{"$f":"INT((Values!$F$11-Values!$F$6+1)*RAND()+Values!$F$6)","v":0},"-",{"$error":"#NUM!"},"=",{"$error":"#NUM!"}]
["23)",{"$f":"INT((Values!$F$11-Values!$F$6+1)*RAND()+Values!$F$6)","v":0},"-",{"$error":"#NUM!"},"=",{"$error":"#NUM!"},"48)",{"$f":"INT((Values!$F$11-Values!$F$6+1)*RAND()+Values!$F$6)","v":0},"-",{"$error":"#NUM!"},"=",{"$error":"#NUM!"},"73)",{"$f":"INT((Values!$F$11-Values!$F$6+1)*RAND()+Values!$F$6)","v":0},"-",{"$error":"#NUM!"},"=",{"$error":"#NUM!"},"98)",{"$f":"INT((Values!$F$11-Values!$F$6+1)*RAND()+Values!$F$6)","v":0},"-",{"$error":"#NUM!"},"=",{"$error":"#NUM!"}]
["24)",{"$f":"INT((Values!$F$11-Values!$F$6+1)*RAND()+Values!$F$6)","v":0},"-",{"$error":"#NUM!"},"=",{"$error":"#NUM!"},"49)",{"$f":"INT((Values!$F$11-Values!$F$6+1)*RAND()+Values!$F$6)","v":0},"-",{"$error":"#NUM!"},"=",{"$error":"#NUM!"},"74)",{"$f":"INT((Values!$F$11-Values!$F$6+1)*RAND()+Values!$F$6)","v":0},"-",{"$error":"#NUM!"},"=",{"$error":"#NUM!"},"99)",{"$f":"INT((Values!$F$11-Values!$F$6+1)*RAND()+Values!$F$6)","v":0},"-",{"$error":"#NUM!"},"=",{"$error":"#NUM!"}]
["25)",{"$f":"INT((Values!$F$11-Values!$F$6+1)*RAND()+Values!$F$6)","v":0},"-",{"$error":"#NUM!"},"=",{"$error":"#NUM!"},"50)",{"$f":"INT((Values!$F$11-Values!$F$6+1)*RAND()+Values!$F$6)","v":0},"-",{"$error":"#NUM!"},"=",{"$error":"#NUM!"},"75)",{"$f":"INT((Values!$F$11-Values!$F$6+1)*RAND()+Values!$F$6)","v":0},"-",{"$error":"#NUM!"},"=",{"$error":"#NUM!"},"100)",{"$f":"INT((Values!$F$11-Values!$F$6+1)*RAND()+Values!$F$6)","v":0},"-",{"$error":"#NUM!"},"=",{"$error":"#NUM!"}]