{"text_format":"1","workbook":"xlsx","n_sheets":3,"sheets":["Worksheet","Answers","Working"],"not_rendered":{"charts":0,"images":0,"macros":1,"external_links":0,"defined_names":0,"comments":0,"pivot_tables":0},"unopened":[],"bounds":{"document_bytes":16777216,"sheet_cells":100000,"rows_first":2000,"rows_last":500,"rows_between":2000,"halvings":0,"cell_chars":16384,"cell_head_chars":4096},"cells_cut":0,"cells_raw":0,"read":"whole","date_system":"1900"}

{"sheet":"Worksheet","index":0,"n_rows":28,"n_cols":8,"rows_kept":28,"cut":false,"hidden":false,"merged":[]}
[null,null,null,null,"COLLECT LIKE TERMS"]
[null,null,null,null,null,null,{"$f":"CONCATENATE(\"Worksheet \",Working!C1,Working!B1)","v":"Worksheet CLT-171"}]
["Simplify the following;"]
[{"$f":"CONCATENATE(Working!A2,\")\")","v":"1)"},{"$f":"CONCATENATE(Working!E2,Working!F2,Working!B2,Working!I2,Working!J2,Working!B2,Working!M2,Working!N2,Working!O2,\" =\")","v":"-2s - 8s + s ="},{"$f":"CONCATENATE(Working!A27,\")\")","v":"26)"},{"$f":"CONCATENATE(Working!E27,Working!F27,Working!B27,Working!I27,Working!J27,Working!B27,Working!M27,Working!N27,Working!O27,\" =\")","v":"2m + 5m ="},{"$f":"CONCATENATE(Working!A52,\")\")","v":"51)"},{"$f":"CONCATENATE(Working!E52,Working!F52,Working!B52,Working!I52,Working!J52,Working!B52,Working!M52,Working!N52,Working!O52,\" =\")","v":"-8x + 4x - 2x ="},{"$f":"CONCATENATE(Working!A77,\")\")","v":"76)"},{"$f":"CONCATENATE(Working!E77,Working!F77,Working!B77,Working!I77,Working!J77,Working!B77,Working!M77,Working!N77,Working!O77,,\" =\")","v":"u - 6u - 7u ="}]
[{"$f":"CONCATENATE(Working!A3,\")\")","v":"2)"},{"$f":"CONCATENATE(Working!E3,Working!F3,Working!B3,Working!I3,Working!J3,Working!B3,Working!M3,Working!N3,Working!O3,\" =\")","v":"-9q + 8q + 9q ="},{"$f":"CONCATENATE(Working!A28,\")\")","v":"27)"},{"$f":"CONCATENATE(Working!E28,Working!F28,Working!B28,Working!I28,Working!J28,Working!B28,Working!M28,Working!N28,Working!O28,\" =\")","v":"-3y - 8y - 8y ="},{"$f":"CONCATENATE(Working!A53,\")\")","v":"52)"},{"$f":"CONCATENATE(Working!E53,Working!F53,Working!B53,Working!I53,Working!J53,Working!B53,Working!M53,Working!N53,Working!O53,\" =\")","v":"3i + 3i - 7i ="},{"$f":"CONCATENATE(Working!A78,\")\")","v":"77)"},{"$f":"CONCATENATE(Working!E78,Working!F78,Working!B78,Working!I78,Working!J78,Working!B78,Working!M78,Working!N78,Working!O78,,\" =\")","v":"8w - 6w ="}]
[{"$f":"CONCATENATE(Working!A4,\")\")","v":"3)"},{"$f":"CONCATENATE(Working!E4,Working!F4,Working!B4,Working!I4,Working!J4,Working!B4,Working!M4,Working!N4,Working!O4,\" =\")","v":"-x - 4x + x ="},{"$f":"CONCATENATE(Working!A29,\")\")","v":"28)"},{"$f":"CONCATENATE(Working!E29,Working!F29,Working!B29,Working!I29,Working!J29,Working!B29,Working!M29,Working!N29,Working!O29,\" =\")","v":"2l - 2l + 8l ="},{"$f":"CONCATENATE(Working!A54,\")\")","v":"53)"},{"$f":"CONCATENATE(Working!E54,Working!F54,Working!B54,Working!I54,Working!J54,Working!B54,Working!M54,Working!N54,Working!O54,\" =\")","v":"-2p + 9p + 3p ="},{"$f":"CONCATENATE(Working!A79,\")\")","v":"78)"},{"$f":"CONCATENATE(Working!E79,Working!F79,Working!B79,Working!I79,Working!J79,Working!B79,Working!M79,Working!N79,Working!O79,,\" =\")","v":"-8j + 5j - 4j ="}]
[{"$f":"CONCATENATE(Working!A5,\")\")","v":"4)"},{"$f":"CONCATENATE(Working!E5,Working!F5,Working!B5,Working!I5,Working!J5,Working!B5,Working!M5,Working!N5,Working!O5,\" =\")","v":"-2h - 9h - 4h ="},{"$f":"CONCATENATE(Working!A30,\")\")","v":"29)"},{"$f":"CONCATENATE(Working!E30,Working!F30,Working!B30,Working!I30,Working!J30,Working!B30,Working!M30,Working!N30,Working!O30,\" =\")","v":"-6i - 7i + 3i ="},{"$f":"CONCATENATE(Working!A55,\")\")","v":"54)"},{"$f":"CONCATENATE(Working!E55,Working!F55,Working!B55,Working!I55,Working!J55,Working!B55,Working!M55,Working!N55,Working!O55,\" =\")","v":"-5z + 7z - 5z ="},{"$f":"CONCATENATE(Working!A80,\")\")","v":"79)"},{"$f":"CONCATENATE(Working!E80,Working!F80,Working!B80,Working!I80,Working!J80,Working!B80,Working!M80,Working!N80,Working!O80,,\" =\")","v":"3s + 6s + 6s ="}]
[{"$f":"CONCATENATE(Working!A6,\")\")","v":"5)"},{"$f":"CONCATENATE(Working!E6,Working!F6,Working!B6,Working!I6,Working!J6,Working!B6,Working!M6,Working!N6,Working!O6,\" =\")","v":"4c - 8c + 4c ="},{"$f":"CONCATENATE(Working!A31,\")\")","v":"30)"},{"$f":"CONCATENATE(Working!E31,Working!F31,Working!B31,Working!I31,Working!J31,Working!B31,Working!M31,Working!N31,Working!O31,\" =\")","v":"-3h - 7h + 5h ="},{"$f":"CONCATENATE(Working!A56,\")\")","v":"55)"},{"$f":"CONCATENATE(Working!E56,Working!F56,Working!B56,Working!I56,Working!J56,Working!B56,Working!M56,Working!N56,Working!O56,\" =\")","v":"4d - 9d + d ="},{"$f":"CONCATENATE(Working!A81,\")\")","v":"80)"},{"$f":"CONCATENATE(Working!E81,Working!F81,Working!B81,Working!I81,Working!J81,Working!B81,Working!M81,Working!N81,Working!O81,,\" =\")","v":"-8k + 6k - 6k ="}]
[{"$f":"CONCATENATE(Working!A7,\")\")","v":"6)"},{"$f":"CONCATENATE(Working!E7,Working!F7,Working!B7,Working!I7,Working!J7,Working!B7,Working!M7,Working!N7,Working!O7,\" =\")","v":"-9m - 4m + 5m ="},{"$f":"CONCATENATE(Working!A32,\")\")","v":"31)"},{"$f":"CONCATENATE(Working!E32,Working!F32,Working!B32,Working!I32,Working!J32,Working!B32,Working!M32,Working!N32,Working!O32,\" =\")","v":"-2v - 7v - v ="},{"$f":"CONCATENATE(Working!A57,\")\")","v":"56)"},{"$f":"CONCATENATE(Working!E57,Working!F57,Working!B57,Working!I57,Working!J57,Working!B57,Working!M57,Working!N57,Working!O57,\" =\")","v":"-5t + 6t + 7t ="},{"$f":"CONCATENATE(Working!A82,\")\")","v":"81)"},{"$f":"CONCATENATE(Working!E82,Working!F82,Working!B82,Working!I82,Working!J82,Working!B82,Working!M82,Working!N82,Working!O82,,\" =\")","v":"3u + 5u + u ="}]
[{"$f":"CONCATENATE(Working!A8,\")\")","v":"7)"},{"$f":"CONCATENATE(Working!E8,Working!F8,Working!B8,Working!I8,Working!J8,Working!B8,Working!M8,Working!N8,Working!O8,\" =\")","v":"5r - 6r + 5r ="},{"$f":"CONCATENATE(Working!A33,\")\")","v":"32)"},{"$f":"CONCATENATE(Working!E33,Working!F33,Working!B33,Working!I33,Working!J33,Working!B33,Working!M33,Working!N33,Working!O33,\" =\")","v":"-2l + l + 3l ="},{"$f":"CONCATENATE(Working!A58,\")\")","v":"57)"},{"$f":"CONCATENATE(Working!E58,Working!F58,Working!B58,Working!I58,Working!J58,Working!B58,Working!M58,Working!N58,Working!O58,\" =\")","v":"7l - 3l - 8l ="},{"$f":"CONCATENATE(Working!A83,\")\")","v":"82)"},{"$f":"CONCATENATE(Working!E83,Working!F83,Working!B83,Working!I83,Working!J83,Working!B83,Working!M83,Working!N83,Working!O83,,\" =\")","v":"6p + 3p - 9p ="}]
[{"$f":"CONCATENATE(Working!A9,\")\")","v":"8)"},{"$f":"CONCATENATE(Working!E9,Working!F9,Working!B9,Working!I9,Working!J9,Working!B9,Working!M9,Working!N9,Working!O9,\" =\")","v":"2m + 5m ="},{"$f":"CONCATENATE(Working!A34,\")\")","v":"33)"},{"$f":"CONCATENATE(Working!E34,Working!F34,Working!B34,Working!I34,Working!J34,Working!B34,Working!M34,Working!N34,Working!O34,\" =\")","v":"-6f + f + 8f ="},{"$f":"CONCATENATE(Working!A59,\")\")","v":"58)"},{"$f":"CONCATENATE(Working!E59,Working!F59,Working!B59,Working!I59,Working!J59,Working!B59,Working!M59,Working!N59,Working!O59,\" =\")","v":"7v - v ="},{"$f":"CONCATENATE(Working!A84,\")\")","v":"83)"},{"$f":"CONCATENATE(Working!E84,Working!F84,Working!B84,Working!I84,Working!J84,Working!B84,Working!M84,Working!N84,Working!O84,,\" =\")","v":"2p + 4p - 4p ="}]
[{"$f":"CONCATENATE(Working!A10,\")\")","v":"9)"},{"$f":"CONCATENATE(Working!E10,Working!F10,Working!B10,Working!I10,Working!J10,Working!B10,Working!M10,Working!N10,Working!O10,\" =\")","v":"-4y + y - 5y ="},{"$f":"CONCATENATE(Working!A35,\")\")","v":"34)"},{"$f":"CONCATENATE(Working!E35,Working!F35,Working!B35,Working!I35,Working!J35,Working!B35,Working!M35,Working!N35,Working!O35,\" =\")","v":"-3r + 6r - r ="},{"$f":"CONCATENATE(Working!A60,\")\")","v":"59)"},{"$f":"CONCATENATE(Working!E60,Working!F60,Working!B60,Working!I60,Working!J60,Working!B60,Working!M60,Working!N60,Working!O60,\" =\")","v":"2l + 2l ="},{"$f":"CONCATENATE(Working!A85,\")\")","v":"84)"},{"$f":"CONCATENATE(Working!E85,Working!F85,Working!B85,Working!I85,Working!J85,Working!B85,Working!M85,Working!N85,Working!O85,,\" =\")","v":"-4w - 7w - 3w ="}]
[{"$f":"CONCATENATE(Working!A11,\")\")","v":"10)"},{"$f":"CONCATENATE(Working!E11,Working!F11,Working!B11,Working!I11,Working!J11,Working!B11,Working!M11,Working!N11,Working!O11,\" =\")","v":"-3e - 6e + e ="},{"$f":"CONCATENATE(Working!A36,\")\")","v":"35)"},{"$f":"CONCATENATE(Working!E36,Working!F36,Working!B36,Working!I36,Working!J36,Working!B36,Working!M36,Working!N36,Working!O36,\" =\")","v":"4l - 5l - l ="},{"$f":"CONCATENATE(Working!A61,\")\")","v":"60)"},{"$f":"CONCATENATE(Working!E61,Working!F61,Working!B61,Working!I61,Working!J61,Working!B61,Working!M61,Working!N61,Working!O61,\" =\")","v":"5d + 5d + 2d ="},{"$f":"CONCATENATE(Working!A86,\")\")","v":"85)"},{"$f":"CONCATENATE(Working!E86,Working!F86,Working!B86,Working!I86,Working!J86,Working!B86,Working!M86,Working!N86,Working!O86,,\" =\")","v":"2h - h + 7h ="}]
[{"$f":"CONCATENATE(Working!A12,\")\")","v":"11)"},{"$f":"CONCATENATE(Working!E12,Working!F12,Working!B12,Working!I12,Working!J12,Working!B12,Working!M12,Working!N12,Working!O12,\" =\")","v":"-9u - 8u + 6u ="},{"$f":"CONCATENATE(Working!A37,\")\")","v":"36)"},{"$f":"CONCATENATE(Working!E37,Working!F37,Working!B37,Working!I37,Working!J37,Working!B37,Working!M37,Working!N37,Working!O37,\" =\")","v":"-7e - 3e - e ="},{"$f":"CONCATENATE(Working!A62,\")\")","v":"61)"},{"$f":"CONCATENATE(Working!E62,Working!F62,Working!B62,Working!I62,Working!J62,Working!B62,Working!M62,Working!N62,Working!O62,\" =\")","v":"-3u + 9u - 4u ="},{"$f":"CONCATENATE(Working!A87,\")\")","v":"86)"},{"$f":"CONCATENATE(Working!E87,Working!F87,Working!B87,Working!I87,Working!J87,Working!B87,Working!M87,Working!N87,Working!O87,,\" =\")","v":"-6g + 7g + 8g ="}]
[{"$f":"CONCATENATE(Working!A13,\")\")","v":"12)"},{"$f":"CONCATENATE(Working!E13,Working!F13,Working!B13,Working!I13,Working!J13,Working!B13,Working!M13,Working!N13,Working!O13,\" =\")","v":"5u - 5u - 5u ="},{"$f":"CONCATENATE(Working!A38,\")\")","v":"37)"},{"$f":"CONCATENATE(Working!E38,Working!F38,Working!B38,Working!I38,Working!J38,Working!B38,Working!M38,Working!N38,Working!O38,\" =\")","v":"7o - 3o + 8o ="},{"$f":"CONCATENATE(Working!A63,\")\")","v":"62)"},{"$f":"CONCATENATE(Working!E63,Working!F63,Working!B63,Working!I63,Working!J63,Working!B63,Working!M63,Working!N63,Working!O63,\" =\")","v":"-6y + 7y + 2y ="},{"$f":"CONCATENATE(Working!A88,\")\")","v":"87)"},{"$f":"CONCATENATE(Working!E88,Working!F88,Working!B88,Working!I88,Working!J88,Working!B88,Working!M88,Working!N88,Working!O88,,\" =\")","v":"-3e + 8e + 4e ="}]
[{"$f":"CONCATENATE(Working!A14,\")\")","v":"13)"},{"$f":"CONCATENATE(Working!E14,Working!F14,Working!B14,Working!I14,Working!J14,Working!B14,Working!M14,Working!N14,Working!O14,\" =\")","v":"8b + 5b - 7b ="},{"$f":"CONCATENATE(Working!A39,\")\")","v":"38)"},{"$f":"CONCATENATE(Working!E39,Working!F39,Working!B39,Working!I39,Working!J39,Working!B39,Working!M39,Working!N39,Working!O39,\" =\")","v":"n - 7n - 7n ="},{"$f":"CONCATENATE(Working!A64,\")\")","v":"63)"},{"$f":"CONCATENATE(Working!E64,Working!F64,Working!B64,Working!I64,Working!J64,Working!B64,Working!M64,Working!N64,Working!O64,\" =\")","v":"-7w - 6w + 9w ="},{"$f":"CONCATENATE(Working!A89,\")\")","v":"88)"},{"$f":"CONCATENATE(Working!E89,Working!F89,Working!B89,Working!I89,Working!J89,Working!B89,Working!M89,Working!N89,Working!O89,,\" =\")","v":"-u - 4u ="}]
[{"$f":"CONCATENATE(Working!A15,\")\")","v":"14)"},{"$f":"CONCATENATE(Working!E15,Working!F15,Working!B15,Working!I15,Working!J15,Working!B15,Working!M15,Working!N15,Working!O15,\" =\")","v":"6l - 3l + 4l ="},{"$f":"CONCATENATE(Working!A40,\")\")","v":"39)"},{"$f":"CONCATENATE(Working!E40,Working!F40,Working!B40,Working!I40,Working!J40,Working!B40,Working!M40,Working!N40,Working!O40,\" =\")","v":"d + 3d - 8d ="},{"$f":"CONCATENATE(Working!A65,\")\")","v":"64)"},{"$f":"CONCATENATE(Working!E65,Working!F65,Working!B65,Working!I65,Working!J65,Working!B65,Working!M65,Working!N65,Working!O65,\" =\")","v":"-4o - o - 8o ="},{"$f":"CONCATENATE(Working!A90,\")\")","v":"89)"},{"$f":"CONCATENATE(Working!E90,Working!F90,Working!B90,Working!I90,Working!J90,Working!B90,Working!M90,Working!N90,Working!O90,,\" =\")","v":"-7i + 7i - 3i ="}]
[{"$f":"CONCATENATE(Working!A16,\")\")","v":"15)"},{"$f":"CONCATENATE(Working!E16,Working!F16,Working!B16,Working!I16,Working!J16,Working!B16,Working!M16,Working!N16,Working!O16,\" =\")","v":"-9y - 3y ="},{"$f":"CONCATENATE(Working!A41,\")\")","v":"40)"},{"$f":"CONCATENATE(Working!E41,Working!F41,Working!B41,Working!I41,Working!J41,Working!B41,Working!M41,Working!N41,Working!O41,\" =\")","v":"4p - 2p + 9p ="},{"$f":"CONCATENATE(Working!A66,\")\")","v":"65)"},{"$f":"CONCATENATE(Working!E66,Working!F66,Working!B66,Working!I66,Working!J66,Working!B66,Working!M66,Working!N66,Working!O66,\" =\")","v":"8i - 5i - 2i ="},{"$f":"CONCATENATE(Working!A91,\")\")","v":"90)"},{"$f":"CONCATENATE(Working!E91,Working!F91,Working!B91,Working!I91,Working!J91,Working!B91,Working!M91,Working!N91,Working!O91,,\" =\")","v":"3a + 6a + 5a ="}]
[{"$f":"CONCATENATE(Working!A17,\")\")","v":"16)"},{"$f":"CONCATENATE(Working!E17,Working!F17,Working!B17,Working!I17,Working!J17,Working!B17,Working!M17,Working!N17,Working!O17,\" =\")","v":"7j - 2j + 4j ="},{"$f":"CONCATENATE(Working!A42,\")\")","v":"41)"},{"$f":"CONCATENATE(Working!E42,Working!F42,Working!B42,Working!I42,Working!J42,Working!B42,Working!M42,Working!N42,Working!O42,\" =\")","v":"8x - 7x + 9x ="},{"$f":"CONCATENATE(Working!A67,\")\")","v":"66)"},{"$f":"CONCATENATE(Working!E67,Working!F67,Working!B67,Working!I67,Working!J67,Working!B67,Working!M67,Working!N67,Working!O67,\" =\")","v":"9p - 7p + 7p ="},{"$f":"CONCATENATE(Working!A92,\")\")","v":"91)"},{"$f":"CONCATENATE(Working!E92,Working!F92,Working!B92,Working!I92,Working!J92,Working!B92,Working!M92,Working!N92,Working!O92,,\" =\")","v":"-4v - 7v + 3v ="}]
[{"$f":"CONCATENATE(Working!A18,\")\")","v":"17)"},{"$f":"CONCATENATE(Working!E18,Working!F18,Working!B18,Working!I18,Working!J18,Working!B18,Working!M18,Working!N18,Working!O18,\" =\")","v":"9l + 9l + 8l ="},{"$f":"CONCATENATE(Working!A43,\")\")","v":"42)"},{"$f":"CONCATENATE(Working!E43,Working!F43,Working!B43,Working!I43,Working!J43,Working!B43,Working!M43,Working!N43,Working!O43,\" =\")","v":"-6u - u - 7u ="},{"$f":"CONCATENATE(Working!A68,\")\")","v":"67)"},{"$f":"CONCATENATE(Working!E68,Working!F68,Working!B68,Working!I68,Working!J68,Working!B68,Working!M68,Working!N68,Working!O68,\" =\")","v":"-5w - 2w + 4w ="},{"$f":"CONCATENATE(Working!A93,\")\")","v":"92)"},{"$f":"CONCATENATE(Working!E93,Working!F93,Working!B93,Working!I93,Working!J93,Working!B93,Working!M93,Working!N93,Working!O93,,\" =\")","v":"z + 8z - 5z ="}]
[{"$f":"CONCATENATE(Working!A19,\")\")","v":"18)"},{"$f":"CONCATENATE(Working!E19,Working!F19,Working!B19,Working!I19,Working!J19,Working!B19,Working!M19,Working!N19,Working!O19,\" =\")","v":"-4j - 5j - 8j ="},{"$f":"CONCATENATE(Working!A44,\")\")","v":"43)"},{"$f":"CONCATENATE(Working!E44,Working!F44,Working!B44,Working!I44,Working!J44,Working!B44,Working!M44,Working!N44,Working!O44,\" =\")","v":"-2l - 5l + 9l ="},{"$f":"CONCATENATE(Working!A69,\")\")","v":"68)"},{"$f":"CONCATENATE(Working!E69,Working!F69,Working!B69,Working!I69,Working!J69,Working!B69,Working!M69,Working!N69,Working!O69,\" =\")","v":"2m + 2m - 4m ="},{"$f":"CONCATENATE(Working!A94,\")\")","v":"93)"},{"$f":"CONCATENATE(Working!E94,Working!F94,Working!B94,Working!I94,Working!J94,Working!B94,Working!M94,Working!N94,Working!O94,,\" =\")","v":"5w - 9w - 2w ="}]
[{"$f":"CONCATENATE(Working!A20,\")\")","v":"19)"},{"$f":"CONCATENATE(Working!E20,Working!F20,Working!B20,Working!I20,Working!J20,Working!B20,Working!M20,Working!N20,Working!O20,\" =\")","v":"-7v - 4v + 6v ="},{"$f":"CONCATENATE(Working!A45,\")\")","v":"44)"},{"$f":"CONCATENATE(Working!E45,Working!F45,Working!B45,Working!I45,Working!J45,Working!B45,Working!M45,Working!N45,Working!O45,\" =\")","v":"2e - 5e + 7e ="},{"$f":"CONCATENATE(Working!A70,\")\")","v":"69)"},{"$f":"CONCATENATE(Working!E70,Working!F70,Working!B70,Working!I70,Working!J70,Working!B70,Working!M70,Working!N70,Working!O70,\" =\")","v":"-b - 6b + 4b ="},{"$f":"CONCATENATE(Working!A95,\")\")","v":"94)"},{"$f":"CONCATENATE(Working!E95,Working!F95,Working!B95,Working!I95,Working!J95,Working!B95,Working!M95,Working!N95,Working!O95,,\" =\")","v":"9t + t - 6t ="}]
[{"$f":"CONCATENATE(Working!A21,\")\")","v":"20)"},{"$f":"CONCATENATE(Working!E21,Working!F21,Working!B21,Working!I21,Working!J21,Working!B21,Working!M21,Working!N21,Working!O21,\" =\")","v":"-7o + 9o + 8o ="},{"$f":"CONCATENATE(Working!A46,\")\")","v":"45)"},{"$f":"CONCATENATE(Working!E46,Working!F46,Working!B46,Working!I46,Working!J46,Working!B46,Working!M46,Working!N46,Working!O46,\" =\")","v":"-3b - 6b - 4b ="},{"$f":"CONCATENATE(Working!A71,\")\")","v":"70)"},{"$f":"CONCATENATE(Working!E71,Working!F71,Working!B71,Working!I71,Working!J71,Working!B71,Working!M71,Working!N71,Working!O71,\" =\")","v":"9u - 7u + 6u ="},{"$f":"CONCATENATE(Working!A96,\")\")","v":"95)"},{"$f":"CONCATENATE(Working!E96,Working!F96,Working!B96,Working!I96,Working!J96,Working!B96,Working!M96,Working!N96,Working!O96,,\" =\")","v":"7f - 6f + 3f ="}]
[{"$f":"CONCATENATE(Working!A22,\")\")","v":"21)"},{"$f":"CONCATENATE(Working!E22,Working!F22,Working!B22,Working!I22,Working!J22,Working!B22,Working!M22,Working!N22,Working!O22,\" =\")","v":"-5d - 7d - 8d ="},{"$f":"CONCATENATE(Working!A47,\")\")","v":"46)"},{"$f":"CONCATENATE(Working!E47,Working!F47,Working!B47,Working!I47,Working!J47,Working!B47,Working!M47,Working!N47,Working!O47,\" =\")","v":"7f - 3f + f ="},{"$f":"CONCATENATE(Working!A72,\")\")","v":"71)"},{"$f":"CONCATENATE(Working!E72,Working!F72,Working!B72,Working!I72,Working!J72,Working!B72,Working!M72,Working!N72,Working!O72,\" =\")","v":"-2t - 5t + 4t ="},{"$f":"CONCATENATE(Working!A97,\")\")","v":"96)"},{"$f":"CONCATENATE(Working!E97,Working!F97,Working!B97,Working!I97,Working!J97,Working!B97,Working!M97,Working!N97,Working!O97,,\" =\")","v":"-9h - h - h ="}]
[{"$f":"CONCATENATE(Working!A23,\")\")","v":"22)"},{"$f":"CONCATENATE(Working!E23,Working!F23,Working!B23,Working!I23,Working!J23,Working!B23,Working!M23,Working!N23,Working!O23,\" =\")","v":"8y - 5y - 3y ="},{"$f":"CONCATENATE(Working!A48,\")\")","v":"47)"},{"$f":"CONCATENATE(Working!E48,Working!F48,Working!B48,Working!I48,Working!J48,Working!B48,Working!M48,Working!N48,Working!O48,\" =\")","v":"4y - y - 4y ="},{"$f":"CONCATENATE(Working!A73,\")\")","v":"72)"},{"$f":"CONCATENATE(Working!E73,Working!F73,Working!B73,Working!I73,Working!J73,Working!B73,Working!M73,Working!N73,Working!O73,\" =\")","v":"9p - 9p - p ="},{"$f":"CONCATENATE(Working!A98,\")\")","v":"97)"},{"$f":"CONCATENATE(Working!E98,Working!F98,Working!B98,Working!I98,Working!J98,Working!B98,Working!M98,Working!N98,Working!O98,,\" =\")","v":"9c - 5c + 7c ="}]
[{"$f":"CONCATENATE(Working!A24,\")\")","v":"23)"},{"$f":"CONCATENATE(Working!E24,Working!F24,Working!B24,Working!I24,Working!J24,Working!B24,Working!M24,Working!N24,Working!O24,\" =\")","v":"-8o + 8o - 6o ="},{"$f":"CONCATENATE(Working!A49,\")\")","v":"48)"},{"$f":"CONCATENATE(Working!E49,Working!F49,Working!B49,Working!I49,Working!J49,Working!B49,Working!M49,Working!N49,Working!O49,\" =\")","v":"8a + 8a - 2a ="},{"$f":"CONCATENATE(Working!A74,\")\")","v":"73)"},{"$f":"CONCATENATE(Working!E74,Working!F74,Working!B74,Working!I74,Working!J74,Working!B74,Working!M74,Working!N74,Working!O74,\" =\")","v":"5r - 2r + 4r ="},{"$f":"CONCATENATE(Working!A99,\")\")","v":"98)"},{"$f":"CONCATENATE(Working!E99,Working!F99,Working!B99,Working!I99,Working!J99,Working!B99,Working!M99,Working!N99,Working!O99,,\" =\")","v":"-4b + b - 3b ="}]
[{"$f":"CONCATENATE(Working!A25,\")\")","v":"24)"},{"$f":"CONCATENATE(Working!E25,Working!F25,Working!B25,Working!I25,Working!J25,Working!B25,Working!M25,Working!N25,Working!O25,\" =\")","v":"-6m - 9m + 9m ="},{"$f":"CONCATENATE(Working!A50,\")\")","v":"49)"},{"$f":"CONCATENATE(Working!E50,Working!F50,Working!B50,Working!I50,Working!J50,Working!B50,Working!M50,Working!N50,Working!O50,\" =\")","v":"6y - 5y + y ="},{"$f":"CONCATENATE(Working!A75,\")\")","v":"74)"},{"$f":"CONCATENATE(Working!E75,Working!F75,Working!B75,Working!I75,Working!J75,Working!B75,Working!M75,Working!N75,Working!O75,\" =\")","v":"-9s + 9s + 6s ="},{"$f":"CONCATENATE(Working!A100,\")\")","v":"99)"},{"$f":"CONCATENATE(Working!E100,Working!F100,Working!B100,Working!I100,Working!J100,Working!B100,Working!M100,Working!N100,Working!O100,,\" =\")","v":"2c + 6c + 2c ="}]
[{"$f":"CONCATENATE(Working!A26,\")\")","v":"25)"},{"$f":"CONCATENATE(Working!E26,Working!F26,Working!B26,Working!I26,Working!J26,Working!B26,Working!M26,Working!N26,Working!O26,\" =\")","v":"-5e - 4e - e ="},{"$f":"CONCATENATE(Working!A51,\")\")","v":"50)"},{"$f":"CONCATENATE(Working!E51,Working!F51,Working!B51,Working!I51,Working!J51,Working!B51,Working!M51,Working!N51,Working!O51,\" =\")","v":"4f + 7f + 5f ="},{"$f":"CONCATENATE(Working!A76,\")\")","v":"75)"},{"$f":"CONCATENATE(Working!E76,Working!F76,Working!B76,Working!I76,Working!J76,Working!B76,Working!M76,Working!N76,Working!O76,\" =\")","v":"7m + 2m - 4m ="},{"$f":"CONCATENATE(Working!A101,\")\")","v":"100)"},{"$f":"CONCATENATE(Working!E101,Working!F101,Working!B101,Working!I101,Working!J101,Working!B101,Working!M101,Working!N101,Working!O101,,\" =\")","v":"-8f - 2f - 9f ="}]

{"sheet":"Answers","index":1,"n_rows":28,"n_cols":8,"rows_kept":28,"cut":false,"hidden":false,"merged":[]}
[null,null,null,null,"COLLECT LIKE TERMS"]
[null,null,null,null,null,null,{"$f":"CONCATENATE(\"Worksheet \",Working!C1,Working!B1)","v":"Worksheet CLT-171"}]
["Simplify the following;"]
[{"$f":"CONCATENATE(Working!A2,\")\")","v":"1)"},{"$f":"IF(Working!$Q2=0,\"0\",CONCATENATE(Working!$R2,Working!$B2))","v":"-9s"},{"$f":"CONCATENATE(Working!A27,\")\")","v":"26)"},{"$f":"IF(Working!$Q27=0,\"0\",CONCATENATE(Working!$R27,Working!$B27))","v":"7m"},{"$f":"CONCATENATE(Working!A52,\")\")","v":"51)"},{"$f":"IF(Working!$Q52=0,\"0\",CONCATENATE(Working!$R52,Working!$B52))","v":"-6x"},{"$f":"CONCATENATE(Working!A77,\")\")","v":"76)"},{"$f":"IF(Working!$Q77=0,\"0\",CONCATENATE(Working!$R77,Working!$B77))","v":"-12u"}]
[{"$f":"CONCATENATE(Working!A3,\")\")","v":"2)"},{"$f":"IF(Working!$Q3=0,\"0\",CONCATENATE(Working!$R3,Working!$B3))","v":"8q"},{"$f":"CONCATENATE(Working!A28,\")\")","v":"27)"},{"$f":"IF(Working!$Q28=0,\"0\",CONCATENATE(Working!$R28,Working!$B28))","v":"-19y"},{"$f":"CONCATENATE(Working!A53,\")\")","v":"52)"},{"$f":"IF(Working!$Q53=0,\"0\",CONCATENATE(Working!$R53,Working!$B53))","v":"-i"},{"$f":"CONCATENATE(Working!A78,\")\")","v":"77)"},{"$f":"IF(Working!$Q78=0,\"0\",CONCATENATE(Working!$R78,Working!$B78))","v":"2w"}]
[{"$f":"CONCATENATE(Working!A4,\")\")","v":"3)"},{"$f":"IF(Working!$Q4=0,\"0\",CONCATENATE(Working!$R4,Working!$B4))","v":"-4x"},{"$f":"CONCATENATE(Working!A29,\")\")","v":"28)"},{"$f":"IF(Working!$Q29=0,\"0\",CONCATENATE(Working!$R29,Working!$B29))","v":"8l"},{"$f":"CONCATENATE(Working!A54,\")\")","v":"53)"},{"$f":"IF(Working!$Q54=0,\"0\",CONCATENATE(Working!$R54,Working!$B54))","v":"10p"},{"$f":"CONCATENATE(Working!A79,\")\")","v":"78)"},{"$f":"IF(Working!$Q79=0,\"0\",CONCATENATE(Working!$R79,Working!$B79))","v":"-7j"}]
[{"$f":"CONCATENATE(Working!A5,\")\")","v":"4)"},{"$f":"IF(Working!$Q5=0,\"0\",CONCATENATE(Working!$R5,Working!$B5))","v":"-15h"},{"$f":"CONCATENATE(Working!A30,\")\")","v":"29)"},{"$f":"IF(Working!$Q30=0,\"0\",CONCATENATE(Working!$R30,Working!$B30))","v":"-10i"},{"$f":"CONCATENATE(Working!A55,\")\")","v":"54)"},{"$f":"IF(Working!$Q55=0,\"0\",CONCATENATE(Working!$R55,Working!$B55))","v":"-3z"},{"$f":"CONCATENATE(Working!A80,\")\")","v":"79)"},{"$f":"IF(Working!$Q80=0,\"0\",CONCATENATE(Working!$R80,Working!$B80))","v":"15s"}]
[{"$f":"CONCATENATE(Working!A6,\")\")","v":"5)"},{"$f":"IF(Working!$Q6=0,\"0\",CONCATENATE(Working!$R6,Working!$B6))","v":"0"},{"$f":"CONCATENATE(Working!A31,\")\")","v":"30)"},{"$f":"IF(Working!$Q31=0,\"0\",CONCATENATE(Working!$R31,Working!$B31))","v":"-5h"},{"$f":"CONCATENATE(Working!A56,\")\")","v":"55)"},{"$f":"IF(Working!$Q56=0,\"0\",CONCATENATE(Working!$R56,Working!$B56))","v":"-4d"},{"$f":"CONCATENATE(Working!A81,\")\")","v":"80)"},{"$f":"IF(Working!$Q81=0,\"0\",CONCATENATE(Working!$R81,Working!$B81))","v":"-8k"}]
[{"$f":"CONCATENATE(Working!A7,\")\")","v":"6)"},{"$f":"IF(Working!$Q7=0,\"0\",CONCATENATE(Working!$R7,Working!$B7))","v":"-8m"},{"$f":"CONCATENATE(Working!A32,\")\")","v":"31)"},{"$f":"IF(Working!$Q32=0,\"0\",CONCATENATE(Working!$R32,Working!$B32))","v":"-10v"},{"$f":"CONCATENATE(Working!A57,\")\")","v":"56)"},{"$f":"IF(Working!$Q57=0,\"0\",CONCATENATE(Working!$R57,Working!$B57))","v":"8t"},{"$f":"CONCATENATE(Working!A82,\")\")","v":"81)"},{"$f":"IF(Working!$Q82=0,\"0\",CONCATENATE(Working!$R82,Working!$B82))","v":"9u"}]
[{"$f":"CONCATENATE(Working!A8,\")\")","v":"7)"},{"$f":"IF(Working!$Q8=0,\"0\",CONCATENATE(Working!$R8,Working!$B8))","v":"4r"},{"$f":"CONCATENATE(Working!A33,\")\")","v":"32)"},{"$f":"IF(Working!$Q33=0,\"0\",CONCATENATE(Working!$R33,Working!$B33))","v":"2l"},{"$f":"CONCATENATE(Working!A58,\")\")","v":"57)"},{"$f":"IF(Working!$Q58=0,\"0\",CONCATENATE(Working!$R58,Working!$B58))","v":"-4l"},{"$f":"CONCATENATE(Working!A83,\")\")","v":"82)"},{"$f":"IF(Working!$Q83=0,\"0\",CONCATENATE(Working!$R83,Working!$B83))","v":"0"}]
[{"$f":"CONCATENATE(Working!A9,\")\")","v":"8)"},{"$f":"IF(Working!$Q9=0,\"0\",CONCATENATE(Working!$R9,Working!$B9))","v":"7m"},{"$f":"CONCATENATE(Working!A34,\")\")","v":"33)"},{"$f":"IF(Working!$Q34=0,\"0\",CONCATENATE(Working!$R34,Working!$B34))","v":"3f"},{"$f":"CONCATENATE(Working!A59,\")\")","v":"58)"},{"$f":"IF(Working!$Q59=0,\"0\",CONCATENATE(Working!$R59,Working!$B59))","v":"6v"},{"$f":"CONCATENATE(Working!A84,\")\")","v":"83)"},{"$f":"IF(Working!$Q84=0,\"0\",CONCATENATE(Working!$R84,Working!$B84))","v":"2p"}]
[{"$f":"CONCATENATE(Working!A10,\")\")","v":"9)"},{"$f":"IF(Working!$Q10=0,\"0\",CONCATENATE(Working!$R10,Working!$B10))","v":"-8y"},{"$f":"CONCATENATE(Working!A35,\")\")","v":"34)"},{"$f":"IF(Working!$Q35=0,\"0\",CONCATENATE(Working!$R35,Working!$B35))","v":"2r"},{"$f":"CONCATENATE(Working!A60,\")\")","v":"59)"},{"$f":"IF(Working!$Q60=0,\"0\",CONCATENATE(Working!$R60,Working!$B60))","v":"4l"},{"$f":"CONCATENATE(Working!A85,\")\")","v":"84)"},{"$f":"IF(Working!$Q85=0,\"0\",CONCATENATE(Working!$R85,Working!$B85))","v":"-14w"}]
[{"$f":"CONCATENATE(Working!A11,\")\")","v":"10)"},{"$f":"IF(Working!$Q11=0,\"0\",CONCATENATE(Working!$R11,Working!$B11))","v":"-8e"},{"$f":"CONCATENATE(Working!A36,\")\")","v":"35)"},{"$f":"IF(Working!$Q36=0,\"0\",CONCATENATE(Working!$R36,Working!$B36))","v":"-2l"},{"$f":"CONCATENATE(Working!A61,\")\")","v":"60)"},{"$f":"IF(Working!$Q61=0,\"0\",CONCATENATE(Working!$R61,Working!$B61))","v":"12d"},{"$f":"CONCATENATE(Working!A86,\")\")","v":"85)"},{"$f":"IF(Working!$Q86=0,\"0\",CONCATENATE(Working!$R86,Working!$B86))","v":"8h"}]
[{"$f":"CONCATENATE(Working!A12,\")\")","v":"11)"},{"$f":"IF(Working!$Q12=0,\"0\",CONCATENATE(Working!$R12,Working!$B12))","v":"-11u"},{"$f":"CONCATENATE(Working!A37,\")\")","v":"36)"},{"$f":"IF(Working!$Q37=0,\"0\",CONCATENATE(Working!$R37,Working!$B37))","v":"-11e"},{"$f":"CONCATENATE(Working!A62,\")\")","v":"61)"},{"$f":"IF(Working!$Q62=0,\"0\",CONCATENATE(Working!$R62,Working!$B62))","v":"2u"},{"$f":"CONCATENATE(Working!A87,\")\")","v":"86)"},{"$f":"IF(Working!$Q87=0,\"0\",CONCATENATE(Working!$R87,Working!$B87))","v":"9g"}]
[{"$f":"CONCATENATE(Working!A13,\")\")","v":"12)"},{"$f":"IF(Working!$Q13=0,\"0\",CONCATENATE(Working!$R13,Working!$B13))","v":"-5u"},{"$f":"CONCATENATE(Working!A38,\")\")","v":"37)"},{"$f":"IF(Working!$Q38=0,\"0\",CONCATENATE(Working!$R38,Working!$B38))","v":"12o"},{"$f":"CONCATENATE(Working!A63,\")\")","v":"62)"},{"$f":"IF(Working!$Q63=0,\"0\",CONCATENATE(Working!$R63,Working!$B63))","v":"3y"},{"$f":"CONCATENATE(Working!A88,\")\")","v":"87)"},{"$f":"IF(Working!$Q88=0,\"0\",CONCATENATE(Working!$R88,Working!$B88))","v":"9e"}]
[{"$f":"CONCATENATE(Working!A14,\")\")","v":"13)"},{"$f":"IF(Working!$Q14=0,\"0\",CONCATENATE(Working!$R14,Working!$B14))","v":"6b"},{"$f":"CONCATENATE(Working!A39,\")\")","v":"38)"},{"$f":"IF(Working!$Q39=0,\"0\",CONCATENATE(Working!$R39,Working!$B39))","v":"-13n"},{"$f":"CONCATENATE(Working!A64,\")\")","v":"63)"},{"$f":"IF(Working!$Q64=0,\"0\",CONCATENATE(Working!$R64,Working!$B64))","v":"-4w"},{"$f":"CONCATENATE(Working!A89,\")\")","v":"88)"},{"$f":"IF(Working!$Q89=0,\"0\",CONCATENATE(Working!$R89,Working!$B89))","v":"-5u"}]
[{"$f":"CONCATENATE(Working!A15,\")\")","v":"14)"},{"$f":"IF(Working!$Q15=0,\"0\",CONCATENATE(Working!$R15,Working!$B15))","v":"7l"},{"$f":"CONCATENATE(Working!A40,\")\")","v":"39)"},{"$f":"IF(Working!$Q40=0,\"0\",CONCATENATE(Working!$R40,Working!$B40))","v":"-4d"},{"$f":"CONCATENATE(Working!A65,\")\")","v":"64)"},{"$f":"IF(Working!$Q65=0,\"0\",CONCATENATE(Working!$R65,Working!$B65))","v":"-13o"},{"$f":"CONCATENATE(Working!A90,\")\")","v":"89)"},{"$f":"IF(Working!$Q90=0,\"0\",CONCATENATE(Working!$R90,Working!$B90))","v":"-3i"}]
[{"$f":"CONCATENATE(Working!A16,\")\")","v":"15)"},{"$f":"IF(Working!$Q16=0,\"0\",CONCATENATE(Working!$R16,Working!$B16))","v":"-12y"},{"$f":"CONCATENATE(Working!A41,\")\")","v":"40)"},{"$f":"IF(Working!$Q41=0,\"0\",CONCATENATE(Working!$R41,Working!$B41))","v":"11p"},{"$f":"CONCATENATE(Working!A66,\")\")","v":"65)"},{"$f":"IF(Working!$Q66=0,\"0\",CONCATENATE(Working!$R66,Working!$B66))","v":"i"},{"$f":"CONCATENATE(Working!A91,\")\")","v":"90)"},{"$f":"IF(Working!$Q91=0,\"0\",CONCATENATE(Working!$R91,Working!$B91))","v":"14a"}]
[{"$f":"CONCATENATE(Working!A17,\")\")","v":"16)"},{"$f":"IF(Working!$Q17=0,\"0\",CONCATENATE(Working!$R17,Working!$B17))","v":"9j"},{"$f":"CONCATENATE(Working!A42,\")\")","v":"41)"},{"$f":"IF(Working!$Q42=0,\"0\",CONCATENATE(Working!$R42,Working!$B42))","v":"10x"},{"$f":"CONCATENATE(Working!A67,\")\")","v":"66)"},{"$f":"IF(Working!$Q67=0,\"0\",CONCATENATE(Working!$R67,Working!$B67))","v":"9p"},{"$f":"CONCATENATE(Working!A92,\")\")","v":"91)"},{"$f":"IF(Working!$Q92=0,\"0\",CONCATENATE(Working!$R92,Working!$B92))","v":"-8v"}]
[{"$f":"CONCATENATE(Working!A18,\")\")","v":"17)"},{"$f":"IF(Working!$Q18=0,\"0\",CONCATENATE(Working!$R18,Working!$B18))","v":"26l"},{"$f":"CONCATENATE(Working!A43,\")\")","v":"42)"},{"$f":"IF(Working!$Q43=0,\"0\",CONCATENATE(Working!$R43,Working!$B43))","v":"-14u"},{"$f":"CONCATENATE(Working!A68,\")\")","v":"67)"},{"$f":"IF(Working!$Q68=0,\"0\",CONCATENATE(Working!$R68,Working!$B68))","v":"-3w"},{"$f":"CONCATENATE(Working!A93,\")\")","v":"92)"},{"$f":"IF(Working!$Q93=0,\"0\",CONCATENATE(Working!$R93,Working!$B93))","v":"4z"}]
[{"$f":"CONCATENATE(Working!A19,\")\")","v":"18)"},{"$f":"IF(Working!$Q19=0,\"0\",CONCATENATE(Working!$R19,Working!$B19))","v":"-17j"},{"$f":"CONCATENATE(Working!A44,\")\")","v":"43)"},{"$f":"IF(Working!$Q44=0,\"0\",CONCATENATE(Working!$R44,Working!$B44))","v":"2l"},{"$f":"CONCATENATE(Working!A69,\")\")","v":"68)"},{"$f":"IF(Working!$Q69=0,\"0\",CONCATENATE(Working!$R69,Working!$B69))","v":"0"},{"$f":"CONCATENATE(Working!A94,\")\")","v":"93)"},{"$f":"IF(Working!$Q94=0,\"0\",CONCATENATE(Working!$R94,Working!$B94))","v":"-6w"}]
[{"$f":"CONCATENATE(Working!A20,\")\")","v":"19)"},{"$f":"IF(Working!$Q20=0,\"0\",CONCATENATE(Working!$R20,Working!$B20))","v":"-5v"},{"$f":"CONCATENATE(Working!A45,\")\")","v":"44)"},{"$f":"IF(Working!$Q45=0,\"0\",CONCATENATE(Working!$R45,Working!$B45))","v":"4e"},{"$f":"CONCATENATE(Working!A70,\")\")","v":"69)"},{"$f":"IF(Working!$Q70=0,\"0\",CONCATENATE(Working!$R70,Working!$B70))","v":"-3b"},{"$f":"CONCATENATE(Working!A95,\")\")","v":"94)"},{"$f":"IF(Working!$Q95=0,\"0\",CONCATENATE(Working!$R95,Working!$B95))","v":"4t"}]
[{"$f":"CONCATENATE(Working!A21,\")\")","v":"20)"},{"$f":"IF(Working!$Q21=0,\"0\",CONCATENATE(Working!$R21,Working!$B21))","v":"10o"},{"$f":"CONCATENATE(Working!A46,\")\")","v":"45)"},{"$f":"IF(Working!$Q46=0,\"0\",CONCATENATE(Working!$R46,Working!$B46))","v":"-13b"},{"$f":"CONCATENATE(Working!A71,\")\")","v":"70)"},{"$f":"IF(Working!$Q71=0,\"0\",CONCATENATE(Working!$R71,Working!$B71))","v":"8u"},{"$f":"CONCATENATE(Working!A96,\")\")","v":"95)"},{"$f":"IF(Working!$Q96=0,\"0\",CONCATENATE(Working!$R96,Working!$B96))","v":"4f"}]
[{"$f":"CONCATENATE(Working!A22,\")\")","v":"21)"},{"$f":"IF(Working!$Q22=0,\"0\",CONCATENATE(Working!$R22,Working!$B22))","v":"-20d"},{"$f":"CONCATENATE(Working!A47,\")\")","v":"46)"},{"$f":"IF(Working!$Q47=0,\"0\",CONCATENATE(Working!$R47,Working!$B47))","v":"5f"},{"$f":"CONCATENATE(Working!A72,\")\")","v":"71)"},{"$f":"IF(Working!$Q72=0,\"0\",CONCATENATE(Working!$R72,Working!$B72))","v":"-3t"},{"$f":"CONCATENATE(Working!A97,\")\")","v":"96)"},{"$f":"IF(Working!$Q97=0,\"0\",CONCATENATE(Working!$R97,Working!$B97))","v":"-11h"}]
[{"$f":"CONCATENATE(Working!A23,\")\")","v":"22)"},{"$f":"IF(Working!$Q23=0,\"0\",CONCATENATE(Working!$R23,Working!$B23))","v":"0"},{"$f":"CONCATENATE(Working!A48,\")\")","v":"47)"},{"$f":"IF(Working!$Q48=0,\"0\",CONCATENATE(Working!$R48,Working!$B48))","v":"-y"},{"$f":"CONCATENATE(Working!A73,\")\")","v":"72)"},{"$f":"IF(Working!$Q73=0,\"0\",CONCATENATE(Working!$R73,Working!$B73))","v":"-p"},{"$f":"CONCATENATE(Working!A98,\")\")","v":"97)"},{"$f":"IF(Working!$Q98=0,\"0\",CONCATENATE(Working!$R98,Working!$B98))","v":"11c"}]
[{"$f":"CONCATENATE(Working!A24,\")\")","v":"23)"},{"$f":"IF(Working!$Q24=0,\"0\",CONCATENATE(Working!$R24,Working!$B24))","v":"-6o"},{"$f":"CONCATENATE(Working!A49,\")\")","v":"48)"},{"$f":"IF(Working!$Q49=0,\"0\",CONCATENATE(Working!$R49,Working!$B49))","v":"14a"},{"$f":"CONCATENATE(Working!A74,\")\")","v":"73)"},{"$f":"IF(Working!$Q74=0,\"0\",CONCATENATE(Working!$R74,Working!$B74))","v":"7r"},{"$f":"CONCATENATE(Working!A99,\")\")","v":"98)"},{"$f":"IF(Working!$Q99=0,\"0\",CONCATENATE(Working!$R99,Working!$B99))","v":"-6b"}]
[{"$f":"CONCATENATE(Working!A25,\")\")","v":"24)"},{"$f":"IF(Working!$Q25=0,\"0\",CONCATENATE(Working!$R25,Working!$B25))","v":"-6m"},{"$f":"CONCATENATE(Working!A50,\")\")","v":"49)"},{"$f":"IF(Working!$Q50=0,\"0\",CONCATENATE(Working!$R50,Working!$B50))","v":"2y"},{"$f":"CONCATENATE(Working!A75,\")\")","v":"74)"},{"$f":"IF(Working!$Q75=0,\"0\",CONCATENATE(Working!$R75,Working!$B75))","v":"6s"},{"$f":"CONCATENATE(Working!A100,\")\")","v":"99)"},{"$f":"IF(Working!$Q100=0,\"0\",CONCATENATE(Working!$R100,Working!$B100))","v":"10c"}]
[{"$f":"CONCATENATE(Working!A26,\")\")","v":"25)"},{"$f":"IF(Working!$Q26=0,\"0\",CONCATENATE(Working!$R26,Working!$B26))","v":"-10e"},{"$f":"CONCATENATE(Working!A51,\")\")","v":"50)"},{"$f":"IF(Working!$Q51=0,\"0\",CONCATENATE(Working!$R51,Working!$B51))","v":"16f"},{"$f":"CONCATENATE(Working!A76,\")\")","v":"75)"},{"$f":"IF(Working!$Q76=0,\"0\",CONCATENATE(Working!$R76,Working!$B76))","v":"5m"},{"$f":"CONCATENATE(Working!A101,\")\")","v":"100)"},{"$f":"IF(Working!$Q101=0,\"0\",CONCATENATE(Working!$R101,Working!$B101))","v":"-19f"}]

{"sheet":"Working","index":2,"n_rows":101,"n_cols":18,"rows_kept":101,"cut":false,"hidden":true,"merged":[]}
[{"$f":"INT(900*RAND()+100)","v":170},{"$f":"TEXT(1,A1)","v":"171"},"CLT-"]
[1,{"$f":"CHAR(INT(26*RAND()+97))","v":"s"},{"$f":"INT(9*RAND()+1)","v":2},{"$f":"INT(2*RAND())","v":1},{"$f":"IF(D2=0,\"\",\"-\")","v":"-"},{"$f":"IF(C2=1,\"\",TEXT(C2,C2))","v":"2"},{"$f":"INT(9*RAND()+1)","v":8},{"$f":"INT(2*RAND())","v":1},{"$f":"IF(H2=0,\" + \",\" - \")","v":" - "},{"$f":"IF(G2=1,\"\",TEXT(G2,G2))","v":"8"},{"$f":"INT(10*RAND())","v":1},{"$f":"INT(2*RAND())","v":0},{"$f":"IF(K2=0,\"\",IF(L2=0,\" + \",\" - \"))","v":" + "},{"$f":"IF(K2=0,\"\",IF(K2=1,\"\",TEXT(K2,K2)))","v":""},{"$f":"IF(K2=0,\"\",$B2)","v":"s"},null,{"$f":"(-1)^(D2+2)*C2+(-1)^(H2+2)*G2+(-1)^(L2+2)*K2","v":-9},{"$f":"IF(Q2=1,\"\",IF(ABS(Q2) =1,\"-\",TEXT(Q2,0)))","v":"-9"}]
[2,{"$f":"CHAR(INT(26*RAND()+97))","v":"q"},{"$f":"INT(9*RAND()+1)","v":9},{"$f":"INT(2*RAND())","v":1},{"$f":"IF(D3=0,\"\",\"-\")","v":"-"},{"$f":"IF(C3=1,\"\",TEXT(C3,C3))","v":"9"},{"$f":"INT(9*RAND()+1)","v":8},{"$f":"INT(2*RAND())","v":0},{"$f":"IF(H3=0,\" + \",\" - \")","v":" + "},{"$f":"IF(G3=1,\"\",TEXT(G3,G3))","v":"8"},{"$f":"INT(10*RAND())","v":9},{"$f":"INT(2*RAND())","v":0},{"$f":"IF(K3=0,\"\",IF(L3=0,\" + \",\" - \"))","v":" + "},{"$f":"IF(K3=0,\"\",IF(K3=1,\"\",TEXT(K3,K3)))","v":"9"},{"$f":"IF(K3=0,\"\",$B3)","v":"q"},null,{"$f":"(-1)^(D3+2)*C3+(-1)^(H3+2)*G3+(-1)^(L3+2)*K3","v":8},{"$f":"IF(Q3=1,\"\",IF(ABS(Q3) =1,\"-\",TEXT(Q3,0)))","v":"8"}]
[3,"x",1,1,"-","",4,1," - ","4",1,0," + ","","x",null,-4,"-4"]
[4,"h",2,1,"-","2",9,1," - ","9",4,1," - ","4","h",null,-15,"-15"]
[5,"c",4,0,"","4",8,1," - ","8",4,0," + ","4","c",null,0,"0"]
[6,"m",9,1,"-","9",4,1," - ","4",5,0," + ","5","m",null,-8,"-8"]
[7,"r",5,0,"","5",6,1," - ","6",5,0," + ","5","r",null,4,"4"]
[8,"m",2,0,"","2",5,0," + ","5",0,0,"","","",null,7,"7"]
[9,"y",4,1,"-","4",1,0," + ","",5,1," - ","5","y",null,-8,"-8"]
[10,"e",3,1,"-","3",6,1," - ","6",1,0," + ","","e",null,-8,"-8"]
[11,"u",9,1,"-","9",8,1," - ","8",6,0," + ","6","u",null,-11,"-11"]
[12,"u",5,0,"","5",5,1," - ","5",5,1," - ","5","u",null,-5,"-5"]
[13,"b",8,0,"","8",5,0," + ","5",7,1," - ","7","b",null,6,"6"]
[14,"l",6,0,"","6",3,1," - ","3",4,0," + ","4","l",null,7,"7"]
[15,"y",9,1,"-","9",3,1," - ","3",0,0,"","","",null,-12,"-12"]
[16,"j",7,0,"","7",2,1," - ","2",4,0," + ","4","j",null,9,"9"]
[17,"l",9,0,"","9",9,0," + ","9",8,0," + ","8","l",null,26,"26"]
[18,"j",4,1,"-","4",5,1," - ","5",8,1," - ","8","j",null,-17,"-17"]
[19,"v",7,1,"-","7",4,1," - ","4",6,0," + ","6","v",null,-5,"-5"]
[20,"o",7,1,"-","7",9,0," + ","9",8,0," + ","8","o",null,10,"10"]
[21,"d",5,1,"-","5",7,1," - ","7",8,1," - ","8","d",null,-20,"-20"]
[22,"y",8,0,"","8",5,1," - ","5",3,1," - ","3","y",null,0,"0"]
[23,"o",8,1,"-","8",8,0," + ","8",6,1," - ","6","o",null,-6,"-6"]
[24,"m",6,1,"-","6",9,1," - ","9",9,0," + ","9","m",null,-6,"-6"]
[25,"e",5,1,"-","5",4,1," - ","4",1,1," - ","","e",null,-10,"-10"]
[26,"m",2,0,"","2",5,0," + ","5",0,1,"","","",null,7,"7"]
[27,"y",3,1,"-","3",8,1," - ","8",8,1," - ","8","y",null,-19,"-19"]
[28,"l",2,0,"","2",2,1," - ","2",8,0," + ","8","l",null,8,"8"]
[29,"i",6,1,"-","6",7,1," - ","7",3,0," + ","3","i",null,-10,"-10"]
[30,"h",3,1,"-","3",7,1," - ","7",5,0," + ","5","h",null,-5,"-5"]
[31,"v",2,1,"-","2",7,1," - ","7",1,1," - ","","v",null,-10,"-10"]
[32,"l",2,1,"-","2",1,0," + ","",3,0," + ","3","l",null,2,"2"]
[33,"f",6,1,"-","6",1,0," + ","",8,0," + ","8","f",null,3,"3"]
[34,"r",3,1,"-","3",6,0," + ","6",1,1," - ","","r",null,2,"2"]
[35,"l",4,0,"","4",5,1," - ","5",1,1," - ","","l",null,-2,"-2"]
[36,"e",7,1,"-","7",3,1," - ","3",1,1," - ","","e",null,-11,"-11"]
[37,"o",7,0,"","7",3,1," - ","3",8,0," + ","8","o",null,12,"12"]
[38,"n",1,0,"","",7,1," - ","7",7,1," - ","7","n",null,-13,"-13"]
[39,"d",1,0,"","",3,0," + ","3",8,1," - ","8","d",null,-4,"-4"]
[40,"p",4,0,"","4",2,1," - ","2",9,0," + ","9","p",null,11,"11"]
[41,"x",8,0,"","8",7,1," - ","7",9,0," + ","9","x",null,10,"10"]
[42,"u",6,1,"-","6",1,1," - ","",7,1," - ","7","u",null,-14,"-14"]
[43,"l",2,1,"-","2",5,1," - ","5",9,0," + ","9","l",null,2,"2"]
[44,"e",2,0,"","2",5,1," - ","5",7,0," + ","7","e",null,4,"4"]
[45,"b",3,1,"-","3",6,1," - ","6",4,1," - ","4","b",null,-13,"-13"]
[46,"f",7,0,"","7",3,1," - ","3",1,0," + ","","f",null,5,"5"]
[47,"y",4,0,"","4",1,1," - ","",4,1," - ","4","y",null,-1,"-"]
[48,"a",8,0,"","8",8,0," + ","8",2,1," - ","2","a",null,14,"14"]
[49,"y",6,0,"","6",5,1," - ","5",1,0," + ","","y",null,2,"2"]
[50,"f",4,0,"","4",7,0," + ","7",5,0," + ","5","f",null,16,"16"]
[51,"x",8,1,"-","8",4,0," + ","4",2,1," - ","2","x",null,-6,"-6"]
[52,"i",3,0,"","3",3,0," + ","3",7,1," - ","7","i",null,-1,"-"]
[53,"p",2,1,"-","2",9,0," + ","9",3,0," + ","3","p",null,10,"10"]
[54,"z",5,1,"-","5",7,0," + ","7",5,1," - ","5","z",null,-3,"-3"]
[55,"d",4,0,"","4",9,1," - ","9",1,0," + ","","d",null,-4,"-4"]
[56,"t",5,1,"-","5",6,0," + ","6",7,0," + ","7","t",null,8,"8"]
[57,"l",7,0,"","7",3,1," - ","3",8,1," - ","8","l",null,-4,"-4"]
[58,"v",7,0,"","7",1,1," - ","",0,1,"","","",null,6,"6"]
[59,"l",2,0,"","2",2,0," + ","2",0,1,"","","",null,4,"4"]
[60,"d",5,0,"","5",5,0," + ","5",2,0," + ","2","d",null,12,"12"]
[61,"u",3,1,"-","3",9,0," + ","9",4,1," - ","4","u",null,2,"2"]
[62,"y",6,1,"-","6",7,0," + ","7",2,0," + ","2","y",null,3,"3"]
[63,"w",7,1,"-","7",6,1," - ","6",9,0," + ","9","w",null,-4,"-4"]
[64,"o",4,1,"-","4",1,1," - ","",8,1," - ","8","o",null,-13,"-13"]
[65,"i",8,0,"","8",5,1," - ","5",2,1," - ","2","i",null,1,""]
[66,{"$f":"CHAR(INT(26*RAND()+97))","v":"p"},{"$f":"INT(9*RAND()+1)","v":9},{"$f":"INT(2*RAND())","v":0},{"$f":"IF(D67=0,\"\",\"-\")","v":""},{"$f":"IF(C67=1,\"\",TEXT(C67,C67))","v":"9"},{"$f":"INT(9*RAND()+1)","v":7},{"$f":"INT(2*RAND())","v":1},{"$f":"IF(H67=0,\" + \",\" - \")","v":" - "},{"$f":"IF(G67=1,\"\",TEXT(G67,G67))","v":"7"},{"$f":"INT(10*RAND())","v":7},{"$f":"INT(2*RAND())","v":0},{"$f":"IF(K67=0,\"\",IF(L67=0,\" + \",\" - \"))","v":" + "},{"$f":"IF(K67=0,\"\",IF(K67=1,\"\",TEXT(K67,K67)))","v":"7"},{"$f":"IF(K67=0,\"\",$B67)","v":"p"},null,{"$f":"(-1)^(D67+2)*C67+(-1)^(H67+2)*G67+(-1)^(L67+2)*K67","v":9},{"$f":"IF(Q67=1,\"\",IF(ABS(Q67) =1,\"-\",TEXT(Q67,0)))","v":"9"}]
[67,"w",5,1,"-","5",2,1," - ","2",4,0," + ","4","w",null,-3,"-3"]
[68,"m",2,0,"","2",2,0," + ","2",4,1," - ","4","m",null,0,"0"]
[69,"b",1,1,"-","",6,1," - ","6",4,0," + ","4","b",null,-3,"-3"]
[70,"u",9,0,"","9",7,1," - ","7",6,0," + ","6","u",null,8,"8"]
[71,"t",2,1,"-","2",5,1," - ","5",4,0," + ","4","t",null,-3,"-3"]
[72,"p",9,0,"","9",9,1," - ","9",1,1," - ","","p",null,-1,"-"]
[73,"r",5,0,"","5",2,1," - ","2",4,0," + ","4","r",null,7,"7"]
[74,"s",9,1,"-","9",9,0," + ","9",6,0," + ","6","s",null,6,"6"]
[75,"m",7,0,"","7",2,0," + ","2",4,1," - ","4","m",null,5,"5"]
[76,"u",1,0,"","",6,1," - ","6",7,1," - ","7","u",null,-12,"-12"]
[77,"w",8,0,"","8",6,1," - ","6",0,0,"","","",null,2,"2"]
[78,"j",8,1,"-","8",5,0," + ","5",4,1," - ","4","j",null,-7,"-7"]
[79,"s",3,0,"","3",6,0," + ","6",6,0," + ","6","s",null,15,"15"]
[80,"k",8,1,"-","8",6,0," + ","6",6,1," - ","6","k",null,-8,"-8"]
[81,"u",3,0,"","3",5,0," + ","5",1,0," + ","","u",null,9,"9"]
[82,"p",6,0,"","6",3,0," + ","3",9,1," - ","9","p",null,0,"0"]
[83,"p",2,0,"","2",4,0," + ","4",4,1," - ","4","p",null,2,"2"]
[84,"w",4,1,"-","4",7,1," - ","7",3,1," - ","3","w",null,-14,"-14"]
[85,"h",2,0,"","2",1,1," - ","",7,0," + ","7","h",null,8,"8"]
[86,"g",6,1,"-","6",7,0," + ","7",8,0," + ","8","g",null,9,"9"]
[87,"e",3,1,"-","3",8,0," + ","8",4,0," + ","4","e",null,9,"9"]
[88,"u",1,1,"-","",4,1," - ","4",0,1,"","","",null,-5,"-5"]
[89,"i",7,1,"-","7",7,0," + ","7",3,1," - ","3","i",null,-3,"-3"]
[90,"a",3,0,"","3",6,0," + ","6",5,0," + ","5","a",null,14,"14"]
[91,"v",4,1,"-","4",7,1," - ","7",3,0," + ","3","v",null,-8,"-8"]
[92,"z",1,0,"","",8,0," + ","8",5,1," - ","5","z",null,4,"4"]
[93,"w",5,0,"","5",9,1," - ","9",2,1," - ","2","w",null,-6,"-6"]
[94,"t",9,0,"","9",1,0," + ","",6,1," - ","6","t",null,4,"4"]
[95,"f",7,0,"","7",6,1," - ","6",3,0," + ","3","f",null,4,"4"]
[96,"h",9,1,"-","9",1,1," - ","",1,1," - ","","h",null,-11,"-11"]
[97,"c",9,0,"","9",5,1," - ","5",7,0," + ","7","c",null,11,"11"]
[98,"b",4,1,"-","4",1,0," + ","",3,1," - ","3","b",null,-6,"-6"]
[99,"c",2,0,"","2",6,0," + ","6",2,0," + ","2","c",null,10,"10"]
[100,"f",8,1,"-","8",2,1," - ","2",9,1," - ","9","f",null,-19,"-19"]