{"text_format":"1","workbook":"xlsx","n_sheets":3,"sheets":["Worksheet","Answers","Working"],"not_rendered":{"charts":0,"images":0,"macros":1,"external_links":0,"defined_names":0,"comments":0,"pivot_tables":0},"unopened":[],"bounds":{"document_bytes":16777216,"sheet_cells":100000,"rows_first":2000,"rows_last":500,"rows_between":2000,"halvings":0,"cell_chars":16384,"cell_head_chars":4096},"cells_cut":0,"cells_raw":0,"read":"whole","date_system":"1900"}

{"sheet":"Worksheet","index":0,"n_rows":28,"n_cols":8,"rows_kept":28,"cut":false,"hidden":false,"merged":[]}
[null,null,null,null,"COLLECT LIKE TERMS"]
[null,null,null,null,null,null,{"$f":"CONCATENATE(\"Worksheet \",Working!C1,Working!B1)","v":"Worksheet CLT-361"}]
["Simplify the following;"]
[{"$f":"CONCATENATE(Working!A2,\")\")","v":"1)"},{"$f":"CONCATENATE(Working!E2,Working!F2,Working!B2,Working!I2,Working!J2,Working!B2,\" =\")","v":"3c - 6c ="},{"$f":"CONCATENATE(Working!A27,\")\")","v":"26)"},{"$f":"CONCATENATE(Working!E27,Working!F27,Working!B27,Working!I27,Working!J27,Working!B27,\" =\")","v":"-7z + 2z ="},{"$f":"CONCATENATE(Working!A52,\")\")","v":"51)"},{"$f":"CONCATENATE(Working!E52,Working!F52,Working!B52,Working!I52,Working!J52,Working!B52,\" =\")","v":"2f + 4f ="},{"$f":"CONCATENATE(Working!A77,\")\")","v":"76)"},{"$f":"CONCATENATE(Working!E77,Working!F77,Working!B77,Working!I77,Working!J77,Working!B77,\" =\")","v":"-4x - 3x ="}]
[{"$f":"CONCATENATE(Working!A3,\")\")","v":"2)"},{"$f":"CONCATENATE(Working!E3,Working!F3,Working!B3,Working!I3,Working!J3,Working!B3,\" =\")","v":"y + 2y ="},{"$f":"CONCATENATE(Working!A28,\")\")","v":"27)"},{"$f":"CONCATENATE(Working!E28,Working!F28,Working!B28,Working!I28,Working!J28,Working!B28,\" =\")","v":"7s + 4s ="},{"$f":"CONCATENATE(Working!A53,\")\")","v":"52)"},{"$f":"CONCATENATE(Working!E53,Working!F53,Working!B53,Working!I53,Working!J53,Working!B53,\" =\")","v":"-i - 2i ="},{"$f":"CONCATENATE(Working!A78,\")\")","v":"77)"},{"$f":"CONCATENATE(Working!E78,Working!F78,Working!B78,Working!I78,Working!J78,Working!B78,\" =\")","v":"-5n - 4n ="}]
[{"$f":"CONCATENATE(Working!A4,\")\")","v":"3)"},{"$f":"CONCATENATE(Working!E4,Working!F4,Working!B4,Working!I4,Working!J4,Working!B4,\" =\")","v":"s + 6s ="},{"$f":"CONCATENATE(Working!A29,\")\")","v":"28)"},{"$f":"CONCATENATE(Working!E29,Working!F29,Working!B29,Working!I29,Working!J29,Working!B29,\" =\")","v":"7l - 2l ="},{"$f":"CONCATENATE(Working!A54,\")\")","v":"53)"},{"$f":"CONCATENATE(Working!E54,Working!F54,Working!B54,Working!I54,Working!J54,Working!B54,\" =\")","v":"9q + 2q ="},{"$f":"CONCATENATE(Working!A79,\")\")","v":"78)"},{"$f":"CONCATENATE(Working!E79,Working!F79,Working!B79,Working!I79,Working!J79,Working!B79,\" =\")","v":"6o + 8o ="}]
[{"$f":"CONCATENATE(Working!A5,\")\")","v":"4)"},{"$f":"CONCATENATE(Working!E5,Working!F5,Working!B5,Working!I5,Working!J5,Working!B5,\" =\")","v":"-3a - 4a ="},{"$f":"CONCATENATE(Working!A30,\")\")","v":"29)"},{"$f":"CONCATENATE(Working!E30,Working!F30,Working!B30,Working!I30,Working!J30,Working!B30,\" =\")","v":"7h - 8h ="},{"$f":"CONCATENATE(Working!A55,\")\")","v":"54)"},{"$f":"CONCATENATE(Working!E55,Working!F55,Working!B55,Working!I55,Working!J55,Working!B55,\" =\")","v":"6z + z ="},{"$f":"CONCATENATE(Working!A80,\")\")","v":"79)"},{"$f":"CONCATENATE(Working!E80,Working!F80,Working!B80,Working!I80,Working!J80,Working!B80,\" =\")","v":"3i + 3i ="}]
[{"$f":"CONCATENATE(Working!A6,\")\")","v":"5)"},{"$f":"CONCATENATE(Working!E6,Working!F6,Working!B6,Working!I6,Working!J6,Working!B6,\" =\")","v":"-6l - 5l ="},{"$f":"CONCATENATE(Working!A31,\")\")","v":"30)"},{"$f":"CONCATENATE(Working!E31,Working!F31,Working!B31,Working!I31,Working!J31,Working!B31,\" =\")","v":"-2e - 8e ="},{"$f":"CONCATENATE(Working!A56,\")\")","v":"55)"},{"$f":"CONCATENATE(Working!E56,Working!F56,Working!B56,Working!I56,Working!J56,Working!B56,\" =\")","v":"7d + 5d ="},{"$f":"CONCATENATE(Working!A81,\")\")","v":"80)"},{"$f":"CONCATENATE(Working!E81,Working!F81,Working!B81,Working!I81,Working!J81,Working!B81,\" =\")","v":"5n - 2n ="}]
[{"$f":"CONCATENATE(Working!A7,\")\")","v":"6)"},{"$f":"CONCATENATE(Working!E7,Working!F7,Working!B7,Working!I7,Working!J7,Working!B7,\" =\")","v":"-3m + 5m ="},{"$f":"CONCATENATE(Working!A32,\")\")","v":"31)"},{"$f":"CONCATENATE(Working!E32,Working!F32,Working!B32,Working!I32,Working!J32,Working!B32,\" =\")","v":"6g + 9g ="},{"$f":"CONCATENATE(Working!A57,\")\")","v":"56)"},{"$f":"CONCATENATE(Working!E57,Working!F57,Working!B57,Working!I57,Working!J57,Working!B57,\" =\")","v":"-6o + 8o ="},{"$f":"CONCATENATE(Working!A82,\")\")","v":"81)"},{"$f":"CONCATENATE(Working!E82,Working!F82,Working!B82,Working!I82,Working!J82,Working!B82,\" =\")","v":"7j - 6j ="}]
[{"$f":"CONCATENATE(Working!A8,\")\")","v":"7)"},{"$f":"CONCATENATE(Working!E8,Working!F8,Working!B8,Working!I8,Working!J8,Working!B8,\" =\")","v":"-4t - 4t ="},{"$f":"CONCATENATE(Working!A33,\")\")","v":"32)"},{"$f":"CONCATENATE(Working!E33,Working!F33,Working!B33,Working!I33,Working!J33,Working!B33,\" =\")","v":"2t + 8t ="},{"$f":"CONCATENATE(Working!A58,\")\")","v":"57)"},{"$f":"CONCATENATE(Working!E58,Working!F58,Working!B58,Working!I58,Working!J58,Working!B58,\" =\")","v":"8p - 5p ="},{"$f":"CONCATENATE(Working!A83,\")\")","v":"82)"},{"$f":"CONCATENATE(Working!E83,Working!F83,Working!B83,Working!I83,Working!J83,Working!B83,\" =\")","v":"2b - 3b ="}]
[{"$f":"CONCATENATE(Working!A9,\")\")","v":"8)"},{"$f":"CONCATENATE(Working!E9,Working!F9,Working!B9,Working!I9,Working!J9,Working!B9,\" =\")","v":"3k + 9k ="},{"$f":"CONCATENATE(Working!A34,\")\")","v":"33)"},{"$f":"CONCATENATE(Working!E34,Working!F34,Working!B34,Working!I34,Working!J34,Working!B34,\" =\")","v":"-9r - 2r ="},{"$f":"CONCATENATE(Working!A59,\")\")","v":"58)"},{"$f":"CONCATENATE(Working!E59,Working!F59,Working!B59,Working!I59,Working!J59,Working!B59,\" =\")","v":"-2i - i ="},{"$f":"CONCATENATE(Working!A84,\")\")","v":"83)"},{"$f":"CONCATENATE(Working!E84,Working!F84,Working!B84,Working!I84,Working!J84,Working!B84,\" =\")","v":"-2h + h ="}]
[{"$f":"CONCATENATE(Working!A10,\")\")","v":"9)"},{"$f":"CONCATENATE(Working!E10,Working!F10,Working!B10,Working!I10,Working!J10,Working!B10,\" =\")","v":"4c - 3c ="},{"$f":"CONCATENATE(Working!A35,\")\")","v":"34)"},{"$f":"CONCATENATE(Working!E35,Working!F35,Working!B35,Working!I35,Working!J35,Working!B35,\" =\")","v":"-7u - 7u ="},{"$f":"CONCATENATE(Working!A60,\")\")","v":"59)"},{"$f":"CONCATENATE(Working!E60,Working!F60,Working!B60,Working!I60,Working!J60,Working!B60,\" =\")","v":"3w + w ="},{"$f":"CONCATENATE(Working!A85,\")\")","v":"84)"},{"$f":"CONCATENATE(Working!E85,Working!F85,Working!B85,Working!I85,Working!J85,Working!B85,\" =\")","v":"-9f + 9f ="}]
[{"$f":"CONCATENATE(Working!A11,\")\")","v":"10)"},{"$f":"CONCATENATE(Working!E11,Working!F11,Working!B11,Working!I11,Working!J11,Working!B11,\" =\")","v":"6r + 7r ="},{"$f":"CONCATENATE(Working!A36,\")\")","v":"35)"},{"$f":"CONCATENATE(Working!E36,Working!F36,Working!B36,Working!I36,Working!J36,Working!B36,\" =\")","v":"-3o + 6o ="},{"$f":"CONCATENATE(Working!A61,\")\")","v":"60)"},{"$f":"CONCATENATE(Working!E61,Working!F61,Working!B61,Working!I61,Working!J61,Working!B61,\" =\")","v":"-2u + 5u ="},{"$f":"CONCATENATE(Working!A86,\")\")","v":"85)"},{"$f":"CONCATENATE(Working!E86,Working!F86,Working!B86,Working!I86,Working!J86,Working!B86,\" =\")","v":"-8x + 3x ="}]
[{"$f":"CONCATENATE(Working!A12,\")\")","v":"11)"},{"$f":"CONCATENATE(Working!E12,Working!F12,Working!B12,Working!I12,Working!J12,Working!B12,\" =\")","v":"6k + 3k ="},{"$f":"CONCATENATE(Working!A37,\")\")","v":"36)"},{"$f":"CONCATENATE(Working!E37,Working!F37,Working!B37,Working!I37,Working!J37,Working!B37,\" =\")","v":"8m + 9m ="},{"$f":"CONCATENATE(Working!A62,\")\")","v":"61)"},{"$f":"CONCATENATE(Working!E62,Working!F62,Working!B62,Working!I62,Working!J62,Working!B62,\" =\")","v":"-o - 5o ="},{"$f":"CONCATENATE(Working!A87,\")\")","v":"86)"},{"$f":"CONCATENATE(Working!E87,Working!F87,Working!B87,Working!I87,Working!J87,Working!B87,\" =\")","v":"-2q - 8q ="}]
[{"$f":"CONCATENATE(Working!A13,\")\")","v":"12)"},{"$f":"CONCATENATE(Working!E13,Working!F13,Working!B13,Working!I13,Working!J13,Working!B13,\" =\")","v":"r - 5r ="},{"$f":"CONCATENATE(Working!A38,\")\")","v":"37)"},{"$f":"CONCATENATE(Working!E38,Working!F38,Working!B38,Working!I38,Working!J38,Working!B38,\" =\")","v":"4b + 5b ="},{"$f":"CONCATENATE(Working!A63,\")\")","v":"62)"},{"$f":"CONCATENATE(Working!E63,Working!F63,Working!B63,Working!I63,Working!J63,Working!B63,\" =\")","v":"b + 6b ="},{"$f":"CONCATENATE(Working!A88,\")\")","v":"87)"},{"$f":"CONCATENATE(Working!E88,Working!F88,Working!B88,Working!I88,Working!J88,Working!B88,\" =\")","v":"-7e - 8e ="}]
[{"$f":"CONCATENATE(Working!A14,\")\")","v":"13)"},{"$f":"CONCATENATE(Working!E14,Working!F14,Working!B14,Working!I14,Working!J14,Working!B14,\" =\")","v":"-7z + 4z ="},{"$f":"CONCATENATE(Working!A39,\")\")","v":"38)"},{"$f":"CONCATENATE(Working!E39,Working!F39,Working!B39,Working!I39,Working!J39,Working!B39,\" =\")","v":"-4y + 6y ="},{"$f":"CONCATENATE(Working!A64,\")\")","v":"63)"},{"$f":"CONCATENATE(Working!E64,Working!F64,Working!B64,Working!I64,Working!J64,Working!B64,\" =\")","v":"-l + 8l ="},{"$f":"CONCATENATE(Working!A89,\")\")","v":"88)"},{"$f":"CONCATENATE(Working!E89,Working!F89,Working!B89,Working!I89,Working!J89,Working!B89,\" =\")","v":"5t - 5t ="}]
[{"$f":"CONCATENATE(Working!A15,\")\")","v":"14)"},{"$f":"CONCATENATE(Working!E15,Working!F15,Working!B15,Working!I15,Working!J15,Working!B15,\" =\")","v":"-8t - 6t ="},{"$f":"CONCATENATE(Working!A40,\")\")","v":"39)"},{"$f":"CONCATENATE(Working!E40,Working!F40,Working!B40,Working!I40,Working!J40,Working!B40,\" =\")","v":"-5o + 7o ="},{"$f":"CONCATENATE(Working!A65,\")\")","v":"64)"},{"$f":"CONCATENATE(Working!E65,Working!F65,Working!B65,Working!I65,Working!J65,Working!B65,\" =\")","v":"-6j + 4j ="},{"$f":"CONCATENATE(Working!A90,\")\")","v":"89)"},{"$f":"CONCATENATE(Working!E90,Working!F90,Working!B90,Working!I90,Working!J90,Working!B90,\" =\")","v":"-5c + 2c ="}]
[{"$f":"CONCATENATE(Working!A16,\")\")","v":"15)"},{"$f":"CONCATENATE(Working!E16,Working!F16,Working!B16,Working!I16,Working!J16,Working!B16,\" =\")","v":"-9s + 6s ="},{"$f":"CONCATENATE(Working!A41,\")\")","v":"40)"},{"$f":"CONCATENATE(Working!E41,Working!F41,Working!B41,Working!I41,Working!J41,Working!B41,\" =\")","v":"-5f + 2f ="},{"$f":"CONCATENATE(Working!A66,\")\")","v":"65)"},{"$f":"CONCATENATE(Working!E66,Working!F66,Working!B66,Working!I66,Working!J66,Working!B66,\" =\")","v":"-4f - 3f ="},{"$f":"CONCATENATE(Working!A91,\")\")","v":"90)"},{"$f":"CONCATENATE(Working!E91,Working!F91,Working!B91,Working!I91,Working!J91,Working!B91,\" =\")","v":"-2h - 6h ="}]
[{"$f":"CONCATENATE(Working!A17,\")\")","v":"16)"},{"$f":"CONCATENATE(Working!E17,Working!F17,Working!B17,Working!I17,Working!J17,Working!B17,\" =\")","v":"4s - 3s ="},{"$f":"CONCATENATE(Working!A42,\")\")","v":"41)"},{"$f":"CONCATENATE(Working!E42,Working!F42,Working!B42,Working!I42,Working!J42,Working!B42,\" =\")","v":"2g + g ="},{"$f":"CONCATENATE(Working!A67,\")\")","v":"66)"},{"$f":"CONCATENATE(Working!E67,Working!F67,Working!B67,Working!I67,Working!J67,Working!B67,\" =\")","v":"-2n - 7n ="},{"$f":"CONCATENATE(Working!A92,\")\")","v":"91)"},{"$f":"CONCATENATE(Working!E92,Working!F92,Working!B92,Working!I92,Working!J92,Working!B92,\" =\")","v":"8k - 2k ="}]
[{"$f":"CONCATENATE(Working!A18,\")\")","v":"17)"},{"$f":"CONCATENATE(Working!E18,Working!F18,Working!B18,Working!I18,Working!J18,Working!B18,\" =\")","v":"3b - 2b ="},{"$f":"CONCATENATE(Working!A43,\")\")","v":"42)"},{"$f":"CONCATENATE(Working!E43,Working!F43,Working!B43,Working!I43,Working!J43,Working!B43,\" =\")","v":"-6c - 5c ="},{"$f":"CONCATENATE(Working!A68,\")\")","v":"67)"},{"$f":"CONCATENATE(Working!E68,Working!F68,Working!B68,Working!I68,Working!J68,Working!B68,\" =\")","v":"-6u - 2u ="},{"$f":"CONCATENATE(Working!A93,\")\")","v":"92)"},{"$f":"CONCATENATE(Working!E93,Working!F93,Working!B93,Working!I93,Working!J93,Working!B93,\" =\")","v":"9o + 7o ="}]
[{"$f":"CONCATENATE(Working!A19,\")\")","v":"18)"},{"$f":"CONCATENATE(Working!E19,Working!F19,Working!B19,Working!I19,Working!J19,Working!B19,\" =\")","v":"-3a - 6a ="},{"$f":"CONCATENATE(Working!A44,\")\")","v":"43)"},{"$f":"CONCATENATE(Working!E44,Working!F44,Working!B44,Working!I44,Working!J44,Working!B44,\" =\")","v":"7o + 4o ="},{"$f":"CONCATENATE(Working!A69,\")\")","v":"68)"},{"$f":"CONCATENATE(Working!E69,Working!F69,Working!B69,Working!I69,Working!J69,Working!B69,\" =\")","v":"7z - 8z ="},{"$f":"CONCATENATE(Working!A94,\")\")","v":"93)"},{"$f":"CONCATENATE(Working!E94,Working!F94,Working!B94,Working!I94,Working!J94,Working!B94,\" =\")","v":"-5i + 9i ="}]
[{"$f":"CONCATENATE(Working!A20,\")\")","v":"19)"},{"$f":"CONCATENATE(Working!E20,Working!F20,Working!B20,Working!I20,Working!J20,Working!B20,\" =\")","v":"6z + 6z ="},{"$f":"CONCATENATE(Working!A45,\")\")","v":"44)"},{"$f":"CONCATENATE(Working!E45,Working!F45,Working!B45,Working!I45,Working!J45,Working!B45,\" =\")","v":"-2t - 4t ="},{"$f":"CONCATENATE(Working!A70,\")\")","v":"69)"},{"$f":"CONCATENATE(Working!E70,Working!F70,Working!B70,Working!I70,Working!J70,Working!B70,\" =\")","v":"p + p ="},{"$f":"CONCATENATE(Working!A95,\")\")","v":"94)"},{"$f":"CONCATENATE(Working!E95,Working!F95,Working!B95,Working!I95,Working!J95,Working!B95,\" =\")","v":"i - 7i ="}]
[{"$f":"CONCATENATE(Working!A21,\")\")","v":"20)"},{"$f":"CONCATENATE(Working!E21,Working!F21,Working!B21,Working!I21,Working!J21,Working!B21,\" =\")","v":"-8i + 4i ="},{"$f":"CONCATENATE(Working!A46,\")\")","v":"45)"},{"$f":"CONCATENATE(Working!E46,Working!F46,Working!B46,Working!I46,Working!J46,Working!B46,\" =\")","v":"-4a + a ="},{"$f":"CONCATENATE(Working!A71,\")\")","v":"70)"},{"$f":"CONCATENATE(Working!E71,Working!F71,Working!B71,Working!I71,Working!J71,Working!B71,\" =\")","v":"9l + 8l ="},{"$f":"CONCATENATE(Working!A96,\")\")","v":"95)"},{"$f":"CONCATENATE(Working!E96,Working!F96,Working!B96,Working!I96,Working!J96,Working!B96,\" =\")","v":"-5z + 4z ="}]
[{"$f":"CONCATENATE(Working!A22,\")\")","v":"21)"},{"$f":"CONCATENATE(Working!E22,Working!F22,Working!B22,Working!I22,Working!J22,Working!B22,\" =\")","v":"-4n - 6n ="},{"$f":"CONCATENATE(Working!A47,\")\")","v":"46)"},{"$f":"CONCATENATE(Working!E47,Working!F47,Working!B47,Working!I47,Working!J47,Working!B47,\" =\")","v":"-2e + 8e ="},{"$f":"CONCATENATE(Working!A72,\")\")","v":"71)"},{"$f":"CONCATENATE(Working!E72,Working!F72,Working!B72,Working!I72,Working!J72,Working!B72,\" =\")","v":"-7i + i ="},{"$f":"CONCATENATE(Working!A97,\")\")","v":"96)"},{"$f":"CONCATENATE(Working!E97,Working!F97,Working!B97,Working!I97,Working!J97,Working!B97,\" =\")","v":"-5i - 6i ="}]
[{"$f":"CONCATENATE(Working!A23,\")\")","v":"22)"},{"$f":"CONCATENATE(Working!E23,Working!F23,Working!B23,Working!I23,Working!J23,Working!B23,\" =\")","v":"6t - 8t ="},{"$f":"CONCATENATE(Working!A48,\")\")","v":"47)"},{"$f":"CONCATENATE(Working!E48,Working!F48,Working!B48,Working!I48,Working!J48,Working!B48,\" =\")","v":"-3p - 4p ="},{"$f":"CONCATENATE(Working!A73,\")\")","v":"72)"},{"$f":"CONCATENATE(Working!E73,Working!F73,Working!B73,Working!I73,Working!J73,Working!B73,\" =\")","v":"6q - 8q ="},{"$f":"CONCATENATE(Working!A98,\")\")","v":"97)"},{"$f":"CONCATENATE(Working!E98,Working!F98,Working!B98,Working!I98,Working!J98,Working!B98,\" =\")","v":"-5c + 3c ="}]
[{"$f":"CONCATENATE(Working!A24,\")\")","v":"23)"},{"$f":"CONCATENATE(Working!E24,Working!F24,Working!B24,Working!I24,Working!J24,Working!B24,\" =\")","v":"8q - q ="},{"$f":"CONCATENATE(Working!A49,\")\")","v":"48)"},{"$f":"CONCATENATE(Working!E49,Working!F49,Working!B49,Working!I49,Working!J49,Working!B49,\" =\")","v":"9k + 5k ="},{"$f":"CONCATENATE(Working!A74,\")\")","v":"73)"},{"$f":"CONCATENATE(Working!E74,Working!F74,Working!B74,Working!I74,Working!J74,Working!B74,\" =\")","v":"4v + 8v ="},{"$f":"CONCATENATE(Working!A99,\")\")","v":"98)"},{"$f":"CONCATENATE(Working!E99,Working!F99,Working!B99,Working!I99,Working!J99,Working!B99,\" =\")","v":"7g + 7g ="}]
[{"$f":"CONCATENATE(Working!A25,\")\")","v":"24)"},{"$f":"CONCATENATE(Working!E25,Working!F25,Working!B25,Working!I25,Working!J25,Working!B25,\" =\")","v":"2x + 5x ="},{"$f":"CONCATENATE(Working!A50,\")\")","v":"49)"},{"$f":"CONCATENATE(Working!E50,Working!F50,Working!B50,Working!I50,Working!J50,Working!B50,\" =\")","v":"4d - 5d ="},{"$f":"CONCATENATE(Working!A75,\")\")","v":"74)"},{"$f":"CONCATENATE(Working!E75,Working!F75,Working!B75,Working!I75,Working!J75,Working!B75,\" =\")","v":"-s + 4s ="},{"$f":"CONCATENATE(Working!A100,\")\")","v":"99)"},{"$f":"CONCATENATE(Working!E100,Working!F100,Working!B100,Working!I100,Working!J100,Working!B100,\" =\")","v":"-4b + 3b ="}]
[{"$f":"CONCATENATE(Working!A26,\")\")","v":"25)"},{"$f":"CONCATENATE(Working!E26,Working!F26,Working!B26,Working!I26,Working!J26,Working!B26,\" =\")","v":"-9z - 5z ="},{"$f":"CONCATENATE(Working!A51,\")\")","v":"50)"},{"$f":"CONCATENATE(Working!E51,Working!F51,Working!B51,Working!I51,Working!J51,Working!B51,\" =\")","v":"-6a - 9a ="},{"$f":"CONCATENATE(Working!A76,\")\")","v":"75)"},{"$f":"CONCATENATE(Working!E76,Working!F76,Working!B76,Working!I76,Working!J76,Working!B76,\" =\")","v":"3c + c ="},{"$f":"CONCATENATE(Working!A101,\")\")","v":"100)"},{"$f":"CONCATENATE(Working!E101,Working!F101,Working!B101,Working!I101,Working!J101,Working!B101,\" =\")","v":"-a + 3a ="}]

{"sheet":"Answers","index":1,"n_rows":28,"n_cols":8,"rows_kept":28,"cut":false,"hidden":false,"merged":[]}
[null,null,null,null,"COLLECT LIKE TERMS"]
[null,null,null,null,"ANSWERS",null,{"$f":"CONCATENATE(\"Worksheet \",Working!C1,Working!B1)","v":"Worksheet CLT-361"}]
[]
[{"$f":"CONCATENATE(Working!A2,\")\")","v":"1)"},{"$f":"IF(Working!$K2=0,\"0\",CONCATENATE(Working!$L2,Working!$B2))","v":"-3c"},{"$f":"CONCATENATE(Working!A27,\")\")","v":"26)"},{"$f":"IF(Working!$K27=0,\"0\",CONCATENATE(Working!$L27,Working!$B27))","v":"-5z"},{"$f":"CONCATENATE(Working!A52,\")\")","v":"51)"},{"$f":"IF(Working!$K52=0,\"0\",CONCATENATE(Working!$L52,Working!$B52))","v":"6f"},{"$f":"CONCATENATE(Working!A77,\")\")","v":"76)"},{"$f":"IF(Working!$K77=0,\"0\",CONCATENATE(Working!$L77,Working!$B77))","v":"-7x"}]
[{"$f":"CONCATENATE(Working!A3,\")\")","v":"2)"},{"$f":"IF(Working!$K3=0,\"0\",CONCATENATE(Working!$L3,Working!$B3))","v":"3y"},{"$f":"CONCATENATE(Working!A28,\")\")","v":"27)"},{"$f":"IF(Working!$K28=0,\"0\",CONCATENATE(Working!$L28,Working!$B28))","v":"11s"},{"$f":"CONCATENATE(Working!A53,\")\")","v":"52)"},{"$f":"IF(Working!$K53=0,\"0\",CONCATENATE(Working!$L53,Working!$B53))","v":"-3i"},{"$f":"CONCATENATE(Working!A78,\")\")","v":"77)"},{"$f":"IF(Working!$K78=0,\"0\",CONCATENATE(Working!$L78,Working!$B78))","v":"-9n"}]
[{"$f":"CONCATENATE(Working!A4,\")\")","v":"3)"},{"$f":"IF(Working!$K4=0,\"0\",CONCATENATE(Working!$L4,Working!$B4))","v":"7s"},{"$f":"CONCATENATE(Working!A29,\")\")","v":"28)"},{"$f":"IF(Working!$K29=0,\"0\",CONCATENATE(Working!$L29,Working!$B29))","v":"5l"},{"$f":"CONCATENATE(Working!A54,\")\")","v":"53)"},{"$f":"IF(Working!$K54=0,\"0\",CONCATENATE(Working!$L54,Working!$B54))","v":"11q"},{"$f":"CONCATENATE(Working!A79,\")\")","v":"78)"},{"$f":"IF(Working!$K79=0,\"0\",CONCATENATE(Working!$L79,Working!$B79))","v":"14o"}]
[{"$f":"CONCATENATE(Working!A5,\")\")","v":"4)"},{"$f":"IF(Working!$K5=0,\"0\",CONCATENATE(Working!$L5,Working!$B5))","v":"-7a"},{"$f":"CONCATENATE(Working!A30,\")\")","v":"29)"},{"$f":"IF(Working!$K30=0,\"0\",CONCATENATE(Working!$L30,Working!$B30))","v":"-h"},{"$f":"CONCATENATE(Working!A55,\")\")","v":"54)"},{"$f":"IF(Working!$K55=0,\"0\",CONCATENATE(Working!$L55,Working!$B55))","v":"7z"},{"$f":"CONCATENATE(Working!A80,\")\")","v":"79)"},{"$f":"IF(Working!$K80=0,\"0\",CONCATENATE(Working!$L80,Working!$B80))","v":"6i"}]
[{"$f":"CONCATENATE(Working!A6,\")\")","v":"5)"},{"$f":"IF(Working!$K6=0,\"0\",CONCATENATE(Working!$L6,Working!$B6))","v":"-11l"},{"$f":"CONCATENATE(Working!A31,\")\")","v":"30)"},{"$f":"IF(Working!$K31=0,\"0\",CONCATENATE(Working!$L31,Working!$B31))","v":"-10e"},{"$f":"CONCATENATE(Working!A56,\")\")","v":"55)"},{"$f":"IF(Working!$K56=0,\"0\",CONCATENATE(Working!$L56,Working!$B56))","v":"12d"},{"$f":"CONCATENATE(Working!A81,\")\")","v":"80)"},{"$f":"IF(Working!$K81=0,\"0\",CONCATENATE(Working!$L81,Working!$B81))","v":"3n"}]
[{"$f":"CONCATENATE(Working!A7,\")\")","v":"6)"},{"$f":"IF(Working!$K7=0,\"0\",CONCATENATE(Working!$L7,Working!$B7))","v":"2m"},{"$f":"CONCATENATE(Working!A32,\")\")","v":"31)"},{"$f":"IF(Working!$K32=0,\"0\",CONCATENATE(Working!$L32,Working!$B32))","v":"15g"},{"$f":"CONCATENATE(Working!A57,\")\")","v":"56)"},{"$f":"IF(Working!$K57=0,\"0\",CONCATENATE(Working!$L57,Working!$B57))","v":"2o"},{"$f":"CONCATENATE(Working!A82,\")\")","v":"81)"},{"$f":"IF(Working!$K82=0,\"0\",CONCATENATE(Working!$L82,Working!$B82))","v":"j"}]
[{"$f":"CONCATENATE(Working!A8,\")\")","v":"7)"},{"$f":"IF(Working!$K8=0,\"0\",CONCATENATE(Working!$L8,Working!$B8))","v":"-8t"},{"$f":"CONCATENATE(Working!A33,\")\")","v":"32)"},{"$f":"IF(Working!$K33=0,\"0\",CONCATENATE(Working!$L33,Working!$B33))","v":"10t"},{"$f":"CONCATENATE(Working!A58,\")\")","v":"57)"},{"$f":"IF(Working!$K58=0,\"0\",CONCATENATE(Working!$L58,Working!$B58))","v":"3p"},{"$f":"CONCATENATE(Working!A83,\")\")","v":"82)"},{"$f":"IF(Working!$K83=0,\"0\",CONCATENATE(Working!$L83,Working!$B83))","v":"-b"}]
[{"$f":"CONCATENATE(Working!A9,\")\")","v":"8)"},{"$f":"IF(Working!$K9=0,\"0\",CONCATENATE(Working!$L9,Working!$B9))","v":"12k"},{"$f":"CONCATENATE(Working!A34,\")\")","v":"33)"},{"$f":"IF(Working!$K34=0,\"0\",CONCATENATE(Working!$L34,Working!$B34))","v":"-11r"},{"$f":"CONCATENATE(Working!A59,\")\")","v":"58)"},{"$f":"IF(Working!$K59=0,\"0\",CONCATENATE(Working!$L59,Working!$B59))","v":"-3i"},{"$f":"CONCATENATE(Working!A84,\")\")","v":"83)"},{"$f":"IF(Working!$K84=0,\"0\",CONCATENATE(Working!$L84,Working!$B84))","v":"-h"}]
[{"$f":"CONCATENATE(Working!A10,\")\")","v":"9)"},{"$f":"IF(Working!$K10=0,\"0\",CONCATENATE(Working!$L10,Working!$B10))","v":"c"},{"$f":"CONCATENATE(Working!A35,\")\")","v":"34)"},{"$f":"IF(Working!$K35=0,\"0\",CONCATENATE(Working!$L35,Working!$B35))","v":"-14u"},{"$f":"CONCATENATE(Working!A60,\")\")","v":"59)"},{"$f":"IF(Working!$K60=0,\"0\",CONCATENATE(Working!$L60,Working!$B60))","v":"4w"},{"$f":"CONCATENATE(Working!A85,\")\")","v":"84)"},{"$f":"IF(Working!$K85=0,\"0\",CONCATENATE(Working!$L85,Working!$B85))","v":"0"}]
[{"$f":"CONCATENATE(Working!A11,\")\")","v":"10)"},{"$f":"IF(Working!$K11=0,\"0\",CONCATENATE(Working!$L11,Working!$B11))","v":"13r"},{"$f":"CONCATENATE(Working!A36,\")\")","v":"35)"},{"$f":"IF(Working!$K36=0,\"0\",CONCATENATE(Working!$L36,Working!$B36))","v":"3o"},{"$f":"CONCATENATE(Working!A61,\")\")","v":"60)"},{"$f":"IF(Working!$K61=0,\"0\",CONCATENATE(Working!$L61,Working!$B61))","v":"3u"},{"$f":"CONCATENATE(Working!A86,\")\")","v":"85)"},{"$f":"IF(Working!$K86=0,\"0\",CONCATENATE(Working!$L86,Working!$B86))","v":"-5x"}]
[{"$f":"CONCATENATE(Working!A12,\")\")","v":"11)"},{"$f":"IF(Working!$K12=0,\"0\",CONCATENATE(Working!$L12,Working!$B12))","v":"9k"},{"$f":"CONCATENATE(Working!A37,\")\")","v":"36)"},{"$f":"IF(Working!$K37=0,\"0\",CONCATENATE(Working!$L37,Working!$B37))","v":"17m"},{"$f":"CONCATENATE(Working!A62,\")\")","v":"61)"},{"$f":"IF(Working!$K62=0,\"0\",CONCATENATE(Working!$L62,Working!$B62))","v":"-6o"},{"$f":"CONCATENATE(Working!A87,\")\")","v":"86)"},{"$f":"IF(Working!$K87=0,\"0\",CONCATENATE(Working!$L87,Working!$B87))","v":"-10q"}]
[{"$f":"CONCATENATE(Working!A13,\")\")","v":"12)"},{"$f":"IF(Working!$K13=0,\"0\",CONCATENATE(Working!$L13,Working!$B13))","v":"-4r"},{"$f":"CONCATENATE(Working!A38,\")\")","v":"37)"},{"$f":"IF(Working!$K38=0,\"0\",CONCATENATE(Working!$L38,Working!$B38))","v":"9b"},{"$f":"CONCATENATE(Working!A63,\")\")","v":"62)"},{"$f":"IF(Working!$K63=0,\"0\",CONCATENATE(Working!$L63,Working!$B63))","v":"7b"},{"$f":"CONCATENATE(Working!A88,\")\")","v":"87)"},{"$f":"IF(Working!$K88=0,\"0\",CONCATENATE(Working!$L88,Working!$B88))","v":"-15e"}]
[{"$f":"CONCATENATE(Working!A14,\")\")","v":"13)"},{"$f":"IF(Working!$K14=0,\"0\",CONCATENATE(Working!$L14,Working!$B14))","v":"-3z"},{"$f":"CONCATENATE(Working!A39,\")\")","v":"38)"},{"$f":"IF(Working!$K39=0,\"0\",CONCATENATE(Working!$L39,Working!$B39))","v":"2y"},{"$f":"CONCATENATE(Working!A64,\")\")","v":"63)"},{"$f":"IF(Working!$K64=0,\"0\",CONCATENATE(Working!$L64,Working!$B64))","v":"7l"},{"$f":"CONCATENATE(Working!A89,\")\")","v":"88)"},{"$f":"IF(Working!$K89=0,\"0\",CONCATENATE(Working!$L89,Working!$B89))","v":"0"}]
[{"$f":"CONCATENATE(Working!A15,\")\")","v":"14)"},{"$f":"IF(Working!$K15=0,\"0\",CONCATENATE(Working!$L15,Working!$B15))","v":"-14t"},{"$f":"CONCATENATE(Working!A40,\")\")","v":"39)"},{"$f":"IF(Working!$K40=0,\"0\",CONCATENATE(Working!$L40,Working!$B40))","v":"2o"},{"$f":"CONCATENATE(Working!A65,\")\")","v":"64)"},{"$f":"IF(Working!$K65=0,\"0\",CONCATENATE(Working!$L65,Working!$B65))","v":"-2j"},{"$f":"CONCATENATE(Working!A90,\")\")","v":"89)"},{"$f":"IF(Working!$K90=0,\"0\",CONCATENATE(Working!$L90,Working!$B90))","v":"-3c"}]
[{"$f":"CONCATENATE(Working!A16,\")\")","v":"15)"},{"$f":"IF(Working!$K16=0,\"0\",CONCATENATE(Working!$L16,Working!$B16))","v":"-3s"},{"$f":"CONCATENATE(Working!A41,\")\")","v":"40)"},{"$f":"IF(Working!$K41=0,\"0\",CONCATENATE(Working!$L41,Working!$B41))","v":"-3f"},{"$f":"CONCATENATE(Working!A66,\")\")","v":"65)"},{"$f":"IF(Working!$K66=0,\"0\",CONCATENATE(Working!$L66,Working!$B66))","v":"-7f"},{"$f":"CONCATENATE(Working!A91,\")\")","v":"90)"},{"$f":"IF(Working!$K91=0,\"0\",CONCATENATE(Working!$L91,Working!$B91))","v":"-8h"}]
[{"$f":"CONCATENATE(Working!A17,\")\")","v":"16)"},{"$f":"IF(Working!$K17=0,\"0\",CONCATENATE(Working!$L17,Working!$B17))","v":"s"},{"$f":"CONCATENATE(Working!A42,\")\")","v":"41)"},{"$f":"IF(Working!$K42=0,\"0\",CONCATENATE(Working!$L42,Working!$B42))","v":"3g"},{"$f":"CONCATENATE(Working!A67,\")\")","v":"66)"},{"$f":"IF(Working!$K67=0,\"0\",CONCATENATE(Working!$L67,Working!$B67))","v":"-9n"},{"$f":"CONCATENATE(Working!A92,\")\")","v":"91)"},{"$f":"IF(Working!$K92=0,\"0\",CONCATENATE(Working!$L92,Working!$B92))","v":"6k"}]
[{"$f":"CONCATENATE(Working!A18,\")\")","v":"17)"},{"$f":"IF(Working!$K18=0,\"0\",CONCATENATE(Working!$L18,Working!$B18))","v":"b"},{"$f":"CONCATENATE(Working!A43,\")\")","v":"42)"},{"$f":"IF(Working!$K43=0,\"0\",CONCATENATE(Working!$L43,Working!$B43))","v":"-11c"},{"$f":"CONCATENATE(Working!A68,\")\")","v":"67)"},{"$f":"IF(Working!$K68=0,\"0\",CONCATENATE(Working!$L68,Working!$B68))","v":"-8u"},{"$f":"CONCATENATE(Working!A93,\")\")","v":"92)"},{"$f":"IF(Working!$K93=0,\"0\",CONCATENATE(Working!$L93,Working!$B93))","v":"16o"}]
[{"$f":"CONCATENATE(Working!A19,\")\")","v":"18)"},{"$f":"IF(Working!$K19=0,\"0\",CONCATENATE(Working!$L19,Working!$B19))","v":"-9a"},{"$f":"CONCATENATE(Working!A44,\")\")","v":"43)"},{"$f":"IF(Working!$K44=0,\"0\",CONCATENATE(Working!$L44,Working!$B44))","v":"11o"},{"$f":"CONCATENATE(Working!A69,\")\")","v":"68)"},{"$f":"IF(Working!$K69=0,\"0\",CONCATENATE(Working!$L69,Working!$B69))","v":"-z"},{"$f":"CONCATENATE(Working!A94,\")\")","v":"93)"},{"$f":"IF(Working!$K94=0,\"0\",CONCATENATE(Working!$L94,Working!$B94))","v":"4i"}]
[{"$f":"CONCATENATE(Working!A20,\")\")","v":"19)"},{"$f":"IF(Working!$K20=0,\"0\",CONCATENATE(Working!$L20,Working!$B20))","v":"12z"},{"$f":"CONCATENATE(Working!A45,\")\")","v":"44)"},{"$f":"IF(Working!$K45=0,\"0\",CONCATENATE(Working!$L45,Working!$B45))","v":"-6t"},{"$f":"CONCATENATE(Working!A70,\")\")","v":"69)"},{"$f":"IF(Working!$K70=0,\"0\",CONCATENATE(Working!$L70,Working!$B70))","v":"2p"},{"$f":"CONCATENATE(Working!A95,\")\")","v":"94)"},{"$f":"IF(Working!$K95=0,\"0\",CONCATENATE(Working!$L95,Working!$B95))","v":"-6i"}]
[{"$f":"CONCATENATE(Working!A21,\")\")","v":"20)"},{"$f":"IF(Working!$K21=0,\"0\",CONCATENATE(Working!$L21,Working!$B21))","v":"-4i"},{"$f":"CONCATENATE(Working!A46,\")\")","v":"45)"},{"$f":"IF(Working!$K46=0,\"0\",CONCATENATE(Working!$L46,Working!$B46))","v":"-3a"},{"$f":"CONCATENATE(Working!A71,\")\")","v":"70)"},{"$f":"IF(Working!$K71=0,\"0\",CONCATENATE(Working!$L71,Working!$B71))","v":"17l"},{"$f":"CONCATENATE(Working!A96,\")\")","v":"95)"},{"$f":"IF(Working!$K96=0,\"0\",CONCATENATE(Working!$L96,Working!$B96))","v":"-z"}]
[{"$f":"CONCATENATE(Working!A22,\")\")","v":"21)"},{"$f":"IF(Working!$K22=0,\"0\",CONCATENATE(Working!$L22,Working!$B22))","v":"-10n"},{"$f":"CONCATENATE(Working!A47,\")\")","v":"46)"},{"$f":"IF(Working!$K47=0,\"0\",CONCATENATE(Working!$L47,Working!$B47))","v":"6e"},{"$f":"CONCATENATE(Working!A72,\")\")","v":"71)"},{"$f":"IF(Working!$K72=0,\"0\",CONCATENATE(Working!$L72,Working!$B72))","v":"-6i"},{"$f":"CONCATENATE(Working!A97,\")\")","v":"96)"},{"$f":"IF(Working!$K97=0,\"0\",CONCATENATE(Working!$L97,Working!$B97))","v":"-11i"}]
[{"$f":"CONCATENATE(Working!A23,\")\")","v":"22)"},{"$f":"IF(Working!$K23=0,\"0\",CONCATENATE(Working!$L23,Working!$B23))","v":"-2t"},{"$f":"CONCATENATE(Working!A48,\")\")","v":"47)"},{"$f":"IF(Working!$K48=0,\"0\",CONCATENATE(Working!$L48,Working!$B48))","v":"-7p"},{"$f":"CONCATENATE(Working!A73,\")\")","v":"72)"},{"$f":"IF(Working!$K73=0,\"0\",CONCATENATE(Working!$L73,Working!$B73))","v":"-2q"},{"$f":"CONCATENATE(Working!A98,\")\")","v":"97)"},{"$f":"IF(Working!$K98=0,\"0\",CONCATENATE(Working!$L98,Working!$B98))","v":"-2c"}]
[{"$f":"CONCATENATE(Working!A24,\")\")","v":"23)"},{"$f":"IF(Working!$K24=0,\"0\",CONCATENATE(Working!$L24,Working!$B24))","v":"7q"},{"$f":"CONCATENATE(Working!A49,\")\")","v":"48)"},{"$f":"IF(Working!$K49=0,\"0\",CONCATENATE(Working!$L49,Working!$B49))","v":"14k"},{"$f":"CONCATENATE(Working!A74,\")\")","v":"73)"},{"$f":"IF(Working!$K74=0,\"0\",CONCATENATE(Working!$L74,Working!$B74))","v":"12v"},{"$f":"CONCATENATE(Working!A99,\")\")","v":"98)"},{"$f":"IF(Working!$K99=0,\"0\",CONCATENATE(Working!$L99,Working!$B99))","v":"14g"}]
[{"$f":"CONCATENATE(Working!A25,\")\")","v":"24)"},{"$f":"IF(Working!$K25=0,\"0\",CONCATENATE(Working!$L25,Working!$B25))","v":"7x"},{"$f":"CONCATENATE(Working!A50,\")\")","v":"49)"},{"$f":"IF(Working!$K50=0,\"0\",CONCATENATE(Working!$L50,Working!$B50))","v":"-d"},{"$f":"CONCATENATE(Working!A75,\")\")","v":"74)"},{"$f":"IF(Working!$K75=0,\"0\",CONCATENATE(Working!$L75,Working!$B75))","v":"3s"},{"$f":"CONCATENATE(Working!A100,\")\")","v":"99)"},{"$f":"IF(Working!$K100=0,\"0\",CONCATENATE(Working!$L100,Working!$B100))","v":"-b"}]
[{"$f":"CONCATENATE(Working!A26,\")\")","v":"25)"},{"$f":"IF(Working!$K26=0,\"0\",CONCATENATE(Working!$L26,Working!$B26))","v":"-14z"},{"$f":"CONCATENATE(Working!A51,\")\")","v":"50)"},{"$f":"IF(Working!$K51=0,\"0\",CONCATENATE(Working!$L51,Working!$B51))","v":"-15a"},{"$f":"CONCATENATE(Working!A76,\")\")","v":"75)"},{"$f":"IF(Working!$K76=0,\"0\",CONCATENATE(Working!$L76,Working!$B76))","v":"4c"},{"$f":"CONCATENATE(Working!A101,\")\")","v":"100)"},{"$f":"IF(Working!$K101=0,\"0\",CONCATENATE(Working!$L101,Working!$B101))","v":"2a"}]

{"sheet":"Working","index":2,"n_rows":101,"n_cols":12,"rows_kept":101,"cut":false,"hidden":true,"merged":[]}
[{"$f":"INT(900*RAND()+100)","v":360},{"$f":"TEXT(1,A1)","v":"361"},"CLT-",null,null,null,null,null,null,null,"Answer"]
[1,{"$f":"CHAR(INT(26*RAND()+97))","v":"c"},{"$f":"INT(9*RAND()+1)","v":3},{"$f":"INT(2*RAND())","v":0},{"$f":"IF(D2=0,\"\",\"-\")","v":""},{"$f":"IF(C2=1,\"\",TEXT(C2,C2))","v":"3"},{"$f":"INT(9*RAND()+1)","v":6},{"$f":"INT(2*RAND())","v":1},{"$f":"IF(H2=0,\" + \",\" - \")","v":" - "},{"$f":"IF(G2=1,\"\",TEXT(G2,G2))","v":"6"},{"$f":"(-1)^(D2+2)*C2+(-1)^(H2+2)*G2","v":-3},{"$f":"IF(K2=1,\"\",IF(ABS(K2) =1,\"-\",TEXT(K2,0)))","v":"-3"}]
[2,{"$f":"CHAR(INT(26*RAND()+97))","v":"y"},{"$f":"INT(9*RAND()+1)","v":1},{"$f":"INT(2*RAND())","v":0},{"$f":"IF(D3=0,\"\",\"-\")","v":""},{"$f":"IF(C3=1,\"\",TEXT(C3,C3))","v":""},{"$f":"INT(9*RAND()+1)","v":2},{"$f":"INT(2*RAND())","v":0},{"$f":"IF(H3=0,\" + \",\" - \")","v":" + "},{"$f":"IF(G3=1,\"\",TEXT(G3,G3))","v":"2"},{"$f":"(-1)^(D3+2)*C3+(-1)^(H3+2)*G3","v":3},{"$f":"IF(K3=1,\"\",IF(ABS(K3) =1,\"-\",TEXT(K3,0)))","v":"3"}]
[3,"s",1,0,"","",6,0," + ","6",7,{"$f":"IF(K4=1,\"\",IF(ABS(K4) =1,\"-\",TEXT(K4,0)))","v":"7"}]
[4,"a",3,1,"-","3",4,1," - ","4",-7,"-7"]
[5,"l",6,1,"-","6",5,1," - ","5",-11,"-11"]
[6,"m",3,1,"-","3",5,0," + ","5",2,"2"]
[7,"t",4,1,"-","4",4,1," - ","4",-8,"-8"]
[8,"k",3,0,"","3",9,0," + ","9",12,"12"]
[9,"c",4,0,"","4",3,1," - ","3",1,""]
[10,"r",6,0,"","6",7,0," + ","7",13,"13"]
[11,"k",6,0,"","6",3,0," + ","3",9,"9"]
[12,"r",1,0,"","",5,1," - ","5",-4,"-4"]
[13,"z",7,1,"-","7",4,0," + ","4",-3,"-3"]
[14,"t",8,1,"-","8",6,1," - ","6",-14,"-14"]
[15,"s",9,1,"-","9",6,0," + ","6",-3,"-3"]
[16,"s",4,0,"","4",3,1," - ","3",1,""]
[17,"b",3,0,"","3",2,1," - ","2",1,""]
[18,"a",3,1,"-","3",6,1," - ","6",-9,"-9"]
[19,"z",6,0,"","6",6,0," + ","6",12,"12"]
[20,"i",8,1,"-","8",4,0," + ","4",-4,"-4"]
[21,"n",4,1,"-","4",6,1," - ","6",-10,"-10"]
[22,"t",6,0,"","6",8,1," - ","8",-2,"-2"]
[23,"q",8,0,"","8",1,1," - ","",7,"7"]
[24,"x",2,0,"","2",5,0," + ","5",7,"7"]
[25,"z",9,1,"-","9",5,1," - ","5",-14,"-14"]
[26,"z",7,1,"-","7",2,0," + ","2",-5,"-5"]
[27,"s",7,0,"","7",4,0," + ","4",11,"11"]
[28,"l",7,0,"","7",2,1," - ","2",5,"5"]
[29,"h",7,0,"","7",8,1," - ","8",-1,"-"]
[30,"e",2,1,"-","2",8,1," - ","8",-10,"-10"]
[31,"g",6,0,"","6",9,0," + ","9",15,"15"]
[32,"t",2,0,"","2",8,0," + ","8",10,"10"]
[33,"r",9,1,"-","9",2,1," - ","2",-11,"-11"]
[34,"u",7,1,"-","7",7,1," - ","7",-14,"-14"]
[35,"o",3,1,"-","3",6,0," + ","6",3,"3"]
[36,"m",8,0,"","8",9,0," + ","9",17,"17"]
[37,"b",4,0,"","4",5,0," + ","5",9,"9"]
[38,"y",4,1,"-","4",6,0," + ","6",2,"2"]
[39,"o",5,1,"-","5",7,0," + ","7",2,"2"]
[40,"f",5,1,"-","5",2,0," + ","2",-3,"-3"]
[41,"g",2,0,"","2",1,0," + ","",3,"3"]
[42,"c",6,1,"-","6",5,1," - ","5",-11,"-11"]
[43,"o",7,0,"","7",4,0," + ","4",11,"11"]
[44,"t",2,1,"-","2",4,1," - ","4",-6,"-6"]
[45,"a",4,1,"-","4",1,0," + ","",-3,"-3"]
[46,"e",2,1,"-","2",8,0," + ","8",6,"6"]
[47,"p",3,1,"-","3",4,1," - ","4",-7,"-7"]
[48,"k",9,0,"","9",5,0," + ","5",14,"14"]
[49,"d",4,0,"","4",5,1," - ","5",-1,"-"]
[50,"a",6,1,"-","6",9,1," - ","9",-15,"-15"]
[51,"f",2,0,"","2",4,0," + ","4",6,"6"]
[52,"i",1,1,"-","",2,1," - ","2",-3,"-3"]
[53,"q",9,0,"","9",2,0," + ","2",11,"11"]
[54,"z",6,0,"","6",1,0," + ","",7,"7"]
[55,"d",7,0,"","7",5,0," + ","5",12,"12"]
[56,"o",6,1,"-","6",8,0," + ","8",2,"2"]
[57,"p",8,0,"","8",5,1," - ","5",3,"3"]
[58,"i",2,1,"-","2",1,1," - ","",-3,"-3"]
[59,"w",3,0,"","3",1,0," + ","",4,"4"]
[60,"u",2,1,"-","2",5,0," + ","5",3,"3"]
[61,"o",1,1,"-","",5,1," - ","5",-6,"-6"]
[62,"b",1,0,"","",6,0," + ","6",7,"7"]
[63,"l",1,1,"-","",8,0," + ","8",7,"7"]
[64,"j",6,1,"-","6",4,0," + ","4",-2,"-2"]
[65,"f",4,1,"-","4",3,1," - ","3",-7,"-7"]
[66,{"$f":"CHAR(INT(26*RAND()+97))","v":"n"},{"$f":"INT(9*RAND()+1)","v":2},{"$f":"INT(2*RAND())","v":1},{"$f":"IF(D67=0,\"\",\"-\")","v":"-"},{"$f":"IF(C67=1,\"\",TEXT(C67,C67))","v":"2"},{"$f":"INT(9*RAND()+1)","v":7},{"$f":"INT(2*RAND())","v":1},{"$f":"IF(H67=0,\" + \",\" - \")","v":" - "},{"$f":"IF(G67=1,\"\",TEXT(G67,G67))","v":"7"},{"$f":"(-1)^(D67+2)*C67+(-1)^(H67+2)*G67","v":-9},"-9"]
[67,"u",6,1,"-","6",2,1," - ","2",-8,{"$f":"IF(K68=1,\"\",IF(ABS(K68) =1,\"-\",TEXT(K68,0)))","v":"-8"}]
[68,"z",7,0,"","7",8,1," - ","8",-1,"-"]
[69,"p",1,0,"","",1,0," + ","",2,"2"]
[70,"l",9,0,"","9",8,0," + ","8",17,"17"]
[71,"i",7,1,"-","7",1,0," + ","",-6,"-6"]
[72,"q",6,0,"","6",8,1," - ","8",-2,"-2"]
[73,"v",4,0,"","4",8,0," + ","8",12,"12"]
[74,"s",1,1,"-","",4,0," + ","4",3,"3"]
[75,"c",3,0,"","3",1,0," + ","",4,"4"]
[76,"x",4,1,"-","4",3,1," - ","3",-7,"-7"]
[77,"n",5,1,"-","5",4,1," - ","4",-9,"-9"]
[78,"o",6,0,"","6",8,0," + ","8",14,"14"]
[79,"i",3,0,"","3",3,0," + ","3",6,"6"]
[80,"n",5,0,"","5",2,1," - ","2",3,"3"]
[81,"j",7,0,"","7",6,1," - ","6",1,""]
[82,"b",2,0,"","2",3,1," - ","3",-1,"-"]
[83,"h",2,1,"-","2",1,0," + ","",-1,"-"]
[84,"f",9,1,"-","9",9,0," + ","9",0,"0"]
[85,"x",8,1,"-","8",3,0," + ","3",-5,"-5"]
[86,"q",2,1,"-","2",8,1," - ","8",-10,"-10"]
[87,"e",7,1,"-","7",8,1," - ","8",-15,"-15"]
[88,"t",5,0,"","5",5,1," - ","5",0,"0"]
[89,"c",5,1,"-","5",2,0," + ","2",-3,"-3"]
[90,"h",2,1,"-","2",6,1," - ","6",-8,"-8"]
[91,"k",8,0,"","8",2,1," - ","2",6,"6"]
[92,"o",9,0,"","9",7,0," + ","7",16,"16"]
[93,"i",5,1,"-","5",9,0," + ","9",4,"4"]
[94,"i",1,0,"","",7,1," - ","7",-6,"-6"]
[95,"z",5,1,"-","5",4,0," + ","4",-1,"-"]
[96,"i",5,1,"-","5",6,1," - ","6",-11,"-11"]
[97,"c",5,1,"-","5",3,0," + ","3",-2,"-2"]
[98,"g",7,0,"","7",7,0," + ","7",14,"14"]
[99,"b",4,1,"-","4",3,0," + ","3",-1,"-"]
[100,"a",1,1,"-","",3,0," + ","3",2,"2"]