{"text_format":"1","workbook":"xlsx","n_sheets":5,"sheets":["Values","Worksheet","Answer Sheet","Answers","Working"],"not_rendered":{"charts":0,"images":0,"macros":1,"external_links":0,"defined_names":0,"comments":0,"pivot_tables":0},"unopened":[],"bounds":{"document_bytes":16777216,"sheet_cells":100000,"rows_first":2000,"rows_last":500,"rows_between":2000,"halvings":0,"cell_chars":16384,"cell_head_chars":4096},"cells_cut":0,"cells_raw":0,"read":"whole","date_system":"1900"}

{"sheet":"Values","index":0,"n_rows":18,"n_cols":9,"rows_kept":18,"cut":false,"hidden":false,"merged":[[7,8,11,9],[9,2,12,7],[1,2,1,6],[3,2,4,7],[5,2,5,4],[7,2,7,6]]}
[null,null,null,null,"ADDITITION OF DECIMAL NUMBERS"]
[null,null,"INSTRUCTIONS"]
[]
[null,"Step 1","Enter the maximum number of digits to be used for this sheet. (A whole number >1 and <=5)"]
[]
[null,null,"No. of digits"]
[]
[null,"Step 2","Click on WorkSheet tab below.",null,null,null,null,null,"PRESS F9 for NEW WorkSheet"]
[]
[null,"Note","If you hold down shift then click on the WorkSheet tab and the Solutions tab, you will be able to print both the WorkSheet and the solutions."]
[]
[]
[]
[]
[null,null,"NOTES"]
[null,null,"* This sheet generates additions of 2 addends"]
[null,null,"* A separate algorithm answer sheet is available to encourage the use of the alorithm format"]
[null,null,"* This WorkSheet has 40 ramdom generated questions."]

{"sheet":"Worksheet","index":1,"n_rows":23,"n_cols":4,"rows_kept":23,"cut":false,"hidden":false,"merged":[]}
[null,null,"ADDITITION OF DECIMAL NUMBERS"]
[null,null,null,{"$f":"CONCATENATE(\"Worksheet \",Working!B1,Working!A1)","v":"Worksheet ADB-138"}]
["Evaluate the following;"]
[{"$f":"CONCATENATE(Working!A3,\")\")","v":"1)"},{"$f":"CONCATENATE(Working!$B3,\" + \",Working!$E3,\" =\")","v":"0 + 1 ="},{"$f":"CONCATENATE(Working!A23,\")\")","v":"21)"},{"$f":"CONCATENATE(Working!$B23,\" + \",Working!$E23,\" =\")","v":"5 + 1 ="}]
[{"$f":"CONCATENATE(Working!A4,\")\")","v":"2)"},{"$f":"CONCATENATE(Working!$B4,\" + \",Working!$E4,\" =\")","v":"2 + 3 ="},{"$f":"CONCATENATE(Working!A24,\")\")","v":"22)"},{"$f":"CONCATENATE(Working!$B24,\" + \",Working!$E24,\" =\")","v":"3 + 7 ="}]
[{"$f":"CONCATENATE(Working!A5,\")\")","v":"3)"},{"$f":"CONCATENATE(Working!$B5,\" + \",Working!$E5,\" =\")","v":"2 + 1 ="},{"$f":"CONCATENATE(Working!A25,\")\")","v":"23)"},{"$f":"CONCATENATE(Working!$B25,\" + \",Working!$E25,\" =\")","v":"5 + 5 ="}]
[{"$f":"CONCATENATE(Working!A6,\")\")","v":"4)"},{"$f":"CONCATENATE(Working!$B6,\" + \",Working!$E6,\" =\")","v":"7 + 1 ="},{"$f":"CONCATENATE(Working!A26,\")\")","v":"24)"},{"$f":"CONCATENATE(Working!$B26,\" + \",Working!$E26,\" =\")","v":"5 + 6 ="}]
[{"$f":"CONCATENATE(Working!A7,\")\")","v":"5)"},{"$f":"CONCATENATE(Working!$B7,\" + \",Working!$E7,\" =\")","v":"2 + 6 ="},{"$f":"CONCATENATE(Working!A27,\")\")","v":"25)"},{"$f":"CONCATENATE(Working!$B27,\" + \",Working!$E27,\" =\")","v":"4 + 3 ="}]
[{"$f":"CONCATENATE(Working!A8,\")\")","v":"6)"},{"$f":"CONCATENATE(Working!$B8,\" + \",Working!$E8,\" =\")","v":"4 + 6 ="},{"$f":"CONCATENATE(Working!A28,\")\")","v":"26)"},{"$f":"CONCATENATE(Working!$B28,\" + \",Working!$E28,\" =\")","v":"7 + 4 ="}]
[{"$f":"CONCATENATE(Working!A9,\")\")","v":"7)"},{"$f":"CONCATENATE(Working!$B9,\" + \",Working!$E9,\" =\")","v":"2 + 1 ="},{"$f":"CONCATENATE(Working!A29,\")\")","v":"27)"},{"$f":"CONCATENATE(Working!$B29,\" + \",Working!$E29,\" =\")","v":"0 + 6 ="}]
[{"$f":"CONCATENATE(Working!A10,\")\")","v":"8)"},{"$f":"CONCATENATE(Working!$B10,\" + \",Working!$E10,\" =\")","v":"3 + 6 ="},{"$f":"CONCATENATE(Working!A30,\")\")","v":"28)"},{"$f":"CONCATENATE(Working!$B30,\" + \",Working!$E30,\" =\")","v":"4 + 3 ="}]
[{"$f":"CONCATENATE(Working!A11,\")\")","v":"9)"},{"$f":"CONCATENATE(Working!$B11,\" + \",Working!$E11,\" =\")","v":"2 + 3 ="},{"$f":"CONCATENATE(Working!A31,\")\")","v":"29)"},{"$f":"CONCATENATE(Working!$B31,\" + \",Working!$E31,\" =\")","v":"8 + 7 ="}]
[{"$f":"CONCATENATE(Working!A12,\")\")","v":"10)"},{"$f":"CONCATENATE(Working!$B12,\" + \",Working!$E12,\" =\")","v":"4 + 7 ="},{"$f":"CONCATENATE(Working!A32,\")\")","v":"30)"},{"$f":"CONCATENATE(Working!$B32,\" + \",Working!$E32,\" =\")","v":"8 + 0 ="}]
[{"$f":"CONCATENATE(Working!A13,\")\")","v":"11)"},{"$f":"CONCATENATE(Working!$B13,\" + \",Working!$E13,\" =\")","v":"8 + 7 ="},{"$f":"CONCATENATE(Working!A33,\")\")","v":"31)"},{"$f":"CONCATENATE(Working!$B33,\" + \",Working!$E33,\" =\")","v":"5 + 1 ="}]
[{"$f":"CONCATENATE(Working!A14,\")\")","v":"12)"},{"$f":"CONCATENATE(Working!$B14,\" + \",Working!$E14,\" =\")","v":"5 + 7 ="},{"$f":"CONCATENATE(Working!A34,\")\")","v":"32)"},{"$f":"CONCATENATE(Working!$B34,\" + \",Working!$E34,\" =\")","v":"6 + 8 ="}]
[{"$f":"CONCATENATE(Working!A15,\")\")","v":"13)"},{"$f":"CONCATENATE(Working!$B15,\" + \",Working!$E15,\" =\")","v":"2 + 3 ="},{"$f":"CONCATENATE(Working!A35,\")\")","v":"33)"},{"$f":"CONCATENATE(Working!$B35,\" + \",Working!$E35,\" =\")","v":"6 + 0 ="}]
[{"$f":"CONCATENATE(Working!A16,\")\")","v":"14)"},{"$f":"CONCATENATE(Working!$B16,\" + \",Working!$E16,\" =\")","v":"8 + 4 ="},{"$f":"CONCATENATE(Working!A36,\")\")","v":"34)"},{"$f":"CONCATENATE(Working!$B36,\" + \",Working!$E36,\" =\")","v":"0 + 3 ="}]
[{"$f":"CONCATENATE(Working!A17,\")\")","v":"15)"},{"$f":"CONCATENATE(Working!$B17,\" + \",Working!$E17,\" =\")","v":"6 + 0 ="},{"$f":"CONCATENATE(Working!A37,\")\")","v":"35)"},{"$f":"CONCATENATE(Working!$B37,\" + \",Working!$E37,\" =\")","v":"2 + 7 ="}]
[{"$f":"CONCATENATE(Working!A18,\")\")","v":"16)"},{"$f":"CONCATENATE(Working!$B18,\" + \",Working!$E18,\" =\")","v":"7 + 1 ="},{"$f":"CONCATENATE(Working!A38,\")\")","v":"36)"},{"$f":"CONCATENATE(Working!$B38,\" + \",Working!$E38,\" =\")","v":"3 + 0 ="}]
[{"$f":"CONCATENATE(Working!A19,\")\")","v":"17)"},{"$f":"CONCATENATE(Working!$B19,\" + \",Working!$E19,\" =\")","v":"2 + 7 ="},{"$f":"CONCATENATE(Working!A39,\")\")","v":"37)"},{"$f":"CONCATENATE(Working!$B39,\" + \",Working!$E39,\" =\")","v":"7 + 7 ="}]
[{"$f":"CONCATENATE(Working!A20,\")\")","v":"18)"},{"$f":"CONCATENATE(Working!$B20,\" + \",Working!$E20,\" =\")","v":"1 + 7 ="},{"$f":"CONCATENATE(Working!A40,\")\")","v":"38)"},{"$f":"CONCATENATE(Working!$B40,\" + \",Working!$E40,\" =\")","v":"5 + 8 ="}]
[{"$f":"CONCATENATE(Working!A21,\")\")","v":"19)"},{"$f":"CONCATENATE(Working!$B21,\" + \",Working!$E21,\" =\")","v":"4 + 5 ="},{"$f":"CONCATENATE(Working!A41,\")\")","v":"39)"},{"$f":"CONCATENATE(Working!$B41,\" + \",Working!$E41,\" =\")","v":"1 + 4 ="}]
[{"$f":"CONCATENATE(Working!A22,\")\")","v":"20)"},{"$f":"CONCATENATE(Working!$B22,\" + \",Working!$E22,\" =\")","v":"8 + 6 ="},{"$f":"CONCATENATE(Working!A42,\")\")","v":"40)"},{"$f":"CONCATENATE(Working!$B42,\" + \",Working!$E42,\" =\")","v":"5 + 2 ="}]

{"sheet":"Answer Sheet","index":2,"n_rows":40,"n_cols":12,"rows_kept":40,"cut":false,"hidden":false,"merged":[]}
[null,null,null,null,null,null,"ADDITITION OF DECIMAL NUMBERS"]
[null,null,null,null,null,null,"Answers",null,null,{"$f":"CONCATENATE(\"Worksheet \",Working!B1,Working!$A1)","v":"Worksheet ADB-138"}]
["Evaluate the following;"]
[{"$f":"CONCATENATE(Working!$A3,\")\")","v":"1)"},null,"+",{"$f":"CONCATENATE(Working!$A13,\")\")","v":"11)"},null,"+",{"$f":"CONCATENATE(Working!$A23,\")\")","v":"21)"},null,"+",{"$f":"CONCATENATE(Working!$A33,\")\")","v":"31)"},null,"+"]
[]
[]
[]
[{"$f":"CONCATENATE(Working!$A4,\")\")","v":"2)"},null,"+",{"$f":"CONCATENATE(Working!$A14,\")\")","v":"12)"},null,"+",{"$f":"CONCATENATE(Working!$A24,\")\")","v":"22)"},null,"+",{"$f":"CONCATENATE(Working!$A34,\")\")","v":"32)"},null,"+"]
[]
[]
[]
[{"$f":"CONCATENATE(Working!$A5,\")\")","v":"3)"},null,"+",{"$f":"CONCATENATE(Working!$A15,\")\")","v":"13)"},null,"+",{"$f":"CONCATENATE(Working!$A25,\")\")","v":"23)"},null,"+",{"$f":"CONCATENATE(Working!$A35,\")\")","v":"33)"},null,"+"]
[]
[]
[]
[{"$f":"CONCATENATE(Working!$A6,\")\")","v":"4)"},null,"+",{"$f":"CONCATENATE(Working!$A16,\")\")","v":"14)"},null,"+",{"$f":"CONCATENATE(Working!$A26,\")\")","v":"24)"},null,"+",{"$f":"CONCATENATE(Working!$A36,\")\")","v":"34)"},null,"+"]
[]
[]
[]
[{"$f":"CONCATENATE(Working!$A7,\")\")","v":"5)"},null,"+",{"$f":"CONCATENATE(Working!$A17,\")\")","v":"15)"},null,"+",{"$f":"CONCATENATE(Working!$A27,\")\")","v":"25)"},null,"+",{"$f":"CONCATENATE(Working!$A37,\")\")","v":"35)"},null,"+"]
[]
[]
[]
[{"$f":"CONCATENATE(Working!$A8,\")\")","v":"6)"},null,"+",{"$f":"CONCATENATE(Working!$A18,\")\")","v":"16)"},null,"+",{"$f":"CONCATENATE(Working!$A28,\")\")","v":"26)"},null,"+",{"$f":"CONCATENATE(Working!$A38,\")\")","v":"36)"},null,"+"]
[]
[]
[]
[{"$f":"CONCATENATE(Working!$A9,\")\")","v":"7)"},null,"+",{"$f":"CONCATENATE(Working!$A19,\")\")","v":"17)"},null,"+",{"$f":"CONCATENATE(Working!$A29,\")\")","v":"27)"},null,"+",{"$f":"CONCATENATE(Working!$A39,\")\")","v":"37)"},null,"+"]
[]
[]
[]
[{"$f":"CONCATENATE(Working!$A10,\")\")","v":"8)"},null,"+",{"$f":"CONCATENATE(Working!$A20,\")\")","v":"18)"},null,"+",{"$f":"CONCATENATE(Working!$A30,\")\")","v":"28)"},null,"+",{"$f":"CONCATENATE(Working!$A40,\")\")","v":"38)"},null,"+"]
[]
[]
[]
[{"$f":"CONCATENATE(Working!$A11,\")\")","v":"9)"},null,"+",{"$f":"CONCATENATE(Working!$A21,\")\")","v":"19)"},null,"+",{"$f":"CONCATENATE(Working!$A31,\")\")","v":"29)"},null,"+",{"$f":"CONCATENATE(Working!$A41,\")\")","v":"39)"},null,"+"]
[]
[]
[]
[{"$f":"CONCATENATE(Working!$A12,\")\")","v":"10)"},null,"+",{"$f":"CONCATENATE(Working!$A22,\")\")","v":"20)"},null,"+",{"$f":"CONCATENATE(Working!$A32,\")\")","v":"30)"},null,"+",{"$f":"CONCATENATE(Working!$A42,\")\")","v":"40)"},null,"+"]

{"sheet":"Answers","index":3,"n_rows":42,"n_cols":12,"rows_kept":42,"cut":false,"hidden":false,"merged":[]}
[null,null,null,null,null,null,"ADDITITION OF DECIMAL NUMBERS"]
[null,null,null,null,null,null,"Answers",null,null,{"$f":"CONCATENATE(\"Worksheet \",Working!B1,Working!$A1)","v":"Worksheet ADB-138"}]
["Evaluate the following;"]
[{"$f":"CONCATENATE(Working!$A3,\")\")","v":"1)"},{"$f":"Working!$P3","v":"0 "},"+",{"$f":"CONCATENATE(Working!$A13,\")\")","v":"11)"},{"$f":"Working!$P13","v":"8 "},"+",{"$f":"CONCATENATE(Working!$A23,\")\")","v":"21)"},{"$f":"Working!$P23","v":"5 "},"+",{"$f":"CONCATENATE(Working!$A33,\")\")","v":"31)"},{"$f":"Working!$P33","v":"5 "},"+"]
[null,{"$f":"Working!$S3","v":"1 "},null,null,{"$f":"Working!$S13","v":"7 "},null,null,{"$f":"Working!$S23","v":"1 "},null,null,{"$f":"Working!$S33","v":"1 "}]
[null,{"$f":"Working!$V3","v":"1 "},null,null,{"$f":"Working!$V13","v":"15 "},null,null,{"$f":"Working!$V23","v":"6 "},null,null,{"$f":"Working!$V33","v":"6 "}]
[]
[{"$f":"CONCATENATE(Working!$A4,\")\")","v":"2)"},{"$f":"Working!$P4","v":"2 "},"+",{"$f":"CONCATENATE(Working!$A14,\")\")","v":"12)"},{"$f":"Working!$P14","v":"5 "},"+",{"$f":"CONCATENATE(Working!$A24,\")\")","v":"22)"},{"$f":"Working!$P24","v":"3 "},"+",{"$f":"CONCATENATE(Working!$A34,\")\")","v":"32)"},{"$f":"Working!$P34","v":"6 "},"+"]
[null,{"$f":"Working!$S4","v":"3 "},null,null,{"$f":"Working!$S14","v":"7 "},null,null,{"$f":"Working!$S24","v":"7 "},null,null,{"$f":"Working!$S34","v":"8 "}]
[null,{"$f":"Working!$V4","v":"5 "},null,null,{"$f":"Working!$V14","v":"12 "},null,null,{"$f":"Working!$V24","v":"10 "},null,null,{"$f":"Working!$V34","v":"14 "}]
[]
[{"$f":"CONCATENATE(Working!$A5,\")\")","v":"3)"},{"$f":"Working!$P5","v":"2 "},"+",{"$f":"CONCATENATE(Working!$A15,\")\")","v":"13)"},{"$f":"Working!$P15","v":"2 "},"+",{"$f":"CONCATENATE(Working!$A25,\")\")","v":"23)"},{"$f":"Working!$P25","v":"5 "},"+",{"$f":"CONCATENATE(Working!$A35,\")\")","v":"33)"},{"$f":"Working!$P35","v":"6 "},"+"]
[null,{"$f":"Working!$S5","v":"1 "},null,null,{"$f":"Working!$S15","v":"3 "},null,null,{"$f":"Working!$S25","v":"5 "},null,null,{"$f":"Working!$S35","v":"0 "}]
[null,{"$f":"Working!$V5","v":"3 "},null,null,{"$f":"Working!$V15","v":"5 "},null,null,{"$f":"Working!$V25","v":"10 "},null,null,{"$f":"Working!$V35","v":"6 "}]
[]
[{"$f":"CONCATENATE(Working!$A6,\")\")","v":"4)"},{"$f":"Working!$P6","v":"7 "},"+",{"$f":"CONCATENATE(Working!$A16,\")\")","v":"14)"},{"$f":"Working!$P16","v":"8 "},"+",{"$f":"CONCATENATE(Working!$A26,\")\")","v":"24)"},{"$f":"Working!$P26","v":"5 "},"+",{"$f":"CONCATENATE(Working!$A36,\")\")","v":"34)"},{"$f":"Working!$P36","v":"0 "},"+"]
[null,{"$f":"Working!$S6","v":"1 "},null,null,{"$f":"Working!$S16","v":"4 "},null,null,{"$f":"Working!$S26","v":"6 "},null,null,{"$f":"Working!$S36","v":"3 "}]
[null,{"$f":"Working!$V6","v":"8 "},null,null,{"$f":"Working!$V16","v":"12 "},null,null,{"$f":"Working!$V26","v":"11 "},null,null,{"$f":"Working!$V36","v":"3 "}]
[]
[{"$f":"CONCATENATE(Working!$A7,\")\")","v":"5)"},{"$f":"Working!$P7","v":"2 "},"+",{"$f":"CONCATENATE(Working!$A17,\")\")","v":"15)"},{"$f":"Working!$P17","v":"6 "},"+",{"$f":"CONCATENATE(Working!$A27,\")\")","v":"25)"},{"$f":"Working!$P27","v":"4 "},"+",{"$f":"CONCATENATE(Working!$A37,\")\")","v":"35)"},{"$f":"Working!$P37","v":"2 "},"+"]
[null,{"$f":"Working!$S7","v":"6 "},null,null,{"$f":"Working!$S17","v":"0 "},null,null,{"$f":"Working!$S27","v":"3 "},null,null,{"$f":"Working!$S37","v":"7 "}]
[null,{"$f":"Working!$V7","v":"8 "},null,null,{"$f":"Working!$V17","v":"6 "},null,null,{"$f":"Working!$V27","v":"7 "},null,null,{"$f":"Working!$V37","v":"9 "}]
[]
[{"$f":"CONCATENATE(Working!$A8,\")\")","v":"6)"},{"$f":"Working!$P8","v":"4 "},"+",{"$f":"CONCATENATE(Working!$A18,\")\")","v":"16)"},{"$f":"Working!$P18","v":"7 "},"+",{"$f":"CONCATENATE(Working!$A28,\")\")","v":"26)"},{"$f":"Working!$P28","v":"7 "},"+",{"$f":"CONCATENATE(Working!$A38,\")\")","v":"36)"},{"$f":"Working!$P38","v":"3 "},"+"]
[null,{"$f":"Working!$S8","v":"6 "},null,null,{"$f":"Working!$S18","v":"1 "},null,null,{"$f":"Working!$S28","v":"4 "},null,null,{"$f":"Working!$S38","v":"0 "}]
[null,{"$f":"Working!$V8","v":"10 "},null,null,{"$f":"Working!$V18","v":"8 "},null,null,{"$f":"Working!$V28","v":"11 "},null,null,{"$f":"Working!$V38","v":"3 "}]
[]
[{"$f":"CONCATENATE(Working!$A9,\")\")","v":"7)"},{"$f":"Working!$P9","v":"2 "},"+",{"$f":"CONCATENATE(Working!$A19,\")\")","v":"17)"},{"$f":"Working!$P19","v":"2 "},"+",{"$f":"CONCATENATE(Working!$A29,\")\")","v":"27)"},{"$f":"Working!$P29","v":"0 "},"+",{"$f":"CONCATENATE(Working!$A39,\")\")","v":"37)"},{"$f":"Working!$P39","v":"7 "},"+"]
[null,{"$f":"Working!$S9","v":"1 "},null,null,{"$f":"Working!$S19","v":"7 "},null,null,{"$f":"Working!$S29","v":"6 "},null,null,{"$f":"Working!$S39","v":"7 "}]
[null,{"$f":"Working!$V9","v":"3 "},null,null,{"$f":"Working!$V19","v":"9 "},null,null,{"$f":"Working!$V29","v":"6 "},null,null,{"$f":"Working!$V39","v":"14 "}]
[]
[{"$f":"CONCATENATE(Working!$A10,\")\")","v":"8)"},{"$f":"Working!$P10","v":"3 "},"+",{"$f":"CONCATENATE(Working!$A20,\")\")","v":"18)"},{"$f":"Working!$P20","v":"1 "},"+",{"$f":"CONCATENATE(Working!$A30,\")\")","v":"28)"},{"$f":"Working!$P30","v":"4 "},"+",{"$f":"CONCATENATE(Working!$A40,\")\")","v":"38)"},{"$f":"Working!$P40","v":"5 "},"+"]
[null,{"$f":"Working!$S10","v":"6 "},null,null,{"$f":"Working!$S20","v":"7 "},null,null,{"$f":"Working!$S30","v":"3 "},null,null,{"$f":"Working!$S40","v":"8 "}]
[null,{"$f":"Working!$V10","v":"9 "},null,null,{"$f":"Working!$V20","v":"8 "},null,null,{"$f":"Working!$V30","v":"7 "},null,null,{"$f":"Working!$V40","v":"13 "}]
[]
[{"$f":"CONCATENATE(Working!$A11,\")\")","v":"9)"},{"$f":"Working!$P11","v":"2 "},"+",{"$f":"CONCATENATE(Working!$A21,\")\")","v":"19)"},{"$f":"Working!$P21","v":"4 "},"+",{"$f":"CONCATENATE(Working!$A31,\")\")","v":"29)"},{"$f":"Working!$P31","v":"8 "},"+",{"$f":"CONCATENATE(Working!$A41,\")\")","v":"39)"},{"$f":"Working!$P41","v":"1 "},"+"]
[null,{"$f":"Working!$S11","v":"3 "},null,null,{"$f":"Working!$S21","v":"5 "},null,null,{"$f":"Working!$S31","v":"7 "},null,null,{"$f":"Working!$S41","v":"4 "}]
[null,{"$f":"Working!$V11","v":"5 "},null,null,{"$f":"Working!$V21","v":"9 "},null,null,{"$f":"Working!$V31","v":"15 "},null,null,{"$f":"Working!$V41","v":"5 "}]
[]
[{"$f":"CONCATENATE(Working!$A12,\")\")","v":"10)"},{"$f":"Working!$P12","v":"4 "},"+",{"$f":"CONCATENATE(Working!$A22,\")\")","v":"20)"},{"$f":"Working!$P22","v":"8 "},"+",{"$f":"CONCATENATE(Working!$A32,\")\")","v":"30)"},{"$f":"Working!$P32","v":"8 "},"+",{"$f":"CONCATENATE(Working!$A42,\")\")","v":"40)"},{"$f":"Working!$P42","v":"5 "},"+"]
[null,{"$f":"Working!$S12","v":"7 "},null,null,{"$f":"Working!$S22","v":"6 "},null,null,{"$f":"Working!$S32","v":"0 "},null,null,{"$f":"Working!$S42","v":"2 "}]
[null,{"$f":"Working!$V12","v":"11 "},null,null,{"$f":"Working!$V22","v":"14 "},null,null,{"$f":"Working!$V32","v":"8 "},null,null,{"$f":"Working!$V42","v":"7 "}]

{"sheet":"Working","index":4,"n_rows":42,"n_cols":22,"rows_kept":42,"cut":false,"hidden":true,"merged":[]}
[{"$f":"INT(900*RAND()+100)","v":138},"ADB-"]
[null,"1st",null,null,"2nd",null,null,"Equals"]
[1,{"$f":"INT(9*(10^((INT((Values!$F$6-1)*RAND()+1))))*RAND())/10^INT((Values!$F$6-1)*RAND()+1)","v":0},{"$f":"IF(INT(B3)=B3,LEN(B3),FIND(\".\",B3))","v":1},{"$f":"LEN(B3)-C3","v":0},{"$f":"INT(9*(10^((INT((Values!$F$6-1)*RAND()+1))))*RAND())/10^INT((Values!$F$6-1)*RAND()+1)","v":1},{"$f":"IF(INT(E3)=E3,LEN(E3),FIND(\".\",E3))","v":1},{"$f":"LEN(E3)-F3","v":0},{"$f":"B3+E3","v":1},{"$f":"IF(INT(H3)=H3,LEN(H3),FIND(\".\",H3))","v":1},{"$f":"LEN(H3)-I3","v":0},null,{"$f":"MAXA(D3,G3,J3)","v":0},null,{"$f":"L3-D3","v":0},{"$f":"IF(N3=0,B3,IF(N3=1,CONCATENATE(B3,\"  \"),IF(N3=2,CONCATENATE(B3,\"    \"),IF(N3=3,CONCATENATE(B3,\"      \"),IF(N3=4,CONCATENATE(B3,\"        \"),IF(N3=5,CONCATENATE(B3,\"           \"),\"            \"))))))","v":0},{"$f":"IF(INT(B3)=B3,CONCATENATE(O3,\" \"),O3)","v":"0 "},{"$f":"L3-G3","v":0},{"$f":"IF(Q3=0,E3,IF(Q3=1,CONCATENATE(E3,\"  \"),IF(Q3=2,CONCATENATE(E3,\"    \"),IF(Q3=3,CONCATENATE(E3,\"      \"),IF(Q3=4,CONCATENATE(E3,\"        \"),IF(Q3=5,CONCATENATE(E3,\"          \"),\"            \"))))))","v":1},{"$f":"IF(INT(E3)=E3,CONCATENATE(R3,\" \"),R3)","v":"1 "},{"$f":"L3-J3","v":0},{"$f":"IF(T3=0,H3,IF(T3=1,CONCATENATE(H3,\"  \"),IF(T3=2,CONCATENATE(H3,\"    \"),IF(T3=3,CONCATENATE(H3,\"      \"),IF(T3=4,CONCATENATE(H3,\"        \"),IF(T3=5,CONCATENATE(H3,\"          \"),\"            \"))))))","v":1},{"$f":"IF(INT(H3)=H3,CONCATENATE(U3,\" \"),U3)","v":"1 "}]
[2,{"$f":"INT(9*(10^((INT((Values!$F$6-1)*RAND()+1))))*RAND())/10^INT((Values!$F$6-1)*RAND()+1)","v":2},{"$f":"IF(INT(B4)=B4,LEN(B4),FIND(\".\",B4))","v":1},{"$f":"LEN(B4)-C4","v":0},{"$f":"INT(9*(10^((INT((Values!$F$6-1)*RAND()+1))))*RAND())/10^INT((Values!$F$6-1)*RAND()+1)","v":3},{"$f":"IF(INT(E4)=E4,LEN(E4),FIND(\".\",E4))","v":1},{"$f":"LEN(E4)-F4","v":0},{"$f":"B4+E4","v":5},{"$f":"IF(INT(H4)=H4,LEN(H4),FIND(\".\",H4))","v":1},{"$f":"LEN(H4)-I4","v":0},null,{"$f":"MAXA(D4,G4,J4)","v":0},null,{"$f":"L4-D4","v":0},{"$f":"IF(N4=0,B4,IF(N4=1,CONCATENATE(B4,\"  \"),IF(N4=2,CONCATENATE(B4,\"    \"),IF(N4=3,CONCATENATE(B4,\"      \"),IF(N4=4,CONCATENATE(B4,\"        \"),IF(N4=5,CONCATENATE(B4,\"           \"),\"            \"))))))","v":2},{"$f":"IF(INT(B4)=B4,CONCATENATE(O4,\" \"),O4)","v":"2 "},{"$f":"L4-G4","v":0},{"$f":"IF(Q4=0,E4,IF(Q4=1,CONCATENATE(E4,\"  \"),IF(Q4=2,CONCATENATE(E4,\"    \"),IF(Q4=3,CONCATENATE(E4,\"      \"),IF(Q4=4,CONCATENATE(E4,\"        \"),IF(Q4=5,CONCATENATE(E4,\"          \"),\"            \"))))))","v":3},{"$f":"IF(INT(E4)=E4,CONCATENATE(R4,\" \"),R4)","v":"3 "},{"$f":"L4-J4","v":0},{"$f":"IF(T4=0,H4,IF(T4=1,CONCATENATE(H4,\"  \"),IF(T4=2,CONCATENATE(H4,\"    \"),IF(T4=3,CONCATENATE(H4,\"      \"),IF(T4=4,CONCATENATE(H4,\"        \"),IF(T4=5,CONCATENATE(H4,\"          \"),\"            \"))))))","v":5},{"$f":"IF(INT(H4)=H4,CONCATENATE(U4,\" \"),U4)","v":"5 "}]
[3,{"$f":"INT(9*(10^((INT((Values!$F$6-1)*RAND()+1))))*RAND())/10^INT((Values!$F$6-1)*RAND()+1)","v":2},1,0,{"$f":"INT(9*(10^((INT((Values!$F$6-1)*RAND()+1))))*RAND())/10^INT((Values!$F$6-1)*RAND()+1)","v":1},1,0,3,1,0,null,0,null,0,2,"2 ",0,1,"1 ",0,3,"3 "]
[4,{"$f":"INT(9*(10^((INT((Values!$F$6-1)*RAND()+1))))*RAND())/10^INT((Values!$F$6-1)*RAND()+1)","v":7},1,0,{"$f":"INT(9*(10^((INT((Values!$F$6-1)*RAND()+1))))*RAND())/10^INT((Values!$F$6-1)*RAND()+1)","v":1},1,0,8,1,0,null,0,null,0,7,"7 ",0,1,"1 ",0,8,"8 "]
[5,{"$f":"INT(9*(10^((INT((Values!$F$6-1)*RAND()+1))))*RAND())/10^INT((Values!$F$6-1)*RAND()+1)","v":2},1,0,{"$f":"INT(9*(10^((INT((Values!$F$6-1)*RAND()+1))))*RAND())/10^INT((Values!$F$6-1)*RAND()+1)","v":6},1,0,8,1,0,null,0,null,0,2,"2 ",0,6,"6 ",0,8,"8 "]
[6,{"$f":"INT(9*(10^((INT((Values!$F$6-1)*RAND()+1))))*RAND())/10^INT((Values!$F$6-1)*RAND()+1)","v":4},1,0,{"$f":"INT(9*(10^((INT((Values!$F$6-1)*RAND()+1))))*RAND())/10^INT((Values!$F$6-1)*RAND()+1)","v":6},1,0,10,2,0,null,0,null,0,4,"4 ",0,6,"6 ",0,10,"10 "]
[7,{"$f":"INT(9*(10^((INT((Values!$F$6-1)*RAND()+1))))*RAND())/10^INT((Values!$F$6-1)*RAND()+1)","v":2},1,0,{"$f":"INT(9*(10^((INT((Values!$F$6-1)*RAND()+1))))*RAND())/10^INT((Values!$F$6-1)*RAND()+1)","v":1},1,0,3,1,0,null,0,null,0,2,"2 ",0,1,"1 ",0,3,"3 "]
[8,{"$f":"INT(9*(10^((INT((Values!$F$6-1)*RAND()+1))))*RAND())/10^INT((Values!$F$6-1)*RAND()+1)","v":3},1,0,{"$f":"INT(9*(10^((INT((Values!$F$6-1)*RAND()+1))))*RAND())/10^INT((Values!$F$6-1)*RAND()+1)","v":6},1,0,9,1,0,null,0,null,0,3,"3 ",0,6,"6 ",0,9,"9 "]
[9,{"$f":"INT(9*(10^((INT((Values!$F$6-1)*RAND()+1))))*RAND())/10^INT((Values!$F$6-1)*RAND()+1)","v":2},1,0,{"$f":"INT(9*(10^((INT((Values!$F$6-1)*RAND()+1))))*RAND())/10^INT((Values!$F$6-1)*RAND()+1)","v":3},1,0,5,1,0,null,0,null,0,2,"2 ",0,3,"3 ",0,5,"5 "]
[10,{"$f":"INT(9*(10^((INT((Values!$F$6-1)*RAND()+1))))*RAND())/10^INT((Values!$F$6-1)*RAND()+1)","v":4},1,0,{"$f":"INT(9*(10^((INT((Values!$F$6-1)*RAND()+1))))*RAND())/10^INT((Values!$F$6-1)*RAND()+1)","v":7},1,0,11,2,0,null,0,null,0,4,"4 ",0,7,"7 ",0,11,"11 "]
[11,{"$f":"INT(9*(10^((INT((Values!$F$6-1)*RAND()+1))))*RAND())/10^INT((Values!$F$6-1)*RAND()+1)","v":8},1,0,{"$f":"INT(9*(10^((INT((Values!$F$6-1)*RAND()+1))))*RAND())/10^INT((Values!$F$6-1)*RAND()+1)","v":7},1,0,15,2,0,null,0,null,0,8,"8 ",0,7,"7 ",0,15,"15 "]
[12,{"$f":"INT(9*(10^((INT((Values!$F$6-1)*RAND()+1))))*RAND())/10^INT((Values!$F$6-1)*RAND()+1)","v":5},1,0,{"$f":"INT(9*(10^((INT((Values!$F$6-1)*RAND()+1))))*RAND())/10^INT((Values!$F$6-1)*RAND()+1)","v":7},1,0,12,2,0,null,0,null,0,5,"5 ",0,7,"7 ",0,12,"12 "]
[13,{"$f":"INT(9*(10^((INT((Values!$F$6-1)*RAND()+1))))*RAND())/10^INT((Values!$F$6-1)*RAND()+1)","v":2},1,0,{"$f":"INT(9*(10^((INT((Values!$F$6-1)*RAND()+1))))*RAND())/10^INT((Values!$F$6-1)*RAND()+1)","v":3},1,0,5,1,0,null,0,null,0,2,"2 ",0,3,"3 ",0,5,"5 "]
[14,{"$f":"INT(9*(10^((INT((Values!$F$6-1)*RAND()+1))))*RAND())/10^INT((Values!$F$6-1)*RAND()+1)","v":8},1,0,{"$f":"INT(9*(10^((INT((Values!$F$6-1)*RAND()+1))))*RAND())/10^INT((Values!$F$6-1)*RAND()+1)","v":4},1,0,12,2,0,null,0,null,0,8,"8 ",0,4,"4 ",0,12,"12 "]
[15,{"$f":"INT(9*(10^((INT((Values!$F$6-1)*RAND()+1))))*RAND())/10^INT((Values!$F$6-1)*RAND()+1)","v":6},1,0,{"$f":"INT(9*(10^((INT((Values!$F$6-1)*RAND()+1))))*RAND())/10^INT((Values!$F$6-1)*RAND()+1)","v":0},1,0,6,1,0,null,0,null,0,6,"6 ",0,0,"0 ",0,6,"6 "]
[16,{"$f":"INT(9*(10^((INT((Values!$F$6-1)*RAND()+1))))*RAND())/10^INT((Values!$F$6-1)*RAND()+1)","v":7},1,0,{"$f":"INT(9*(10^((INT((Values!$F$6-1)*RAND()+1))))*RAND())/10^INT((Values!$F$6-1)*RAND()+1)","v":1},1,0,8,1,0,null,0,null,0,7,"7 ",0,1,"1 ",0,8,"8 "]
[17,{"$f":"INT(9*(10^((INT((Values!$F$6-1)*RAND()+1))))*RAND())/10^INT((Values!$F$6-1)*RAND()+1)","v":2},1,0,{"$f":"INT(9*(10^((INT((Values!$F$6-1)*RAND()+1))))*RAND())/10^INT((Values!$F$6-1)*RAND()+1)","v":7},1,0,9,1,0,null,0,null,0,2,"2 ",0,7,"7 ",0,9,"9 "]
[18,{"$f":"INT(9*(10^((INT((Values!$F$6-1)*RAND()+1))))*RAND())/10^INT((Values!$F$6-1)*RAND()+1)","v":1},1,0,{"$f":"INT(9*(10^((INT((Values!$F$6-1)*RAND()+1))))*RAND())/10^INT((Values!$F$6-1)*RAND()+1)","v":7},1,0,8,1,0,null,0,null,0,1,"1 ",0,7,"7 ",0,8,"8 "]
[19,{"$f":"INT(9*(10^((INT((Values!$F$6-1)*RAND()+1))))*RAND())/10^INT((Values!$F$6-1)*RAND()+1)","v":4},1,0,{"$f":"INT(9*(10^((INT((Values!$F$6-1)*RAND()+1))))*RAND())/10^INT((Values!$F$6-1)*RAND()+1)","v":5},1,0,9,1,0,null,0,null,0,4,"4 ",0,5,"5 ",0,9,"9 "]
[20,{"$f":"INT(9*(10^((INT((Values!$F$6-1)*RAND()+1))))*RAND())/10^INT((Values!$F$6-1)*RAND()+1)","v":8},1,0,{"$f":"INT(9*(10^((INT((Values!$F$6-1)*RAND()+1))))*RAND())/10^INT((Values!$F$6-1)*RAND()+1)","v":6},1,0,14,2,0,null,0,null,0,8,"8 ",0,6,"6 ",0,14,"14 "]
[21,{"$f":"INT(9*(10^((INT((Values!$F$6-1)*RAND()+1))))*RAND())/10^INT((Values!$F$6-1)*RAND()+1)","v":5},1,0,{"$f":"INT(9*(10^((INT((Values!$F$6-1)*RAND()+1))))*RAND())/10^INT((Values!$F$6-1)*RAND()+1)","v":1},1,0,6,1,0,null,0,null,0,5,"5 ",0,1,"1 ",0,6,"6 "]
[22,{"$f":"INT(9*(10^((INT((Values!$F$6-1)*RAND()+1))))*RAND())/10^INT((Values!$F$6-1)*RAND()+1)","v":3},1,0,{"$f":"INT(9*(10^((INT((Values!$F$6-1)*RAND()+1))))*RAND())/10^INT((Values!$F$6-1)*RAND()+1)","v":7},1,0,10,2,0,null,0,null,0,3,"3 ",0,7,"7 ",0,10,"10 "]
[23,{"$f":"INT(9*(10^((INT((Values!$F$6-1)*RAND()+1))))*RAND())/10^INT((Values!$F$6-1)*RAND()+1)","v":5},1,0,{"$f":"INT(9*(10^((INT((Values!$F$6-1)*RAND()+1))))*RAND())/10^INT((Values!$F$6-1)*RAND()+1)","v":5},1,0,10,2,0,null,0,null,0,5,"5 ",0,5,"5 ",0,10,"10 "]
[24,{"$f":"INT(9*(10^((INT((Values!$F$6-1)*RAND()+1))))*RAND())/10^INT((Values!$F$6-1)*RAND()+1)","v":5},1,0,{"$f":"INT(9*(10^((INT((Values!$F$6-1)*RAND()+1))))*RAND())/10^INT((Values!$F$6-1)*RAND()+1)","v":6},1,0,11,2,0,null,0,null,0,5,"5 ",0,6,"6 ",0,11,"11 "]
[25,{"$f":"INT(9*(10^((INT((Values!$F$6-1)*RAND()+1))))*RAND())/10^INT((Values!$F$6-1)*RAND()+1)","v":4},1,0,{"$f":"INT(9*(10^((INT((Values!$F$6-1)*RAND()+1))))*RAND())/10^INT((Values!$F$6-1)*RAND()+1)","v":3},1,0,7,1,0,null,0,null,0,4,"4 ",0,3,"3 ",0,7,"7 "]
[26,{"$f":"INT(9*(10^((INT((Values!$F$6-1)*RAND()+1))))*RAND())/10^INT((Values!$F$6-1)*RAND()+1)","v":7},1,0,{"$f":"INT(9*(10^((INT((Values!$F$6-1)*RAND()+1))))*RAND())/10^INT((Values!$F$6-1)*RAND()+1)","v":4},1,0,11,2,0,null,0,null,0,7,"7 ",0,4,"4 ",0,11,"11 "]
[27,{"$f":"INT(9*(10^((INT((Values!$F$6-1)*RAND()+1))))*RAND())/10^INT((Values!$F$6-1)*RAND()+1)","v":0},1,0,{"$f":"INT(9*(10^((INT((Values!$F$6-1)*RAND()+1))))*RAND())/10^INT((Values!$F$6-1)*RAND()+1)","v":6},1,0,6,1,0,null,0,null,0,0,"0 ",0,6,"6 ",0,6,"6 "]
[28,{"$f":"INT(9*(10^((INT((Values!$F$6-1)*RAND()+1))))*RAND())/10^INT((Values!$F$6-1)*RAND()+1)","v":4},1,0,{"$f":"INT(9*(10^((INT((Values!$F$6-1)*RAND()+1))))*RAND())/10^INT((Values!$F$6-1)*RAND()+1)","v":3},1,0,7,1,0,null,0,null,0,4,"4 ",0,3,"3 ",0,7,"7 "]
[29,{"$f":"INT(9*(10^((INT((Values!$F$6-1)*RAND()+1))))*RAND())/10^INT((Values!$F$6-1)*RAND()+1)","v":8},1,0,{"$f":"INT(9*(10^((INT((Values!$F$6-1)*RAND()+1))))*RAND())/10^INT((Values!$F$6-1)*RAND()+1)","v":7},1,0,15,2,0,null,0,null,0,8,"8 ",0,7,"7 ",0,15,"15 "]
[30,{"$f":"INT(9*(10^((INT((Values!$F$6-1)*RAND()+1))))*RAND())/10^INT((Values!$F$6-1)*RAND()+1)","v":8},1,0,{"$f":"INT(9*(10^((INT((Values!$F$6-1)*RAND()+1))))*RAND())/10^INT((Values!$F$6-1)*RAND()+1)","v":0},1,0,8,1,0,null,0,null,0,8,"8 ",0,0,"0 ",0,8,"8 "]
[31,{"$f":"INT(9*(10^((INT((Values!$F$6-1)*RAND()+1))))*RAND())/10^INT((Values!$F$6-1)*RAND()+1)","v":5},1,0,{"$f":"INT(9*(10^((INT((Values!$F$6-1)*RAND()+1))))*RAND())/10^INT((Values!$F$6-1)*RAND()+1)","v":1},1,0,6,1,0,null,0,null,0,5,"5 ",0,1,"1 ",0,6,"6 "]
[32,{"$f":"INT(9*(10^((INT((Values!$F$6-1)*RAND()+1))))*RAND())/10^INT((Values!$F$6-1)*RAND()+1)","v":6},1,0,{"$f":"INT(9*(10^((INT((Values!$F$6-1)*RAND()+1))))*RAND())/10^INT((Values!$F$6-1)*RAND()+1)","v":8},1,0,14,2,0,null,0,null,0,6,"6 ",0,8,"8 ",0,14,"14 "]
[33,{"$f":"INT(9*(10^((INT((Values!$F$6-1)*RAND()+1))))*RAND())/10^INT((Values!$F$6-1)*RAND()+1)","v":6},1,0,{"$f":"INT(9*(10^((INT((Values!$F$6-1)*RAND()+1))))*RAND())/10^INT((Values!$F$6-1)*RAND()+1)","v":0},1,0,6,1,0,null,0,null,0,6,"6 ",0,0,"0 ",0,6,"6 "]
[34,{"$f":"INT(9*(10^((INT((Values!$F$6-1)*RAND()+1))))*RAND())/10^INT((Values!$F$6-1)*RAND()+1)","v":0},1,0,{"$f":"INT(9*(10^((INT((Values!$F$6-1)*RAND()+1))))*RAND())/10^INT((Values!$F$6-1)*RAND()+1)","v":3},1,0,3,1,0,null,0,null,0,0,"0 ",0,3,"3 ",0,3,"3 "]
[35,{"$f":"INT(9*(10^((INT((Values!$F$6-1)*RAND()+1))))*RAND())/10^INT((Values!$F$6-1)*RAND()+1)","v":2},1,0,{"$f":"INT(9*(10^((INT((Values!$F$6-1)*RAND()+1))))*RAND())/10^INT((Values!$F$6-1)*RAND()+1)","v":7},1,0,9,1,0,null,0,null,0,2,"2 ",0,7,"7 ",0,9,"9 "]
[36,{"$f":"INT(9*(10^((INT((Values!$F$6-1)*RAND()+1))))*RAND())/10^INT((Values!$F$6-1)*RAND()+1)","v":3},1,0,{"$f":"INT(9*(10^((INT((Values!$F$6-1)*RAND()+1))))*RAND())/10^INT((Values!$F$6-1)*RAND()+1)","v":0},1,0,3,1,0,null,0,null,0,3,"3 ",0,0,"0 ",0,3,"3 "]
[37,{"$f":"INT(9*(10^((INT((Values!$F$6-1)*RAND()+1))))*RAND())/10^INT((Values!$F$6-1)*RAND()+1)","v":7},1,0,{"$f":"INT(9*(10^((INT((Values!$F$6-1)*RAND()+1))))*RAND())/10^INT((Values!$F$6-1)*RAND()+1)","v":7},1,0,14,2,0,null,0,null,0,7,"7 ",0,7,"7 ",0,14,"14 "]
[38,{"$f":"INT(9*(10^((INT((Values!$F$6-1)*RAND()+1))))*RAND())/10^INT((Values!$F$6-1)*RAND()+1)","v":5},1,0,{"$f":"INT(9*(10^((INT((Values!$F$6-1)*RAND()+1))))*RAND())/10^INT((Values!$F$6-1)*RAND()+1)","v":8},1,0,13,2,0,null,0,null,0,5,"5 ",0,8,"8 ",0,13,"13 "]
[39,{"$f":"INT(9*(10^((INT((Values!$F$6-1)*RAND()+1))))*RAND())/10^INT((Values!$F$6-1)*RAND()+1)","v":1},1,0,{"$f":"INT(9*(10^((INT((Values!$F$6-1)*RAND()+1))))*RAND())/10^INT((Values!$F$6-1)*RAND()+1)","v":4},1,0,5,1,0,null,0,null,0,1,"1 ",0,4,"4 ",0,5,"5 "]
[40,{"$f":"INT(9*(10^((INT((Values!$F$6-1)*RAND()+1))))*RAND())/10^INT((Values!$F$6-1)*RAND()+1)","v":5},1,0,{"$f":"INT(9*(10^((INT((Values!$F$6-1)*RAND()+1))))*RAND())/10^INT((Values!$F$6-1)*RAND()+1)","v":2},1,0,7,1,0,null,0,null,0,5,"5 ",0,2,"2 ",0,7,"7 "]