{"text_format":"1","workbook":"xlsx","n_sheets":5,"sheets":["Values","Worksheet","Answer Sheet","Answers","Working"],"not_rendered":{"charts":0,"images":0,"macros":1,"external_links":0,"defined_names":0,"comments":0,"pivot_tables":0},"unopened":[],"bounds":{"document_bytes":16777216,"sheet_cells":100000,"rows_first":2000,"rows_last":500,"rows_between":2000,"halvings":0,"cell_chars":16384,"cell_head_chars":4096},"cells_cut":0,"cells_raw":0,"read":"whole","date_system":"1900"}

{"sheet":"Values","index":0,"n_rows":18,"n_cols":9,"rows_kept":18,"cut":false,"hidden":false,"merged":[[7,8,11,9],[9,2,12,7],[1,2,1,6],[3,2,4,7],[5,2,5,4],[7,2,7,6]]}
[null,null,null,null,"ADDITITION OF DECIMAL NUMBERS"]
[null,null,"INSTRUCTIONS"]
[]
[null,"Step 1","Enter the maximum number of digits to be used for this sheet. (A whole number >1 and <=5)"]
[]
[null,null,"No. of digits"]
[]
[null,"Step 2","Click on WorkSheet tab below.",null,null,null,null,null,"PRESS F9 for NEW WorkSheet"]
[]
[null,"Note","If you hold down shift then click on the WorkSheet tab and the Solutions tab, you will be able to print both the WorkSheet and the solutions."]
[]
[]
[]
[]
[null,null,"NOTES"]
[null,null,"* This sheet generates additions of 3 addends"]
[null,null,"* A separate algorithm answer sheet is available to encourage the use of the alorithm format"]
[null,null,"* This WorkSheet has 32 ramdom generated questions."]

{"sheet":"Worksheet","index":1,"n_rows":35,"n_cols":5,"rows_kept":35,"cut":false,"hidden":false,"merged":[]}
[null,null,null,"ADDITITION OF DECIMAL NUMBERS"]
[null,null,null,null,{"$f":"CONCATENATE(\"Worksheet \",Working!B1,Working!A1)","v":"Worksheet ADB-189"}]
["Evaluate the following;"]
[{"$f":"CONCATENATE(Working!A3,\")\")","v":"1)"},{"$f":"CONCATENATE(Working!$B3,\" + \",Working!$E3,\" + \",Working!$H3,\" =\")","v":"5 + 6 + 3 ="}]
[{"$f":"CONCATENATE(Working!A4,\")\")","v":"2)"},{"$f":"CONCATENATE(Working!$B4,\" + \",Working!$E4,\" + \",Working!$H4,\" =\")","v":"6 + 4 + 8 ="}]
[{"$f":"CONCATENATE(Working!A5,\")\")","v":"3)"},{"$f":"CONCATENATE(Working!$B5,\" + \",Working!$E5,\" + \",Working!$H5,\" =\")","v":"3 + 3 + 8 ="}]
[{"$f":"CONCATENATE(Working!A6,\")\")","v":"4)"},{"$f":"CONCATENATE(Working!$B6,\" + \",Working!$E6,\" + \",Working!$H6,\" =\")","v":"4 + 5 + 6 ="}]
[{"$f":"CONCATENATE(Working!A7,\")\")","v":"5)"},{"$f":"CONCATENATE(Working!$B7,\" + \",Working!$E7,\" + \",Working!$H7,\" =\")","v":"5 + 4 + 2 ="}]
[{"$f":"CONCATENATE(Working!A8,\")\")","v":"6)"},{"$f":"CONCATENATE(Working!$B8,\" + \",Working!$E8,\" + \",Working!$H8,\" =\")","v":"8 + 2 + 3 ="}]
[{"$f":"CONCATENATE(Working!A9,\")\")","v":"7)"},{"$f":"CONCATENATE(Working!$B9,\" + \",Working!$E9,\" + \",Working!$H9,\" =\")","v":"5 + 6 + 5 ="}]
[{"$f":"CONCATENATE(Working!A10,\")\")","v":"8)"},{"$f":"CONCATENATE(Working!$B10,\" + \",Working!$E10,\" + \",Working!$H10,\" =\")","v":"2 + 1 + 6 ="}]
[{"$f":"CONCATENATE(Working!A11,\")\")","v":"9)"},{"$f":"CONCATENATE(Working!$B11,\" + \",Working!$E11,\" + \",Working!$H11,\" =\")","v":"4 + 6 + 6 ="}]
[{"$f":"CONCATENATE(Working!A12,\")\")","v":"10)"},{"$f":"CONCATENATE(Working!$B12,\" + \",Working!$E12,\" + \",Working!$H12,\" =\")","v":"8 + 6 + 6 ="}]
[{"$f":"CONCATENATE(Working!A13,\")\")","v":"11)"},{"$f":"CONCATENATE(Working!$B13,\" + \",Working!$E13,\" + \",Working!$H13,\" =\")","v":"7 + 8 + 1 ="}]
[{"$f":"CONCATENATE(Working!A14,\")\")","v":"12)"},{"$f":"CONCATENATE(Working!$B14,\" + \",Working!$E14,\" + \",Working!$H14,\" =\")","v":"8 + 7 + 2 ="}]
[{"$f":"CONCATENATE(Working!A15,\")\")","v":"13)"},{"$f":"CONCATENATE(Working!$B15,\" + \",Working!$E15,\" + \",Working!$H15,\" =\")","v":"4 + 6 + 0 ="}]
[{"$f":"CONCATENATE(Working!A16,\")\")","v":"14)"},{"$f":"CONCATENATE(Working!$B16,\" + \",Working!$E16,\" + \",Working!$H16,\" =\")","v":"3 + 3 + 8 ="}]
[{"$f":"CONCATENATE(Working!A17,\")\")","v":"15)"},{"$f":"CONCATENATE(Working!$B17,\" + \",Working!$E17,\" + \",Working!$H17,\" =\")","v":"7 + 1 + 2 ="}]
[{"$f":"CONCATENATE(Working!A18,\")\")","v":"16)"},{"$f":"CONCATENATE(Working!$B18,\" + \",Working!$E18,\" + \",Working!$H18,\" =\")","v":"5 + 2 + 5 ="}]
[{"$f":"CONCATENATE(Working!A19,\")\")","v":"17)"},{"$f":"CONCATENATE(Working!$B19,\" + \",Working!$E19,\" + \",Working!$H19,\" =\")","v":"4 + 7 + 2 ="}]
[{"$f":"CONCATENATE(Working!A20,\")\")","v":"18)"},{"$f":"CONCATENATE(Working!$B20,\" + \",Working!$E20,\" + \",Working!$H20,\" =\")","v":"2 + 0 + 3 ="}]
[{"$f":"CONCATENATE(Working!A21,\")\")","v":"19)"},{"$f":"CONCATENATE(Working!$B21,\" + \",Working!$E21,\" + \",Working!$H21,\" =\")","v":"1 + 8 + 0 ="}]
[{"$f":"CONCATENATE(Working!A22,\")\")","v":"20)"},{"$f":"CONCATENATE(Working!$B22,\" + \",Working!$E22,\" + \",Working!$H22,\" =\")","v":"3 + 4 + 4 ="}]
[{"$f":"CONCATENATE(Working!A23,\")\")","v":"21)"},{"$f":"CONCATENATE(Working!$B23,\" + \",Working!$E23,\" + \",Working!$H23,\" =\")","v":"6 + 5 + 8 ="}]
[{"$f":"CONCATENATE(Working!A24,\")\")","v":"22)"},{"$f":"CONCATENATE(Working!$B24,\" + \",Working!$E24,\" + \",Working!$H24,\" =\")","v":"8 + 1 + 0 ="}]
[{"$f":"CONCATENATE(Working!A25,\")\")","v":"23)"},{"$f":"CONCATENATE(Working!$B25,\" + \",Working!$E25,\" + \",Working!$H25,\" =\")","v":"6 + 3 + 3 ="}]
[{"$f":"CONCATENATE(Working!A26,\")\")","v":"24)"},{"$f":"CONCATENATE(Working!$B26,\" + \",Working!$E26,\" + \",Working!$H26,\" =\")","v":"0 + 8 + 5 ="}]
[{"$f":"CONCATENATE(Working!A27,\")\")","v":"25)"},{"$f":"CONCATENATE(Working!$B27,\" + \",Working!$E27,\" + \",Working!$H27,\" =\")","v":"5 + 0 + 5 ="}]
[{"$f":"CONCATENATE(Working!A28,\")\")","v":"26)"},{"$f":"CONCATENATE(Working!$B28,\" + \",Working!$E28,\" + \",Working!$H28,\" =\")","v":"2 + 0 + 1 ="}]
[{"$f":"CONCATENATE(Working!A29,\")\")","v":"27)"},{"$f":"CONCATENATE(Working!$B29,\" + \",Working!$E29,\" + \",Working!$H29,\" =\")","v":"1 + 6 + 5 ="}]
[{"$f":"CONCATENATE(Working!A30,\")\")","v":"28)"},{"$f":"CONCATENATE(Working!$B30,\" + \",Working!$E30,\" + \",Working!$H30,\" =\")","v":"7 + 2 + 7 ="}]
[{"$f":"CONCATENATE(Working!A31,\")\")","v":"29)"},{"$f":"CONCATENATE(Working!$B31,\" + \",Working!$E31,\" + \",Working!$H31,\" =\")","v":"2 + 1 + 7 ="}]
[{"$f":"CONCATENATE(Working!A32,\")\")","v":"30)"},{"$f":"CONCATENATE(Working!$B32,\" + \",Working!$E32,\" + \",Working!$H32,\" =\")","v":"2 + 5 + 2 ="}]
[{"$f":"CONCATENATE(Working!A33,\")\")","v":"31)"},{"$f":"CONCATENATE(Working!$B33,\" + \",Working!$E33,\" + \",Working!$H33,\" =\")","v":"3 + 4 + 0 ="}]
[{"$f":"CONCATENATE(Working!A34,\")\")","v":"32)"},{"$f":"CONCATENATE(Working!$B34,\" + \",Working!$E34,\" + \",Working!$H34,\" =\")","v":"0 + 7 + 7 ="}]

{"sheet":"Answer Sheet","index":2,"n_rows":39,"n_cols":12,"rows_kept":39,"cut":false,"hidden":false,"merged":[]}
[null,null,null,null,null,null,"ADDITITION OF DECIMAL NUMBERS"]
[null,null,null,null,null,null,"Answers",null,null,{"$f":"CONCATENATE(\"Worksheet \",Working!B1,Working!$A1)","v":"Worksheet ADB-189"}]
["Evaluate the following;"]
[{"$f":"CONCATENATE(Working!$A3,\")\")","v":"1)"},null,"+",{"$f":"CONCATENATE(Working!$A11,\")\")","v":"9)"},null,"+",{"$f":"CONCATENATE(Working!$A19,\")\")","v":"17)"},null,"+",{"$f":"CONCATENATE(Working!$A27,\")\")","v":"25)"},null,"+"]
[]
[]
[]
[]
[{"$f":"CONCATENATE(Working!$A4,\")\")","v":"2)"},null,"+",{"$f":"CONCATENATE(Working!$A12,\")\")","v":"10)"},null,"+",{"$f":"CONCATENATE(Working!$A20,\")\")","v":"18)"},null,"+",{"$f":"CONCATENATE(Working!$A28,\")\")","v":"26)"},null,"+"]
[]
[]
[]
[]
[{"$f":"CONCATENATE(Working!$A5,\")\")","v":"3)"},null,"+",{"$f":"CONCATENATE(Working!$A13,\")\")","v":"11)"},null,"+",{"$f":"CONCATENATE(Working!$A21,\")\")","v":"19)"},null,"+",{"$f":"CONCATENATE(Working!$A29,\")\")","v":"27)"},null,"+"]
[]
[]
[]
[]
[{"$f":"CONCATENATE(Working!$A6,\")\")","v":"4)"},null,"+",{"$f":"CONCATENATE(Working!$A14,\")\")","v":"12)"},null,"+",{"$f":"CONCATENATE(Working!$A22,\")\")","v":"20)"},null,"+",{"$f":"CONCATENATE(Working!$A30,\")\")","v":"28)"},null,"+"]
[]
[]
[]
[]
[{"$f":"CONCATENATE(Working!$A7,\")\")","v":"5)"},null,"+",{"$f":"CONCATENATE(Working!$A15,\")\")","v":"13)"},null,"+",{"$f":"CONCATENATE(Working!$A23,\")\")","v":"21)"},null,"+",{"$f":"CONCATENATE(Working!$A31,\")\")","v":"29)"},null,"+"]
[]
[]
[]
[]
[{"$f":"CONCATENATE(Working!$A8,\")\")","v":"6)"},null,"+",{"$f":"CONCATENATE(Working!$A16,\")\")","v":"14)"},null,"+",{"$f":"CONCATENATE(Working!$A24,\")\")","v":"22)"},null,"+",{"$f":"CONCATENATE(Working!$A32,\")\")","v":"30)"},null,"+"]
[]
[]
[]
[]
[{"$f":"CONCATENATE(Working!$A9,\")\")","v":"7)"},null,"+",{"$f":"CONCATENATE(Working!$A17,\")\")","v":"15)"},null,"+",{"$f":"CONCATENATE(Working!$A25,\")\")","v":"23)"},null,"+",{"$f":"CONCATENATE(Working!$A33,\")\")","v":"31)"},null,"+"]
[]
[]
[]
[]
[{"$f":"CONCATENATE(Working!$A10,\")\")","v":"8)"},null,"+",{"$f":"CONCATENATE(Working!$A18,\")\")","v":"16)"},null,"+",{"$f":"CONCATENATE(Working!$A26,\")\")","v":"24)"},null,"+",{"$f":"CONCATENATE(Working!$A34,\")\")","v":"32)"},null,"+"]

{"sheet":"Answers","index":3,"n_rows":42,"n_cols":12,"rows_kept":42,"cut":false,"hidden":false,"merged":[]}
[null,null,null,null,null,null,"ADDITITION OF DECIMAL NUMBERS"]
[null,null,null,null,null,null,"Answers",null,null,{"$f":"CONCATENATE(\"Worksheet \",Working!B1,Working!$A1)","v":"Worksheet ADB-189"}]
["Evaluate the following;"]
[{"$f":"CONCATENATE(Working!$A3,\")\")","v":"1)"},{"$f":"Working!$S3","v":"5 "},"+",{"$f":"CONCATENATE(Working!$A11,\")\")","v":"9)"},{"$f":"Working!$S11","v":"4 "},"+",{"$f":"CONCATENATE(Working!$A19,\")\")","v":"17)"},{"$f":"Working!$S19","v":"4 "},"+",{"$f":"CONCATENATE(Working!$A27,\")\")","v":"25)"},{"$f":"Working!$S27","v":"5 "},"+"]
[null,{"$f":"Working!$V3","v":"6 "},null,null,{"$f":"Working!$V11","v":"6 "},null,null,{"$f":"Working!$V19","v":"7 "},null,null,{"$f":"Working!$V27","v":"0 "}]
[null,{"$f":"Working!$Y3","v":"3 "},null,null,{"$f":"Working!$Y11","v":"6 "},null,null,{"$f":"Working!$Y19","v":"2 "},null,null,{"$f":"Working!$Y27","v":"5 "}]
[null,{"$f":"Working!$AB3","v":"14 "},null,null,{"$f":"Working!$AB11","v":"16 "},null,null,{"$f":"Working!$AB19","v":"13 "},null,null,{"$f":"Working!$AB27","v":"10 "}]
[]
[{"$f":"CONCATENATE(Working!$A4,\")\")","v":"2)"},{"$f":"Working!$S4","v":"6 "},"+",{"$f":"CONCATENATE(Working!$A12,\")\")","v":"10)"},{"$f":"Working!$S12","v":"8 "},"+",{"$f":"CONCATENATE(Working!$A20,\")\")","v":"18)"},{"$f":"Working!$S20","v":"2 "},"+",{"$f":"CONCATENATE(Working!$A28,\")\")","v":"26)"},{"$f":"Working!$S28","v":"2 "},"+"]
[null,{"$f":"Working!$V4","v":"4 "},null,null,{"$f":"Working!$V12","v":"6 "},null,null,{"$f":"Working!$V20","v":"0 "},null,null,{"$f":"Working!$V28","v":"0 "}]
[null,{"$f":"Working!$Y4","v":"8 "},null,null,{"$f":"Working!$Y12","v":"6 "},null,null,{"$f":"Working!$Y20","v":"3 "},null,null,{"$f":"Working!$Y28","v":"1 "}]
[null,{"$f":"Working!$AB4","v":"18 "},null,null,{"$f":"Working!$AB12","v":"20 "},null,null,{"$f":"Working!$AB20","v":"5 "},null,null,{"$f":"Working!$AB28","v":"3 "}]
[]
[{"$f":"CONCATENATE(Working!$A5,\")\")","v":"3)"},{"$f":"Working!$S5","v":"3 "},"+",{"$f":"CONCATENATE(Working!$A13,\")\")","v":"11)"},{"$f":"Working!$S13","v":"7 "},"+",{"$f":"CONCATENATE(Working!$A21,\")\")","v":"19)"},{"$f":"Working!$S21","v":"1 "},"+",{"$f":"CONCATENATE(Working!$A29,\")\")","v":"27)"},{"$f":"Working!$S29","v":"1 "},"+"]
[null,{"$f":"Working!$V5","v":"3 "},null,null,{"$f":"Working!$V13","v":"8 "},null,null,{"$f":"Working!$V21","v":"8 "},null,null,{"$f":"Working!$V29","v":"6 "}]
[null,{"$f":"Working!$Y5","v":"8 "},null,null,{"$f":"Working!$Y13","v":"1 "},null,null,{"$f":"Working!$Y21","v":"0 "},null,null,{"$f":"Working!$Y29","v":"5 "}]
[null,{"$f":"Working!$AB5","v":"14 "},null,null,{"$f":"Working!$AB13","v":"16 "},null,null,{"$f":"Working!$AB21","v":"9 "},null,null,{"$f":"Working!$AB29","v":"12 "}]
[]
[{"$f":"CONCATENATE(Working!$A6,\")\")","v":"4)"},{"$f":"Working!$S6","v":"4 "},"+",{"$f":"CONCATENATE(Working!$A14,\")\")","v":"12)"},{"$f":"Working!$S14","v":"8 "},"+",{"$f":"CONCATENATE(Working!$A22,\")\")","v":"20)"},{"$f":"Working!$S22","v":"3 "},"+",{"$f":"CONCATENATE(Working!$A30,\")\")","v":"28)"},{"$f":"Working!$S30","v":"7 "},"+"]
[null,{"$f":"Working!$V6","v":"5 "},null,null,{"$f":"Working!$V14","v":"7 "},null,null,{"$f":"Working!$V22","v":"4 "},null,null,{"$f":"Working!$V30","v":"2 "}]
[null,{"$f":"Working!$Y6","v":"6 "},null,null,{"$f":"Working!$Y14","v":"2 "},null,null,{"$f":"Working!$Y22","v":"4 "},null,null,{"$f":"Working!$Y30","v":"7 "}]
[null,{"$f":"Working!$AB6","v":"15 "},null,null,{"$f":"Working!$AB14","v":"17 "},null,null,{"$f":"Working!$AB22","v":"11 "},null,null,{"$f":"Working!$AB30","v":"16 "}]
[]
[{"$f":"CONCATENATE(Working!$A7,\")\")","v":"5)"},{"$f":"Working!$S7","v":"5 "},"+",{"$f":"CONCATENATE(Working!$A15,\")\")","v":"13)"},{"$f":"Working!$S15","v":"4 "},"+",{"$f":"CONCATENATE(Working!$A23,\")\")","v":"21)"},{"$f":"Working!$S23","v":"6 "},"+",{"$f":"CONCATENATE(Working!$A31,\")\")","v":"29)"},{"$f":"Working!$S31","v":"2 "},"+"]
[null,{"$f":"Working!$V7","v":"4 "},null,null,{"$f":"Working!$V15","v":"6 "},null,null,{"$f":"Working!$V23","v":"5 "},null,null,{"$f":"Working!$V31","v":"1 "}]
[null,{"$f":"Working!$Y7","v":"2 "},null,null,{"$f":"Working!$Y15","v":"0 "},null,null,{"$f":"Working!$Y23","v":"8 "},null,null,{"$f":"Working!$Y31","v":"7 "}]
[null,{"$f":"Working!$AB7","v":"11 "},null,null,{"$f":"Working!$AB15","v":"10 "},null,null,{"$f":"Working!$AB23","v":"19 "},null,null,{"$f":"Working!$AB31","v":"10 "}]
[]
[{"$f":"CONCATENATE(Working!$A8,\")\")","v":"6)"},{"$f":"Working!$S8","v":"8 "},"+",{"$f":"CONCATENATE(Working!$A16,\")\")","v":"14)"},{"$f":"Working!$S16","v":"3 "},"+",{"$f":"CONCATENATE(Working!$A24,\")\")","v":"22)"},{"$f":"Working!$S24","v":"8 "},"+",{"$f":"CONCATENATE(Working!$A32,\")\")","v":"30)"},{"$f":"Working!$S32","v":"2 "},"+"]
[null,{"$f":"Working!$V8","v":"2 "},null,null,{"$f":"Working!$V16","v":"3 "},null,null,{"$f":"Working!$V24","v":"1 "},null,null,{"$f":"Working!$V32","v":"5 "}]
[null,{"$f":"Working!$Y8","v":"3 "},null,null,{"$f":"Working!$Y16","v":"8 "},null,null,{"$f":"Working!$Y24","v":"0 "},null,null,{"$f":"Working!$Y32","v":"2 "}]
[null,{"$f":"Working!$AB8","v":"13 "},null,null,{"$f":"Working!$AB16","v":"14 "},null,null,{"$f":"Working!$AB24","v":"9 "},null,null,{"$f":"Working!$AB32","v":"9 "}]
[]
[{"$f":"CONCATENATE(Working!$A9,\")\")","v":"7)"},{"$f":"Working!$S9","v":"5 "},"+",{"$f":"CONCATENATE(Working!$A17,\")\")","v":"15)"},{"$f":"Working!$S17","v":"7 "},"+",{"$f":"CONCATENATE(Working!$A25,\")\")","v":"23)"},{"$f":"Working!$S25","v":"6 "},"+",{"$f":"CONCATENATE(Working!$A33,\")\")","v":"31)"},{"$f":"Working!$S33","v":"3 "},"+"]
[null,{"$f":"Working!$V9","v":"6 "},null,null,{"$f":"Working!$V17","v":"1 "},null,null,{"$f":"Working!$V25","v":"3 "},null,null,{"$f":"Working!$V33","v":"4 "}]
[null,{"$f":"Working!$Y9","v":"5 "},null,null,{"$f":"Working!$Y17","v":"2 "},null,null,{"$f":"Working!$Y25","v":"3 "},null,null,{"$f":"Working!$Y33","v":"0 "}]
[null,{"$f":"Working!$AB9","v":"16 "},null,null,{"$f":"Working!$AB17","v":"10 "},null,null,{"$f":"Working!$AB25","v":"12 "},null,null,{"$f":"Working!$AB33","v":"7 "}]
[]
[{"$f":"CONCATENATE(Working!$A10,\")\")","v":"8)"},{"$f":"Working!$S10","v":"2 "},"+",{"$f":"CONCATENATE(Working!$A18,\")\")","v":"16)"},{"$f":"Working!$S18","v":"5 "},"+",{"$f":"CONCATENATE(Working!$A26,\")\")","v":"24)"},{"$f":"Working!$S26","v":"0 "},"+",{"$f":"CONCATENATE(Working!$A34,\")\")","v":"32)"},{"$f":"Working!$S34","v":"0 "},"+"]
[null,{"$f":"Working!$V10","v":"1 "},null,null,{"$f":"Working!$V18","v":"2 "},null,null,{"$f":"Working!$V26","v":"8 "},null,null,{"$f":"Working!$V34","v":"7 "}]
[null,{"$f":"Working!$Y10","v":"6 "},null,null,{"$f":"Working!$Y18","v":"5 "},null,null,{"$f":"Working!$Y26","v":"5 "},null,null,{"$f":"Working!$Y34","v":"7 "}]
[null,{"$f":"Working!$AB10","v":"9 "},null,null,{"$f":"Working!$AB18","v":"12 "},null,null,{"$f":"Working!$AB26","v":"13 "},null,null,{"$f":"Working!$AB34","v":"14 "}]

{"sheet":"Working","index":4,"n_rows":42,"n_cols":28,"rows_kept":42,"cut":false,"hidden":true,"merged":[]}
[{"$f":"INT(900*RAND()+100)","v":189},"ADB-"]
[null,"1st",null,null,"2nd",null,null,"3rd",null,null,"Equals"]
[1,{"$f":"INT(9*(10^((INT((Values!$F$6-1)*RAND()+1))))*RAND())/10^INT((Values!$F$6-1)*RAND()+1)","v":5},{"$f":"IF(INT(B3)=B3,LEN(B3),FIND(\".\",B3))","v":1},{"$f":"LEN(B3)-C3","v":0},{"$f":"INT(9*(10^((INT((Values!$F$6-1)*RAND()+1))))*RAND())/10^INT((Values!$F$6-1)*RAND()+1)","v":6},{"$f":"IF(INT(E3)=E3,LEN(E3),FIND(\".\",E3))","v":1},{"$f":"LEN(E3)-F3","v":0},{"$f":"INT(9*(10^((INT((Values!$F$6-1)*RAND()+1))))*RAND())/10^INT((Values!$F$6-1)*RAND()+1)","v":3},{"$f":"IF(INT(H3)=H3,LEN(H3),FIND(\".\",H3))","v":1},{"$f":"LEN(H3)-I3","v":0},{"$f":"B3+E3+H3","v":14},{"$f":"IF(INT(K3)=K3,LEN(K3),FIND(\".\",K3))","v":2},{"$f":"LEN(K3)-L3","v":0},null,{"$f":"MAXA(D3,G3,J3,M3)","v":0},null,{"$f":"O3-D3","v":0},{"$f":"IF(Q3=0,B3,IF(Q3=1,CONCATENATE(B3,\"  \"),IF(Q3=2,CONCATENATE(B3,\"    \"),IF(Q3=3,CONCATENATE(B3,\"      \"),IF(Q3=4,CONCATENATE(B3,\"        \"),IF(Q3=5,CONCATENATE(B3,\"           \"),\"            \"))))))","v":5},{"$f":"IF(INT(B3)=B3,CONCATENATE(R3,\" \"),R3)","v":"5 "},{"$f":"O3-G3","v":0},{"$f":"IF(T3=0,E3,IF(T3=1,CONCATENATE(E3,\"  \"),IF(T3=2,CONCATENATE(E3,\"    \"),IF(T3=3,CONCATENATE(E3,\"      \"),IF(T3=4,CONCATENATE(E3,\"        \"),IF(T3=5,CONCATENATE(E3,\"          \"),\"            \"))))))","v":6},{"$f":"IF(INT(E3)=E3,CONCATENATE(U3,\" \"),U3)","v":"6 "},{"$f":"O3-J3","v":0},{"$f":"IF(W3=0,H3,IF(W3=1,CONCATENATE(H3,\"  \"),IF(W3=2,CONCATENATE(H3,\"    \"),IF(W3=3,CONCATENATE(H3,\"      \"),IF(W3=4,CONCATENATE(H3,\"        \"),IF(W3=5,CONCATENATE(H3,\"          \"),\"            \"))))))","v":3},{"$f":"IF(INT(H3)=H3,CONCATENATE(X3,\" \"),X3)","v":"3 "},{"$f":"O3-M3","v":0},{"$f":"IF(Z3=0,K3,IF(Z3=1,CONCATENATE(K3,\"  \"),IF(Z3=2,CONCATENATE(K3,\"    \"),IF(Z3=3,CONCATENATE(K3,\"      \"),IF(Z3=4,CONCATENATE(K3,\"        \"),IF(Z3=5,CONCATENATE(K3,\"          \"),\"            \"))))))","v":14},{"$f":"IF(INT(K3)=K3,CONCATENATE(AA3,\" \"),AA3)","v":"14 "}]
[2,{"$f":"INT(9*(10^((INT((Values!$F$6-1)*RAND()+1))))*RAND())/10^INT((Values!$F$6-1)*RAND()+1)","v":6},{"$f":"IF(INT(B4)=B4,LEN(B4),FIND(\".\",B4))","v":1},{"$f":"LEN(B4)-C4","v":0},{"$f":"INT(9*(10^((INT((Values!$F$6-1)*RAND()+1))))*RAND())/10^INT((Values!$F$6-1)*RAND()+1)","v":4},{"$f":"IF(INT(E4)=E4,LEN(E4),FIND(\".\",E4))","v":1},{"$f":"LEN(E4)-F4","v":0},{"$f":"INT(9*(10^((INT((Values!$F$6-1)*RAND()+1))))*RAND())/10^INT((Values!$F$6-1)*RAND()+1)","v":8},{"$f":"IF(INT(H4)=H4,LEN(H4),FIND(\".\",H4))","v":1},{"$f":"LEN(H4)-I4","v":0},{"$f":"B4+E4+H4","v":18},{"$f":"IF(INT(K4)=K4,LEN(K4),FIND(\".\",K4))","v":2},{"$f":"LEN(K4)-L4","v":0},null,{"$f":"MAXA(D4,G4,J4,M4)","v":0},null,0,6,"6 ",0,4,"4 ",0,8,"8 ",{"$f":"O4-M4","v":0},18,"18 "]
[3,{"$f":"INT(9*(10^((INT((Values!$F$6-1)*RAND()+1))))*RAND())/10^INT((Values!$F$6-1)*RAND()+1)","v":3},1,0,{"$f":"INT(9*(10^((INT((Values!$F$6-1)*RAND()+1))))*RAND())/10^INT((Values!$F$6-1)*RAND()+1)","v":3},1,0,{"$f":"INT(9*(10^((INT((Values!$F$6-1)*RAND()+1))))*RAND())/10^INT((Values!$F$6-1)*RAND()+1)","v":8},1,0,14,2,0,null,0,null,0,3,"3 ",0,3,"3 ",0,8,"8 ",0,14,"14 "]
[4,{"$f":"INT(9*(10^((INT((Values!$F$6-1)*RAND()+1))))*RAND())/10^INT((Values!$F$6-1)*RAND()+1)","v":4},1,0,{"$f":"INT(9*(10^((INT((Values!$F$6-1)*RAND()+1))))*RAND())/10^INT((Values!$F$6-1)*RAND()+1)","v":5},1,0,{"$f":"INT(9*(10^((INT((Values!$F$6-1)*RAND()+1))))*RAND())/10^INT((Values!$F$6-1)*RAND()+1)","v":6},1,0,15,2,0,null,0,null,0,4,"4 ",0,5,"5 ",0,6,"6 ",0,15,"15 "]
[5,{"$f":"INT(9*(10^((INT((Values!$F$6-1)*RAND()+1))))*RAND())/10^INT((Values!$F$6-1)*RAND()+1)","v":5},1,0,{"$f":"INT(9*(10^((INT((Values!$F$6-1)*RAND()+1))))*RAND())/10^INT((Values!$F$6-1)*RAND()+1)","v":4},1,0,{"$f":"INT(9*(10^((INT((Values!$F$6-1)*RAND()+1))))*RAND())/10^INT((Values!$F$6-1)*RAND()+1)","v":2},1,0,11,2,0,null,0,null,0,5,"5 ",0,4,"4 ",0,2,"2 ",0,11,"11 "]
[6,{"$f":"INT(9*(10^((INT((Values!$F$6-1)*RAND()+1))))*RAND())/10^INT((Values!$F$6-1)*RAND()+1)","v":8},1,0,{"$f":"INT(9*(10^((INT((Values!$F$6-1)*RAND()+1))))*RAND())/10^INT((Values!$F$6-1)*RAND()+1)","v":2},1,0,{"$f":"INT(9*(10^((INT((Values!$F$6-1)*RAND()+1))))*RAND())/10^INT((Values!$F$6-1)*RAND()+1)","v":3},1,0,13,2,0,null,0,null,0,8,"8 ",0,2,"2 ",0,3,"3 ",0,13,"13 "]
[7,{"$f":"INT(9*(10^((INT((Values!$F$6-1)*RAND()+1))))*RAND())/10^INT((Values!$F$6-1)*RAND()+1)","v":5},1,0,{"$f":"INT(9*(10^((INT((Values!$F$6-1)*RAND()+1))))*RAND())/10^INT((Values!$F$6-1)*RAND()+1)","v":6},1,0,{"$f":"INT(9*(10^((INT((Values!$F$6-1)*RAND()+1))))*RAND())/10^INT((Values!$F$6-1)*RAND()+1)","v":5},1,0,16,2,0,null,0,null,0,5,"5 ",0,6,"6 ",0,5,"5 ",0,16,"16 "]
[8,{"$f":"INT(9*(10^((INT((Values!$F$6-1)*RAND()+1))))*RAND())/10^INT((Values!$F$6-1)*RAND()+1)","v":2},1,0,{"$f":"INT(9*(10^((INT((Values!$F$6-1)*RAND()+1))))*RAND())/10^INT((Values!$F$6-1)*RAND()+1)","v":1},1,0,{"$f":"INT(9*(10^((INT((Values!$F$6-1)*RAND()+1))))*RAND())/10^INT((Values!$F$6-1)*RAND()+1)","v":6},1,0,9,1,0,null,0,null,0,2,"2 ",0,1,"1 ",0,6,"6 ",0,9,"9 "]
[9,{"$f":"INT(9*(10^((INT((Values!$F$6-1)*RAND()+1))))*RAND())/10^INT((Values!$F$6-1)*RAND()+1)","v":4},1,0,{"$f":"INT(9*(10^((INT((Values!$F$6-1)*RAND()+1))))*RAND())/10^INT((Values!$F$6-1)*RAND()+1)","v":6},1,0,{"$f":"INT(9*(10^((INT((Values!$F$6-1)*RAND()+1))))*RAND())/10^INT((Values!$F$6-1)*RAND()+1)","v":6},1,0,16,2,0,null,0,null,0,4,"4 ",0,6,"6 ",0,6,"6 ",0,16,"16 "]
[10,{"$f":"INT(9*(10^((INT((Values!$F$6-1)*RAND()+1))))*RAND())/10^INT((Values!$F$6-1)*RAND()+1)","v":8},1,0,{"$f":"INT(9*(10^((INT((Values!$F$6-1)*RAND()+1))))*RAND())/10^INT((Values!$F$6-1)*RAND()+1)","v":6},1,0,{"$f":"INT(9*(10^((INT((Values!$F$6-1)*RAND()+1))))*RAND())/10^INT((Values!$F$6-1)*RAND()+1)","v":6},1,0,20,2,0,null,0,null,0,8,"8 ",0,6,"6 ",0,6,"6 ",0,20,"20 "]
[11,{"$f":"INT(9*(10^((INT((Values!$F$6-1)*RAND()+1))))*RAND())/10^INT((Values!$F$6-1)*RAND()+1)","v":7},1,0,{"$f":"INT(9*(10^((INT((Values!$F$6-1)*RAND()+1))))*RAND())/10^INT((Values!$F$6-1)*RAND()+1)","v":8},1,0,{"$f":"INT(9*(10^((INT((Values!$F$6-1)*RAND()+1))))*RAND())/10^INT((Values!$F$6-1)*RAND()+1)","v":1},1,0,16,2,0,null,0,null,0,7,"7 ",0,8,"8 ",0,1,"1 ",0,16,"16 "]
[12,{"$f":"INT(9*(10^((INT((Values!$F$6-1)*RAND()+1))))*RAND())/10^INT((Values!$F$6-1)*RAND()+1)","v":8},1,0,{"$f":"INT(9*(10^((INT((Values!$F$6-1)*RAND()+1))))*RAND())/10^INT((Values!$F$6-1)*RAND()+1)","v":7},1,0,{"$f":"INT(9*(10^((INT((Values!$F$6-1)*RAND()+1))))*RAND())/10^INT((Values!$F$6-1)*RAND()+1)","v":2},1,0,17,2,0,null,0,null,0,8,"8 ",0,7,"7 ",0,2,"2 ",0,17,"17 "]
[13,{"$f":"INT(9*(10^((INT((Values!$F$6-1)*RAND()+1))))*RAND())/10^INT((Values!$F$6-1)*RAND()+1)","v":4},1,0,{"$f":"INT(9*(10^((INT((Values!$F$6-1)*RAND()+1))))*RAND())/10^INT((Values!$F$6-1)*RAND()+1)","v":6},1,0,{"$f":"INT(9*(10^((INT((Values!$F$6-1)*RAND()+1))))*RAND())/10^INT((Values!$F$6-1)*RAND()+1)","v":0},1,0,10,2,0,null,0,null,0,4,"4 ",0,6,"6 ",0,0,"0 ",0,10,"10 "]
[14,{"$f":"INT(9*(10^((INT((Values!$F$6-1)*RAND()+1))))*RAND())/10^INT((Values!$F$6-1)*RAND()+1)","v":3},1,0,{"$f":"INT(9*(10^((INT((Values!$F$6-1)*RAND()+1))))*RAND())/10^INT((Values!$F$6-1)*RAND()+1)","v":3},1,0,{"$f":"INT(9*(10^((INT((Values!$F$6-1)*RAND()+1))))*RAND())/10^INT((Values!$F$6-1)*RAND()+1)","v":8},1,0,14,2,0,null,0,null,0,3,"3 ",0,3,"3 ",0,8,"8 ",0,14,"14 "]
[15,{"$f":"INT(9*(10^((INT((Values!$F$6-1)*RAND()+1))))*RAND())/10^INT((Values!$F$6-1)*RAND()+1)","v":7},1,0,{"$f":"INT(9*(10^((INT((Values!$F$6-1)*RAND()+1))))*RAND())/10^INT((Values!$F$6-1)*RAND()+1)","v":1},1,0,{"$f":"INT(9*(10^((INT((Values!$F$6-1)*RAND()+1))))*RAND())/10^INT((Values!$F$6-1)*RAND()+1)","v":2},1,0,10,2,0,null,0,null,0,7,"7 ",0,1,"1 ",0,2,"2 ",0,10,"10 "]
[16,{"$f":"INT(9*(10^((INT((Values!$F$6-1)*RAND()+1))))*RAND())/10^INT((Values!$F$6-1)*RAND()+1)","v":5},1,0,{"$f":"INT(9*(10^((INT((Values!$F$6-1)*RAND()+1))))*RAND())/10^INT((Values!$F$6-1)*RAND()+1)","v":2},1,0,{"$f":"INT(9*(10^((INT((Values!$F$6-1)*RAND()+1))))*RAND())/10^INT((Values!$F$6-1)*RAND()+1)","v":5},1,0,12,2,0,null,0,null,0,5,"5 ",0,2,"2 ",0,5,"5 ",0,12,"12 "]
[17,{"$f":"INT(9*(10^((INT((Values!$F$6-1)*RAND()+1))))*RAND())/10^INT((Values!$F$6-1)*RAND()+1)","v":4},1,0,{"$f":"INT(9*(10^((INT((Values!$F$6-1)*RAND()+1))))*RAND())/10^INT((Values!$F$6-1)*RAND()+1)","v":7},1,0,{"$f":"INT(9*(10^((INT((Values!$F$6-1)*RAND()+1))))*RAND())/10^INT((Values!$F$6-1)*RAND()+1)","v":2},1,0,13,2,0,null,0,null,0,4,"4 ",0,7,"7 ",0,2,"2 ",0,13,"13 "]
[18,{"$f":"INT(9*(10^((INT((Values!$F$6-1)*RAND()+1))))*RAND())/10^INT((Values!$F$6-1)*RAND()+1)","v":2},1,0,{"$f":"INT(9*(10^((INT((Values!$F$6-1)*RAND()+1))))*RAND())/10^INT((Values!$F$6-1)*RAND()+1)","v":0},1,0,{"$f":"INT(9*(10^((INT((Values!$F$6-1)*RAND()+1))))*RAND())/10^INT((Values!$F$6-1)*RAND()+1)","v":3},1,0,5,1,0,null,0,null,0,2,"2 ",0,0,"0 ",0,3,"3 ",0,5,"5 "]
[19,{"$f":"INT(9*(10^((INT((Values!$F$6-1)*RAND()+1))))*RAND())/10^INT((Values!$F$6-1)*RAND()+1)","v":1},1,0,{"$f":"INT(9*(10^((INT((Values!$F$6-1)*RAND()+1))))*RAND())/10^INT((Values!$F$6-1)*RAND()+1)","v":8},1,0,{"$f":"INT(9*(10^((INT((Values!$F$6-1)*RAND()+1))))*RAND())/10^INT((Values!$F$6-1)*RAND()+1)","v":0},1,0,9,1,0,null,0,null,0,1,"1 ",0,8,"8 ",0,0,"0 ",0,9,"9 "]
[20,{"$f":"INT(9*(10^((INT((Values!$F$6-1)*RAND()+1))))*RAND())/10^INT((Values!$F$6-1)*RAND()+1)","v":3},1,0,{"$f":"INT(9*(10^((INT((Values!$F$6-1)*RAND()+1))))*RAND())/10^INT((Values!$F$6-1)*RAND()+1)","v":4},1,0,{"$f":"INT(9*(10^((INT((Values!$F$6-1)*RAND()+1))))*RAND())/10^INT((Values!$F$6-1)*RAND()+1)","v":4},1,0,11,2,0,null,0,null,0,3,"3 ",0,4,"4 ",0,4,"4 ",0,11,"11 "]
[21,{"$f":"INT(9*(10^((INT((Values!$F$6-1)*RAND()+1))))*RAND())/10^INT((Values!$F$6-1)*RAND()+1)","v":6},1,0,{"$f":"INT(9*(10^((INT((Values!$F$6-1)*RAND()+1))))*RAND())/10^INT((Values!$F$6-1)*RAND()+1)","v":5},1,0,{"$f":"INT(9*(10^((INT((Values!$F$6-1)*RAND()+1))))*RAND())/10^INT((Values!$F$6-1)*RAND()+1)","v":8},1,0,19,2,0,null,0,null,0,6,"6 ",0,5,"5 ",0,8,"8 ",0,19,"19 "]
[22,{"$f":"INT(9*(10^((INT((Values!$F$6-1)*RAND()+1))))*RAND())/10^INT((Values!$F$6-1)*RAND()+1)","v":8},1,0,{"$f":"INT(9*(10^((INT((Values!$F$6-1)*RAND()+1))))*RAND())/10^INT((Values!$F$6-1)*RAND()+1)","v":1},1,0,{"$f":"INT(9*(10^((INT((Values!$F$6-1)*RAND()+1))))*RAND())/10^INT((Values!$F$6-1)*RAND()+1)","v":0},1,0,9,1,0,null,0,null,0,8,"8 ",0,1,"1 ",0,0,"0 ",0,9,"9 "]
[23,{"$f":"INT(9*(10^((INT((Values!$F$6-1)*RAND()+1))))*RAND())/10^INT((Values!$F$6-1)*RAND()+1)","v":6},1,0,{"$f":"INT(9*(10^((INT((Values!$F$6-1)*RAND()+1))))*RAND())/10^INT((Values!$F$6-1)*RAND()+1)","v":3},1,0,{"$f":"INT(9*(10^((INT((Values!$F$6-1)*RAND()+1))))*RAND())/10^INT((Values!$F$6-1)*RAND()+1)","v":3},1,0,12,2,0,null,0,null,0,6,"6 ",0,3,"3 ",0,3,"3 ",0,12,"12 "]
[24,{"$f":"INT(9*(10^((INT((Values!$F$6-1)*RAND()+1))))*RAND())/10^INT((Values!$F$6-1)*RAND()+1)","v":0},1,0,{"$f":"INT(9*(10^((INT((Values!$F$6-1)*RAND()+1))))*RAND())/10^INT((Values!$F$6-1)*RAND()+1)","v":8},1,0,{"$f":"INT(9*(10^((INT((Values!$F$6-1)*RAND()+1))))*RAND())/10^INT((Values!$F$6-1)*RAND()+1)","v":5},1,0,13,2,0,null,0,null,0,0,"0 ",0,8,"8 ",0,5,"5 ",0,13,"13 "]
[25,{"$f":"INT(9*(10^((INT((Values!$F$6-1)*RAND()+1))))*RAND())/10^INT((Values!$F$6-1)*RAND()+1)","v":5},1,0,{"$f":"INT(9*(10^((INT((Values!$F$6-1)*RAND()+1))))*RAND())/10^INT((Values!$F$6-1)*RAND()+1)","v":0},1,0,{"$f":"INT(9*(10^((INT((Values!$F$6-1)*RAND()+1))))*RAND())/10^INT((Values!$F$6-1)*RAND()+1)","v":5},1,0,10,2,0,null,0,null,0,5,"5 ",0,0,"0 ",0,5,"5 ",0,10,"10 "]
[26,{"$f":"INT(9*(10^((INT((Values!$F$6-1)*RAND()+1))))*RAND())/10^INT((Values!$F$6-1)*RAND()+1)","v":2},1,0,{"$f":"INT(9*(10^((INT((Values!$F$6-1)*RAND()+1))))*RAND())/10^INT((Values!$F$6-1)*RAND()+1)","v":0},1,0,{"$f":"INT(9*(10^((INT((Values!$F$6-1)*RAND()+1))))*RAND())/10^INT((Values!$F$6-1)*RAND()+1)","v":1},1,0,3,1,0,null,0,null,0,2,"2 ",0,0,"0 ",0,1,"1 ",0,3,"3 "]
[27,{"$f":"INT(9*(10^((INT((Values!$F$6-1)*RAND()+1))))*RAND())/10^INT((Values!$F$6-1)*RAND()+1)","v":1},1,0,{"$f":"INT(9*(10^((INT((Values!$F$6-1)*RAND()+1))))*RAND())/10^INT((Values!$F$6-1)*RAND()+1)","v":6},1,0,{"$f":"INT(9*(10^((INT((Values!$F$6-1)*RAND()+1))))*RAND())/10^INT((Values!$F$6-1)*RAND()+1)","v":5},1,0,12,2,0,null,0,null,0,1,"1 ",0,6,"6 ",0,5,"5 ",0,12,"12 "]
[28,{"$f":"INT(9*(10^((INT((Values!$F$6-1)*RAND()+1))))*RAND())/10^INT((Values!$F$6-1)*RAND()+1)","v":7},1,0,{"$f":"INT(9*(10^((INT((Values!$F$6-1)*RAND()+1))))*RAND())/10^INT((Values!$F$6-1)*RAND()+1)","v":2},1,0,{"$f":"INT(9*(10^((INT((Values!$F$6-1)*RAND()+1))))*RAND())/10^INT((Values!$F$6-1)*RAND()+1)","v":7},1,0,16,2,0,null,0,null,0,7,"7 ",0,2,"2 ",0,7,"7 ",0,16,"16 "]
[29,{"$f":"INT(9*(10^((INT((Values!$F$6-1)*RAND()+1))))*RAND())/10^INT((Values!$F$6-1)*RAND()+1)","v":2},1,0,{"$f":"INT(9*(10^((INT((Values!$F$6-1)*RAND()+1))))*RAND())/10^INT((Values!$F$6-1)*RAND()+1)","v":1},1,0,{"$f":"INT(9*(10^((INT((Values!$F$6-1)*RAND()+1))))*RAND())/10^INT((Values!$F$6-1)*RAND()+1)","v":7},1,0,10,2,0,null,0,null,0,2,"2 ",0,1,"1 ",0,7,"7 ",0,10,"10 "]
[30,{"$f":"INT(9*(10^((INT((Values!$F$6-1)*RAND()+1))))*RAND())/10^INT((Values!$F$6-1)*RAND()+1)","v":2},1,0,{"$f":"INT(9*(10^((INT((Values!$F$6-1)*RAND()+1))))*RAND())/10^INT((Values!$F$6-1)*RAND()+1)","v":5},1,0,{"$f":"INT(9*(10^((INT((Values!$F$6-1)*RAND()+1))))*RAND())/10^INT((Values!$F$6-1)*RAND()+1)","v":2},1,0,9,1,0,null,0,null,0,2,"2 ",0,5,"5 ",0,2,"2 ",0,9,"9 "]
[31,{"$f":"INT(9*(10^((INT((Values!$F$6-1)*RAND()+1))))*RAND())/10^INT((Values!$F$6-1)*RAND()+1)","v":3},1,0,{"$f":"INT(9*(10^((INT((Values!$F$6-1)*RAND()+1))))*RAND())/10^INT((Values!$F$6-1)*RAND()+1)","v":4},1,0,{"$f":"INT(9*(10^((INT((Values!$F$6-1)*RAND()+1))))*RAND())/10^INT((Values!$F$6-1)*RAND()+1)","v":0},1,0,7,1,0,null,0,null,0,3,"3 ",0,4,"4 ",0,0,"0 ",0,7,"7 "]
[32,{"$f":"INT(9*(10^((INT((Values!$F$6-1)*RAND()+1))))*RAND())/10^INT((Values!$F$6-1)*RAND()+1)","v":0},1,0,{"$f":"INT(9*(10^((INT((Values!$F$6-1)*RAND()+1))))*RAND())/10^INT((Values!$F$6-1)*RAND()+1)","v":7},1,0,{"$f":"INT(9*(10^((INT((Values!$F$6-1)*RAND()+1))))*RAND())/10^INT((Values!$F$6-1)*RAND()+1)","v":7},1,0,14,2,0,null,0,null,0,0,"0 ",0,7,"7 ",0,7,"7 ",0,14,"14 "]
[33,{"$f":"INT(9*(10^((INT((Values!$F$6-1)*RAND()+1))))*RAND())/10^INT((Values!$F$6-1)*RAND()+1)","v":2},1,0,{"$f":"INT(9*(10^((INT((Values!$F$6-1)*RAND()+1))))*RAND())/10^INT((Values!$F$6-1)*RAND()+1)","v":5},1,0,{"$f":"INT(9*(10^((INT((Values!$F$6-1)*RAND()+1))))*RAND())/10^INT((Values!$F$6-1)*RAND()+1)","v":8},1,0,15,2,0,null,0,null,0,2,"2 ",0,5,"5 ",0,8,"8 ",0,15,"15 "]
[34,{"$f":"INT(9*(10^((INT((Values!$F$6-1)*RAND()+1))))*RAND())/10^INT((Values!$F$6-1)*RAND()+1)","v":1},1,0,{"$f":"INT(9*(10^((INT((Values!$F$6-1)*RAND()+1))))*RAND())/10^INT((Values!$F$6-1)*RAND()+1)","v":2},1,0,{"$f":"INT(9*(10^((INT((Values!$F$6-1)*RAND()+1))))*RAND())/10^INT((Values!$F$6-1)*RAND()+1)","v":3},1,0,6,1,0,null,0,null,0,1,"1 ",0,2,"2 ",0,3,"3 ",0,6,"6 "]
[35,{"$f":"INT(9*(10^((INT((Values!$F$6-1)*RAND()+1))))*RAND())/10^INT((Values!$F$6-1)*RAND()+1)","v":5},1,0,{"$f":"INT(9*(10^((INT((Values!$F$6-1)*RAND()+1))))*RAND())/10^INT((Values!$F$6-1)*RAND()+1)","v":7},1,0,{"$f":"INT(9*(10^((INT((Values!$F$6-1)*RAND()+1))))*RAND())/10^INT((Values!$F$6-1)*RAND()+1)","v":8},1,0,20,2,0,null,0,null,0,5,"5 ",0,7,"7 ",0,8,"8 ",0,20,"20 "]
[36,{"$f":"INT(9*(10^((INT((Values!$F$6-1)*RAND()+1))))*RAND())/10^INT((Values!$F$6-1)*RAND()+1)","v":3},1,0,{"$f":"INT(9*(10^((INT((Values!$F$6-1)*RAND()+1))))*RAND())/10^INT((Values!$F$6-1)*RAND()+1)","v":0},1,0,{"$f":"INT(9*(10^((INT((Values!$F$6-1)*RAND()+1))))*RAND())/10^INT((Values!$F$6-1)*RAND()+1)","v":7},1,0,10,2,0,null,0,null,0,3,"3 ",0,0,"0 ",0,7,"7 ",0,10,"10 "]
[37,{"$f":"INT(9*(10^((INT((Values!$F$6-1)*RAND()+1))))*RAND())/10^INT((Values!$F$6-1)*RAND()+1)","v":3},1,0,{"$f":"INT(9*(10^((INT((Values!$F$6-1)*RAND()+1))))*RAND())/10^INT((Values!$F$6-1)*RAND()+1)","v":7},1,0,{"$f":"INT(9*(10^((INT((Values!$F$6-1)*RAND()+1))))*RAND())/10^INT((Values!$F$6-1)*RAND()+1)","v":3},1,0,13,2,0,null,0,null,0,3,"3 ",0,7,"7 ",0,3,"3 ",0,13,"13 "]
[38,{"$f":"INT(9*(10^((INT((Values!$F$6-1)*RAND()+1))))*RAND())/10^INT((Values!$F$6-1)*RAND()+1)","v":7},1,0,{"$f":"INT(9*(10^((INT((Values!$F$6-1)*RAND()+1))))*RAND())/10^INT((Values!$F$6-1)*RAND()+1)","v":6},1,0,{"$f":"INT(9*(10^((INT((Values!$F$6-1)*RAND()+1))))*RAND())/10^INT((Values!$F$6-1)*RAND()+1)","v":3},1,0,16,2,0,null,0,null,0,7,"7 ",0,6,"6 ",0,3,"3 ",0,16,"16 "]
[39,{"$f":"INT(9*(10^((INT((Values!$F$6-1)*RAND()+1))))*RAND())/10^INT((Values!$F$6-1)*RAND()+1)","v":1},1,0,{"$f":"INT(9*(10^((INT((Values!$F$6-1)*RAND()+1))))*RAND())/10^INT((Values!$F$6-1)*RAND()+1)","v":6},1,0,{"$f":"INT(9*(10^((INT((Values!$F$6-1)*RAND()+1))))*RAND())/10^INT((Values!$F$6-1)*RAND()+1)","v":4},1,0,11,2,0,null,0,null,0,1,"1 ",0,6,"6 ",0,4,"4 ",0,11,"11 "]
[40,{"$f":"INT(9*(10^((INT((Values!$F$6-1)*RAND()+1))))*RAND())/10^INT((Values!$F$6-1)*RAND()+1)","v":4},1,0,{"$f":"INT(9*(10^((INT((Values!$F$6-1)*RAND()+1))))*RAND())/10^INT((Values!$F$6-1)*RAND()+1)","v":3},1,0,{"$f":"INT(9*(10^((INT((Values!$F$6-1)*RAND()+1))))*RAND())/10^INT((Values!$F$6-1)*RAND()+1)","v":3},1,0,10,2,0,null,0,null,0,4,"4 ",0,3,"3 ",0,3,"3 ",0,10,"10 "]