{"text_format":"1","workbook":"xlsx","n_sheets":5,"sheets":["Values","Worksheet","Answer Sheet","Answers","Working"],"not_rendered":{"charts":0,"images":0,"macros":1,"external_links":0,"defined_names":0,"comments":0,"pivot_tables":0},"unopened":[],"bounds":{"document_bytes":16777216,"sheet_cells":100000,"rows_first":2000,"rows_last":500,"rows_between":2000,"halvings":0,"cell_chars":16384,"cell_head_chars":4096},"cells_cut":0,"cells_raw":0,"read":"whole","date_system":"1900"}

{"sheet":"Values","index":0,"n_rows":19,"n_cols":9,"rows_kept":19,"cut":false,"hidden":false,"merged":[[7,8,11,9],[9,2,12,7],[1,2,1,6],[3,2,4,7],[5,2,5,4],[7,2,7,6]]}
[null,null,null,null,"ADDITITION OF DECIMAL NUMBERS"]
[null,null,"INSTRUCTIONS"]
[]
[null,"Step 1","Enter the maximum number of digits to be used for this sheet. (A whole number >1 and <=5)"]
[]
[null,null,"No. of digits"]
[]
[null,"Step 2","Click on WorkSheet tab below.",null,null,null,null,null,"PRESS F9 for NEW WorkSheet"]
[]
[null,"Note","If you hold down shift then click on the WorkSheet tab and the Solutions tab, you will be able to print both the WorkSheet and the solutions."]
[]
[]
[]
[]
[]
[null,null,"NOTES"]
[null,null,"* This sheet generates additions of 4 addends"]
[null,null,"* A separate algorithm answer sheet is available to encourage the use of the alorithm format"]
[null,null,"* This WorkSheet has 24 ramdom generated questions."]

{"sheet":"Worksheet","index":1,"n_rows":27,"n_cols":5,"rows_kept":27,"cut":false,"hidden":false,"merged":[]}
[null,null,null,"ADDITITION OF DECIMAL NUMBERS"]
[null,null,null,null,{"$f":"CONCATENATE(\"Worksheet \",Working!B1,Working!A1)","v":"Worksheet ADB-768"}]
["Evaluate the following;"]
[{"$f":"CONCATENATE(Working!A3,\")\")","v":"1)"},{"$f":"CONCATENATE(Working!$B3,\" + \",Working!$E3,\" + \",Working!$H3,\" + \",Working!$K3,\" =\")","v":"8 + 2 + 0 + 3 ="}]
[{"$f":"CONCATENATE(Working!A4,\")\")","v":"2)"},{"$f":"CONCATENATE(Working!$B4,\" + \",Working!$E4,\" + \",Working!$H4,\" + \",Working!$K4,\" =\")","v":"5 + 0 + 3 + 4 ="}]
[{"$f":"CONCATENATE(Working!A5,\")\")","v":"3)"},{"$f":"CONCATENATE(Working!$B5,\" + \",Working!$E5,\" + \",Working!$H5,\" + \",Working!$K5,\" =\")","v":"1 + 3 + 6 + 1 ="}]
[{"$f":"CONCATENATE(Working!A6,\")\")","v":"4)"},{"$f":"CONCATENATE(Working!$B6,\" + \",Working!$E6,\" + \",Working!$H6,\" + \",Working!$K6,\" =\")","v":"8 + 4 + 1 + 4 ="}]
[{"$f":"CONCATENATE(Working!A7,\")\")","v":"5)"},{"$f":"CONCATENATE(Working!$B7,\" + \",Working!$E7,\" + \",Working!$H7,\" + \",Working!$K7,\" =\")","v":"1 + 8 + 4 + 2 ="}]
[{"$f":"CONCATENATE(Working!A8,\")\")","v":"6)"},{"$f":"CONCATENATE(Working!$B8,\" + \",Working!$E8,\" + \",Working!$H8,\" + \",Working!$K8,\" =\")","v":"3 + 6 + 4 + 3 ="}]
[{"$f":"CONCATENATE(Working!A9,\")\")","v":"7)"},{"$f":"CONCATENATE(Working!$B9,\" + \",Working!$E9,\" + \",Working!$H9,\" + \",Working!$K9,\" =\")","v":"5 + 1 + 8 + 5 ="}]
[{"$f":"CONCATENATE(Working!A10,\")\")","v":"8)"},{"$f":"CONCATENATE(Working!$B10,\" + \",Working!$E10,\" + \",Working!$H10,\" + \",Working!$K10,\" =\")","v":"2 + 0 + 8 + 6 ="}]
[{"$f":"CONCATENATE(Working!A11,\")\")","v":"9)"},{"$f":"CONCATENATE(Working!$B11,\" + \",Working!$E11,\" + \",Working!$H11,\" + \",Working!$K11,\" =\")","v":"2 + 8 + 4 + 5 ="}]
[{"$f":"CONCATENATE(Working!A12,\")\")","v":"10)"},{"$f":"CONCATENATE(Working!$B12,\" + \",Working!$E12,\" + \",Working!$H12,\" + \",Working!$K12,\" =\")","v":"7 + 2 + 2 + 6 ="}]
[{"$f":"CONCATENATE(Working!A13,\")\")","v":"11)"},{"$f":"CONCATENATE(Working!$B13,\" + \",Working!$E13,\" + \",Working!$H13,\" + \",Working!$K13,\" =\")","v":"8 + 5 + 1 + 6 ="}]
[{"$f":"CONCATENATE(Working!A14,\")\")","v":"12)"},{"$f":"CONCATENATE(Working!$B14,\" + \",Working!$E14,\" + \",Working!$H14,\" + \",Working!$K14,\" =\")","v":"4 + 1 + 5 + 6 ="}]
[{"$f":"CONCATENATE(Working!A15,\")\")","v":"13)"},{"$f":"CONCATENATE(Working!$B15,\" + \",Working!$E15,\" + \",Working!$H15,\" + \",Working!$K15,\" =\")","v":"5 + 0 + 6 + 2 ="}]
[{"$f":"CONCATENATE(Working!A16,\")\")","v":"14)"},{"$f":"CONCATENATE(Working!$B16,\" + \",Working!$E16,\" + \",Working!$H16,\" + \",Working!$K16,\" =\")","v":"3 + 2 + 8 + 1 ="}]
[{"$f":"CONCATENATE(Working!A17,\")\")","v":"15)"},{"$f":"CONCATENATE(Working!$B17,\" + \",Working!$E17,\" + \",Working!$H17,\" + \",Working!$K17,\" =\")","v":"4 + 6 + 7 + 0 ="}]
[{"$f":"CONCATENATE(Working!A18,\")\")","v":"16)"},{"$f":"CONCATENATE(Working!$B18,\" + \",Working!$E18,\" + \",Working!$H18,\" + \",Working!$K18,\" =\")","v":"8 + 8 + 3 + 8 ="}]
[{"$f":"CONCATENATE(Working!A19,\")\")","v":"17)"},{"$f":"CONCATENATE(Working!$B19,\" + \",Working!$E19,\" + \",Working!$H19,\" + \",Working!$K19,\" =\")","v":"8 + 3 + 4 + 5 ="}]
[{"$f":"CONCATENATE(Working!A20,\")\")","v":"18)"},{"$f":"CONCATENATE(Working!$B20,\" + \",Working!$E20,\" + \",Working!$H20,\" + \",Working!$K20,\" =\")","v":"8 + 6 + 2 + 5 ="}]
[{"$f":"CONCATENATE(Working!A21,\")\")","v":"19)"},{"$f":"CONCATENATE(Working!$B21,\" + \",Working!$E21,\" + \",Working!$H21,\" + \",Working!$K21,\" =\")","v":"3 + 3 + 6 + 7 ="}]
[{"$f":"CONCATENATE(Working!A22,\")\")","v":"20)"},{"$f":"CONCATENATE(Working!$B22,\" + \",Working!$E22,\" + \",Working!$H22,\" + \",Working!$K22,\" =\")","v":"7 + 2 + 8 + 7 ="}]
[{"$f":"CONCATENATE(Working!A23,\")\")","v":"21)"},{"$f":"CONCATENATE(Working!$B23,\" + \",Working!$E23,\" + \",Working!$H23,\" + \",Working!$K23,\" =\")","v":"0 + 0 + 5 + 4 ="}]
[{"$f":"CONCATENATE(Working!A24,\")\")","v":"22)"},{"$f":"CONCATENATE(Working!$B24,\" + \",Working!$E24,\" + \",Working!$H24,\" + \",Working!$K24,\" =\")","v":"4 + 0 + 7 + 3 ="}]
[{"$f":"CONCATENATE(Working!A25,\")\")","v":"23)"},{"$f":"CONCATENATE(Working!$B25,\" + \",Working!$E25,\" + \",Working!$H25,\" + \",Working!$K25,\" =\")","v":"1 + 1 + 1 + 8 ="}]
[{"$f":"CONCATENATE(Working!A26,\")\")","v":"24)"},{"$f":"CONCATENATE(Working!$B26,\" + \",Working!$E26,\" + \",Working!$H26,\" + \",Working!$K26,\" =\")","v":"4 + 4 + 0 + 0 ="}]

{"sheet":"Answer Sheet","index":2,"n_rows":34,"n_cols":12,"rows_kept":34,"cut":false,"hidden":false,"merged":[]}
[null,null,null,null,null,null,"ADDITITION OF DECIMAL NUMBERS"]
[null,null,null,null,null,null,"Answers",null,null,{"$f":"CONCATENATE(\"Worksheet \",Working!B1,Working!A1)","v":"Worksheet ADB-768"}]
["Evaluate the following;"]
[{"$f":"CONCATENATE(Working!A3,\")\")","v":"1)"},null,"+",{"$f":"CONCATENATE(Working!A9,\")\")","v":"7)"},null,"+",{"$f":"CONCATENATE(Working!A15,\")\")","v":"13)"},null,"+",{"$f":"CONCATENATE(Working!A21,\")\")","v":"19)"},null,"+"]
[]
[]
[]
[]
[]
[{"$f":"CONCATENATE(Working!A4,\")\")","v":"2)"},null,"+",{"$f":"CONCATENATE(Working!A10,\")\")","v":"8)"},null,"+",{"$f":"CONCATENATE(Working!A16,\")\")","v":"14)"},null,"+",{"$f":"CONCATENATE(Working!A22,\")\")","v":"20)"},null,"+"]
[]
[]
[]
[]
[]
[{"$f":"CONCATENATE(Working!A5,\")\")","v":"3)"},null,"+",{"$f":"CONCATENATE(Working!A11,\")\")","v":"9)"},null,"+",{"$f":"CONCATENATE(Working!A17,\")\")","v":"15)"},null,"+",{"$f":"CONCATENATE(Working!A23,\")\")","v":"21)"},null,"+"]
[]
[]
[]
[]
[]
[{"$f":"CONCATENATE(Working!A6,\")\")","v":"4)"},null,"+",{"$f":"CONCATENATE(Working!A12,\")\")","v":"10)"},null,"+",{"$f":"CONCATENATE(Working!A18,\")\")","v":"16)"},null,"+",{"$f":"CONCATENATE(Working!A24,\")\")","v":"22)"},null,"+"]
[]
[]
[]
[]
[]
[{"$f":"CONCATENATE(Working!A7,\")\")","v":"5)"},null,"+",{"$f":"CONCATENATE(Working!A13,\")\")","v":"11)"},null,"+",{"$f":"CONCATENATE(Working!A19,\")\")","v":"17)"},null,"+",{"$f":"CONCATENATE(Working!A25,\")\")","v":"23)"},null,"+"]
[]
[]
[]
[]
[]
[{"$f":"CONCATENATE(Working!A8,\")\")","v":"6)"},null,"+",{"$f":"CONCATENATE(Working!A14,\")\")","v":"12)"},null,"+",{"$f":"CONCATENATE(Working!A20,\")\")","v":"18)"},null,"+",{"$f":"CONCATENATE(Working!A26,\")\")","v":"24)"},null,"+"]

{"sheet":"Answers","index":3,"n_rows":38,"n_cols":12,"rows_kept":38,"cut":false,"hidden":false,"merged":[]}
[null,null,null,null,null,null,"ADDITITION OF DECIMAL NUMBERS"]
[null,null,null,null,null,null,"Answers",null,null,{"$f":"CONCATENATE(\"Worksheet \",Working!B1,Working!A1)","v":"Worksheet ADB-768"}]
["Evaluate the following;"]
[{"$f":"CONCATENATE(Working!A3,\")\")","v":"1)"},{"$f":"Working!$U3","v":"8 "},"+",{"$f":"CONCATENATE(Working!A9,\")\")","v":"7)"},{"$f":"Working!$U9","v":"5 "},"+",{"$f":"CONCATENATE(Working!A15,\")\")","v":"13)"},{"$f":"Working!$U15","v":"5 "},"+",{"$f":"CONCATENATE(Working!A21,\")\")","v":"19)"},{"$f":"Working!$U21","v":"3 "},"+"]
[null,{"$f":"Working!$X3","v":"2 "},null,null,{"$f":"Working!$X9","v":"1 "},null,null,{"$f":"Working!$X15","v":"0 "},null,null,{"$f":"Working!$X21","v":"3 "}]
[null,{"$f":"Working!$AA3","v":"0 "},null,null,{"$f":"Working!$AA9","v":"8 "},null,null,{"$f":"Working!$AA15","v":"6 "},null,null,{"$f":"Working!$AA21","v":"6 "}]
[null,{"$f":"Working!$AD3","v":"3 "},null,null,{"$f":"Working!$AD9","v":"5 "},null,null,{"$f":"Working!$AD15","v":"2 "},null,null,{"$f":"Working!$AD21","v":"7 "}]
[null,{"$f":"Working!$AG3","v":"13 "},null,null,{"$f":"Working!$AG9","v":"19 "},null,null,{"$f":"Working!$AG15","v":"13 "},null,null,{"$f":"Working!$AG21","v":"19 "}]
[]
[{"$f":"CONCATENATE(Working!A4,\")\")","v":"2)"},{"$f":"Working!$U4","v":"5 "},"+",{"$f":"CONCATENATE(Working!A10,\")\")","v":"8)"},{"$f":"Working!$U10","v":"2 "},"+",{"$f":"CONCATENATE(Working!A16,\")\")","v":"14)"},{"$f":"Working!$U16","v":"3 "},"+",{"$f":"CONCATENATE(Working!A22,\")\")","v":"20)"},{"$f":"Working!$U22","v":"7 "},"+"]
[null,{"$f":"Working!$X4","v":"0 "},null,null,{"$f":"Working!$X10","v":"0 "},null,null,{"$f":"Working!$X16","v":"2 "},null,null,{"$f":"Working!$X22","v":"2 "}]
[null,{"$f":"Working!$AA4","v":"3 "},null,null,{"$f":"Working!$AA10","v":"8 "},null,null,{"$f":"Working!$AA16","v":"8 "},null,null,{"$f":"Working!$AA22","v":"8 "}]
[null,{"$f":"Working!$AD4","v":"4 "},null,null,{"$f":"Working!$AD10","v":"6 "},null,null,{"$f":"Working!$AD16","v":"1 "},null,null,{"$f":"Working!$AD22","v":"7 "}]
[null,{"$f":"Working!$AG4","v":"12 "},null,null,{"$f":"Working!$AG10","v":"16 "},null,null,{"$f":"Working!$AG16","v":"14 "},null,null,{"$f":"Working!$AG22","v":"24 "}]
[]
[{"$f":"CONCATENATE(Working!A5,\")\")","v":"3)"},{"$f":"Working!$U5","v":"1 "},"+",{"$f":"CONCATENATE(Working!A11,\")\")","v":"9)"},{"$f":"Working!$U11","v":"2 "},"+",{"$f":"CONCATENATE(Working!A17,\")\")","v":"15)"},{"$f":"Working!$U17","v":"4 "},"+",{"$f":"CONCATENATE(Working!A23,\")\")","v":"21)"},{"$f":"Working!$U23","v":"0 "},"+"]
[null,{"$f":"Working!$X5","v":"3 "},null,null,{"$f":"Working!$X11","v":"8 "},null,null,{"$f":"Working!$X17","v":"6 "},null,null,{"$f":"Working!$X23","v":"0 "}]
[null,{"$f":"Working!$AA5","v":"6 "},null,null,{"$f":"Working!$AA11","v":"4 "},null,null,{"$f":"Working!$AA17","v":"7 "},null,null,{"$f":"Working!$AA23","v":"5 "}]
[null,{"$f":"Working!$AD5","v":"1 "},null,null,{"$f":"Working!$AD11","v":"5 "},null,null,{"$f":"Working!$AD17","v":"0 "},null,null,{"$f":"Working!$AD23","v":"4 "}]
[null,{"$f":"Working!$AG5","v":"11 "},null,null,{"$f":"Working!$AG11","v":"19 "},null,null,{"$f":"Working!$AG17","v":"17 "},null,null,{"$f":"Working!$AG23","v":"9 "}]
[]
[{"$f":"CONCATENATE(Working!A6,\")\")","v":"4)"},{"$f":"Working!$U6","v":"8 "},"+",{"$f":"CONCATENATE(Working!A12,\")\")","v":"10)"},{"$f":"Working!$U12","v":"7 "},"+",{"$f":"CONCATENATE(Working!A18,\")\")","v":"16)"},{"$f":"Working!$U18","v":"8 "},"+",{"$f":"CONCATENATE(Working!A24,\")\")","v":"22)"},{"$f":"Working!$U24","v":"4 "},"+"]
[null,{"$f":"Working!$X6","v":"4 "},null,null,{"$f":"Working!$X12","v":"2 "},null,null,{"$f":"Working!$X18","v":"8 "},null,null,{"$f":"Working!$X24","v":"0 "}]
[null,{"$f":"Working!$AA6","v":"1 "},null,null,{"$f":"Working!$AA12","v":"2 "},null,null,{"$f":"Working!$AA18","v":"3 "},null,null,{"$f":"Working!$AA24","v":"7 "}]
[null,{"$f":"Working!$AD6","v":"4 "},null,null,{"$f":"Working!$AD12","v":"6 "},null,null,{"$f":"Working!$AD18","v":"8 "},null,null,{"$f":"Working!$AD24","v":"3 "}]
[null,{"$f":"Working!$AG6","v":"17 "},null,null,{"$f":"Working!$AG12","v":"17 "},null,null,{"$f":"Working!$AG18","v":"27 "},null,null,{"$f":"Working!$AG24","v":"14 "}]
[]
[{"$f":"CONCATENATE(Working!A7,\")\")","v":"5)"},{"$f":"Working!$U7","v":"1 "},"+",{"$f":"CONCATENATE(Working!A13,\")\")","v":"11)"},{"$f":"Working!$U13","v":"8 "},"+",{"$f":"CONCATENATE(Working!A19,\")\")","v":"17)"},{"$f":"Working!$U19","v":"8 "},"+",{"$f":"CONCATENATE(Working!A25,\")\")","v":"23)"},{"$f":"Working!$U25","v":"1 "},"+"]
[null,{"$f":"Working!$X7","v":"8 "},null,null,{"$f":"Working!$X13","v":"5 "},null,null,{"$f":"Working!$X19","v":"3 "},null,null,{"$f":"Working!$X25","v":"1 "}]
[null,{"$f":"Working!$AA7","v":"4 "},null,null,{"$f":"Working!$AA13","v":"1 "},null,null,{"$f":"Working!$AA19","v":"4 "},null,null,{"$f":"Working!$AA25","v":"1 "}]
[null,{"$f":"Working!$AD7","v":"2 "},null,null,{"$f":"Working!$AD13","v":"6 "},null,null,{"$f":"Working!$AD19","v":"5 "},null,null,{"$f":"Working!$AD25","v":"8 "}]
[null,{"$f":"Working!$AG7","v":"15 "},null,null,{"$f":"Working!$AG13","v":"20 "},null,null,{"$f":"Working!$AG19","v":"20 "},null,null,{"$f":"Working!$AG25","v":"11 "}]
[]
[{"$f":"CONCATENATE(Working!A8,\")\")","v":"6)"},{"$f":"Working!$U8","v":"3 "},"+",{"$f":"CONCATENATE(Working!A14,\")\")","v":"12)"},{"$f":"Working!$U14","v":"4 "},"+",{"$f":"CONCATENATE(Working!A20,\")\")","v":"18)"},{"$f":"Working!$U20","v":"8 "},"+",{"$f":"CONCATENATE(Working!A26,\")\")","v":"24)"},{"$f":"Working!$U26","v":"4 "},"+"]
[null,{"$f":"Working!$X8","v":"6 "},null,null,{"$f":"Working!$X14","v":"1 "},null,null,{"$f":"Working!$X20","v":"6 "},null,null,{"$f":"Working!$X26","v":"4 "}]
[null,{"$f":"Working!$AA8","v":"4 "},null,null,{"$f":"Working!$AA14","v":"5 "},null,null,{"$f":"Working!$AA20","v":"2 "},null,null,{"$f":"Working!$AA26","v":"0 "}]
[null,{"$f":"Working!$AD8","v":"3 "},null,null,{"$f":"Working!$AD14","v":"6 "},null,null,{"$f":"Working!$AD20","v":"5 "},null,null,{"$f":"Working!$AD26","v":"0 "}]
[null,{"$f":"Working!$AG8","v":"16 "},null,null,{"$f":"Working!$AG14","v":"16 "},null,null,{"$f":"Working!$AG20","v":"21 "},null,null,{"$f":"Working!$AG26","v":"8 "}]

{"sheet":"Working","index":4,"n_rows":42,"n_cols":33,"rows_kept":42,"cut":false,"hidden":true,"merged":[]}
[{"$f":"INT(900*RAND()+100)","v":768},"ADB-"]
[null,"1st",null,null,"2nd",null,null,"3rd",null,null,"4th",null,null,"Equals"]
[1,{"$f":"INT(9*(10^((INT((Values!$F$6-1)*RAND()+1))))*RAND())/10^INT((Values!$F$6-1)*RAND()+1)","v":8},{"$f":"IF(INT(B3)=B3,LEN(B3),FIND(\".\",B3))","v":1},{"$f":"LEN(B3)-C3","v":0},{"$f":"INT(9*(10^((INT((Values!$F$6-1)*RAND()+1))))*RAND())/10^INT((Values!$F$6-1)*RAND()+1)","v":2},{"$f":"IF(INT(E3)=E3,LEN(E3),FIND(\".\",E3))","v":1},{"$f":"LEN(E3)-F3","v":0},{"$f":"INT(9*(10^((INT((Values!$F$6-1)*RAND()+1))))*RAND())/10^INT((Values!$F$6-1)*RAND()+1)","v":0},{"$f":"IF(INT(H3)=H3,LEN(H3),FIND(\".\",H3))","v":1},{"$f":"LEN(H3)-I3","v":0},{"$f":"INT(9*(10^((INT((Values!$F$6-1)*RAND()+1))))*RAND())/10^INT((Values!$F$6-1)*RAND()+1)","v":3},{"$f":"IF(INT(K3)=K3,LEN(K3),FIND(\".\",K3))","v":1},{"$f":"LEN(K3)-L3","v":0},{"$f":"B3+E3+H3+K3","v":13},{"$f":"IF(INT(N3)=N3,LEN(N3),FIND(\".\",N3))","v":2},{"$f":"LEN(N3)-O3","v":0},null,{"$f":"MAXA(D3,G3,J3,M3,P3)","v":0},{"$f":"R3-D3","v":0},{"$f":"IF(S3=0,B3,IF(S3=1,CONCATENATE(B3,\"  \"),IF(S3=2,CONCATENATE(B3,\"    \"),IF(S3=3,CONCATENATE(B3,\"      \"),IF(S3=4,CONCATENATE(B3,\"        \"),IF(S3=5,CONCATENATE(B3,\"           \"),\"            \"))))))","v":8},{"$f":"IF(INT(B3)=B3,CONCATENATE(T3,\" \"),T3)","v":"8 "},{"$f":"R3-G3","v":0},{"$f":"IF(V3=0,E3,IF(V3=1,CONCATENATE(E3,\"  \"),IF(V3=2,CONCATENATE(E3,\"    \"),IF(V3=3,CONCATENATE(E3,\"      \"),IF(V3=4,CONCATENATE(E3,\"        \"),IF(V3=5,CONCATENATE(E3,\"          \"),\"            \"))))))","v":2},{"$f":"IF(INT(E3)=E3,CONCATENATE(W3,\" \"),W3)","v":"2 "},{"$f":"R3-J3","v":0},{"$f":"IF(Y3=0,H3,IF(Y3=1,CONCATENATE(H3,\"  \"),IF(Y3=2,CONCATENATE(H3,\"    \"),IF(Y3=3,CONCATENATE(H3,\"      \"),IF(Y3=4,CONCATENATE(H3,\"        \"),IF(Y3=5,CONCATENATE(H3,\"          \"),\"            \"))))))","v":0},{"$f":"IF(INT(H3)=H3,CONCATENATE(Z3,\" \"),Z3)","v":"0 "},{"$f":"R3-M3","v":0},{"$f":"IF(AB3=0,K3,IF(AB3=1,CONCATENATE(K3,\"  \"),IF(AB3=2,CONCATENATE(K3,\"    \"),IF(AB3=3,CONCATENATE(K3,\"      \"),IF(AB3=4,CONCATENATE(K3,\"        \"),IF(AB3=5,CONCATENATE(K3,\"          \"),\"            \"))))))","v":3},{"$f":"IF(INT(K3)=K3,CONCATENATE(AC3,\" \"),AC3)","v":"3 "},{"$f":"R3-P3","v":0},{"$f":"IF(AE3=0,N3,IF(AE3=1,CONCATENATE(N3,\"  \"),IF(AE3=2,CONCATENATE(N3,\"    \"),IF(AE3=3,CONCATENATE(N3,\"      \"),IF(AE3=4,CONCATENATE(N3,\"        \"),IF(AE3=5,CONCATENATE(N3,\"          \"),\"            \"))))))","v":13},{"$f":"IF(INT(N3)=N3,CONCATENATE(AF3,\" \"),AF3)","v":"13 "}]
[2,{"$f":"INT(9*(10^((INT((Values!$F$6-1)*RAND()+1))))*RAND())/10^INT((Values!$F$6-1)*RAND()+1)","v":5},{"$f":"IF(INT(B4)=B4,LEN(B4),FIND(\".\",B4))","v":1},{"$f":"LEN(B4)-C4","v":0},{"$f":"INT(9*(10^((INT((Values!$F$6-1)*RAND()+1))))*RAND())/10^INT((Values!$F$6-1)*RAND()+1)","v":0},{"$f":"IF(INT(E4)=E4,LEN(E4),FIND(\".\",E4))","v":1},{"$f":"LEN(E4)-F4","v":0},{"$f":"INT(9*(10^((INT((Values!$F$6-1)*RAND()+1))))*RAND())/10^INT((Values!$F$6-1)*RAND()+1)","v":3},{"$f":"IF(INT(H4)=H4,LEN(H4),FIND(\".\",H4))","v":1},{"$f":"LEN(H4)-I4","v":0},{"$f":"INT(9*(10^((INT((Values!$F$6-1)*RAND()+1))))*RAND())/10^INT((Values!$F$6-1)*RAND()+1)","v":4},{"$f":"IF(INT(K4)=K4,LEN(K4),FIND(\".\",K4))","v":1},{"$f":"LEN(K4)-L4","v":0},{"$f":"B4+E4+H4+K4","v":12},{"$f":"IF(INT(N4)=N4,LEN(N4),FIND(\".\",N4))","v":2},{"$f":"LEN(N4)-O4","v":0},null,{"$f":"MAXA(D4,G4,J4,M4,P4)","v":0},{"$f":"R4-D4","v":0},{"$f":"IF(S4=0,B4,IF(S4=1,CONCATENATE(B4,\"  \"),IF(S4=2,CONCATENATE(B4,\"    \"),IF(S4=3,CONCATENATE(B4,\"      \"),IF(S4=4,CONCATENATE(B4,\"        \"),IF(S4=5,CONCATENATE(B4,\"           \"),\"            \"))))))","v":5},{"$f":"IF(INT(B4)=B4,CONCATENATE(T4,\" \"),T4)","v":"5 "},{"$f":"R4-G4","v":0},{"$f":"IF(V4=0,E4,IF(V4=1,CONCATENATE(E4,\"  \"),IF(V4=2,CONCATENATE(E4,\"    \"),IF(V4=3,CONCATENATE(E4,\"      \"),IF(V4=4,CONCATENATE(E4,\"        \"),IF(V4=5,CONCATENATE(E4,\"          \"),\"            \"))))))","v":0},{"$f":"IF(INT(E4)=E4,CONCATENATE(W4,\" \"),W4)","v":"0 "},{"$f":"R4-J4","v":0},{"$f":"IF(Y4=0,H4,IF(Y4=1,CONCATENATE(H4,\"  \"),IF(Y4=2,CONCATENATE(H4,\"    \"),IF(Y4=3,CONCATENATE(H4,\"      \"),IF(Y4=4,CONCATENATE(H4,\"        \"),IF(Y4=5,CONCATENATE(H4,\"          \"),\"            \"))))))","v":3},{"$f":"IF(INT(H4)=H4,CONCATENATE(Z4,\" \"),Z4)","v":"3 "},{"$f":"R4-M4","v":0},{"$f":"IF(AB4=0,K4,IF(AB4=1,CONCATENATE(K4,\"  \"),IF(AB4=2,CONCATENATE(K4,\"    \"),IF(AB4=3,CONCATENATE(K4,\"      \"),IF(AB4=4,CONCATENATE(K4,\"        \"),IF(AB4=5,CONCATENATE(K4,\"          \"),\"            \"))))))","v":4},{"$f":"IF(INT(K4)=K4,CONCATENATE(AC4,\" \"),AC4)","v":"4 "},{"$f":"R4-P4","v":0},{"$f":"IF(AE4=0,N4,IF(AE4=1,CONCATENATE(N4,\"  \"),IF(AE4=2,CONCATENATE(N4,\"    \"),IF(AE4=3,CONCATENATE(N4,\"      \"),IF(AE4=4,CONCATENATE(N4,\"        \"),IF(AE4=5,CONCATENATE(N4,\"          \"),\"            \"))))))","v":12},{"$f":"IF(INT(N4)=N4,CONCATENATE(AF4,\" \"),AF4)","v":"12 "}]
[3,{"$f":"INT(9*(10^((INT((Values!$F$6-1)*RAND()+1))))*RAND())/10^INT((Values!$F$6-1)*RAND()+1)","v":1},1,0,{"$f":"INT(9*(10^((INT((Values!$F$6-1)*RAND()+1))))*RAND())/10^INT((Values!$F$6-1)*RAND()+1)","v":3},1,0,{"$f":"INT(9*(10^((INT((Values!$F$6-1)*RAND()+1))))*RAND())/10^INT((Values!$F$6-1)*RAND()+1)","v":6},1,0,{"$f":"INT(9*(10^((INT((Values!$F$6-1)*RAND()+1))))*RAND())/10^INT((Values!$F$6-1)*RAND()+1)","v":1},1,0,11,2,0,null,0,0,1,"1 ",0,3,"3 ",0,6,"6 ",0,1,"1 ",0,11,"11 "]
[4,{"$f":"INT(9*(10^((INT((Values!$F$6-1)*RAND()+1))))*RAND())/10^INT((Values!$F$6-1)*RAND()+1)","v":8},1,0,{"$f":"INT(9*(10^((INT((Values!$F$6-1)*RAND()+1))))*RAND())/10^INT((Values!$F$6-1)*RAND()+1)","v":4},1,0,{"$f":"INT(9*(10^((INT((Values!$F$6-1)*RAND()+1))))*RAND())/10^INT((Values!$F$6-1)*RAND()+1)","v":1},1,0,{"$f":"INT(9*(10^((INT((Values!$F$6-1)*RAND()+1))))*RAND())/10^INT((Values!$F$6-1)*RAND()+1)","v":4},1,0,17,2,0,null,0,0,8,"8 ",0,4,"4 ",0,1,"1 ",0,4,"4 ",0,17,"17 "]
[5,{"$f":"INT(9*(10^((INT((Values!$F$6-1)*RAND()+1))))*RAND())/10^INT((Values!$F$6-1)*RAND()+1)","v":1},1,0,{"$f":"INT(9*(10^((INT((Values!$F$6-1)*RAND()+1))))*RAND())/10^INT((Values!$F$6-1)*RAND()+1)","v":8},1,0,{"$f":"INT(9*(10^((INT((Values!$F$6-1)*RAND()+1))))*RAND())/10^INT((Values!$F$6-1)*RAND()+1)","v":4},1,0,{"$f":"INT(9*(10^((INT((Values!$F$6-1)*RAND()+1))))*RAND())/10^INT((Values!$F$6-1)*RAND()+1)","v":2},1,0,15,2,0,null,0,0,1,"1 ",0,8,"8 ",0,4,"4 ",0,2,"2 ",0,15,"15 "]
[6,{"$f":"INT(9*(10^((INT((Values!$F$6-1)*RAND()+1))))*RAND())/10^INT((Values!$F$6-1)*RAND()+1)","v":3},1,0,{"$f":"INT(9*(10^((INT((Values!$F$6-1)*RAND()+1))))*RAND())/10^INT((Values!$F$6-1)*RAND()+1)","v":6},1,0,{"$f":"INT(9*(10^((INT((Values!$F$6-1)*RAND()+1))))*RAND())/10^INT((Values!$F$6-1)*RAND()+1)","v":4},1,0,{"$f":"INT(9*(10^((INT((Values!$F$6-1)*RAND()+1))))*RAND())/10^INT((Values!$F$6-1)*RAND()+1)","v":3},1,0,16,2,0,null,0,0,3,"3 ",0,6,"6 ",0,4,"4 ",0,3,"3 ",0,16,"16 "]
[7,{"$f":"INT(9*(10^((INT((Values!$F$6-1)*RAND()+1))))*RAND())/10^INT((Values!$F$6-1)*RAND()+1)","v":5},1,0,{"$f":"INT(9*(10^((INT((Values!$F$6-1)*RAND()+1))))*RAND())/10^INT((Values!$F$6-1)*RAND()+1)","v":1},1,0,{"$f":"INT(9*(10^((INT((Values!$F$6-1)*RAND()+1))))*RAND())/10^INT((Values!$F$6-1)*RAND()+1)","v":8},1,0,{"$f":"INT(9*(10^((INT((Values!$F$6-1)*RAND()+1))))*RAND())/10^INT((Values!$F$6-1)*RAND()+1)","v":5},1,0,19,2,0,null,0,0,5,"5 ",0,1,"1 ",0,8,"8 ",0,5,"5 ",0,19,"19 "]
[8,{"$f":"INT(9*(10^((INT((Values!$F$6-1)*RAND()+1))))*RAND())/10^INT((Values!$F$6-1)*RAND()+1)","v":2},1,0,{"$f":"INT(9*(10^((INT((Values!$F$6-1)*RAND()+1))))*RAND())/10^INT((Values!$F$6-1)*RAND()+1)","v":0},1,0,{"$f":"INT(9*(10^((INT((Values!$F$6-1)*RAND()+1))))*RAND())/10^INT((Values!$F$6-1)*RAND()+1)","v":8},1,0,{"$f":"INT(9*(10^((INT((Values!$F$6-1)*RAND()+1))))*RAND())/10^INT((Values!$F$6-1)*RAND()+1)","v":6},1,0,16,2,0,null,0,0,2,"2 ",0,0,"0 ",0,8,"8 ",0,6,"6 ",0,16,"16 "]
[9,{"$f":"INT(9*(10^((INT((Values!$F$6-1)*RAND()+1))))*RAND())/10^INT((Values!$F$6-1)*RAND()+1)","v":2},1,0,{"$f":"INT(9*(10^((INT((Values!$F$6-1)*RAND()+1))))*RAND())/10^INT((Values!$F$6-1)*RAND()+1)","v":8},1,0,{"$f":"INT(9*(10^((INT((Values!$F$6-1)*RAND()+1))))*RAND())/10^INT((Values!$F$6-1)*RAND()+1)","v":4},1,0,{"$f":"INT(9*(10^((INT((Values!$F$6-1)*RAND()+1))))*RAND())/10^INT((Values!$F$6-1)*RAND()+1)","v":5},1,0,19,2,0,null,0,0,2,"2 ",0,8,"8 ",0,4,"4 ",0,5,"5 ",0,19,"19 "]
[10,{"$f":"INT(9*(10^((INT((Values!$F$6-1)*RAND()+1))))*RAND())/10^INT((Values!$F$6-1)*RAND()+1)","v":7},1,0,{"$f":"INT(9*(10^((INT((Values!$F$6-1)*RAND()+1))))*RAND())/10^INT((Values!$F$6-1)*RAND()+1)","v":2},1,0,{"$f":"INT(9*(10^((INT((Values!$F$6-1)*RAND()+1))))*RAND())/10^INT((Values!$F$6-1)*RAND()+1)","v":2},1,0,{"$f":"INT(9*(10^((INT((Values!$F$6-1)*RAND()+1))))*RAND())/10^INT((Values!$F$6-1)*RAND()+1)","v":6},1,0,17,2,0,null,0,0,7,"7 ",0,2,"2 ",0,2,"2 ",0,6,"6 ",0,17,"17 "]
[11,{"$f":"INT(9*(10^((INT((Values!$F$6-1)*RAND()+1))))*RAND())/10^INT((Values!$F$6-1)*RAND()+1)","v":8},1,0,{"$f":"INT(9*(10^((INT((Values!$F$6-1)*RAND()+1))))*RAND())/10^INT((Values!$F$6-1)*RAND()+1)","v":5},1,0,{"$f":"INT(9*(10^((INT((Values!$F$6-1)*RAND()+1))))*RAND())/10^INT((Values!$F$6-1)*RAND()+1)","v":1},1,0,{"$f":"INT(9*(10^((INT((Values!$F$6-1)*RAND()+1))))*RAND())/10^INT((Values!$F$6-1)*RAND()+1)","v":6},1,0,20,2,0,null,0,0,8,"8 ",0,5,"5 ",0,1,"1 ",0,6,"6 ",0,20,"20 "]
[12,{"$f":"INT(9*(10^((INT((Values!$F$6-1)*RAND()+1))))*RAND())/10^INT((Values!$F$6-1)*RAND()+1)","v":4},1,0,{"$f":"INT(9*(10^((INT((Values!$F$6-1)*RAND()+1))))*RAND())/10^INT((Values!$F$6-1)*RAND()+1)","v":1},1,0,{"$f":"INT(9*(10^((INT((Values!$F$6-1)*RAND()+1))))*RAND())/10^INT((Values!$F$6-1)*RAND()+1)","v":5},1,0,{"$f":"INT(9*(10^((INT((Values!$F$6-1)*RAND()+1))))*RAND())/10^INT((Values!$F$6-1)*RAND()+1)","v":6},1,0,16,2,0,null,0,0,4,"4 ",0,1,"1 ",0,5,"5 ",0,6,"6 ",0,16,"16 "]
[13,{"$f":"INT(9*(10^((INT((Values!$F$6-1)*RAND()+1))))*RAND())/10^INT((Values!$F$6-1)*RAND()+1)","v":5},1,0,{"$f":"INT(9*(10^((INT((Values!$F$6-1)*RAND()+1))))*RAND())/10^INT((Values!$F$6-1)*RAND()+1)","v":0},1,0,{"$f":"INT(9*(10^((INT((Values!$F$6-1)*RAND()+1))))*RAND())/10^INT((Values!$F$6-1)*RAND()+1)","v":6},1,0,{"$f":"INT(9*(10^((INT((Values!$F$6-1)*RAND()+1))))*RAND())/10^INT((Values!$F$6-1)*RAND()+1)","v":2},1,0,13,2,0,null,0,0,5,"5 ",0,0,"0 ",0,6,"6 ",0,2,"2 ",0,13,"13 "]
[14,{"$f":"INT(9*(10^((INT((Values!$F$6-1)*RAND()+1))))*RAND())/10^INT((Values!$F$6-1)*RAND()+1)","v":3},1,0,{"$f":"INT(9*(10^((INT((Values!$F$6-1)*RAND()+1))))*RAND())/10^INT((Values!$F$6-1)*RAND()+1)","v":2},1,0,{"$f":"INT(9*(10^((INT((Values!$F$6-1)*RAND()+1))))*RAND())/10^INT((Values!$F$6-1)*RAND()+1)","v":8},1,0,{"$f":"INT(9*(10^((INT((Values!$F$6-1)*RAND()+1))))*RAND())/10^INT((Values!$F$6-1)*RAND()+1)","v":1},1,0,14,2,0,null,0,0,3,"3 ",0,2,"2 ",0,8,"8 ",0,1,"1 ",0,14,"14 "]
[15,{"$f":"INT(9*(10^((INT((Values!$F$6-1)*RAND()+1))))*RAND())/10^INT((Values!$F$6-1)*RAND()+1)","v":4},1,0,{"$f":"INT(9*(10^((INT((Values!$F$6-1)*RAND()+1))))*RAND())/10^INT((Values!$F$6-1)*RAND()+1)","v":6},1,0,{"$f":"INT(9*(10^((INT((Values!$F$6-1)*RAND()+1))))*RAND())/10^INT((Values!$F$6-1)*RAND()+1)","v":7},1,0,{"$f":"INT(9*(10^((INT((Values!$F$6-1)*RAND()+1))))*RAND())/10^INT((Values!$F$6-1)*RAND()+1)","v":0},1,0,17,2,0,null,0,0,4,"4 ",0,6,"6 ",0,7,"7 ",0,0,"0 ",0,17,"17 "]
[16,{"$f":"INT(9*(10^((INT((Values!$F$6-1)*RAND()+1))))*RAND())/10^INT((Values!$F$6-1)*RAND()+1)","v":8},1,0,{"$f":"INT(9*(10^((INT((Values!$F$6-1)*RAND()+1))))*RAND())/10^INT((Values!$F$6-1)*RAND()+1)","v":8},1,0,{"$f":"INT(9*(10^((INT((Values!$F$6-1)*RAND()+1))))*RAND())/10^INT((Values!$F$6-1)*RAND()+1)","v":3},1,0,{"$f":"INT(9*(10^((INT((Values!$F$6-1)*RAND()+1))))*RAND())/10^INT((Values!$F$6-1)*RAND()+1)","v":8},1,0,27,2,0,null,0,0,8,"8 ",0,8,"8 ",0,3,"3 ",0,8,"8 ",0,27,"27 "]
[17,{"$f":"INT(9*(10^((INT((Values!$F$6-1)*RAND()+1))))*RAND())/10^INT((Values!$F$6-1)*RAND()+1)","v":8},1,0,{"$f":"INT(9*(10^((INT((Values!$F$6-1)*RAND()+1))))*RAND())/10^INT((Values!$F$6-1)*RAND()+1)","v":3},1,0,{"$f":"INT(9*(10^((INT((Values!$F$6-1)*RAND()+1))))*RAND())/10^INT((Values!$F$6-1)*RAND()+1)","v":4},1,0,{"$f":"INT(9*(10^((INT((Values!$F$6-1)*RAND()+1))))*RAND())/10^INT((Values!$F$6-1)*RAND()+1)","v":5},1,0,20,2,0,null,0,0,8,"8 ",0,3,"3 ",0,4,"4 ",0,5,"5 ",0,20,"20 "]
[18,{"$f":"INT(9*(10^((INT((Values!$F$6-1)*RAND()+1))))*RAND())/10^INT((Values!$F$6-1)*RAND()+1)","v":8},1,0,{"$f":"INT(9*(10^((INT((Values!$F$6-1)*RAND()+1))))*RAND())/10^INT((Values!$F$6-1)*RAND()+1)","v":6},1,0,{"$f":"INT(9*(10^((INT((Values!$F$6-1)*RAND()+1))))*RAND())/10^INT((Values!$F$6-1)*RAND()+1)","v":2},1,0,{"$f":"INT(9*(10^((INT((Values!$F$6-1)*RAND()+1))))*RAND())/10^INT((Values!$F$6-1)*RAND()+1)","v":5},1,0,21,2,0,null,0,0,8,"8 ",0,6,"6 ",0,2,"2 ",0,5,"5 ",0,21,"21 "]
[19,{"$f":"INT(9*(10^((INT((Values!$F$6-1)*RAND()+1))))*RAND())/10^INT((Values!$F$6-1)*RAND()+1)","v":3},1,0,{"$f":"INT(9*(10^((INT((Values!$F$6-1)*RAND()+1))))*RAND())/10^INT((Values!$F$6-1)*RAND()+1)","v":3},1,0,{"$f":"INT(9*(10^((INT((Values!$F$6-1)*RAND()+1))))*RAND())/10^INT((Values!$F$6-1)*RAND()+1)","v":6},1,0,{"$f":"INT(9*(10^((INT((Values!$F$6-1)*RAND()+1))))*RAND())/10^INT((Values!$F$6-1)*RAND()+1)","v":7},1,0,19,2,0,null,0,0,3,"3 ",0,3,"3 ",0,6,"6 ",0,7,"7 ",0,19,"19 "]
[20,{"$f":"INT(9*(10^((INT((Values!$F$6-1)*RAND()+1))))*RAND())/10^INT((Values!$F$6-1)*RAND()+1)","v":7},1,0,{"$f":"INT(9*(10^((INT((Values!$F$6-1)*RAND()+1))))*RAND())/10^INT((Values!$F$6-1)*RAND()+1)","v":2},1,0,{"$f":"INT(9*(10^((INT((Values!$F$6-1)*RAND()+1))))*RAND())/10^INT((Values!$F$6-1)*RAND()+1)","v":8},1,0,{"$f":"INT(9*(10^((INT((Values!$F$6-1)*RAND()+1))))*RAND())/10^INT((Values!$F$6-1)*RAND()+1)","v":7},1,0,24,2,0,null,0,0,7,"7 ",0,2,"2 ",0,8,"8 ",0,7,"7 ",0,24,"24 "]
[21,{"$f":"INT(9*(10^((INT((Values!$F$6-1)*RAND()+1))))*RAND())/10^INT((Values!$F$6-1)*RAND()+1)","v":0},1,0,{"$f":"INT(9*(10^((INT((Values!$F$6-1)*RAND()+1))))*RAND())/10^INT((Values!$F$6-1)*RAND()+1)","v":0},1,0,{"$f":"INT(9*(10^((INT((Values!$F$6-1)*RAND()+1))))*RAND())/10^INT((Values!$F$6-1)*RAND()+1)","v":5},1,0,{"$f":"INT(9*(10^((INT((Values!$F$6-1)*RAND()+1))))*RAND())/10^INT((Values!$F$6-1)*RAND()+1)","v":4},1,0,9,1,0,null,0,0,0,"0 ",0,0,"0 ",0,5,"5 ",0,4,"4 ",0,9,"9 "]
[22,{"$f":"INT(9*(10^((INT((Values!$F$6-1)*RAND()+1))))*RAND())/10^INT((Values!$F$6-1)*RAND()+1)","v":4},1,0,{"$f":"INT(9*(10^((INT((Values!$F$6-1)*RAND()+1))))*RAND())/10^INT((Values!$F$6-1)*RAND()+1)","v":0},1,0,{"$f":"INT(9*(10^((INT((Values!$F$6-1)*RAND()+1))))*RAND())/10^INT((Values!$F$6-1)*RAND()+1)","v":7},1,0,{"$f":"INT(9*(10^((INT((Values!$F$6-1)*RAND()+1))))*RAND())/10^INT((Values!$F$6-1)*RAND()+1)","v":3},1,0,14,2,0,null,0,0,4,"4 ",0,0,"0 ",0,7,"7 ",0,3,"3 ",0,14,"14 "]
[23,{"$f":"INT(9*(10^((INT((Values!$F$6-1)*RAND()+1))))*RAND())/10^INT((Values!$F$6-1)*RAND()+1)","v":1},1,0,{"$f":"INT(9*(10^((INT((Values!$F$6-1)*RAND()+1))))*RAND())/10^INT((Values!$F$6-1)*RAND()+1)","v":1},1,0,{"$f":"INT(9*(10^((INT((Values!$F$6-1)*RAND()+1))))*RAND())/10^INT((Values!$F$6-1)*RAND()+1)","v":1},1,0,{"$f":"INT(9*(10^((INT((Values!$F$6-1)*RAND()+1))))*RAND())/10^INT((Values!$F$6-1)*RAND()+1)","v":8},1,0,11,2,0,null,0,0,1,"1 ",0,1,"1 ",0,1,"1 ",0,8,"8 ",0,11,"11 "]
[24,{"$f":"INT(9*(10^((INT((Values!$F$6-1)*RAND()+1))))*RAND())/10^INT((Values!$F$6-1)*RAND()+1)","v":4},1,0,{"$f":"INT(9*(10^((INT((Values!$F$6-1)*RAND()+1))))*RAND())/10^INT((Values!$F$6-1)*RAND()+1)","v":4},1,0,{"$f":"INT(9*(10^((INT((Values!$F$6-1)*RAND()+1))))*RAND())/10^INT((Values!$F$6-1)*RAND()+1)","v":0},1,0,{"$f":"INT(9*(10^((INT((Values!$F$6-1)*RAND()+1))))*RAND())/10^INT((Values!$F$6-1)*RAND()+1)","v":0},1,0,8,1,0,null,0,0,4,"4 ",0,4,"4 ",0,0,"0 ",0,0,"0 ",0,8,"8 "]
[25,{"$f":"INT(9*(10^((INT((Values!$F$6-1)*RAND()+1))))*RAND())/10^INT((Values!$F$6-1)*RAND()+1)","v":2},1,0,{"$f":"INT(9*(10^((INT((Values!$F$6-1)*RAND()+1))))*RAND())/10^INT((Values!$F$6-1)*RAND()+1)","v":5},1,0,{"$f":"INT(9*(10^((INT((Values!$F$6-1)*RAND()+1))))*RAND())/10^INT((Values!$F$6-1)*RAND()+1)","v":1},1,0,{"$f":"INT(9*(10^((INT((Values!$F$6-1)*RAND()+1))))*RAND())/10^INT((Values!$F$6-1)*RAND()+1)","v":3},1,0,11,2,0,null,0,0,2,"2 ",0,5,"5 ",0,1,"1 ",0,3,"3 ",0,11,"11 "]
[26,{"$f":"INT(9*(10^((INT((Values!$F$6-1)*RAND()+1))))*RAND())/10^INT((Values!$F$6-1)*RAND()+1)","v":2},1,0,{"$f":"INT(9*(10^((INT((Values!$F$6-1)*RAND()+1))))*RAND())/10^INT((Values!$F$6-1)*RAND()+1)","v":1},1,0,{"$f":"INT(9*(10^((INT((Values!$F$6-1)*RAND()+1))))*RAND())/10^INT((Values!$F$6-1)*RAND()+1)","v":1},1,0,{"$f":"INT(9*(10^((INT((Values!$F$6-1)*RAND()+1))))*RAND())/10^INT((Values!$F$6-1)*RAND()+1)","v":0},1,0,4,1,0,null,0,0,2,"2 ",0,1,"1 ",0,1,"1 ",0,0,"0 ",0,4,"4 "]
[27,{"$f":"INT(9*(10^((INT((Values!$F$6-1)*RAND()+1))))*RAND())/10^INT((Values!$F$6-1)*RAND()+1)","v":0},1,0,{"$f":"INT(9*(10^((INT((Values!$F$6-1)*RAND()+1))))*RAND())/10^INT((Values!$F$6-1)*RAND()+1)","v":8},1,0,{"$f":"INT(9*(10^((INT((Values!$F$6-1)*RAND()+1))))*RAND())/10^INT((Values!$F$6-1)*RAND()+1)","v":0},1,0,{"$f":"INT(9*(10^((INT((Values!$F$6-1)*RAND()+1))))*RAND())/10^INT((Values!$F$6-1)*RAND()+1)","v":5},1,0,13,2,0,null,0,0,0,"0 ",0,8,"8 ",0,0,"0 ",0,5,"5 ",0,13,"13 "]
[28,{"$f":"INT(9*(10^((INT((Values!$F$6-1)*RAND()+1))))*RAND())/10^INT((Values!$F$6-1)*RAND()+1)","v":0},1,0,{"$f":"INT(9*(10^((INT((Values!$F$6-1)*RAND()+1))))*RAND())/10^INT((Values!$F$6-1)*RAND()+1)","v":7},1,0,{"$f":"INT(9*(10^((INT((Values!$F$6-1)*RAND()+1))))*RAND())/10^INT((Values!$F$6-1)*RAND()+1)","v":2},1,0,{"$f":"INT(9*(10^((INT((Values!$F$6-1)*RAND()+1))))*RAND())/10^INT((Values!$F$6-1)*RAND()+1)","v":8},1,0,17,2,0,null,0,0,0,"0 ",0,7,"7 ",0,2,"2 ",0,8,"8 ",0,17,"17 "]
[29,{"$f":"INT(9*(10^((INT((Values!$F$6-1)*RAND()+1))))*RAND())/10^INT((Values!$F$6-1)*RAND()+1)","v":6},1,0,{"$f":"INT(9*(10^((INT((Values!$F$6-1)*RAND()+1))))*RAND())/10^INT((Values!$F$6-1)*RAND()+1)","v":4},1,0,{"$f":"INT(9*(10^((INT((Values!$F$6-1)*RAND()+1))))*RAND())/10^INT((Values!$F$6-1)*RAND()+1)","v":2},1,0,{"$f":"INT(9*(10^((INT((Values!$F$6-1)*RAND()+1))))*RAND())/10^INT((Values!$F$6-1)*RAND()+1)","v":4},1,0,16,2,0,null,0,0,6,"6 ",0,4,"4 ",0,2,"2 ",0,4,"4 ",0,16,"16 "]
[30,{"$f":"INT(9*(10^((INT((Values!$F$6-1)*RAND()+1))))*RAND())/10^INT((Values!$F$6-1)*RAND()+1)","v":5},1,0,{"$f":"INT(9*(10^((INT((Values!$F$6-1)*RAND()+1))))*RAND())/10^INT((Values!$F$6-1)*RAND()+1)","v":6},1,0,{"$f":"INT(9*(10^((INT((Values!$F$6-1)*RAND()+1))))*RAND())/10^INT((Values!$F$6-1)*RAND()+1)","v":3},1,0,{"$f":"INT(9*(10^((INT((Values!$F$6-1)*RAND()+1))))*RAND())/10^INT((Values!$F$6-1)*RAND()+1)","v":4},1,0,18,2,0,null,0,0,5,"5 ",0,6,"6 ",0,3,"3 ",0,4,"4 ",0,18,"18 "]
[31,{"$f":"INT(9*(10^((INT((Values!$F$6-1)*RAND()+1))))*RAND())/10^INT((Values!$F$6-1)*RAND()+1)","v":1},1,0,{"$f":"INT(9*(10^((INT((Values!$F$6-1)*RAND()+1))))*RAND())/10^INT((Values!$F$6-1)*RAND()+1)","v":6},1,0,{"$f":"INT(9*(10^((INT((Values!$F$6-1)*RAND()+1))))*RAND())/10^INT((Values!$F$6-1)*RAND()+1)","v":7},1,0,{"$f":"INT(9*(10^((INT((Values!$F$6-1)*RAND()+1))))*RAND())/10^INT((Values!$F$6-1)*RAND()+1)","v":0},1,0,14,2,0,null,0,0,1,"1 ",0,6,"6 ",0,7,"7 ",0,0,"0 ",0,14,"14 "]
[32,{"$f":"INT(9*(10^((INT((Values!$F$6-1)*RAND()+1))))*RAND())/10^INT((Values!$F$6-1)*RAND()+1)","v":0},1,0,{"$f":"INT(9*(10^((INT((Values!$F$6-1)*RAND()+1))))*RAND())/10^INT((Values!$F$6-1)*RAND()+1)","v":5},1,0,{"$f":"INT(9*(10^((INT((Values!$F$6-1)*RAND()+1))))*RAND())/10^INT((Values!$F$6-1)*RAND()+1)","v":0},1,0,{"$f":"INT(9*(10^((INT((Values!$F$6-1)*RAND()+1))))*RAND())/10^INT((Values!$F$6-1)*RAND()+1)","v":8},1,0,13,2,0,null,0,0,0,"0 ",0,5,"5 ",0,0,"0 ",0,8,"8 ",0,13,"13 "]
[33,{"$f":"INT(9*(10^((INT((Values!$F$6-1)*RAND()+1))))*RAND())/10^INT((Values!$F$6-1)*RAND()+1)","v":1},1,0,{"$f":"INT(9*(10^((INT((Values!$F$6-1)*RAND()+1))))*RAND())/10^INT((Values!$F$6-1)*RAND()+1)","v":3},1,0,{"$f":"INT(9*(10^((INT((Values!$F$6-1)*RAND()+1))))*RAND())/10^INT((Values!$F$6-1)*RAND()+1)","v":2},1,0,{"$f":"INT(9*(10^((INT((Values!$F$6-1)*RAND()+1))))*RAND())/10^INT((Values!$F$6-1)*RAND()+1)","v":2},1,0,8,1,0,null,0,0,1,"1 ",0,3,"3 ",0,2,"2 ",0,2,"2 ",0,8,"8 "]
[34,{"$f":"INT(9*(10^((INT((Values!$F$6-1)*RAND()+1))))*RAND())/10^INT((Values!$F$6-1)*RAND()+1)","v":7},1,0,{"$f":"INT(9*(10^((INT((Values!$F$6-1)*RAND()+1))))*RAND())/10^INT((Values!$F$6-1)*RAND()+1)","v":7},1,0,{"$f":"INT(9*(10^((INT((Values!$F$6-1)*RAND()+1))))*RAND())/10^INT((Values!$F$6-1)*RAND()+1)","v":3},1,0,{"$f":"INT(9*(10^((INT((Values!$F$6-1)*RAND()+1))))*RAND())/10^INT((Values!$F$6-1)*RAND()+1)","v":8},1,0,25,2,0,null,0,0,7,"7 ",0,7,"7 ",0,3,"3 ",0,8,"8 ",0,25,"25 "]
[35,{"$f":"INT(9*(10^((INT((Values!$F$6-1)*RAND()+1))))*RAND())/10^INT((Values!$F$6-1)*RAND()+1)","v":5},1,0,{"$f":"INT(9*(10^((INT((Values!$F$6-1)*RAND()+1))))*RAND())/10^INT((Values!$F$6-1)*RAND()+1)","v":4},1,0,{"$f":"INT(9*(10^((INT((Values!$F$6-1)*RAND()+1))))*RAND())/10^INT((Values!$F$6-1)*RAND()+1)","v":2},1,0,{"$f":"INT(9*(10^((INT((Values!$F$6-1)*RAND()+1))))*RAND())/10^INT((Values!$F$6-1)*RAND()+1)","v":3},1,0,14,2,0,null,0,0,5,"5 ",0,4,"4 ",0,2,"2 ",0,3,"3 ",0,14,"14 "]
[36,{"$f":"INT(9*(10^((INT((Values!$F$6-1)*RAND()+1))))*RAND())/10^INT((Values!$F$6-1)*RAND()+1)","v":1},1,0,{"$f":"INT(9*(10^((INT((Values!$F$6-1)*RAND()+1))))*RAND())/10^INT((Values!$F$6-1)*RAND()+1)","v":1},1,0,{"$f":"INT(9*(10^((INT((Values!$F$6-1)*RAND()+1))))*RAND())/10^INT((Values!$F$6-1)*RAND()+1)","v":3},1,0,{"$f":"INT(9*(10^((INT((Values!$F$6-1)*RAND()+1))))*RAND())/10^INT((Values!$F$6-1)*RAND()+1)","v":2},1,0,7,1,0,null,0,0,1,"1 ",0,1,"1 ",0,3,"3 ",0,2,"2 ",0,7,"7 "]
[37,{"$f":"INT(9*(10^((INT((Values!$F$6-1)*RAND()+1))))*RAND())/10^INT((Values!$F$6-1)*RAND()+1)","v":3},1,0,{"$f":"INT(9*(10^((INT((Values!$F$6-1)*RAND()+1))))*RAND())/10^INT((Values!$F$6-1)*RAND()+1)","v":8},1,0,{"$f":"INT(9*(10^((INT((Values!$F$6-1)*RAND()+1))))*RAND())/10^INT((Values!$F$6-1)*RAND()+1)","v":6},1,0,{"$f":"INT(9*(10^((INT((Values!$F$6-1)*RAND()+1))))*RAND())/10^INT((Values!$F$6-1)*RAND()+1)","v":1},1,0,18,2,0,null,0,0,3,"3 ",0,8,"8 ",0,6,"6 ",0,1,"1 ",0,18,"18 "]
[38,{"$f":"INT(9*(10^((INT((Values!$F$6-1)*RAND()+1))))*RAND())/10^INT((Values!$F$6-1)*RAND()+1)","v":2},1,0,{"$f":"INT(9*(10^((INT((Values!$F$6-1)*RAND()+1))))*RAND())/10^INT((Values!$F$6-1)*RAND()+1)","v":4},1,0,{"$f":"INT(9*(10^((INT((Values!$F$6-1)*RAND()+1))))*RAND())/10^INT((Values!$F$6-1)*RAND()+1)","v":0},1,0,{"$f":"INT(9*(10^((INT((Values!$F$6-1)*RAND()+1))))*RAND())/10^INT((Values!$F$6-1)*RAND()+1)","v":1},1,0,7,1,0,null,0,0,2,"2 ",0,4,"4 ",0,0,"0 ",0,1,"1 ",0,7,"7 "]
[39,{"$f":"INT(9*(10^((INT((Values!$F$6-1)*RAND()+1))))*RAND())/10^INT((Values!$F$6-1)*RAND()+1)","v":0},1,0,{"$f":"INT(9*(10^((INT((Values!$F$6-1)*RAND()+1))))*RAND())/10^INT((Values!$F$6-1)*RAND()+1)","v":3},1,0,{"$f":"INT(9*(10^((INT((Values!$F$6-1)*RAND()+1))))*RAND())/10^INT((Values!$F$6-1)*RAND()+1)","v":7},1,0,{"$f":"INT(9*(10^((INT((Values!$F$6-1)*RAND()+1))))*RAND())/10^INT((Values!$F$6-1)*RAND()+1)","v":7},1,0,17,2,0,null,0,0,0,"0 ",0,3,"3 ",0,7,"7 ",0,7,"7 ",0,17,"17 "]
[40,{"$f":"INT(9*(10^((INT((Values!$F$6-1)*RAND()+1))))*RAND())/10^INT((Values!$F$6-1)*RAND()+1)","v":4},1,0,{"$f":"INT(9*(10^((INT((Values!$F$6-1)*RAND()+1))))*RAND())/10^INT((Values!$F$6-1)*RAND()+1)","v":4},1,0,{"$f":"INT(9*(10^((INT((Values!$F$6-1)*RAND()+1))))*RAND())/10^INT((Values!$F$6-1)*RAND()+1)","v":7},1,0,{"$f":"INT(9*(10^((INT((Values!$F$6-1)*RAND()+1))))*RAND())/10^INT((Values!$F$6-1)*RAND()+1)","v":5},1,0,20,2,0,null,0,0,4,"4 ",0,4,"4 ",0,7,"7 ",0,5,"5 ",0,20,"20 "]