{"text_format":"1","workbook":"xlsx","n_sheets":4,"sheets":["Values","WorkSheet","Answers","Working"],"not_rendered":{"charts":0,"images":0,"macros":1,"external_links":0,"defined_names":0,"comments":0,"pivot_tables":0},"unopened":[],"bounds":{"document_bytes":16777216,"sheet_cells":100000,"rows_first":2000,"rows_last":500,"rows_between":2000,"halvings":0,"cell_chars":16384,"cell_head_chars":4096},"cells_cut":0,"cells_raw":0,"read":"whole","date_system":"1900"}

{"sheet":"Values","index":0,"n_rows":19,"n_cols":9,"rows_kept":19,"cut":false,"hidden":false,"merged":[[14,2,14,4],[16,2,16,6],[16,8,20,9],[18,2,21,7],[2,2,2,6],[4,2,4,7],[5,2,5,4],[12,2,13,7],[10,2,10,4],[7,2,9,7]]}
[null,null,null,null,"MULTIPLICATION"]
[null,null,null,null,"of decimals by decimals"]
[null,null,"INSTRUCTIONS"]
[]
[null,"Step 1","The number digits to be used in the multiplier for this sheet is 2."]
[null,null,"Digits in Multiplier",null,null,2]
[]
[null,"Step 2","Enter the maximum number to be used in the digits of the multiplier, a number from 2 to 9. This avoids issues with times tables."]
[]
[]
[null,null,"Maximum Multiplier"]
[]
[null,"Step 3","Enter the number digits to be used in the multiplicand for this sheet. (1 for random or a whole number ≥ 2 and ≤ 5)"]
[]
[null,null,"Digits in Multiplicand",null,null,null,"  (May be increased or decreased by 1 due to the nature of random calculations)"]
[]
[null,"Step 4","Click on WorkSheet tab below.",null,null,null,null,null,"PRESS F9 for NEW WorkSheet"]
[]
[null,"Note","If you hold down shift then click on the WorkSheet tab and the Answers tab, you will be able to print both the WorkSheet and the solutions."]

{"sheet":"WorkSheet","index":1,"n_rows":29,"n_cols":12,"rows_kept":29,"cut":false,"hidden":false,"merged":[]}
[null,null,null,null,null,"MULTIPLICATION"]
[null,null,null,null,null,null,null,null,null,{"$f":"CONCATENATE(\"Worksheet \",Working!C1,Working!B1)","v":"Worksheet LMA-721"}]
["Evaluate the following;"]
[{"$f":"Working!C4","v":"1)"},{"$f":"Working!N4","v":".0"},"×",{"$f":"Working!$C9","v":"6)"},{"$f":"Working!$N9","v":".0"},"×",{"$f":"Working!$C14","v":"11)"},{"$f":"Working!$N14","v":".0"},"×",{"$f":"Working!$C19","v":"16)"},{"$f":"Working!$N19","v":".0"},"×"]
[null,{"$f":"Working!$I4","v":1.1000000000000001},null,null,{"$f":"Working!$I9","v":1.1000000000000001},null,null,{"$f":"Working!$I14","v":1.1000000000000001},null,null,{"$f":"Working!$I19","v":0.11}]
[]
[]
[]
[]
[{"$f":"Working!C5","v":"2)"},{"$f":"Working!N5","v":".0"},"×",{"$f":"Working!$C10","v":"7)"},{"$f":"Working!$N10","v":".0"},"×",{"$f":"Working!$C15","v":"12)"},{"$f":"Working!$N15","v":".0"},"×",{"$f":"Working!$C20","v":"17)"},{"$f":"Working!$N20","v":".0"},"×"]
[null,{"$f":"Working!$I5","v":0.11},null,null,{"$f":"Working!$I10","v":1.1000000000000001},null,null,{"$f":"Working!$I15","v":0.11},null,null,{"$f":"Working!$I20","v":0.11}]
[]
[]
[]
[]
[{"$f":"Working!C6","v":"3)"},{"$f":"Working!N6","v":".0"},"×",{"$f":"Working!$C11","v":"8)"},{"$f":"Working!$N11","v":".0"},"×",{"$f":"Working!$C16","v":"13)"},{"$f":"Working!$N16","v":".0"},"×",{"$f":"Working!$C21","v":"18)"},{"$f":"Working!$N21","v":".0"},"×"]
[null,{"$f":"Working!$I6","v":1.1000000000000001},null,null,{"$f":"Working!$I11","v":0.11},null,null,{"$f":"Working!$I16","v":0.11},null,null,{"$f":"Working!$I21","v":0.11}]
[]
[]
[]
[]
[{"$f":"Working!C7","v":"4)"},{"$f":"Working!N7","v":".0"},"×",{"$f":"Working!$C12","v":"9)"},{"$f":"Working!$N12","v":".0"},"×",{"$f":"Working!$C17","v":"14)"},{"$f":"Working!$N17","v":".0"},"×",{"$f":"Working!$C22","v":"19)"},{"$f":"Working!$N22","v":".0"},"×"]
[null,{"$f":"Working!$I7","v":0.11},null,null,{"$f":"Working!$I12","v":0.11},null,null,{"$f":"Working!$I17","v":0.11},null,null,{"$f":"Working!$I22","v":0.11}]
[]
[]
[]
[]
[{"$f":"Working!C8","v":"5)"},{"$f":"Working!N8","v":".0"},"×",{"$f":"Working!$C13","v":"10)"},{"$f":"Working!$N13","v":".0"},"×",{"$f":"Working!$C18","v":"15)"},{"$f":"Working!$N18","v":".0"},"×",{"$f":"Working!$C23","v":"20)"},{"$f":"Working!$N23","v":".0"},"×"]
[null,{"$f":"Working!$I8","v":1.1000000000000001},null,null,{"$f":"Working!$I13","v":0.11},null,null,{"$f":"Working!$I18","v":0.11},null,null,{"$f":"Working!$I23","v":1.1000000000000001}]

{"sheet":"Answers","index":2,"n_rows":32,"n_cols":12,"rows_kept":32,"cut":false,"hidden":false,"merged":[]}
[null,null,null,null,null,"MULTIPLICATION"]
[null,null,null,null,null,"ANSWERS",null,null,null,{"$f":"CONCATENATE(\"Worksheet \",Working!C1,Working!B1)","v":"Worksheet LMA-721"}]
["Evaluate the following;"]
[{"$f":"Working!C4","v":"1)"},{"$f":"Working!N4","v":".0"},"×",{"$f":"Working!$C9","v":"6)"},{"$f":"Working!$N9","v":".0"},"×",{"$f":"Working!$C14","v":"11)"},{"$f":"Working!$N14","v":".0"},"×",{"$f":"Working!$C19","v":"16)"},{"$f":"Working!$N19","v":".0"},"×"]
[null,{"$f":"Working!$I4","v":1.1000000000000001},null,null,{"$f":"Working!$I9","v":1.1000000000000001},null,null,{"$f":"Working!$I14","v":1.1000000000000001},null,null,{"$f":"Working!$I19","v":0.11}]
[null,{"$f":"Working!$Q4","v":0},null,null,{"$f":"Working!$Q9","v":0},null,null,{"$f":"Working!$Q14","v":0},null,null,{"$f":"Working!$Q19","v":0}]
[null,{"$f":"Working!$R4","v":0},null,null,{"$f":"Working!$R9","v":0},null,null,{"$f":"Working!$R14","v":0},null,null,{"$f":"Working!$R19","v":0}]
[null,{"$f":"Working!$T4","v":"0."},null,null,{"$f":"Working!$T9","v":"0."},null,null,{"$f":"Working!$T14","v":"0."},null,null,{"$f":"Working!$T19","v":"0.0"}]
[]
[{"$f":"Working!C5","v":"2)"},{"$f":"Working!N5","v":".0"},"×",{"$f":"Working!$C10","v":"7)"},{"$f":"Working!$N10","v":".0"},"×",{"$f":"Working!$C15","v":"12)"},{"$f":"Working!$N15","v":".0"},"×",{"$f":"Working!$C20","v":"17)"},{"$f":"Working!$N20","v":".0"},"×"]
[null,{"$f":"Working!$I5","v":0.11},null,null,{"$f":"Working!$I10","v":1.1000000000000001},null,null,{"$f":"Working!$I15","v":0.11},null,null,{"$f":"Working!$I20","v":0.11}]
[null,{"$f":"Working!$Q5","v":0},null,null,{"$f":"Working!$Q10","v":0},null,null,{"$f":"Working!$Q15","v":0},null,null,{"$f":"Working!$Q20","v":0}]
[null,{"$f":"Working!$R5","v":0},null,null,{"$f":"Working!$R10","v":0},null,null,{"$f":"Working!$R15","v":0},null,null,{"$f":"Working!$R20","v":0}]
[null,{"$f":"Working!$T5","v":"0.0"},null,null,{"$f":"Working!$T10","v":"0."},null,null,{"$f":"Working!$T15","v":"0.0"},null,null,{"$f":"Working!$T20","v":"0.0"}]
[]
[{"$f":"Working!C6","v":"3)"},{"$f":"Working!N6","v":".0"},"×",{"$f":"Working!$C11","v":"8)"},{"$f":"Working!$N11","v":".0"},"×",{"$f":"Working!$C16","v":"13)"},{"$f":"Working!$N16","v":".0"},"×",{"$f":"Working!$C21","v":"18)"},{"$f":"Working!$N21","v":".0"},"×"]
[null,{"$f":"Working!$I6","v":1.1000000000000001},null,null,{"$f":"Working!$I11","v":0.11},null,null,{"$f":"Working!$I16","v":0.11},null,null,{"$f":"Working!$I21","v":0.11}]
[null,{"$f":"Working!$Q6","v":0},null,null,{"$f":"Working!$Q11","v":0},null,null,{"$f":"Working!$Q16","v":0},null,null,{"$f":"Working!$Q21","v":0}]
[null,{"$f":"Working!$R6","v":0},null,null,{"$f":"Working!$R11","v":0},null,null,{"$f":"Working!$R16","v":0},null,null,{"$f":"Working!$R21","v":0}]
[null,{"$f":"Working!$T6","v":"0."},null,null,{"$f":"Working!$T11","v":"0.0"},null,null,{"$f":"Working!$T16","v":"0.0"},null,null,{"$f":"Working!$T21","v":"0.0"}]
[]
[{"$f":"Working!C7","v":"4)"},{"$f":"Working!N7","v":".0"},"×",{"$f":"Working!$C12","v":"9)"},{"$f":"Working!$N12","v":".0"},"×",{"$f":"Working!$C17","v":"14)"},{"$f":"Working!$N17","v":".0"},"×",{"$f":"Working!$C22","v":"19)"},{"$f":"Working!$N22","v":".0"},"×"]
[null,{"$f":"Working!$I7","v":0.11},null,null,{"$f":"Working!$I12","v":0.11},null,null,{"$f":"Working!$I17","v":0.11},null,null,{"$f":"Working!$I22","v":0.11}]
[null,{"$f":"Working!$Q7","v":0},null,null,{"$f":"Working!$Q12","v":0},null,null,{"$f":"Working!$Q17","v":0},null,null,{"$f":"Working!$Q22","v":0}]
[null,{"$f":"Working!$R7","v":0},null,null,{"$f":"Working!$R12","v":0},null,null,{"$f":"Working!$R17","v":0},null,null,{"$f":"Working!$R22","v":0}]
[null,{"$f":"Working!$T7","v":"0.0"},null,null,{"$f":"Working!$T12","v":"0.0"},null,null,{"$f":"Working!$T17","v":"0.0"},null,null,{"$f":"Working!$T22","v":"0.0"}]
[]
[{"$f":"Working!C8","v":"5)"},{"$f":"Working!N8","v":".0"},"×",{"$f":"Working!$C13","v":"10)"},{"$f":"Working!$N13","v":".0"},"×",{"$f":"Working!$C18","v":"15)"},{"$f":"Working!$N18","v":".0"},"×",{"$f":"Working!$C23","v":"20)"},{"$f":"Working!$N23","v":".0"},"×"]
[null,{"$f":"Working!$I8","v":1.1000000000000001},null,null,{"$f":"Working!$I13","v":0.11},null,null,{"$f":"Working!$I18","v":0.11},null,null,{"$f":"Working!$I23","v":1.1000000000000001}]
[null,{"$f":"Working!$Q8","v":0},null,null,{"$f":"Working!$Q13","v":0},null,null,{"$f":"Working!$Q18","v":0},null,null,{"$f":"Working!$Q23","v":0}]
[null,{"$f":"Working!$R8","v":0},null,null,{"$f":"Working!$R13","v":0},null,null,{"$f":"Working!$R18","v":0},null,null,{"$f":"Working!$R23","v":0}]
[null,{"$f":"Working!$T8","v":"0."},null,null,{"$f":"Working!$T13","v":"0.0"},null,null,{"$f":"Working!$T18","v":"0.0"},null,null,{"$f":"Working!$T23","v":"0."}]

{"sheet":"Working","index":3,"n_rows":23,"n_cols":20,"rows_kept":23,"cut":false,"hidden":true,"merged":[[1,13,1,19]]}
[{"$f":"INT(900*RAND()+100)","v":721},{"$f":"TEXT(1,A1)","v":"721"},"LMA-"]
[null,null,null,null,null,null,null,null,null,null,null,null,null,"Numbers"]
[null,null,null,null,null,"Multiplier",null,null,null,"Multiplicand",null,null,null,null,null,null,null,null,null,"Product"]
[1,")",{"$f":"CONCATENATE(A4,B4)","v":"1)"},{"$f":"INT((Values!$F$11*RAND()+1))","v":1},{"$f":"INT((Values!$F$11*RAND()+1))","v":1},{"$f":"10*D4+E4","v":11},{"$f":"INT(2*RAND()+1)","v":1},{"$f":"INT(3*RAND()+3)","v":5},{"$f":"F4/10^G4","v":1.1000000000000001},{"$f":"IF(Values!$F$15=1,INT((10^H4-10^(H4-1))*RAND()+(10^(H4-1))),INT((10^(Values!$F$15)-10^(Values!$F$15-1))*RAND()+(10^(Values!$F$15-1))))","v":0},{"$f":"F4*J4","v":0},{"$f":"LEN(K4-1)","v":2},{"$f":"INT((Values!$F$15-1)*RAND()+1)","v":0},{"$f":"REPLACE(J4,(Values!$F$15-M4+1),0,\".\")","v":".0"},{"$f":"RIGHT(F4,1)","v":"1"},{"$f":"10*LEFT(F4,1)","v":10},{"$f":"J4*O4","v":0},{"$f":"J4*P4","v":0},{"$f":"L4-(M4+G4)+1","v":2},{"$f":"IF(S4>1,REPLACE(K4,S4,0,\".\"),IF(S4=1,REPLACE(CONCATENATE(0,K4),S4+1,0,\".\"),REPLACE(CONCATENATE(0,K4),S4+2,0,\".\")))","v":"0."}]
[2,")",{"$f":"CONCATENATE(A5,B5)","v":"2)"},{"$f":"INT((Values!$F$11*RAND()+1))","v":1},{"$f":"INT((Values!$F$11*RAND()+1))","v":1},{"$f":"10*D5+E5","v":11},{"$f":"INT(2*RAND()+1)","v":2},{"$f":"INT(3*RAND()+3)","v":5},{"$f":"F5/10^G5","v":0.11},{"$f":"IF(Values!$F$15=1,INT((10^H5-10^(H5-1))*RAND()+(10^(H5-1))),INT((10^(Values!$F$15)-10^(Values!$F$15-1))*RAND()+(10^(Values!$F$15-1))))","v":0},{"$f":"F5*J5","v":0},{"$f":"LEN(K5-1)","v":2},{"$f":"INT((Values!$F$15-1)*RAND()+1)","v":0},{"$f":"REPLACE(J5,(Values!$F$15-M5+1),0,\".\")","v":".0"},{"$f":"RIGHT(F5,1)","v":"1"},{"$f":"10*LEFT(F5,1)","v":10},0,0,{"$f":"L5-(M5+G5)+1","v":1},"0.0"]
[3,")","3)",{"$f":"INT((Values!$F$11*RAND()+1))","v":1},{"$f":"INT((Values!$F$11*RAND()+1))","v":1},11,1,3,1.1000000000000001,{"$f":"IF(Values!$F$15=1,INT((10^H6-10^(H6-1))*RAND()+(10^(H6-1))),INT((10^(Values!$F$15)-10^(Values!$F$15-1))*RAND()+(10^(Values!$F$15-1))))","v":0},0,2,{"$f":"INT((Values!$F$15-1)*RAND()+1)","v":0},{"$f":"REPLACE(J6,(Values!$F$15-M6+1),0,\".\")","v":".0"},"1",10,0,0,2,"0."]
[4,")","4)",{"$f":"INT((Values!$F$11*RAND()+1))","v":1},{"$f":"INT((Values!$F$11*RAND()+1))","v":1},11,2,5,0.11,{"$f":"IF(Values!$F$15=1,INT((10^H7-10^(H7-1))*RAND()+(10^(H7-1))),INT((10^(Values!$F$15)-10^(Values!$F$15-1))*RAND()+(10^(Values!$F$15-1))))","v":0},0,2,{"$f":"INT((Values!$F$15-1)*RAND()+1)","v":0},{"$f":"REPLACE(J7,(Values!$F$15-M7+1),0,\".\")","v":".0"},"1",10,0,0,1,"0.0"]
[5,")","5)",{"$f":"INT((Values!$F$11*RAND()+1))","v":1},{"$f":"INT((Values!$F$11*RAND()+1))","v":1},11,1,5,1.1000000000000001,{"$f":"IF(Values!$F$15=1,INT((10^H8-10^(H8-1))*RAND()+(10^(H8-1))),INT((10^(Values!$F$15)-10^(Values!$F$15-1))*RAND()+(10^(Values!$F$15-1))))","v":0},0,2,{"$f":"INT((Values!$F$15-1)*RAND()+1)","v":0},{"$f":"REPLACE(J8,(Values!$F$15-M8+1),0,\".\")","v":".0"},"1",10,0,0,2,"0."]
[6,")","6)",{"$f":"INT((Values!$F$11*RAND()+1))","v":1},{"$f":"INT((Values!$F$11*RAND()+1))","v":1},11,1,3,1.1000000000000001,{"$f":"IF(Values!$F$15=1,INT((10^H9-10^(H9-1))*RAND()+(10^(H9-1))),INT((10^(Values!$F$15)-10^(Values!$F$15-1))*RAND()+(10^(Values!$F$15-1))))","v":0},0,2,{"$f":"INT((Values!$F$15-1)*RAND()+1)","v":0},{"$f":"REPLACE(J9,(Values!$F$15-M9+1),0,\".\")","v":".0"},"1",10,0,0,2,"0."]
[7,")","7)",{"$f":"INT((Values!$F$11*RAND()+1))","v":1},{"$f":"INT((Values!$F$11*RAND()+1))","v":1},11,1,3,1.1000000000000001,{"$f":"IF(Values!$F$15=1,INT((10^H10-10^(H10-1))*RAND()+(10^(H10-1))),INT((10^(Values!$F$15)-10^(Values!$F$15-1))*RAND()+(10^(Values!$F$15-1))))","v":0},0,2,{"$f":"INT((Values!$F$15-1)*RAND()+1)","v":0},{"$f":"REPLACE(J10,(Values!$F$15-M10+1),0,\".\")","v":".0"},"1",10,0,0,2,"0."]
[8,")","8)",{"$f":"INT((Values!$F$11*RAND()+1))","v":1},{"$f":"INT((Values!$F$11*RAND()+1))","v":1},11,2,3,0.11,{"$f":"IF(Values!$F$15=1,INT((10^H11-10^(H11-1))*RAND()+(10^(H11-1))),INT((10^(Values!$F$15)-10^(Values!$F$15-1))*RAND()+(10^(Values!$F$15-1))))","v":0},0,2,{"$f":"INT((Values!$F$15-1)*RAND()+1)","v":0},{"$f":"REPLACE(J11,(Values!$F$15-M11+1),0,\".\")","v":".0"},"1",10,0,0,1,"0.0"]
[9,")","9)",{"$f":"INT((Values!$F$11*RAND()+1))","v":1},{"$f":"INT((Values!$F$11*RAND()+1))","v":1},11,2,5,0.11,{"$f":"IF(Values!$F$15=1,INT((10^H12-10^(H12-1))*RAND()+(10^(H12-1))),INT((10^(Values!$F$15)-10^(Values!$F$15-1))*RAND()+(10^(Values!$F$15-1))))","v":0},0,2,{"$f":"INT((Values!$F$15-1)*RAND()+1)","v":0},{"$f":"REPLACE(J12,(Values!$F$15-M12+1),0,\".\")","v":".0"},"1",10,0,0,1,"0.0"]
[10,")","10)",{"$f":"INT((Values!$F$11*RAND()+1))","v":1},{"$f":"INT((Values!$F$11*RAND()+1))","v":1},11,2,5,0.11,{"$f":"IF(Values!$F$15=1,INT((10^H13-10^(H13-1))*RAND()+(10^(H13-1))),INT((10^(Values!$F$15)-10^(Values!$F$15-1))*RAND()+(10^(Values!$F$15-1))))","v":0},0,2,{"$f":"INT((Values!$F$15-1)*RAND()+1)","v":0},{"$f":"REPLACE(J13,(Values!$F$15-M13+1),0,\".\")","v":".0"},"1",10,0,0,1,"0.0"]
[11,")","11)",{"$f":"INT((Values!$F$11*RAND()+1))","v":1},{"$f":"INT((Values!$F$11*RAND()+1))","v":1},11,1,3,1.1000000000000001,{"$f":"IF(Values!$F$15=1,INT((10^H14-10^(H14-1))*RAND()+(10^(H14-1))),INT((10^(Values!$F$15)-10^(Values!$F$15-1))*RAND()+(10^(Values!$F$15-1))))","v":0},0,2,{"$f":"INT((Values!$F$15-1)*RAND()+1)","v":0},{"$f":"REPLACE(J14,(Values!$F$15-M14+1),0,\".\")","v":".0"},"1",10,0,0,2,"0."]
[12,")","12)",{"$f":"INT((Values!$F$11*RAND()+1))","v":1},{"$f":"INT((Values!$F$11*RAND()+1))","v":1},11,2,3,0.11,{"$f":"IF(Values!$F$15=1,INT((10^H15-10^(H15-1))*RAND()+(10^(H15-1))),INT((10^(Values!$F$15)-10^(Values!$F$15-1))*RAND()+(10^(Values!$F$15-1))))","v":0},0,2,{"$f":"INT((Values!$F$15-1)*RAND()+1)","v":0},{"$f":"REPLACE(J15,(Values!$F$15-M15+1),0,\".\")","v":".0"},"1",10,0,0,1,"0.0"]
[13,")","13)",{"$f":"INT((Values!$F$11*RAND()+1))","v":1},{"$f":"INT((Values!$F$11*RAND()+1))","v":1},11,2,3,0.11,{"$f":"IF(Values!$F$15=1,INT((10^H16-10^(H16-1))*RAND()+(10^(H16-1))),INT((10^(Values!$F$15)-10^(Values!$F$15-1))*RAND()+(10^(Values!$F$15-1))))","v":0},0,2,{"$f":"INT((Values!$F$15-1)*RAND()+1)","v":0},{"$f":"REPLACE(J16,(Values!$F$15-M16+1),0,\".\")","v":".0"},"1",10,0,0,1,"0.0"]
[14,")","14)",{"$f":"INT((Values!$F$11*RAND()+1))","v":1},{"$f":"INT((Values!$F$11*RAND()+1))","v":1},11,2,5,0.11,{"$f":"IF(Values!$F$15=1,INT((10^H17-10^(H17-1))*RAND()+(10^(H17-1))),INT((10^(Values!$F$15)-10^(Values!$F$15-1))*RAND()+(10^(Values!$F$15-1))))","v":0},0,2,{"$f":"INT((Values!$F$15-1)*RAND()+1)","v":0},{"$f":"REPLACE(J17,(Values!$F$15-M17+1),0,\".\")","v":".0"},"1",10,0,0,1,"0.0"]
[15,")","15)",{"$f":"INT((Values!$F$11*RAND()+1))","v":1},{"$f":"INT((Values!$F$11*RAND()+1))","v":1},11,2,3,0.11,{"$f":"IF(Values!$F$15=1,INT((10^H18-10^(H18-1))*RAND()+(10^(H18-1))),INT((10^(Values!$F$15)-10^(Values!$F$15-1))*RAND()+(10^(Values!$F$15-1))))","v":0},0,2,{"$f":"INT((Values!$F$15-1)*RAND()+1)","v":0},{"$f":"REPLACE(J18,(Values!$F$15-M18+1),0,\".\")","v":".0"},"1",10,0,0,1,"0.0"]
[16,")","16)",{"$f":"INT((Values!$F$11*RAND()+1))","v":1},{"$f":"INT((Values!$F$11*RAND()+1))","v":1},11,2,4,0.11,{"$f":"IF(Values!$F$15=1,INT((10^H19-10^(H19-1))*RAND()+(10^(H19-1))),INT((10^(Values!$F$15)-10^(Values!$F$15-1))*RAND()+(10^(Values!$F$15-1))))","v":0},0,2,{"$f":"INT((Values!$F$15-1)*RAND()+1)","v":0},{"$f":"REPLACE(J19,(Values!$F$15-M19+1),0,\".\")","v":".0"},"1",10,0,0,1,"0.0"]
[17,")","17)",{"$f":"INT((Values!$F$11*RAND()+1))","v":1},{"$f":"INT((Values!$F$11*RAND()+1))","v":1},11,2,5,0.11,{"$f":"IF(Values!$F$15=1,INT((10^H20-10^(H20-1))*RAND()+(10^(H20-1))),INT((10^(Values!$F$15)-10^(Values!$F$15-1))*RAND()+(10^(Values!$F$15-1))))","v":0},0,2,{"$f":"INT((Values!$F$15-1)*RAND()+1)","v":0},{"$f":"REPLACE(J20,(Values!$F$15-M20+1),0,\".\")","v":".0"},"1",10,0,0,1,"0.0"]
[18,")","18)",{"$f":"INT((Values!$F$11*RAND()+1))","v":1},{"$f":"INT((Values!$F$11*RAND()+1))","v":1},11,2,3,0.11,{"$f":"IF(Values!$F$15=1,INT((10^H21-10^(H21-1))*RAND()+(10^(H21-1))),INT((10^(Values!$F$15)-10^(Values!$F$15-1))*RAND()+(10^(Values!$F$15-1))))","v":0},0,2,{"$f":"INT((Values!$F$15-1)*RAND()+1)","v":0},{"$f":"REPLACE(J21,(Values!$F$15-M21+1),0,\".\")","v":".0"},"1",10,0,0,1,"0.0"]
[19,")","19)",{"$f":"INT((Values!$F$11*RAND()+1))","v":1},{"$f":"INT((Values!$F$11*RAND()+1))","v":1},11,2,5,0.11,{"$f":"IF(Values!$F$15=1,INT((10^H22-10^(H22-1))*RAND()+(10^(H22-1))),INT((10^(Values!$F$15)-10^(Values!$F$15-1))*RAND()+(10^(Values!$F$15-1))))","v":0},0,2,{"$f":"INT((Values!$F$15-1)*RAND()+1)","v":0},{"$f":"REPLACE(J22,(Values!$F$15-M22+1),0,\".\")","v":".0"},"1",10,0,0,1,"0.0"]
[20,")","20)",{"$f":"INT((Values!$F$11*RAND()+1))","v":1},{"$f":"INT((Values!$F$11*RAND()+1))","v":1},11,1,3,1.1000000000000001,{"$f":"IF(Values!$F$15=1,INT((10^H23-10^(H23-1))*RAND()+(10^(H23-1))),INT((10^(Values!$F$15)-10^(Values!$F$15-1))*RAND()+(10^(Values!$F$15-1))))","v":0},0,2,{"$f":"INT((Values!$F$15-1)*RAND()+1)","v":0},{"$f":"REPLACE(J23,(Values!$F$15-M23+1),0,\".\")","v":".0"},"1",10,0,0,2,"0."]