{"text_format":"1","workbook":"xlsx","n_sheets":4,"sheets":["Values","WorkSheet","Answers","Working"],"not_rendered":{"charts":0,"images":0,"macros":1,"external_links":0,"defined_names":0,"comments":0,"pivot_tables":0},"unopened":[],"bounds":{"document_bytes":16777216,"sheet_cells":100000,"rows_first":2000,"rows_last":500,"rows_between":2000,"halvings":0,"cell_chars":16384,"cell_head_chars":4096},"cells_cut":0,"cells_raw":0,"read":"whole","date_system":"1900"}

{"sheet":"Values","index":0,"n_rows":22,"n_cols":9,"rows_kept":22,"cut":false,"hidden":false,"merged":[[17,2,17,4],[19,2,19,6],[19,8,23,9],[21,2,24,7],[2,2,2,6],[4,2,5,7],[6,2,6,4],[14,2,15,7],[12,2,12,4],[8,2,10,7]]}
[null,null,null,null,"MULTIPLICATION"]
[null,null,null,null,"of decimals by whole numbers"]
[null,null,"INSTRUCTIONS"]
[]
[null,"Step 1","The number digits to be used in the multiplier for this sheet is 2."]
[]
[null,null,"Digits in Multiplier",null,null,2]
[]
[null,"Step 2","Enter the maximum number to be used in the digits of the multiplier, a number from 2 to 9. This avoids issues with times tables."]
[]
[]
[]
[null,null,"Maximum Multiplier",null,null,null,"NOTE:","Using 2 will produce a trivial WorkSheet"]
[]
[null,"Step 3","Enter the number digits to be used in the multiplicand for this sheet. (1 for random or a whole number ≥ 2 and ≤ 5)"]
[]
[]
[null,null,"Digits in Multiplicand",null,null,null,"  (May be increased or decreased by 1 due to the nature of random calculations)"]
[]
[null,"Step 4","Click on WorkSheet tab below.",null,null,null,null,null,"PRESS F9 for NEW WorkSheet"]
[]
[null,"Note","If you hold down shift then click on the WorkSheet tab and the Answers tab, you will be able to print both the WorkSheet and the solutions."]

{"sheet":"WorkSheet","index":1,"n_rows":29,"n_cols":12,"rows_kept":29,"cut":false,"hidden":false,"merged":[]}
[null,null,null,null,null,"MULTIPLICATION"]
[null,null,null,null,null,null,null,null,null,{"$f":"CONCATENATE(\"Worksheet \",Working!C1,Working!B1)","v":"Worksheet LMA-362"}]
["Evaluate the following;"]
[{"$f":"Working!C4","v":"1)"},{"$f":"Working!P4","v":"0.0"},"×",{"$f":"Working!$C9","v":"6)"},{"$f":"Working!$P9","v":"0.0"},"×",{"$f":"Working!$C14","v":"11)"},{"$f":"Working!$P14","v":"0.0"},"×",{"$f":"Working!$C19","v":"16)"},{"$f":"Working!$P19","v":"0.0"},"×"]
[null,{"$f":"Working!$I4","v":11},null,null,{"$f":"Working!$I9","v":11},null,null,{"$f":"Working!$I14","v":11},null,null,{"$f":"Working!$I19","v":11}]
[]
[]
[]
[]
[{"$f":"Working!C5","v":"2)"},{"$f":"Working!P5","v":"0.0"},"×",{"$f":"Working!$C10","v":"7)"},{"$f":"Working!$P10","v":"0.0"},"×",{"$f":"Working!$C15","v":"12)"},{"$f":"Working!$P15","v":"0.0"},"×",{"$f":"Working!$C20","v":"17)"},{"$f":"Working!$P20","v":"0.0"},"×"]
[null,{"$f":"Working!$I5","v":11},null,null,{"$f":"Working!$I10","v":11},null,null,{"$f":"Working!$I15","v":11},null,null,{"$f":"Working!$I20","v":11}]
[]
[]
[]
[]
[{"$f":"Working!C6","v":"3)"},{"$f":"Working!P6","v":"0.0"},"×",{"$f":"Working!$C11","v":"8)"},{"$f":"Working!$P11","v":"0.0"},"×",{"$f":"Working!$C16","v":"13)"},{"$f":"Working!$P16","v":"0.0"},"×",{"$f":"Working!$C21","v":"18)"},{"$f":"Working!$P21","v":"0.0"},"×"]
[null,{"$f":"Working!$I6","v":11},null,null,{"$f":"Working!$I11","v":11},null,null,{"$f":"Working!$I16","v":11},null,null,{"$f":"Working!$I21","v":11}]
[]
[]
[]
[]
[{"$f":"Working!C7","v":"4)"},{"$f":"Working!P7","v":"0.0"},"×",{"$f":"Working!$C12","v":"9)"},{"$f":"Working!$P12","v":"0.0"},"×",{"$f":"Working!$C17","v":"14)"},{"$f":"Working!$P17","v":"0.0"},"×",{"$f":"Working!$C22","v":"19)"},{"$f":"Working!$P22","v":"0.0"},"×"]
[null,{"$f":"Working!$I7","v":11},null,null,{"$f":"Working!$I12","v":11},null,null,{"$f":"Working!$I17","v":11},null,null,{"$f":"Working!$I22","v":11}]
[]
[]
[]
[]
[{"$f":"Working!C8","v":"5)"},{"$f":"Working!P8","v":"0.0"},"×",{"$f":"Working!$C13","v":"10)"},{"$f":"Working!$P13","v":"0.0"},"×",{"$f":"Working!$C18","v":"15)"},{"$f":"Working!$P18","v":"0.0"},"×",{"$f":"Working!$C23","v":"20)"},{"$f":"Working!$P23","v":"0.0"},"×"]
[null,{"$f":"Working!$I8","v":11},null,null,{"$f":"Working!$I13","v":11},null,null,{"$f":"Working!$I18","v":11},null,null,{"$f":"Working!$I23","v":11}]

{"sheet":"Answers","index":2,"n_rows":32,"n_cols":12,"rows_kept":32,"cut":false,"hidden":false,"merged":[]}
[null,null,null,null,null,"MULTIPLICATION"]
[null,null,null,null,null,"ANSWERS",null,null,null,{"$f":"CONCATENATE(\"Worksheet \",Working!C1,Working!B1)","v":"Worksheet LMA-362"}]
["Evaluate the following;"]
[{"$f":"Working!C4","v":"1)"},{"$f":"Working!P4","v":"0.0"},"×",{"$f":"Working!$C9","v":"6)"},{"$f":"Working!$P9","v":"0.0"},"×",{"$f":"Working!$C14","v":"11)"},{"$f":"Working!$P14","v":"0.0"},"×",{"$f":"Working!$C19","v":"16)"},{"$f":"Working!$P19","v":"0.0"},"×"]
[null,{"$f":"Working!$I4","v":11},null,null,{"$f":"Working!$I9","v":11},null,null,{"$f":"Working!$I14","v":11},null,null,{"$f":"Working!$I19","v":11}]
[null,{"$f":"Working!$S4","v":0},null,null,{"$f":"Working!$S9","v":0},null,null,{"$f":"Working!$S14","v":0},null,null,{"$f":"Working!$S19","v":0}]
[null,{"$f":"Working!$T4","v":0},null,null,{"$f":"Working!$T9","v":0},null,null,{"$f":"Working!$T14","v":0},null,null,{"$f":"Working!$T19","v":0}]
[null,{"$f":"Working!$AF4","v":"0."},null,null,{"$f":"Working!$AF9","v":"0."},null,null,{"$f":"Working!$AF14","v":"0."},null,null,{"$f":"Working!$AF19","v":"0."}]
[]
[{"$f":"Working!C5","v":"2)"},{"$f":"Working!P5","v":"0.0"},"×",{"$f":"Working!$C10","v":"7)"},{"$f":"Working!$P10","v":"0.0"},"×",{"$f":"Working!$C15","v":"12)"},{"$f":"Working!$P15","v":"0.0"},"×",{"$f":"Working!$C20","v":"17)"},{"$f":"Working!$P20","v":"0.0"},"×"]
[null,{"$f":"Working!$I5","v":11},null,null,{"$f":"Working!$I10","v":11},null,null,{"$f":"Working!$I15","v":11},null,null,{"$f":"Working!$I20","v":11}]
[null,{"$f":"Working!$S5","v":0},null,null,{"$f":"Working!$S10","v":0},null,null,{"$f":"Working!$S15","v":0},null,null,{"$f":"Working!$S20","v":0}]
[null,{"$f":"Working!$T5","v":0},null,null,{"$f":"Working!$T10","v":0},null,null,{"$f":"Working!$T15","v":0},null,null,{"$f":"Working!$T20","v":0}]
[null,{"$f":"Working!$AF5","v":"0."},null,null,{"$f":"Working!$AF10","v":"0."},null,null,{"$f":"Working!$AF15","v":"0."},null,null,{"$f":"Working!$AF20","v":"0."}]
[]
[{"$f":"Working!C6","v":"3)"},{"$f":"Working!P6","v":"0.0"},"×",{"$f":"Working!$C11","v":"8)"},{"$f":"Working!$P11","v":"0.0"},"×",{"$f":"Working!$C16","v":"13)"},{"$f":"Working!$P16","v":"0.0"},"×",{"$f":"Working!$C21","v":"18)"},{"$f":"Working!$P21","v":"0.0"},"×"]
[null,{"$f":"Working!$I6","v":11},null,null,{"$f":"Working!$I11","v":11},null,null,{"$f":"Working!$I16","v":11},null,null,{"$f":"Working!$I21","v":11}]
[null,{"$f":"Working!$S6","v":0},null,null,{"$f":"Working!$S11","v":0},null,null,{"$f":"Working!$S16","v":0},null,null,{"$f":"Working!$S21","v":0}]
[null,{"$f":"Working!$T6","v":0},null,null,{"$f":"Working!$T11","v":0},null,null,{"$f":"Working!$T16","v":0},null,null,{"$f":"Working!$T21","v":0}]
[null,{"$f":"Working!$AF6","v":"0."},null,null,{"$f":"Working!$AF11","v":"0."},null,null,{"$f":"Working!$AF16","v":"0."},null,null,{"$f":"Working!$AF21","v":"0."}]
[]
[{"$f":"Working!C7","v":"4)"},{"$f":"Working!P7","v":"0.0"},"×",{"$f":"Working!$C12","v":"9)"},{"$f":"Working!$P12","v":"0.0"},"×",{"$f":"Working!$C17","v":"14)"},{"$f":"Working!$P17","v":"0.0"},"×",{"$f":"Working!$C22","v":"19)"},{"$f":"Working!$P22","v":"0.0"},"×"]
[null,{"$f":"Working!$I7","v":11},null,null,{"$f":"Working!$I12","v":11},null,null,{"$f":"Working!$I17","v":11},null,null,{"$f":"Working!$I22","v":11}]
[null,{"$f":"Working!$S7","v":0},null,null,{"$f":"Working!$S12","v":0},null,null,{"$f":"Working!$S17","v":0},null,null,{"$f":"Working!$S22","v":0}]
[null,{"$f":"Working!$T7","v":0},null,null,{"$f":"Working!$T12","v":0},null,null,{"$f":"Working!$T17","v":0},null,null,{"$f":"Working!$T22","v":0}]
[null,{"$f":"Working!$AF7","v":"0."},null,null,{"$f":"Working!$AF12","v":"0."},null,null,{"$f":"Working!$AF17","v":"0."},null,null,{"$f":"Working!$AF22","v":"0."}]
[]
[{"$f":"Working!C8","v":"5)"},{"$f":"Working!P8","v":"0.0"},"×",{"$f":"Working!$C13","v":"10)"},{"$f":"Working!$P13","v":"0.0"},"×",{"$f":"Working!$C18","v":"15)"},{"$f":"Working!$P18","v":"0.0"},"×",{"$f":"Working!$C23","v":"20)"},{"$f":"Working!$P23","v":"0.0"},"×"]
[null,{"$f":"Working!$I8","v":11},null,null,{"$f":"Working!$I13","v":11},null,null,{"$f":"Working!$I18","v":11},null,null,{"$f":"Working!$I23","v":11}]
[null,{"$f":"Working!$S8","v":0},null,null,{"$f":"Working!$S13","v":0},null,null,{"$f":"Working!$S18","v":0},null,null,{"$f":"Working!$S23","v":0}]
[null,{"$f":"Working!$T8","v":0},null,null,{"$f":"Working!$T13","v":0},null,null,{"$f":"Working!$T18","v":0},null,null,{"$f":"Working!$T23","v":0}]
[null,{"$f":"Working!$AF8","v":"0."},null,null,{"$f":"Working!$AF13","v":"0."},null,null,{"$f":"Working!$AF18","v":"0."},null,null,{"$f":"Working!$AF23","v":"0."}]

{"sheet":"Working","index":3,"n_rows":23,"n_cols":32,"rows_kept":23,"cut":false,"hidden":true,"merged":[[1,14,1,19]]}
[{"$f":"INT(900*RAND()+100)","v":362},{"$f":"TEXT(1,A1)","v":"362"},"LMA-"]
[null,null,null,null,null,null,null,null,null,null,null,null,null,null,"Numbers"]
[null,null,null,null,null,"Multiplier",null,null,null,"Multiplicand"]
[1,")",{"$f":"CONCATENATE(A4,B4)","v":"1)"},{"$f":"INT((Values!$F$13*RAND()+1))","v":1},{"$f":"INT((Values!$F$13*RAND()+1))","v":1},{"$f":"10*D4+E4","v":11},{"$f":"INT(2*RAND()+1)","v":1},{"$f":"INT(3*RAND()+3)","v":5},{"$f":"F4","v":11},{"$f":"IF(Values!$F$18=1,INT((10^H4-10^(H4-1))*RAND()+(10^(H4-1))),INT((10^(Values!$F$18)-10^(Values!$F$18-1))*RAND()+(10^(Values!$F$18-1))))","v":0},{"$f":"F4*J4","v":0},{"$f":"LEN(K4-1)","v":2},{"$f":"LEN(J4)","v":1},{"$f":"RANDBETWEEN(1,M4)","v":1},{"$f":"REPLACE(J4,N4,0,\".\")","v":".0"},{"$f":"IF(LEFT(O4,1)=\".\",CONCATENATE(\"0\",O4),O4)","v":"0.0"},{"$f":"RIGHT(F4,1)","v":"1"},{"$f":"10*LEFT(F4,1)","v":10},{"$f":"J4*Q4","v":0},{"$f":"J4*R4","v":0},null,{"$f":"K4","v":0},{"$f":"P4","v":"0.0"},{"$f":"O4*I4","v":0},{"$f":"INT(X4)","v":0},{"$f":"IF(Y4=X4,\"INT\",\"\")","v":"INT"},{"$f":"IF(Y4<>X4,FIND(\".\",X4),AB4+1)","v":2},{"$f":"LEN(X4)","v":1},{"$f":"IF(Y4=X4,L4-AB4,L4-AB4+1)","v":1},{"$f":"IF(AC4=1,\"0\",IF(AC4=2,\"00\",IF(AC4=3,\"000\",IF(AC4=4,\"0000\",IF(AC4=5,\"00000\",IF(AC4=6,\"000000\",IF(AC4=7,\"0000000\",\"No\")))))))","v":"0"},{"$f":"IF(AC4=0,X4,CONCATENATE(X4,AD4))","v":"00"},{"$f":"REPLACE(K4,AA4,0,\".\")","v":"0."}]
[2,")",{"$f":"CONCATENATE(A5,B5)","v":"2)"},{"$f":"INT((Values!$F$13*RAND()+1))","v":1},{"$f":"INT((Values!$F$13*RAND()+1))","v":1},{"$f":"10*D5+E5","v":11},{"$f":"INT(2*RAND()+1)","v":2},{"$f":"INT(3*RAND()+3)","v":5},{"$f":"F5","v":11},{"$f":"IF(Values!$F$18=1,INT((10^H5-10^(H5-1))*RAND()+(10^(H5-1))),INT((10^(Values!$F$18)-10^(Values!$F$18-1))*RAND()+(10^(Values!$F$18-1))))","v":0},{"$f":"F5*J5","v":0},{"$f":"LEN(K5-1)","v":2},{"$f":"LEN(J5)","v":1},{"$f":"RANDBETWEEN(1,M5)","v":1},{"$f":"REPLACE(J5,N5,0,\".\")","v":".0"},{"$f":"IF(LEFT(O5,1)=\".\",CONCATENATE(\"0\",O5),O5)","v":"0.0"},{"$f":"RIGHT(F5,1)","v":"1"},{"$f":"10*LEFT(F5,1)","v":10},{"$f":"J5*Q5","v":0},{"$f":"J5*R5","v":0},null,{"$f":"K5","v":0},{"$f":"P5","v":"0.0"},{"$f":"O5*I5","v":0},{"$f":"INT(X5)","v":0},{"$f":"IF(Y5=X5,\"INT\",\"\")","v":"INT"},{"$f":"IF(Y5<>X5,FIND(\".\",X5),AB5+1)","v":2},{"$f":"LEN(X5)","v":1},{"$f":"IF(Y5=X5,L5-AB5,L5-AB5+1)","v":1},{"$f":"IF(AC5=1,\"0\",IF(AC5=2,\"00\",IF(AC5=3,\"000\",IF(AC5=4,\"0000\",IF(AC5=5,\"00000\",IF(AC5=6,\"000000\",IF(AC5=7,\"0000000\",\"No\")))))))","v":"0"},{"$f":"IF(AC5=0,X5,CONCATENATE(X5,AD5))","v":"00"},{"$f":"REPLACE(K5,AA5,0,\".\")","v":"0."}]
[3,")","3)",{"$f":"INT((Values!$F$13*RAND()+1))","v":1},{"$f":"INT((Values!$F$13*RAND()+1))","v":1},11,1,5,11,{"$f":"IF(Values!$F$18=1,INT((10^H6-10^(H6-1))*RAND()+(10^(H6-1))),INT((10^(Values!$F$18)-10^(Values!$F$18-1))*RAND()+(10^(Values!$F$18-1))))","v":0},0,2,1,1,".0","0.0",{"$f":"RIGHT(F6,1)","v":"1"},{"$f":"10*LEFT(F6,1)","v":10},{"$f":"J6*Q6","v":0},{"$f":"J6*R6","v":0},null,{"$f":"K6","v":0},"0.0",{"$f":"O6*I6","v":0},0,"INT",2,1,{"$f":"IF(Y6=X6,L6-AB6,L6-AB6+1)","v":1},"0","00",{"$f":"REPLACE(K6,AA6,0,\".\")","v":"0."}]
[4,")","4)",{"$f":"INT((Values!$F$13*RAND()+1))","v":1},{"$f":"INT((Values!$F$13*RAND()+1))","v":1},11,2,5,11,{"$f":"IF(Values!$F$18=1,INT((10^H7-10^(H7-1))*RAND()+(10^(H7-1))),INT((10^(Values!$F$18)-10^(Values!$F$18-1))*RAND()+(10^(Values!$F$18-1))))","v":0},0,2,1,1,".0","0.0",{"$f":"RIGHT(F7,1)","v":"1"},{"$f":"10*LEFT(F7,1)","v":10},{"$f":"J7*Q7","v":0},{"$f":"J7*R7","v":0},null,{"$f":"K7","v":0},"0.0",{"$f":"O7*I7","v":0},0,"INT",2,1,{"$f":"IF(Y7=X7,L7-AB7,L7-AB7+1)","v":1},"0","00",{"$f":"REPLACE(K7,AA7,0,\".\")","v":"0."}]
[5,")","5)",{"$f":"INT((Values!$F$13*RAND()+1))","v":1},{"$f":"INT((Values!$F$13*RAND()+1))","v":1},11,1,5,11,{"$f":"IF(Values!$F$18=1,INT((10^H8-10^(H8-1))*RAND()+(10^(H8-1))),INT((10^(Values!$F$18)-10^(Values!$F$18-1))*RAND()+(10^(Values!$F$18-1))))","v":0},0,2,1,1,".0","0.0",{"$f":"RIGHT(F8,1)","v":"1"},{"$f":"10*LEFT(F8,1)","v":10},{"$f":"J8*Q8","v":0},{"$f":"J8*R8","v":0},null,{"$f":"K8","v":0},"0.0",{"$f":"O8*I8","v":0},0,"INT",2,1,{"$f":"IF(Y8=X8,L8-AB8,L8-AB8+1)","v":1},"0","00",{"$f":"REPLACE(K8,AA8,0,\".\")","v":"0."}]
[6,")","6)",{"$f":"INT((Values!$F$13*RAND()+1))","v":1},{"$f":"INT((Values!$F$13*RAND()+1))","v":1},11,1,5,11,{"$f":"IF(Values!$F$18=1,INT((10^H9-10^(H9-1))*RAND()+(10^(H9-1))),INT((10^(Values!$F$18)-10^(Values!$F$18-1))*RAND()+(10^(Values!$F$18-1))))","v":0},0,2,1,1,".0","0.0",{"$f":"RIGHT(F9,1)","v":"1"},{"$f":"10*LEFT(F9,1)","v":10},{"$f":"J9*Q9","v":0},{"$f":"J9*R9","v":0},null,{"$f":"K9","v":0},"0.0",{"$f":"O9*I9","v":0},0,"INT",2,1,{"$f":"IF(Y9=X9,L9-AB9,L9-AB9+1)","v":1},"0","00",{"$f":"REPLACE(K9,AA9,0,\".\")","v":"0."}]
[7,")","7)",{"$f":"INT((Values!$F$13*RAND()+1))","v":1},{"$f":"INT((Values!$F$13*RAND()+1))","v":1},11,1,5,11,{"$f":"IF(Values!$F$18=1,INT((10^H10-10^(H10-1))*RAND()+(10^(H10-1))),INT((10^(Values!$F$18)-10^(Values!$F$18-1))*RAND()+(10^(Values!$F$18-1))))","v":0},0,2,1,1,".0","0.0",{"$f":"RIGHT(F10,1)","v":"1"},{"$f":"10*LEFT(F10,1)","v":10},{"$f":"J10*Q10","v":0},{"$f":"J10*R10","v":0},null,{"$f":"K10","v":0},"0.0",{"$f":"O10*I10","v":0},0,"INT",2,1,{"$f":"IF(Y10=X10,L10-AB10,L10-AB10+1)","v":1},"0","00",{"$f":"REPLACE(K10,AA10,0,\".\")","v":"0."}]
[8,")","8)",{"$f":"INT((Values!$F$13*RAND()+1))","v":1},{"$f":"INT((Values!$F$13*RAND()+1))","v":1},11,2,4,11,{"$f":"IF(Values!$F$18=1,INT((10^H11-10^(H11-1))*RAND()+(10^(H11-1))),INT((10^(Values!$F$18)-10^(Values!$F$18-1))*RAND()+(10^(Values!$F$18-1))))","v":0},0,2,1,1,".0","0.0",{"$f":"RIGHT(F11,1)","v":"1"},{"$f":"10*LEFT(F11,1)","v":10},{"$f":"J11*Q11","v":0},{"$f":"J11*R11","v":0},null,{"$f":"K11","v":0},"0.0",{"$f":"O11*I11","v":0},0,"INT",2,1,{"$f":"IF(Y11=X11,L11-AB11,L11-AB11+1)","v":1},"0","00",{"$f":"REPLACE(K11,AA11,0,\".\")","v":"0."}]
[9,")","9)",{"$f":"INT((Values!$F$13*RAND()+1))","v":1},{"$f":"INT((Values!$F$13*RAND()+1))","v":1},11,2,3,11,{"$f":"IF(Values!$F$18=1,INT((10^H12-10^(H12-1))*RAND()+(10^(H12-1))),INT((10^(Values!$F$18)-10^(Values!$F$18-1))*RAND()+(10^(Values!$F$18-1))))","v":0},0,2,1,1,".0","0.0",{"$f":"RIGHT(F12,1)","v":"1"},{"$f":"10*LEFT(F12,1)","v":10},{"$f":"J12*Q12","v":0},{"$f":"J12*R12","v":0},null,{"$f":"K12","v":0},"0.0",{"$f":"O12*I12","v":0},0,"INT",2,1,{"$f":"IF(Y12=X12,L12-AB12,L12-AB12+1)","v":1},"0","00",{"$f":"REPLACE(K12,AA12,0,\".\")","v":"0."}]
[10,")","10)",{"$f":"INT((Values!$F$13*RAND()+1))","v":1},{"$f":"INT((Values!$F$13*RAND()+1))","v":1},11,2,5,11,{"$f":"IF(Values!$F$18=1,INT((10^H13-10^(H13-1))*RAND()+(10^(H13-1))),INT((10^(Values!$F$18)-10^(Values!$F$18-1))*RAND()+(10^(Values!$F$18-1))))","v":0},0,2,1,1,".0","0.0",{"$f":"RIGHT(F13,1)","v":"1"},{"$f":"10*LEFT(F13,1)","v":10},{"$f":"J13*Q13","v":0},{"$f":"J13*R13","v":0},null,{"$f":"K13","v":0},"0.0",{"$f":"O13*I13","v":0},0,"INT",2,1,{"$f":"IF(Y13=X13,L13-AB13,L13-AB13+1)","v":1},"0","00",{"$f":"REPLACE(K13,AA13,0,\".\")","v":"0."}]
[11,")","11)",{"$f":"INT((Values!$F$13*RAND()+1))","v":1},{"$f":"INT((Values!$F$13*RAND()+1))","v":1},11,1,5,11,{"$f":"IF(Values!$F$18=1,INT((10^H14-10^(H14-1))*RAND()+(10^(H14-1))),INT((10^(Values!$F$18)-10^(Values!$F$18-1))*RAND()+(10^(Values!$F$18-1))))","v":0},0,2,1,1,".0","0.0",{"$f":"RIGHT(F14,1)","v":"1"},{"$f":"10*LEFT(F14,1)","v":10},{"$f":"J14*Q14","v":0},{"$f":"J14*R14","v":0},null,{"$f":"K14","v":0},"0.0",{"$f":"O14*I14","v":0},0,"INT",2,1,{"$f":"IF(Y14=X14,L14-AB14,L14-AB14+1)","v":1},"0","00",{"$f":"REPLACE(K14,AA14,0,\".\")","v":"0."}]
[12,")","12)",{"$f":"INT((Values!$F$13*RAND()+1))","v":1},{"$f":"INT((Values!$F$13*RAND()+1))","v":1},11,2,5,11,{"$f":"IF(Values!$F$18=1,INT((10^H15-10^(H15-1))*RAND()+(10^(H15-1))),INT((10^(Values!$F$18)-10^(Values!$F$18-1))*RAND()+(10^(Values!$F$18-1))))","v":0},0,2,1,1,".0","0.0",{"$f":"RIGHT(F15,1)","v":"1"},{"$f":"10*LEFT(F15,1)","v":10},{"$f":"J15*Q15","v":0},{"$f":"J15*R15","v":0},null,{"$f":"K15","v":0},"0.0",{"$f":"O15*I15","v":0},0,"INT",2,1,{"$f":"IF(Y15=X15,L15-AB15,L15-AB15+1)","v":1},"0","00",{"$f":"REPLACE(K15,AA15,0,\".\")","v":"0."}]
[13,")","13)",{"$f":"INT((Values!$F$13*RAND()+1))","v":1},{"$f":"INT((Values!$F$13*RAND()+1))","v":1},11,1,4,11,{"$f":"IF(Values!$F$18=1,INT((10^H16-10^(H16-1))*RAND()+(10^(H16-1))),INT((10^(Values!$F$18)-10^(Values!$F$18-1))*RAND()+(10^(Values!$F$18-1))))","v":0},0,2,1,1,".0","0.0",{"$f":"RIGHT(F16,1)","v":"1"},{"$f":"10*LEFT(F16,1)","v":10},{"$f":"J16*Q16","v":0},{"$f":"J16*R16","v":0},null,{"$f":"K16","v":0},"0.0",{"$f":"O16*I16","v":0},0,"INT",2,1,{"$f":"IF(Y16=X16,L16-AB16,L16-AB16+1)","v":1},"0","00",{"$f":"REPLACE(K16,AA16,0,\".\")","v":"0."}]
[14,")","14)",{"$f":"INT((Values!$F$13*RAND()+1))","v":1},{"$f":"INT((Values!$F$13*RAND()+1))","v":1},11,2,5,11,{"$f":"IF(Values!$F$18=1,INT((10^H17-10^(H17-1))*RAND()+(10^(H17-1))),INT((10^(Values!$F$18)-10^(Values!$F$18-1))*RAND()+(10^(Values!$F$18-1))))","v":0},0,2,1,1,".0","0.0",{"$f":"RIGHT(F17,1)","v":"1"},{"$f":"10*LEFT(F17,1)","v":10},{"$f":"J17*Q17","v":0},{"$f":"J17*R17","v":0},null,{"$f":"K17","v":0},"0.0",{"$f":"O17*I17","v":0},0,"INT",2,1,{"$f":"IF(Y17=X17,L17-AB17,L17-AB17+1)","v":1},"0","00",{"$f":"REPLACE(K17,AA17,0,\".\")","v":"0."}]
[15,")","15)",{"$f":"INT((Values!$F$13*RAND()+1))","v":1},{"$f":"INT((Values!$F$13*RAND()+1))","v":1},11,2,3,11,{"$f":"IF(Values!$F$18=1,INT((10^H18-10^(H18-1))*RAND()+(10^(H18-1))),INT((10^(Values!$F$18)-10^(Values!$F$18-1))*RAND()+(10^(Values!$F$18-1))))","v":0},0,2,1,1,".0","0.0",{"$f":"RIGHT(F18,1)","v":"1"},{"$f":"10*LEFT(F18,1)","v":10},{"$f":"J18*Q18","v":0},{"$f":"J18*R18","v":0},null,{"$f":"K18","v":0},"0.0",{"$f":"O18*I18","v":0},0,"INT",2,1,{"$f":"IF(Y18=X18,L18-AB18,L18-AB18+1)","v":1},"0","00",{"$f":"REPLACE(K18,AA18,0,\".\")","v":"0."}]
[16,")","16)",{"$f":"INT((Values!$F$13*RAND()+1))","v":1},{"$f":"INT((Values!$F$13*RAND()+1))","v":1},11,2,5,11,{"$f":"IF(Values!$F$18=1,INT((10^H19-10^(H19-1))*RAND()+(10^(H19-1))),INT((10^(Values!$F$18)-10^(Values!$F$18-1))*RAND()+(10^(Values!$F$18-1))))","v":0},0,2,1,1,".0","0.0",{"$f":"RIGHT(F19,1)","v":"1"},{"$f":"10*LEFT(F19,1)","v":10},{"$f":"J19*Q19","v":0},{"$f":"J19*R19","v":0},null,{"$f":"K19","v":0},"0.0",{"$f":"O19*I19","v":0},0,"INT",2,1,{"$f":"IF(Y19=X19,L19-AB19,L19-AB19+1)","v":1},"0","00",{"$f":"REPLACE(K19,AA19,0,\".\")","v":"0."}]
[17,")","17)",{"$f":"INT((Values!$F$13*RAND()+1))","v":1},{"$f":"INT((Values!$F$13*RAND()+1))","v":1},11,1,5,11,{"$f":"IF(Values!$F$18=1,INT((10^H20-10^(H20-1))*RAND()+(10^(H20-1))),INT((10^(Values!$F$18)-10^(Values!$F$18-1))*RAND()+(10^(Values!$F$18-1))))","v":0},0,2,1,1,".0","0.0",{"$f":"RIGHT(F20,1)","v":"1"},{"$f":"10*LEFT(F20,1)","v":10},{"$f":"J20*Q20","v":0},{"$f":"J20*R20","v":0},null,{"$f":"K20","v":0},"0.0",{"$f":"O20*I20","v":0},0,"INT",2,1,{"$f":"IF(Y20=X20,L20-AB20,L20-AB20+1)","v":1},"0","00",{"$f":"REPLACE(K20,AA20,0,\".\")","v":"0."}]
[18,")","18)",{"$f":"INT((Values!$F$13*RAND()+1))","v":1},{"$f":"INT((Values!$F$13*RAND()+1))","v":1},11,1,3,11,{"$f":"IF(Values!$F$18=1,INT((10^H21-10^(H21-1))*RAND()+(10^(H21-1))),INT((10^(Values!$F$18)-10^(Values!$F$18-1))*RAND()+(10^(Values!$F$18-1))))","v":0},0,2,1,1,".0","0.0",{"$f":"RIGHT(F21,1)","v":"1"},{"$f":"10*LEFT(F21,1)","v":10},{"$f":"J21*Q21","v":0},{"$f":"J21*R21","v":0},null,{"$f":"K21","v":0},"0.0",{"$f":"O21*I21","v":0},0,"INT",2,1,{"$f":"IF(Y21=X21,L21-AB21,L21-AB21+1)","v":1},"0","00",{"$f":"REPLACE(K21,AA21,0,\".\")","v":"0."}]
[19,")","19)",{"$f":"INT((Values!$F$13*RAND()+1))","v":1},{"$f":"INT((Values!$F$13*RAND()+1))","v":1},11,1,5,11,{"$f":"IF(Values!$F$18=1,INT((10^H22-10^(H22-1))*RAND()+(10^(H22-1))),INT((10^(Values!$F$18)-10^(Values!$F$18-1))*RAND()+(10^(Values!$F$18-1))))","v":0},0,2,1,1,".0","0.0",{"$f":"RIGHT(F22,1)","v":"1"},{"$f":"10*LEFT(F22,1)","v":10},{"$f":"J22*Q22","v":0},{"$f":"J22*R22","v":0},null,{"$f":"K22","v":0},"0.0",{"$f":"O22*I22","v":0},0,"INT",2,1,{"$f":"IF(Y22=X22,L22-AB22,L22-AB22+1)","v":1},"0","00",{"$f":"REPLACE(K22,AA22,0,\".\")","v":"0."}]
[20,")","20)",{"$f":"INT((Values!$F$13*RAND()+1))","v":1},{"$f":"INT((Values!$F$13*RAND()+1))","v":1},11,2,4,11,{"$f":"IF(Values!$F$18=1,INT((10^H23-10^(H23-1))*RAND()+(10^(H23-1))),INT((10^(Values!$F$18)-10^(Values!$F$18-1))*RAND()+(10^(Values!$F$18-1))))","v":0},0,2,1,1,".0","0.0",{"$f":"RIGHT(F23,1)","v":"1"},{"$f":"10*LEFT(F23,1)","v":10},{"$f":"J23*Q23","v":0},{"$f":"J23*R23","v":0},null,{"$f":"K23","v":0},"0.0",{"$f":"O23*I23","v":0},0,"INT",2,1,{"$f":"IF(Y23=X23,L23-AB23,L23-AB23+1)","v":1},"0","00",{"$f":"REPLACE(K23,AA23,0,\".\")","v":"0."}]