{"text_format":"1","workbook":"xlsx","n_sheets":3,"sheets":["Worksheet","Answers","Working"],"not_rendered":{"charts":0,"images":0,"macros":1,"external_links":0,"defined_names":0,"comments":0,"pivot_tables":0},"unopened":[],"bounds":{"document_bytes":16777216,"sheet_cells":100000,"rows_first":2000,"rows_last":500,"rows_between":2000,"halvings":0,"cell_chars":16384,"cell_head_chars":4096},"cells_cut":0,"cells_raw":0,"read":"whole","date_system":"1900"}

{"sheet":"Worksheet","index":0,"n_rows":28,"n_cols":6,"rows_kept":28,"cut":false,"hidden":false,"merged":[]}
[null,null,null,"DISTRIBUTIVE PROPERTY"]
[null,null,null,null,null,{"$f":"CONCATENATE(\"Worksheet \",Working!D1,Working!B1)","v":"Worksheet DP-251"}]
["Expand the following;"]
[{"$f":"CONCATENATE(Working!A3,\")\")","v":"1)"},{"$f":"Working!AV3","v":"3k(3m + q - 5u) = "},{"$f":"CONCATENATE(Working!A28,\")\")","v":"26)"},{"$f":"Working!AV28","v":"4x(4p - 3v + 2c) = "},{"$f":"CONCATENATE(Working!A53,\")\")","v":"51)"},{"$f":"Working!AV52","v":"-5k(7g - 2u - 3g) = "}]
[{"$f":"CONCATENATE(Working!A4,\")\")","v":"2)"},{"$f":"Working!AV4","v":"3j(2b + 3i - 3n) = "},{"$f":"CONCATENATE(Working!A29,\")\")","v":"27)"},{"$f":"Working!AV29","v":"3q(9e - 6r + 2d) = "},{"$f":"CONCATENATE(Working!A54,\")\")","v":"52)"},{"$f":"Working!AV53","v":"-8i(4x - d + 3j) = "}]
[{"$f":"CONCATENATE(Working!A5,\")\")","v":"3)"},{"$f":"Working!AV5","v":"8a(9m + x - 4v) = "},{"$f":"CONCATENATE(Working!A30,\")\")","v":"28)"},{"$f":"Working!AV30","v":"8n(v - 3p - 7j) = "},{"$f":"CONCATENATE(Working!A55,\")\")","v":"53)"},{"$f":"Working!AV54","v":"-f(9b - g - 5x) = "}]
[{"$f":"CONCATENATE(Working!A6,\")\")","v":"4)"},{"$f":"Working!AV6","v":"7j(5u - e - n) = "},{"$f":"CONCATENATE(Working!A31,\")\")","v":"29)"},{"$f":"Working!AV31","v":"-5g(v + 5u + 3j) = "},{"$f":"CONCATENATE(Working!A56,\")\")","v":"54)"},{"$f":"Working!AV55","v":"-2p(k + 5j + e) = "}]
[{"$f":"CONCATENATE(Working!A7,\")\")","v":"5)"},{"$f":"Working!AV7","v":"7p(9g - 7v - 6h) = "},{"$f":"CONCATENATE(Working!A32,\")\")","v":"30)"},{"$f":"Working!AV32","v":"6o(6r + 4d + 2t) = "},{"$f":"CONCATENATE(Working!A57,\")\")","v":"55)"},{"$f":"Working!AV56","v":"7o(2i - 3p + 5k) = "}]
[{"$f":"CONCATENATE(Working!A8,\")\")","v":"6)"},{"$f":"Working!AV8","v":"4p(4n + 4g - 5w) = "},{"$f":"CONCATENATE(Working!A33,\")\")","v":"31)"},{"$f":"Working!AV33","v":"-8s(4i + 4t - 5g) = "},{"$f":"CONCATENATE(Working!A58,\")\")","v":"56)"},{"$f":"Working!AV57","v":"-6k(3f - 5p + 5f) = "}]
[{"$f":"CONCATENATE(Working!A9,\")\")","v":"7)"},{"$f":"Working!AV9","v":"3q(3g - 4h + 7m) = "},{"$f":"CONCATENATE(Working!A34,\")\")","v":"32)"},{"$f":"Working!AV34","v":"-8r(9f + 5n - 6s) = "},{"$f":"CONCATENATE(Working!A59,\")\")","v":"57)"},{"$f":"Working!AV58","v":"9j(6k + 3b - 6t) = "}]
[{"$f":"CONCATENATE(Working!A10,\")\")","v":"8)"},{"$f":"Working!AV10","v":"6c(3j + 3e - 6o) = "},{"$f":"CONCATENATE(Working!A35,\")\")","v":"33)"},{"$f":"Working!AV35","v":"5d(6v - 7k - n) = "},{"$f":"CONCATENATE(Working!A60,\")\")","v":"58)"},{"$f":"Working!AV59","v":"2a(5k + 4m + 7d) = "}]
[{"$f":"CONCATENATE(Working!A11,\")\")","v":"9)"},{"$f":"Working!AV11","v":"6l(8i + 4f - k) = "},{"$f":"CONCATENATE(Working!A36,\")\")","v":"34)"},{"$f":"Working!AV36","v":"7f(4m - e + 7q) = "},{"$f":"CONCATENATE(Working!A61,\")\")","v":"59)"},{"$f":"Working!AV60","v":"8x(5s + 4e - 3t) = "}]
[{"$f":"CONCATENATE(Working!A12,\")\")","v":"10)"},{"$f":"Working!AV12","v":"3j(6x - 4f + 3t) = "},{"$f":"CONCATENATE(Working!A37,\")\")","v":"35)"},{"$f":"Working!AV37","v":"3q(4x - 4d - 6k) = "},{"$f":"CONCATENATE(Working!A62,\")\")","v":"60)"},{"$f":"Working!AV61","v":"-3n(v - 4m - 6r) = "}]
[{"$f":"CONCATENATE(Working!A13,\")\")","v":"11)"},{"$f":"Working!AV13","v":"-4a(4r - 6t + j) = "},{"$f":"CONCATENATE(Working!A38,\")\")","v":"36)"},{"$f":"Working!AV38","v":"6v(8b + 3d + 3a) = "},{"$f":"CONCATENATE(Working!A63,\")\")","v":"61)"},{"$f":"Working!AV62","v":"-6s(2f + 3g + j) = "}]
[{"$f":"CONCATENATE(Working!A14,\")\")","v":"12)"},{"$f":"Working!AV14","v":"-4k(9b + 5p + 5e) = "},{"$f":"CONCATENATE(Working!A39,\")\")","v":"37)"},{"$f":"Working!AV39","v":"7k(6m - 5p + 5a) = "},{"$f":"CONCATENATE(Working!A64,\")\")","v":"62)"},{"$f":"Working!AV63","v":"8f(3r - 7h - 7r) = "}]
[{"$f":"CONCATENATE(Working!A15,\")\")","v":"13)"},{"$f":"Working!AV15","v":"-4d(g - 3h + 2c) = "},{"$f":"CONCATENATE(Working!A40,\")\")","v":"38)"},{"$f":"Working!AV40","v":"-6b(9m + 7u + 4m) = "},{"$f":"CONCATENATE(Working!A65,\")\")","v":"63)"},{"$f":"Working!AV64","v":"7w(8d + 4x - 2g) = "}]
[{"$f":"CONCATENATE(Working!A16,\")\")","v":"14)"},{"$f":"Working!AV16","v":"-2n(4k + 3i - 2o) = "},{"$f":"CONCATENATE(Working!A41,\")\")","v":"39)"},{"$f":"Working!AV41","v":"2h(2i - r - 7p) = "},{"$f":"CONCATENATE(Working!A66,\")\")","v":"64)"},{"$f":"Working!AV65","v":"-5x(6c - 7y + 6o) = "}]
[{"$f":"CONCATENATE(Working!A17,\")\")","v":"15)"},{"$f":"Working!AV17","v":"-8m(3v + 4n - 3r) = "},{"$f":"CONCATENATE(Working!A42,\")\")","v":"40)"},{"$f":"Working!AV42","v":"-6x(3h - 6t - r) = "},{"$f":"CONCATENATE(Working!A67,\")\")","v":"65)"},{"$f":"Working!AV66","v":"7s(3o + 7f - 2m) = "}]
[{"$f":"CONCATENATE(Working!A18,\")\")","v":"16)"},{"$f":"Working!AV18","v":"-7v(3s + 4d - 4j) = "},{"$f":"CONCATENATE(Working!A43,\")\")","v":"41)"},{"$f":"Working!AV43","v":"3t(7g - 3a - 3s) = "},{"$f":"CONCATENATE(Working!A68,\")\")","v":"66)"},{"$f":"Working!AV67","v":"8q(3k + 2h - 4k) = "}]
[{"$f":"CONCATENATE(Working!A19,\")\")","v":"17)"},{"$f":"Working!AV19","v":"-2p(9i - 6a - 6f) = "},{"$f":"CONCATENATE(Working!A44,\")\")","v":"42)"},{"$f":"Working!AV44","v":"-2u(2v - 2w - 4t) = "},{"$f":"CONCATENATE(Working!A69,\")\")","v":"67)"},{"$f":"Working!AV68","v":"-2l(6n - 2a - 3m) = "}]
[{"$f":"CONCATENATE(Working!A20,\")\")","v":"18)"},{"$f":"Working!AV20","v":"-5g(2n - 7o - 6s) = "},{"$f":"CONCATENATE(Working!A45,\")\")","v":"43)"},{"$f":"Working!AV45","v":"-6t(2x + 7i - 6f) = "},{"$f":"CONCATENATE(Working!A70,\")\")","v":"68)"},{"$f":"Working!AV69","v":"-2w(5g + 7x - d) = "}]
[{"$f":"CONCATENATE(Working!A21,\")\")","v":"19)"},{"$f":"Working!AV21","v":"-9x(5s + 5i + v) = "},{"$f":"CONCATENATE(Working!A46,\")\")","v":"44)"},{"$f":"Working!AV46","v":"7o(7b + 5c - 5v) = "},{"$f":"CONCATENATE(Working!A71,\")\")","v":"69)"},{"$f":"Working!AV70","v":"-9k(2u + 2r + 3e) = "}]
[{"$f":"CONCATENATE(Working!A22,\")\")","v":"20)"},{"$f":"Working!AV22","v":"-3b(2x + o + 4a) = "},{"$f":"CONCATENATE(Working!A47,\")\")","v":"45)"},{"$f":"Working!AV47","v":"-7g(8w - 4f - 5p) = "},{"$f":"CONCATENATE(Working!A72,\")\")","v":"70)"},{"$f":"Working!AV71","v":"-7g(f + 3q + 3w) = "}]
[{"$f":"CONCATENATE(Working!A23,\")\")","v":"21)"},{"$f":"Working!AV23","v":"8t(2w - 2u + 7d) = "},{"$f":"CONCATENATE(Working!A48,\")\")","v":"46)"},{"$f":"Working!AV48","v":"-3t(n + c - p) = "},{"$f":"CONCATENATE(Working!A73,\")\")","v":"71)"},{"$f":"Working!AV72","v":"9j(i + e - 2k) = "}]
[{"$f":"CONCATENATE(Working!A24,\")\")","v":"22)"},{"$f":"Working!AV24","v":"5k(b + j - u) = "},{"$f":"CONCATENATE(Working!A49,\")\")","v":"47)"},{"$f":"Working!AV49","v":"2v(2w - 3j + 3s) = "},{"$f":"CONCATENATE(Working!A74,\")\")","v":"72)"},{"$f":"Working!AV73","v":"-2j(6m + 2s + m) = "}]
[{"$f":"CONCATENATE(Working!A25,\")\")","v":"23)"},{"$f":"Working!AV25","v":"-4g(2w + j - 6k) = "},{"$f":"CONCATENATE(Working!A50,\")\")","v":"48)"},{"$f":"Working!AV50","v":"6a(5u - 6e - p) = "},{"$f":"CONCATENATE(Working!A75,\")\")","v":"73)"},{"$f":"Working!AV74","v":"-8u(q + 7i + 3t) = "}]
[{"$f":"CONCATENATE(Working!A26,\")\")","v":"24)"},{"$f":"Working!AV26","v":"-4j(6x + 3t + p) = "},{"$f":"CONCATENATE(Working!A51,\")\")","v":"49)"},{"$f":"Working!AV51","v":"9q(8d + 2o - 2b) = "},{"$f":"CONCATENATE(Working!A76,\")\")","v":"74)"},{"$f":"Working!AV75","v":"-f(8j - 4n + 3c) = "}]
[{"$f":"CONCATENATE(Working!A27,\")\")","v":"25)"},{"$f":"Working!AV27","v":"2m(5q + 7g + 2e) = "},{"$f":"CONCATENATE(Working!A52,\")\")","v":"50)"},{"$f":"Working!AV52","v":"-5k(7g - 2u - 3g) = "},{"$f":"CONCATENATE(Working!A77,\")\")","v":"75)"},{"$f":"Working!AV76","v":"9i(2f - 3a + 5c) = "}]

{"sheet":"Answers","index":1,"n_rows":28,"n_cols":6,"rows_kept":28,"cut":false,"hidden":false,"merged":[]}
[null,null,null,"DISTRIBUTIVE PROPERTY"]
[null,null,null,"Answers",null,{"$f":"CONCATENATE(\"Worksheet \",Working!D1,Working!B1)","v":"Worksheet DP-251"}]
["Expand the following;"]
[{"$f":"CONCATENATE(Working!A3,\")\")","v":"1)"},{"$f":"Working!AW3","v":" 9km + 3kq - 15ku"},{"$f":"CONCATENATE(Working!A28,\")\")","v":"26)"},{"$f":"Working!AW28","v":"-16xp - 12xv + 8xc"},{"$f":"CONCATENATE(Working!A53,\")\")","v":"51)"},{"$f":"Working!AW52","v":"-35kg + 10ku + 15kg"}]
[{"$f":"CONCATENATE(Working!A4,\")\")","v":"2)"},{"$f":"Working!AW4","v":" 6jb + 9ji - 9jn"},{"$f":"CONCATENATE(Working!A29,\")\")","v":"27)"},{"$f":"Working!AW29","v":"-27qe - 18qr + 6qd"},{"$f":"CONCATENATE(Working!A54,\")\")","v":"52)"},{"$f":"Working!AW53","v":"-32ix + 8id - 24ij"}]
[{"$f":"CONCATENATE(Working!A5,\")\")","v":"3)"},{"$f":"Working!AW5","v":" 72am + 8ax - 32av"},{"$f":"CONCATENATE(Working!A30,\")\")","v":"28)"},{"$f":"Working!AW30","v":"-8nv - 24np - 56nj"},{"$f":"CONCATENATE(Working!A55,\")\")","v":"53)"},{"$f":"Working!AW54","v":"-9fb + fg + 5fx"}]
[{"$f":"CONCATENATE(Working!A6,\")\")","v":"4)"},{"$f":"Working!AW6","v":" 35ju - 7je - 7jn"},{"$f":"CONCATENATE(Working!A31,\")\")","v":"29)"},{"$f":"Working!AW31","v":"-5gv - 25gu - 15gj"},{"$f":"CONCATENATE(Working!A56,\")\")","v":"54)"},{"$f":"Working!AW55","v":"-2pk - 10pj - 2pe"}]
[{"$f":"CONCATENATE(Working!A7,\")\")","v":"5)"},{"$f":"Working!AW7","v":" 63pg - 49pv - 42ph"},{"$f":"CONCATENATE(Working!A32,\")\")","v":"30)"},{"$f":"Working!AW32","v":"-36or + 24od + 12ot"},{"$f":"CONCATENATE(Working!A57,\")\")","v":"55)"},{"$f":"Working!AW56","v":"-14oi - 21op + 35ok"}]
[{"$f":"CONCATENATE(Working!A8,\")\")","v":"6)"},{"$f":"Working!AW8","v":" 16pn + 16pg - 20pw"},{"$f":"CONCATENATE(Working!A33,\")\")","v":"31)"},{"$f":"Working!AW33","v":" 32si - 32st + 40sg"},{"$f":"CONCATENATE(Working!A58,\")\")","v":"56)"},{"$f":"Working!AW57","v":" 18kf + 30kp - 30kf"}]
[{"$f":"CONCATENATE(Working!A9,\")\")","v":"7)"},{"$f":"Working!AW9","v":"-9qg - 12qh + 21qm"},{"$f":"CONCATENATE(Working!A34,\")\")","v":"32)"},{"$f":"Working!AW34","v":"-72rf - 40rn + 48rs"},{"$f":"CONCATENATE(Working!A59,\")\")","v":"57)"},{"$f":"Working!AW58","v":"-54jk + 27jb - 54jt"}]
[{"$f":"CONCATENATE(Working!A10,\")\")","v":"8)"},{"$f":"Working!AW10","v":" 18cj + 18ce - 36co"},{"$f":"CONCATENATE(Working!A35,\")\")","v":"33)"},{"$f":"Working!AW35","v":"-30dv - 35dk - 5dn"},{"$f":"CONCATENATE(Working!A60,\")\")","v":"58)"},{"$f":"Working!AW59","v":"-10ak + 8am + 14ad"}]
[{"$f":"CONCATENATE(Working!A11,\")\")","v":"9)"},{"$f":"Working!AW11","v":"-48li + 24lf - 6lk"},{"$f":"CONCATENATE(Working!A36,\")\")","v":"34)"},{"$f":"Working!AW36","v":"-28fm - 7fe + 49fq"},{"$f":"CONCATENATE(Working!A61,\")\")","v":"59)"},{"$f":"Working!AW60","v":"-40xs + 32xe - 24xt"}]
[{"$f":"CONCATENATE(Working!A12,\")\")","v":"10)"},{"$f":"Working!AW12","v":"-18jx - 12jf + 9jt"},{"$f":"CONCATENATE(Working!A37,\")\")","v":"35)"},{"$f":"Working!AW37","v":" 12qx - 12qd - 18qk"},{"$f":"CONCATENATE(Working!A62,\")\")","v":"60)"},{"$f":"Working!AW61","v":" 3nv + 12nm + 18nr"}]
[{"$f":"CONCATENATE(Working!A13,\")\")","v":"11)"},{"$f":"Working!AW13","v":"-16ar + 24at - 4aj"},{"$f":"CONCATENATE(Working!A38,\")\")","v":"36)"},{"$f":"Working!AW38","v":" 48vb + 18vd + 18va"},{"$f":"CONCATENATE(Working!A63,\")\")","v":"61)"},{"$f":"Working!AW62","v":"-12sf - 18sg - 6sj"}]
[{"$f":"CONCATENATE(Working!A14,\")\")","v":"12)"},{"$f":"Working!AW14","v":" 36kb - 20kp - 20ke"},{"$f":"CONCATENATE(Working!A39,\")\")","v":"37)"},{"$f":"Working!AW39","v":" 42km - 35kp + 35ka"},{"$f":"CONCATENATE(Working!A64,\")\")","v":"62)"},{"$f":"Working!AW63","v":" 24fr - 56fh - 56fr"}]
[{"$f":"CONCATENATE(Working!A15,\")\")","v":"13)"},{"$f":"Working!AW15","v":" 4dg + 12dh - 8dc"},{"$f":"CONCATENATE(Working!A40,\")\")","v":"38)"},{"$f":"Working!AW40","v":" 54bm - 42bu - 24bm"},{"$f":"CONCATENATE(Working!A65,\")\")","v":"63)"},{"$f":"Working!AW64","v":" 56wd + 28wx - 14wg"}]
[{"$f":"CONCATENATE(Working!A16,\")\")","v":"14)"},{"$f":"Working!AW16","v":" 8nk - 6ni + 4no"},{"$f":"CONCATENATE(Working!A41,\")\")","v":"39)"},{"$f":"Working!AW41","v":"-4hi - 2hr - 14hp"},{"$f":"CONCATENATE(Working!A66,\")\")","v":"64)"},{"$f":"Working!AW65","v":"-30xc + 35xy - 30xo"}]
[{"$f":"CONCATENATE(Working!A17,\")\")","v":"15)"},{"$f":"Working!AW17","v":"-24mv - 32mn + 24mr"},{"$f":"CONCATENATE(Working!A42,\")\")","v":"40)"},{"$f":"Working!AW42","v":"-18xh + 36xt + 6xr"},{"$f":"CONCATENATE(Working!A67,\")\")","v":"65)"},{"$f":"Working!AW66","v":" 21so + 49sf - 14sm"}]
[{"$f":"CONCATENATE(Working!A18,\")\")","v":"16)"},{"$f":"Working!AW18","v":" 21vs - 28vd + 28vj"},{"$f":"CONCATENATE(Working!A43,\")\")","v":"41)"},{"$f":"Working!AW43","v":" 21tg - 9ta - 9ts"},{"$f":"CONCATENATE(Working!A68,\")\")","v":"66)"},{"$f":"Working!AW67","v":"-24qk + 16qh - 32qk"}]
[{"$f":"CONCATENATE(Working!A19,\")\")","v":"17)"},{"$f":"Working!AW19","v":"-18pi + 12pa + 12pf"},{"$f":"CONCATENATE(Working!A44,\")\")","v":"42)"},{"$f":"Working!AW44","v":" 4uv + 4uw + 8ut"},{"$f":"CONCATENATE(Working!A69,\")\")","v":"67)"},{"$f":"Working!AW68","v":"-12ln + 4la + 6lm"}]
[{"$f":"CONCATENATE(Working!A20,\")\")","v":"18)"},{"$f":"Working!AW20","v":" 10gn + 35go + 30gs"},{"$f":"CONCATENATE(Working!A45,\")\")","v":"43)"},{"$f":"Working!AW45","v":" 12tx - 42ti + 36tf"},{"$f":"CONCATENATE(Working!A70,\")\")","v":"68)"},{"$f":"Working!AW69","v":"-10wg - 14wx + 2wd"}]
[{"$f":"CONCATENATE(Working!A21,\")\")","v":"19)"},{"$f":"Working!AW21","v":"-45xs - 45xi - 9xv"},{"$f":"CONCATENATE(Working!A46,\")\")","v":"44)"},{"$f":"Working!AW46","v":"-49ob + 35oc - 35ov"},{"$f":"CONCATENATE(Working!A71,\")\")","v":"69)"},{"$f":"Working!AW70","v":"-18ku - 18kr - 27ke"}]
[{"$f":"CONCATENATE(Working!A22,\")\")","v":"20)"},{"$f":"Working!AW22","v":" 6bx - 3bo - 12ba"},{"$f":"CONCATENATE(Working!A47,\")\")","v":"45)"},{"$f":"Working!AW47","v":" 56gw + 28gf + 35gp"},{"$f":"CONCATENATE(Working!A72,\")\")","v":"70)"},{"$f":"Working!AW71","v":"-7gf - 21gq - 21gw"}]
[{"$f":"CONCATENATE(Working!A23,\")\")","v":"21)"},{"$f":"Working!AW23","v":" 16tw - 16tu + 56td"},{"$f":"CONCATENATE(Working!A48,\")\")","v":"46)"},{"$f":"Working!AW48","v":" 3tn - 3tc + 3tp"},{"$f":"CONCATENATE(Working!A73,\")\")","v":"71)"},{"$f":"Working!AW72","v":"-9ji + 9je - 18jk"}]
[{"$f":"CONCATENATE(Working!A24,\")\")","v":"22)"},{"$f":"Working!AW24","v":" 5kb + 5kj - 5ku"},{"$f":"CONCATENATE(Working!A49,\")\")","v":"47)"},{"$f":"Working!AW49","v":" 4vw - 6vj + 6vs"},{"$f":"CONCATENATE(Working!A74,\")\")","v":"72)"},{"$f":"Working!AW73","v":"-12jm - 4js - 2jm"}]
[{"$f":"CONCATENATE(Working!A25,\")\")","v":"23)"},{"$f":"Working!AW25","v":" 8gw - 4gj + 24gk"},{"$f":"CONCATENATE(Working!A50,\")\")","v":"48)"},{"$f":"Working!AW50","v":"-30au - 36ae - 6ap"},{"$f":"CONCATENATE(Working!A75,\")\")","v":"73)"},{"$f":"Working!AW74","v":"-8uq - 56ui - 24ut"}]
[{"$f":"CONCATENATE(Working!A26,\")\")","v":"24)"},{"$f":"Working!AW26","v":"-24jx - 12jt - 4jp"},{"$f":"CONCATENATE(Working!A51,\")\")","v":"49)"},{"$f":"Working!AW51","v":"-72qd + 18qo - 18qb"},{"$f":"CONCATENATE(Working!A76,\")\")","v":"74)"},{"$f":"Working!AW75","v":"-8fj + 4fn - 3fc"}]
[{"$f":"CONCATENATE(Working!A27,\")\")","v":"25)"},{"$f":"Working!AW27","v":" 10mq + 14mg + 4me"},{"$f":"CONCATENATE(Working!A52,\")\")","v":"50)"},{"$f":"Working!AW52","v":"-35kg + 10ku + 15kg"},{"$f":"CONCATENATE(Working!A77,\")\")","v":"75)"},{"$f":"Working!AW76","v":" 18if - 27ia + 45ic"}]

{"sheet":"Working","index":2,"n_rows":77,"n_cols":49,"rows_kept":77,"cut":false,"hidden":true,"merged":[]}
[{"$f":"INT(900*RAND()+100)","v":250},{"$f":"TEXT(1,A1)","v":"251"},null,"DP-",0,null,null,"aX(bY+cZ+dW) = fA+gB=hC"]
[null,"ASSCII",null,"X","ASSCII",null,"Compare with X","Y","ASSCII",null,"Compare with X","Compare with Y","Z","ASSCII",null,"Compare with X","Compare with Y","Compare with Z","W",null,null,null,"a",null,null,null,"b",null,null,null,"c",null,null,null,null,"d",null,null,"f",null,null,"g",null,null,"h"]
[1,{"$f":"INT(24*RAND()+97)","v":107},{"$f":"IF(B3=108,B3+1,B3)","v":107},{"$f":"CHAR(B3)","v":"k"},{"$f":"INT(24*RAND()+97)","v":109},{"$f":"IF(E3=108,E3+1,E3)","v":109},{"$f":"IF(F3=C3,F3+1,F3)","v":109},{"$f":"CHAR(G3)","v":"m"},{"$f":"INT(24*RAND()+97)","v":113},{"$f":"IF(I3=108,I3+1,I3)","v":113},{"$f":"IF(J3=B3, J3+1,J3)","v":113},{"$f":"IF(J3=G3, J3+1,IF(J3=B3,J3+1,J3))","v":113},{"$f":"CHAR(L3)","v":"q"},{"$f":"INT(24*RAND()+97)","v":117},{"$f":"IF(N3=108,N3+1,N3)","v":117},{"$f":"IF(O3=B3, O3+1,IF(O3=G3,O3+1,O3))","v":117},{"$f":"IF(O3=G3, O3+1,IF(O3=B3,O3+1,O3))","v":117},{"$f":"IF(O3=L3, O3+1,IF(O3=B3,O3+1,O3))","v":117},{"$f":"CHAR(R3)","v":"u"},{"$f":"INT(8*RAND()+2)","v":3},0,{"$f":"IF(U3=0,\"\",\"-\")","v":""},{"$f":"IF(T3=1,\"\",TEXT(T3,T3))","v":"3"},{"$f":"INT(9*RAND()+1)","v":3},0,{"$f":"IF(Y3=0,\"\",\"-\")","v":""},{"$f":"IF(X3=1,\"\",TEXT(X3,X3))","v":"3"},{"$f":"INT(7*RAND()+1)","v":1},0,{"$f":"IF(AC3=0,\" + \",\" - \")","v":" + "},{"$f":"IF(AB3=1,\"\",TEXT(AB3,AB3))","v":""},{"$f":"INT(7*RAND()+1)","v":5},{"$f":"AF3","v":5},1,{"$f":"IF(AH3=0,\" + \",\" - \")","v":" - "},{"$f":"IF(AF3=1,\"\",TEXT(AF3,AF3))","v":"5"},null,{"$f":"T3*X3","v":9},{"$f":"IF(AL3=1,\"\",TEXT($E$1,AL3))","v":"9"},{"$f":"IF((U3+Y3)=1,\"-\",\" \")","v":" "},{"$f":"T3*AB3","v":3},{"$f":"IF(AO3=1,\"\",TEXT($E$1,AO3))","v":"3"},{"$f":"IF((U3+AC3)=1,\" - \",\" + \")","v":" + "},{"$f":"T3*AF3","v":15},{"$f":"IF(AR3=1,\"\",TEXT($E$1,AR3))","v":"15"},{"$f":"IF((U3+AH3)=1,\" - \",\" + \")","v":" - "},null,{"$f":"CONCATENATE(V3,W3,D3,\"(\",AA3,H3,AD3,AE3,M3,AI3,AJ3,S3,\") = \")","v":"3k(3m + q - 5u) = "},{"$f":"CONCATENATE(AN3,AM3,D3,H3,AQ3,AP3,D3,M3,AT3,AS3,D3,S3)","v":" 9km + 3kq - 15ku"}]
[2,{"$f":"INT(24*RAND()+97)","v":106},{"$f":"IF(B4=108,B4+1,B4)","v":106},{"$f":"CHAR(B4)","v":"j"},{"$f":"INT(24*RAND()+97)","v":98},{"$f":"IF(E4=108,E4+1,E4)","v":98},{"$f":"IF(F4=C4,F4+1,F4)","v":98},{"$f":"CHAR(G4)","v":"b"},{"$f":"INT(24*RAND()+97)","v":105},{"$f":"IF(I4=108,I4+1,I4)","v":105},{"$f":"IF(J4=B4, J4+1,J4)","v":105},{"$f":"IF(J4=G4, J4+1,IF(J4=B4,J4+1,J4))","v":105},{"$f":"CHAR(L4)","v":"i"},{"$f":"INT(24*RAND()+97)","v":110},{"$f":"IF(N4=108,N4+1,N4)","v":110},{"$f":"IF(O4=B4, O4+1,IF(O4=G4,O4+1,O4))","v":110},{"$f":"IF(O4=G4, O4+1,IF(O4=B4,O4+1,O4))","v":110},{"$f":"IF(O4=L4, O4+1,IF(O4=B4,O4+1,O4))","v":110},{"$f":"CHAR(R4)","v":"n"},{"$f":"INT(8*RAND()+2)","v":3},0,"",{"$f":"IF(T4=1,\"\",TEXT(T4,T4))","v":"3"},2,0,{"$f":"IF(Y4=0,\"\",\"-\")","v":""},{"$f":"IF(X4=1,\"\",TEXT(X4,X4))","v":"2"},{"$f":"INT(7*RAND()+1)","v":3},0,{"$f":"IF(AC4=0,\" + \",\" - \")","v":" + "},{"$f":"IF(AB4=1,\"\",TEXT(AB4,AB4))","v":"3"},{"$f":"INT(7*RAND()+1)","v":3},{"$f":"AF4","v":3},1,{"$f":"IF(AH4=0,\" + \",\" - \")","v":" - "},{"$f":"IF(AF4=1,\"\",TEXT(AF4,AF4))","v":"3"},null,6,{"$f":"IF(AL4=1,\"\",TEXT($E$1,AL4))","v":"6"},{"$f":"IF((U4+Y4)=1,\"-\",\" \")","v":" "},{"$f":"T4*AB4","v":9},{"$f":"IF(AO4=1,\"\",TEXT($E$1,AO4))","v":"9"},{"$f":"IF((U4+AC4)=1,\" - \",\" + \")","v":" + "},{"$f":"T4*AF4","v":9},{"$f":"IF(AR4=1,\"\",TEXT($E$1,AR4))","v":"9"},{"$f":"IF((U4+AH4)=1,\" - \",\" + \")","v":" - "},null,{"$f":"CONCATENATE(V4,W4,D4,\"(\",AA4,H4,AD4,AE4,M4,AI4,AJ4,S4,\") = \")","v":"3j(2b + 3i - 3n) = "},{"$f":"CONCATENATE(AN4,AM4,D4,H4,AQ4,AP4,D4,M4,AT4,AS4,D4,S4)","v":" 6jb + 9ji - 9jn"}]
[3,97,97,"a",109,109,109,"m",120,120,120,120,"x",118,118,118,118,118,"v",8,0,"","8",9,0,"","9",1,0," + ","",4,4,{"$f":"INT(2*RAND())","v":1}," - ","4",null,72,"72"," ",8,"8"," + ",32,"32"," - ",null,"8a(9m + x - 4v) = "," 72am + 8ax - 32av"]
[4,106,106,"j",117,117,117,"u",101,101,101,101,"e",110,110,110,110,110,"n",7,0,"","7",5,0,"","5",1,1," - ","",1,1,1," - ","",null,35,"35"," ",7,"7"," - ",7,"7"," - ",null,"7j(5u - e - n) = "," 35ju - 7je - 7jn"]
[5,112,112,"p",103,103,103,"g",118,118,118,118,"v",104,104,104,104,104,"h",7,0,"","7",9,0,"","9",7,1," - ","7",6,6,1," - ","6",null,63,"63"," ",49,"49"," - ",42,"42"," - ",null,"7p(9g - 7v - 6h) = "," 63pg - 49pv - 42ph"]
[6,112,112,"p",110,110,110,"n",103,103,103,103,"g",119,119,119,119,119,"w",4,0,"","4",4,{"$f":"INT(2*RAND())","v":0},"","4",4,{"$f":"INT(2*RAND())","v":0}," + ","4",5,5,1," - ","5",null,16,"16"," ",16,"16"," + ",20,"20"," - ",null,"4p(4n + 4g - 5w) = "," 16pn + 16pg - 20pw"]
[7,113,113,"q",103,103,103,"g",103,103,103,104,"h",109,109,109,109,109,"m",3,0,"","3",3,1,"-","3",4,1," - ","4",7,7,0," + ","7",null,9,"9","-",12,"12"," - ",21,"21"," + ",null,"3q(3g - 4h + 7m) = ","-9qg - 12qh + 21qm"]
[8,99,99,"c",106,106,106,"j",101,101,101,101,"e",111,111,111,111,111,"o",6,0,"","6",3,0,"","3",3,0," + ","3",6,6,1," - ","6",null,18,"18"," ",18,"18"," + ",36,"36"," - ",null,"6c(3j + 3e - 6o) = "," 18cj + 18ce - 36co"]
[9,108,109,"l",105,105,105,"i",102,102,102,102,"f",107,107,107,107,107,"k",6,0,"","6",8,1,"-","8",4,0," + ","4",1,1,1," - ","",null,48,"48","-",24,"24"," + ",6,"6"," - ",null,"6l(8i + 4f - k) = ","-48li + 24lf - 6lk"]
[10,106,106,"j",120,120,120,"x",102,102,102,102,"f",116,116,116,116,116,"t",3,0,"","3",6,1,"-","6",4,1," - ","4",3,3,0," + ","3",null,18,"18","-",12,"12"," - ",9,"9"," + ",null,"3j(6x - 4f + 3t) = ","-18jx - 12jf + 9jt"]
[11,97,97,"a",114,114,114,"r",116,116,116,116,"t",106,106,106,106,106,"j",4,1,"-","4",4,0,"","4",6,1," - ","6",1,1,0," + ","",null,16,"16","-",24,"24"," + ",4,"4"," - ",null,"-4a(4r - 6t + j) = ","-16ar + 24at - 4aj"]
[12,107,107,"k",98,98,98,"b",112,112,112,112,"p",101,101,101,101,101,"e",4,1,"-","4",9,1,"-","9",5,0," + ","5",5,5,0," + ","5",null,36,"36"," ",20,"20"," - ",20,"20"," - ",null,"-4k(9b + 5p + 5e) = "," 36kb - 20kp - 20ke"]
[13,100,100,"d",103,103,103,"g",103,103,103,104,"h",99,99,99,99,99,"c",4,1,"-","4",1,1,"-","",3,1," - ","3",2,2,0," + ","2",null,4,"4"," ",12,"12"," + ",8,"8"," - ",null,"-4d(g - 3h + 2c) = "," 4dg + 12dh - 8dc"]
[14,110,110,"n",107,107,107,"k",105,105,105,105,"i",111,111,111,111,111,"o",2,1,"-","2",4,1,"-","4",3,0," + ","3",2,2,1," - ","2",null,8,"8"," ",6,"6"," - ",4,"4"," + ",null,"-2n(4k + 3i - 2o) = "," 8nk - 6ni + 4no"]
[15,109,109,"m",118,118,118,"v",110,110,110,110,"n",114,114,114,114,114,"r",8,1,"-","8",3,0,"","3",4,0," + ","4",3,3,1," - ","3",null,24,"24","-",32,"32"," - ",24,"24"," + ",null,"-8m(3v + 4n - 3r) = ","-24mv - 32mn + 24mr"]
[16,118,118,"v",115,115,115,"s",100,100,100,100,"d",106,106,106,106,106,"j",7,1,"-","7",3,1,"-","3",4,0," + ","4",4,4,1," - ","4",null,21,"21"," ",28,"28"," - ",28,"28"," + ",null,"-7v(3s + 4d - 4j) = "," 21vs - 28vd + 28vj"]
[17,112,112,"p",105,105,105,"i",97,97,97,97,"a",102,102,102,102,102,"f",2,1,"-","2",9,0,"","9",6,1," - ","6",6,6,1," - ","6",null,18,"18","-",12,"12"," + ",12,"12"," + ",null,"-2p(9i - 6a - 6f) = ","-18pi + 12pa + 12pf"]
[18,103,103,"g",110,110,110,"n",110,110,110,111,"o",115,115,115,115,115,"s",5,1,"-","5",2,1,"-","2",7,1," - ","7",6,6,1," - ","6",null,10,"10"," ",35,"35"," + ",30,"30"," + ",null,"-5g(2n - 7o - 6s) = "," 10gn + 35go + 30gs"]
[19,120,120,"x",115,115,115,"s",105,105,105,105,"i",118,118,118,118,118,"v",9,1,"-","9",5,0,"","5",5,0," + ","5",1,1,0," + ","",null,45,"45","-",45,"45"," - ",9,"9"," - ",null,"-9x(5s + 5i + v) = ","-45xs - 45xi - 9xv"]
[20,98,98,"b",120,120,120,"x",111,111,111,111,"o",97,97,97,97,97,"a",3,1,"-","3",2,1,"-","2",1,0," + ","",4,4,0," + ","4",null,6,"6"," ",3,"3"," - ",12,"12"," - ",null,"-3b(2x + o + 4a) = "," 6bx - 3bo - 12ba"]
[21,116,116,"t",119,119,119,"w",116,116,117,117,"u",100,100,100,100,100,"d",8,{"$f":"INT(2*RAND())","v":0},"","8",2,0,"","2",2,1," - ","2",7,7,0," + ","7",null,16,"16"," ",16,"16"," - ",56,"56"," + ",null,"8t(2w - 2u + 7d) = "," 16tw - 16tu + 56td"]
[22,107,107,"k",98,98,98,"b",106,106,106,106,"j",117,117,117,117,117,"u",5,0,"","5",1,0,"","",1,0," + ","",1,1,1," - ","",null,5,"5"," ",5,"5"," + ",5,"5"," - ",null,"5k(b + j - u) = "," 5kb + 5kj - 5ku"]
[23,103,103,"g",119,119,119,"w",106,106,106,106,"j",106,106,106,106,107,"k",4,1,"-","4",2,1,"-","2",1,0," + ","",6,6,1," - ","6",null,8,"8"," ",4,"4"," - ",24,"24"," + ",null,"-4g(2w + j - 6k) = "," 8gw - 4gj + 24gk"]
[24,106,106,"j",120,120,120,"x",116,116,116,116,"t",112,112,112,112,112,"p",4,1,"-","4",6,0,"","6",3,0," + ","3",1,1,0," + ","",null,24,"24","-",12,"12"," - ",4,"4"," - ",null,"-4j(6x + 3t + p) = ","-24jx - 12jt - 4jp"]
[25,109,109,"m",113,113,113,"q",103,103,103,103,"g",101,101,101,101,101,"e",2,0,"","2",5,0,"","5",7,0," + ","7",2,2,0," + ","2",null,10,"10"," ",14,"14"," + ",4,"4"," + ",null,"2m(5q + 7g + 2e) = "," 10mq + 14mg + 4me"]
[26,120,120,"x",112,112,112,"p",118,118,118,118,"v",99,99,99,99,99,"c",4,0,"","4",4,1,"-","4",3,1," - ","3",2,2,0," + ","2",null,16,"16","-",12,"12"," - ",8,"8"," + ",null,"4x(4p - 3v + 2c) = ","-16xp - 12xv + 8xc"]
[27,113,113,"q",101,101,101,"e",113,113,114,114,"r",100,100,100,100,100,"d",3,0,"","3",9,1,"-","9",6,1," - ","6",2,2,0," + ","2",null,27,"27","-",18,"18"," - ",6,"6"," + ",null,"3q(9e - 6r + 2d) = ","-27qe - 18qr + 6qd"]
[28,110,110,"n",118,118,118,"v",112,112,112,112,"p",106,106,106,106,106,"j",8,0,"","8",1,1,"-","",3,1," - ","3",7,7,1," - ","7",null,8,"8","-",24,"24"," - ",56,"56"," - ",null,"8n(v - 3p - 7j) = ","-8nv - 24np - 56nj"]
[29,103,103,"g",118,118,118,"v",117,117,117,117,"u",106,106,106,106,106,"j",5,1,"-","5",1,0,"","",5,0," + ","5",3,3,0," + ","3",null,5,"5","-",25,"25"," - ",15,"15"," - ",null,"-5g(v + 5u + 3j) = ","-5gv - 25gu - 15gj"]
[30,111,111,"o",114,114,114,"r",100,100,100,100,"d",116,116,116,116,116,"t",6,0,"","6",6,1,"-","6",4,0," + ","4",2,2,0," + ","2",null,36,"36","-",24,"24"," + ",12,"12"," + ",null,"6o(6r + 4d + 2t) = ","-36or + 24od + 12ot"]
[31,115,115,"s",105,105,105,"i",116,116,116,116,"t",103,103,103,103,103,"g",8,1,"-","8",4,1,"-","4",4,0," + ","4",5,5,1," - ","5",null,32,"32"," ",32,"32"," - ",40,"40"," + ",null,"-8s(4i + 4t - 5g) = "," 32si - 32st + 40sg"]
[32,114,114,"r",102,102,102,"f",110,110,110,110,"n",115,115,115,115,115,"s",8,1,"-","8",9,0,"","9",5,0," + ","5",6,6,1," - ","6",null,72,"72","-",40,"40"," - ",48,"48"," + ",null,"-8r(9f + 5n - 6s) = ","-72rf - 40rn + 48rs"]
[33,100,100,"d",118,118,118,"v",107,107,107,107,"k",110,110,110,110,110,"n",5,0,{"$f":"IF(U35=0,\"\",\"-\")","v":""},"5",{"$f":"INT(9*RAND()+1)","v":6},1,"-","6",7,{"$f":"INT(2*RAND())","v":1}," - ","7",1,1,1," - ","",null,{"$f":"T35*X35","v":30},"30","-",35,"35"," - ",5,"5"," - ",null,"5d(6v - 7k - n) = ","-30dv - 35dk - 5dn"]
[34,102,102,"f",109,109,109,"m",101,101,101,101,"e",113,113,113,113,113,"q",7,0,"","7",4,1,"-","4",1,1," - ","",7,7,0," + ","7",null,28,"28","-",7,"7"," - ",49,"49"," + ",null,"7f(4m - e + 7q) = ","-28fm - 7fe + 49fq"]
[35,113,113,"q",120,120,120,"x",100,100,100,100,"d",107,107,107,107,107,"k",3,0,"","3",4,0,"","4",4,1," - ","4",6,6,1," - ","6",null,12,"12"," ",12,"12"," - ",18,"18"," - ",null,"3q(4x - 4d - 6k) = "," 12qx - 12qd - 18qk"]
[36,118,118,"v",98,98,98,"b",100,100,100,100,"d",97,97,97,97,97,"a",6,0,"","6",8,0,"","8",3,0," + ","3",3,3,0," + ","3",null,48,"48"," ",18,"18"," + ",18,"18"," + ",null,"6v(8b + 3d + 3a) = "," 48vb + 18vd + 18va"]
[37,107,107,"k",108,109,109,"m",112,112,112,112,"p",97,97,97,97,97,"a",7,0,"","7",6,0,"","6",5,1," - ","5",5,5,0," + ","5",null,42,"42"," ",35,"35"," - ",35,"35"," + ",null,"7k(6m - 5p + 5a) = "," 42km - 35kp + 35ka"]
[38,98,98,"b",108,109,109,"m",117,117,117,117,"u",109,109,110,110,109,"m",6,1,"-","6",9,{"$f":"INT(2*RAND())","v":1},"-","9",7,0," + ","7",4,4,0," + ","4",null,54,"54"," ",42,"42"," - ",24,"24"," - ",null,"-6b(9m + 7u + 4m) = "," 54bm - 42bu - 24bm"]
[39,104,104,"h",105,105,105,"i",114,114,114,114,"r",112,112,112,112,112,"p",2,0,"","2",2,1,"-","2",1,1," - ","",7,7,1," - ","7",null,4,"4","-",2,"2"," - ",14,"14"," - ",null,"2h(2i - r - 7p) = ","-4hi - 2hr - 14hp"]
[40,120,120,"x",104,104,104,"h",116,116,116,116,"t",114,114,114,114,114,"r",6,1,"-","6",3,0,"","3",6,1," - ","6",1,1,1," - ","",null,18,"18","-",36,"36"," + ",6,"6"," + ",null,"-6x(3h - 6t - r) = ","-18xh + 36xt + 6xr"]
[41,116,116,"t",103,103,103,"g",97,97,97,97,"a",115,115,115,115,115,"s",3,0,"","3",7,0,"","7",3,1," - ","3",3,3,1," - ","3",null,21,"21"," ",9,"9"," - ",9,"9"," - ",null,"3t(7g - 3a - 3s) = "," 21tg - 9ta - 9ts"]
[42,117,117,"u",118,118,118,"v",118,118,118,119,"w",116,116,116,116,116,"t",2,1,"-","2",2,1,"-","2",2,1," - ","2",4,4,1," - ","4",null,4,"4"," ",4,"4"," + ",8,"8"," + ",null,"-2u(2v - 2w - 4t) = "," 4uv + 4uw + 8ut"]
[43,116,116,"t",120,120,120,"x",105,105,105,105,"i",102,102,102,102,102,"f",6,1,"-","6",2,1,"-","2",7,0," + ","7",6,6,1," - ","6",null,12,"12"," ",42,"42"," - ",36,"36"," + ",null,"-6t(2x + 7i - 6f) = "," 12tx - 42ti + 36tf"]
[44,111,111,"o",98,98,98,"b",98,98,98,99,"c",118,118,118,118,118,"v",7,0,"","7",7,1,"-","7",5,0," + ","5",5,5,1," - ","5",null,49,"49","-",35,"35"," + ",35,"35"," - ",null,"7o(7b + 5c - 5v) = ","-49ob + 35oc - 35ov"]
[45,103,103,"g",119,119,119,"w",102,102,102,102,"f",112,112,112,112,112,"p",7,1,"-","7",8,1,"-","8",4,1," - ","4",5,5,1," - ","5",null,56,"56"," ",28,"28"," + ",35,"35"," + ",null,"-7g(8w - 4f - 5p) = "," 56gw + 28gf + 35gp"]
[46,116,116,"t",110,110,110,"n",99,99,99,99,"c",112,112,112,112,112,"p",3,1,"-","3",1,1,"-","",1,0," + ","",1,1,1," - ","",null,3,"3"," ",3,"3"," - ",3,"3"," + ",null,"-3t(n + c - p) = "," 3tn - 3tc + 3tp"]
[47,118,118,"v",119,119,119,"w",106,106,106,106,"j",115,115,115,115,115,"s",2,0,"","2",2,0,"","2",3,1," - ","3",3,3,0," + ","3",null,4,"4"," ",6,"6"," - ",6,"6"," + ",null,"2v(2w - 3j + 3s) = "," 4vw - 6vj + 6vs"]
[48,97,97,"a",117,117,117,"u",101,101,101,101,"e",112,112,112,112,112,"p",6,0,"","6",5,1,"-","5",6,1," - ","6",1,1,1," - ","",null,30,"30","-",36,"36"," - ",6,"6"," - ",null,"6a(5u - 6e - p) = ","-30au - 36ae - 6ap"]
[49,113,113,"q",100,100,100,"d",111,111,111,111,"o",98,98,98,98,98,"b",9,0,"","9",8,1,"-","8",2,0," + ","2",2,2,1," - ","2",null,72,"72","-",18,"18"," + ",18,"18"," - ",null,"9q(8d + 2o - 2b) = ","-72qd + 18qo - 18qb"]
[50,107,107,"k",103,103,103,"g",117,117,117,117,"u",103,103,104,104,103,"g",5,1,"-","5",7,0,"","7",2,1," - ","2",3,3,1," - ","3",null,35,"35","-",10,"10"," + ",15,"15"," + ",null,"-5k(7g - 2u - 3g) = ","-35kg + 10ku + 15kg"]
[51,105,105,"i",120,120,120,"x",100,100,100,100,"d",105,105,106,106,106,"j",{"$f":"INT(9*RAND()+1)","v":8},1,"-","8",4,0,"","4",1,1," - ","",3,3,0," + ","3",null,32,"32","-",8,"8"," + ",24,"24"," - ",null,"-8i(4x - d + 3j) = ","-32ix + 8id - 24ij"]
[52,102,102,"f",98,98,98,"b",103,103,103,103,"g",120,120,120,120,120,"x",1,1,"-","",9,0,"","9",1,1," - ","",5,5,1," - ","5",null,9,"9","-",1,""," + ",5,"5"," + ",null,"-f(9b - g - 5x) = ","-9fb + fg + 5fx"]
[53,112,112,"p",107,107,107,"k",106,106,106,106,"j",101,101,101,101,101,"e",2,{"$f":"INT(2*RAND())","v":1},"-","2",1,0,"","",5,0," + ","5",1,1,0," + ","",null,2,"2","-",10,"10"," - ",2,"2"," - ",null,"-2p(k + 5j + e) = ","-2pk - 10pj - 2pe"]
[54,111,111,"o",105,105,105,"i",111,111,112,112,"p",107,107,107,107,107,"k",7,0,"","7",2,1,"-","2",3,1," - ","3",5,5,0," + ","5",null,14,"14","-",21,"21"," - ",35,"35"," + ",null,"7o(2i - 3p + 5k) = ","-14oi - 21op + 35ok"]
[55,107,107,"k",102,102,102,"f",112,112,112,112,"p",102,102,103,103,102,"f",6,1,"-","6",3,1,"-","3",5,1," - ","5",5,5,0," + ","5",null,18,"18"," ",30,"30"," + ",30,"30"," - ",null,"-6k(3f - 5p + 5f) = "," 18kf + 30kp - 30kf"]
[56,106,106,"j",107,107,107,"k",98,98,98,98,"b",116,116,116,116,116,"t",9,0,"","9",6,1,"-","6",3,0," + ","3",6,6,1," - ","6",null,54,"54","-",27,"27"," + ",54,"54"," - ",null,"9j(6k + 3b - 6t) = ","-54jk + 27jb - 54jt"]
[57,97,97,"a",107,107,107,"k",109,109,109,109,"m",100,100,100,100,100,"d",2,0,"","2",5,1,"-","5",4,0," + ","4",7,7,0," + ","7",null,10,"10","-",8,"8"," + ",14,"14"," + ",null,"2a(5k + 4m + 7d) = ","-10ak + 8am + 14ad"]
[58,120,120,"x",115,115,115,"s",101,101,101,101,"e",116,116,116,116,116,"t",8,0,"","8",5,1,"-","5",4,0," + ","4",3,3,1," - ","3",null,40,"40","-",32,"32"," + ",24,"24"," - ",null,"8x(5s + 4e - 3t) = ","-40xs + 32xe - 24xt"]
[59,110,110,"n",118,118,118,"v",109,109,109,109,"m",114,114,114,114,114,"r",3,1,"-","3",1,1,"-","",4,1," - ","4",6,6,1," - ","6",null,3,"3"," ",12,"12"," + ",18,"18"," + ",null,"-3n(v - 4m - 6r) = "," 3nv + 12nm + 18nr"]
[60,115,115,"s",102,102,102,"f",103,103,103,103,"g",106,106,106,106,106,"j",6,1,"-","6",2,0,"","2",3,0," + ","3",1,1,0," + ","",null,12,"12","-",18,"18"," - ",6,"6"," - ",null,"-6s(2f + 3g + j) = ","-12sf - 18sg - 6sj"]
[61,102,102,"f",114,114,114,"r",104,104,104,104,"h",114,114,115,115,114,"r",8,0,"","8",3,0,"","3",7,1," - ","7",7,7,1," - ","7",null,24,"24"," ",56,"56"," - ",56,"56"," - ",null,"8f(3r - 7h - 7r) = "," 24fr - 56fh - 56fr"]
[62,119,119,"w",100,100,100,"d",120,120,120,120,"x",103,103,103,103,103,"g",7,0,"","7",8,0,"","8",4,0," + ","4",2,2,1," - ","2",null,56,"56"," ",28,"28"," + ",14,"14"," - ",null,"7w(8d + 4x - 2g) = "," 56wd + 28wx - 14wg"]
[63,120,120,"x",99,99,99,"c",120,120,121,121,"y",111,111,111,111,111,"o",5,1,"-","5",6,0,"","6",7,1," - ","7",6,6,0," + ","6",null,30,"30","-",35,"35"," + ",30,"30"," - ",null,"-5x(6c - 7y + 6o) = ","-30xc + 35xy - 30xo"]
[64,115,115,"s",111,111,111,"o",102,102,102,102,"f",108,109,109,109,109,"m",7,0,"","7",3,0,"","3",7,0," + ","7",2,2,1," - ","2",null,21,"21"," ",49,"49"," + ",14,"14"," - ",null,"7s(3o + 7f - 2m) = "," 21so + 49sf - 14sm"]
[65,113,113,"q",107,107,107,"k",104,104,104,104,"h",107,107,108,108,107,"k",8,0,{"$f":"IF(U67=0,\"\",\"-\")","v":""},"8",{"$f":"INT(9*RAND()+1)","v":3},1,"-","3",2,{"$f":"INT(2*RAND())","v":0}," + ","2",4,4,{"$f":"INT(2*RAND())","v":1}," - ","4",null,{"$f":"T67*X67","v":24},"24","-",16,"16"," + ",32,"32"," - ",null,"8q(3k + 2h - 4k) = ","-24qk + 16qh - 32qk"]
[66,{"$f":"INT(24*RAND()+97)","v":108},{"$f":"IF(B68=108,B68+1,B68)","v":109},{"$f":"CHAR(B68)","v":"l"},{"$f":"INT(24*RAND()+97)","v":108},{"$f":"IF(E68=108,E68+1,E68)","v":109},{"$f":"IF(F68=C68,F68+1,F68)","v":110},{"$f":"CHAR(G68)","v":"n"},{"$f":"INT(24*RAND()+97)","v":97},{"$f":"IF(I68=108,I68+1,I68)","v":97},{"$f":"IF(J68=B68, J68+1,J68)","v":97},{"$f":"IF(J68=G68, J68+1,IF(J68=B68,J68+1,J68))","v":97},{"$f":"CHAR(L68)","v":"a"},{"$f":"INT(24*RAND()+97)","v":109},{"$f":"IF(N68=108,N68+1,N68)","v":109},{"$f":"IF(O68=B68, O68+1,IF(O68=G68,O68+1,O68))","v":109},{"$f":"IF(O68=G68, O68+1,IF(O68=B68,O68+1,O68))","v":109},{"$f":"IF(O68=L68, O68+1,IF(O68=B68,O68+1,O68))","v":109},{"$f":"CHAR(R68)","v":"m"},2,1,"-",{"$f":"IF(T68=1,\"\",TEXT(T68,T68))","v":"2"},6,0,{"$f":"IF(Y68=0,\"\",\"-\")","v":""},{"$f":"IF(X68=1,\"\",TEXT(X68,X68))","v":"6"},{"$f":"INT(7*RAND()+1)","v":2},1,{"$f":"IF(AC68=0,\" + \",\" - \")","v":" - "},{"$f":"IF(AB68=1,\"\",TEXT(AB68,AB68))","v":"2"},{"$f":"INT(7*RAND()+1)","v":3},{"$f":"AF68","v":3},1,{"$f":"IF(AH68=0,\" + \",\" - \")","v":" - "},{"$f":"IF(AF68=1,\"\",TEXT(AF68,AF68))","v":"3"},null,12,{"$f":"IF(AL68=1,\"\",TEXT($E$1,AL68))","v":"12"},{"$f":"IF((U68+Y68)=1,\"-\",\" \")","v":"-"},{"$f":"T68*AB68","v":4},{"$f":"IF(AO68=1,\"\",TEXT($E$1,AO68))","v":"4"},{"$f":"IF((U68+AC68)=1,\" - \",\" + \")","v":" + "},{"$f":"T68*AF68","v":6},{"$f":"IF(AR68=1,\"\",TEXT($E$1,AR68))","v":"6"},{"$f":"IF((U68+AH68)=1,\" - \",\" + \")","v":" + "},null,{"$f":"CONCATENATE(V68,W68,D68,\"(\",AA68,H68,AD68,AE68,M68,AI68,AJ68,S68,\") = \")","v":"-2l(6n - 2a - 3m) = "},{"$f":"CONCATENATE(AN68,AM68,D68,H68,AQ68,AP68,D68,M68,AT68,AS68,D68,S68)","v":"-12ln + 4la + 6lm"}]
[67,119,119,"w",103,103,103,"g",119,119,120,120,"x",100,100,100,100,100,"d",2,1,"-","2",5,0,"","5",7,0," + ","7",1,1,1," - ","",null,10,"10","-",14,"14"," - ",2,"2"," + ",null,"-2w(5g + 7x - d) = ","-10wg - 14wx + 2wd"]
[68,107,107,"k",117,117,117,"u",114,114,114,114,"r",101,101,101,101,101,"e",9,1,"-","9",2,0,"","2",2,0," + ","2",3,3,0," + ","3",null,18,"18","-",18,"18"," - ",27,"27"," - ",null,"-9k(2u + 2r + 3e) = ","-18ku - 18kr - 27ke"]
[69,103,103,"g",102,102,102,"f",113,113,113,113,"q",119,119,119,119,119,"w",7,1,"-","7",1,0,"","",3,0," + ","3",3,3,0," + ","3",null,7,"7","-",21,"21"," - ",21,"21"," - ",null,"-7g(f + 3q + 3w) = ","-7gf - 21gq - 21gw"]
[70,106,106,"j",105,105,105,"i",101,101,101,101,"e",106,106,107,107,107,"k",9,0,"","9",1,{"$f":"INT(2*RAND())","v":1},"-","",1,0," + ","",2,2,1," - ","2",null,9,"9","-",9,"9"," + ",18,"18"," - ",null,"9j(i + e - 2k) = ","-9ji + 9je - 18jk"]
[71,106,106,"j",109,109,109,"m",115,115,115,115,"s",108,109,110,110,109,"m",2,1,"-","2",6,0,"","6",2,0," + ","2",1,1,0," + ","",null,12,"12","-",4,"4"," - ",2,"2"," - ",null,"-2j(6m + 2s + m) = ","-12jm - 4js - 2jm"]
[72,117,117,"u",113,113,113,"q",105,105,105,105,"i",116,116,116,116,116,"t",8,1,"-","8",1,0,"","",7,0," + ","7",3,3,0," + ","3",null,8,"8","-",56,"56"," - ",24,"24"," - ",null,"-8u(q + 7i + 3t) = ","-8uq - 56ui - 24ut"]
[73,102,102,"f",106,106,106,"j",110,110,110,110,"n",99,99,99,99,99,"c",1,1,"-","",8,0,"","8",4,1," - ","4",3,3,0," + ","3",null,8,"8","-",4,"4"," + ",3,"3"," - ",null,"-f(8j - 4n + 3c) = ","-8fj + 4fn - 3fc"]
[74,105,105,"i",102,102,102,"f",97,97,97,97,"a",99,99,99,99,99,"c",9,0,"","9",2,0,"","2",3,1," - ","3",5,5,0," + ","5",null,18,"18"," ",27,"27"," - ",45,"45"," + ",null,"9i(2f - 3a + 5c) = "," 18if - 27ia + 45ic"]
[75,100,100,"d",104,104,104,"h",116,116,116,116,"t",108,109,109,109,109,"m",6,1,"-","6",6,1,"-","6",2,0," + ","2",5,5,1," - ","5",null,36,"36"," ",12,"12"," - ",30,"30"," + ",null,"-6d(6h + 2t - 5m) = "," 36dh - 12dt + 30dm"]