{"text_format":"1","workbook":"xlsx","n_sheets":4,"sheets":["Values","WorkSheet","Answers","Working"],"not_rendered":{"charts":0,"images":1,"macros":1,"external_links":0,"defined_names":0,"comments":0,"pivot_tables":0},"unopened":[],"bounds":{"document_bytes":16777216,"sheet_cells":100000,"rows_first":2000,"rows_last":500,"rows_between":2000,"halvings":0,"cell_chars":16384,"cell_head_chars":4096},"cells_cut":0,"cells_raw":0,"read":"whole","date_system":"1900"}

{"sheet":"Values","index":0,"n_rows":24,"n_cols":9,"rows_kept":24,"cut":false,"hidden":false,"merged":[[12,8,16,9],[14,2,17,7],[1,2,1,6],[3,2,4,7],[5,2,5,4],[7,2,8,7],[10,2,10,4],[12,2,12,6]]}
[null,null,null,null,"DIVISION - No remainder"]
[null,null,"INSTRUCTIONS"]
[]
[null,"Step 1","Enter the number digits to be used in the divisor for this sheet. (Either 1 or 2)"]
[]
[null,null,"Digits in Divisor"]
[]
[null,"Step 2","Enter the number digits to be used in the dividend for this sheet. (A whole number >1 and ≤6)"]
[]
[]
[null,null,"Digits in Dividend",null,null,null,"  (May be increased or decreased by 1 due to the nature of random calculations)"]
[]
[null,"Step 3","Click on WorkSheet tab below.",null,null,null,null,null,"PRESS F9 for NEW WorkSheet"]
[]
[null,"Note","If you hold down shift then click on the WorkSheet tab and the Answers tab, you will be able to print both the WorkSheet and the solutions."]
[]
[]
[]
[]
[null,null,"NOTES"]
[null,null,"* Practise dividing by 1 or 2 digit numbers."]
[null,null,"* You can choose how many digits upto 6 for the dividend."]
[null,null,"* The quotient is a whole number, that is, there are no remainders."]
[null,null,"* This WorkSheet will generate 40 questions at random."]

{"sheet":"WorkSheet","index":1,"n_rows":23,"n_cols":15,"rows_kept":23,"cut":false,"hidden":false,"merged":[]}
[null,null,null,null,null,null,null,"DIVISION"]
[null,null,null,null,null,null,null,null,null,null,null,null,{"$f":"CONCATENATE(\"Worksheet \",Working!C1,Working!B1)","v":"Worksheet DAW-181"}]
["Evaluate the following;"]
[]
[{"$f":"Working!C4","v":"1)"},{"$f":"Working!D4","v":2},{"$f":"Working!G4","v":" 0"},null,{"$f":"Working!C14","v":"11)"},{"$f":"Working!D14","v":2},{"$f":"Working!G14","v":" 0"},null,{"$f":"Working!C24","v":"21)"},{"$f":"Working!D24","v":2},{"$f":"Working!G24","v":" 0"},null,{"$f":"Working!C34","v":"31)"},{"$f":"Working!D34","v":2},{"$f":"Working!G34","v":" 0"}]
[]
[{"$f":"Working!C5","v":"2)"},{"$f":"Working!D5","v":2},{"$f":"Working!G5","v":" 0"},null,{"$f":"Working!C15","v":"12)"},{"$f":"Working!D15","v":2},{"$f":"Working!G15","v":" 0"},null,{"$f":"Working!C25","v":"22)"},{"$f":"Working!D25","v":2},{"$f":"Working!G25","v":" 0"},null,{"$f":"Working!C35","v":"32)"},{"$f":"Working!D35","v":2},{"$f":"Working!G35","v":" 0"}]
[]
[{"$f":"Working!C6","v":"3)"},{"$f":"Working!D6","v":2},{"$f":"Working!G6","v":" 0"},null,{"$f":"Working!C16","v":"13)"},{"$f":"Working!D16","v":2},{"$f":"Working!G16","v":" 0"},null,{"$f":"Working!C26","v":"23)"},{"$f":"Working!D26","v":2},{"$f":"Working!G26","v":" 0"},null,{"$f":"Working!C36","v":"33)"},{"$f":"Working!D36","v":2},{"$f":"Working!G36","v":" 0"}]
[]
[{"$f":"Working!C7","v":"4)"},{"$f":"Working!D7","v":2},{"$f":"Working!G7","v":" 0"},null,{"$f":"Working!C17","v":"14)"},{"$f":"Working!D17","v":2},{"$f":"Working!G17","v":" 0"},null,{"$f":"Working!C27","v":"24)"},{"$f":"Working!D27","v":2},{"$f":"Working!G27","v":" 0"},null,{"$f":"Working!C37","v":"34)"},{"$f":"Working!D37","v":2},{"$f":"Working!G37","v":" 0"}]
[]
[{"$f":"Working!C8","v":"5)"},{"$f":"Working!D8","v":2},{"$f":"Working!G8","v":" 0"},null,{"$f":"Working!C18","v":"15)"},{"$f":"Working!D18","v":2},{"$f":"Working!G18","v":" 0"},null,{"$f":"Working!C28","v":"25)"},{"$f":"Working!D28","v":2},{"$f":"Working!G28","v":" 0"},null,{"$f":"Working!C38","v":"35)"},{"$f":"Working!D38","v":2},{"$f":"Working!G38","v":" 0"}]
[]
[{"$f":"Working!C9","v":"6)"},{"$f":"Working!D9","v":2},{"$f":"Working!G9","v":" 0"},null,{"$f":"Working!C19","v":"16)"},{"$f":"Working!D19","v":2},{"$f":"Working!G19","v":" 0"},null,{"$f":"Working!C29","v":"26)"},{"$f":"Working!D29","v":2},{"$f":"Working!G29","v":" 0"},null,{"$f":"Working!C39","v":"36)"},{"$f":"Working!D39","v":2},{"$f":"Working!G39","v":" 0"}]
[]
[{"$f":"Working!C10","v":"7)"},{"$f":"Working!D10","v":2},{"$f":"Working!G10","v":" 0"},null,{"$f":"Working!C20","v":"17)"},{"$f":"Working!D20","v":2},{"$f":"Working!G20","v":" 0"},null,{"$f":"Working!C30","v":"27)"},{"$f":"Working!D30","v":2},{"$f":"Working!G30","v":" 0"},null,{"$f":"Working!C40","v":"37)"},{"$f":"Working!D40","v":2},{"$f":"Working!G40","v":" 0"}]
[]
[{"$f":"Working!C11","v":"8)"},{"$f":"Working!D11","v":2},{"$f":"Working!G11","v":" 0"},null,{"$f":"Working!C21","v":"18)"},{"$f":"Working!D21","v":2},{"$f":"Working!G21","v":" 0"},null,{"$f":"Working!C31","v":"28)"},{"$f":"Working!D31","v":2},{"$f":"Working!G31","v":" 0"},null,{"$f":"Working!C41","v":"38)"},{"$f":"Working!D41","v":2},{"$f":"Working!G41","v":" 0"}]
[]
[{"$f":"Working!C12","v":"9)"},{"$f":"Working!D12","v":2},{"$f":"Working!G12","v":" 0"},null,{"$f":"Working!C22","v":"19)"},{"$f":"Working!D22","v":2},{"$f":"Working!G22","v":" 0"},null,{"$f":"Working!C32","v":"29)"},{"$f":"Working!D32","v":2},{"$f":"Working!G32","v":" 0"},null,{"$f":"Working!C42","v":"39)"},{"$f":"Working!D42","v":2},{"$f":"Working!G42","v":" 0"}]
[]
[{"$f":"Working!C13","v":"10)"},{"$f":"Working!D13","v":2},{"$f":"Working!G13","v":" 0"},null,{"$f":"Working!C23","v":"20)"},{"$f":"Working!D23","v":2},{"$f":"Working!G23","v":" 0"},null,{"$f":"Working!C33","v":"30)"},{"$f":"Working!D33","v":2},{"$f":"Working!G33","v":" 0"},null,{"$f":"Working!C43","v":"40)"},{"$f":"Working!D43","v":2},{"$f":"Working!G43","v":" 0"}]

{"sheet":"Answers","index":2,"n_rows":23,"n_cols":15,"rows_kept":23,"cut":false,"hidden":false,"merged":[]}
[null,null,null,null,null,null,null,"DIVISION"]
[null,null,null,null,null,null,null,"ANSWERS",null,null,null,null,{"$f":"CONCATENATE(\"Worksheet \",Working!C1,Working!B1)","v":"Worksheet DAW-181"}]
["Evaluate the following;"]
[null,null,{"$f":"Working!L4","v":"  0"},null,null,null,{"$f":"Working!L14","v":"  0"},null,null,null,{"$f":"Working!L24","v":"  0"},null,null,null,{"$f":"Working!L34","v":"  0"}]
[{"$f":"Working!C4","v":"1)"},{"$f":"Working!D4","v":2},{"$f":"Working!G4","v":" 0"},null,{"$f":"Working!C14","v":"11)"},{"$f":"Working!D14","v":2},{"$f":"Working!G14","v":" 0"},null,{"$f":"Working!C24","v":"21)"},{"$f":"Working!D24","v":2},{"$f":"Working!G24","v":" 0"},null,{"$f":"Working!C34","v":"31)"},{"$f":"Working!D34","v":2},{"$f":"Working!G34","v":" 0"}]
[null,null,{"$f":"Working!L5","v":"  0"},null,null,null,{"$f":"Working!L15","v":"  0"},null,null,null,{"$f":"Working!L25","v":"  0"},null,null,null,{"$f":"Working!L35","v":"  0"}]
[{"$f":"Working!C5","v":"2)"},{"$f":"Working!D5","v":2},{"$f":"Working!G5","v":" 0"},null,{"$f":"Working!C15","v":"12)"},{"$f":"Working!D15","v":2},{"$f":"Working!G15","v":" 0"},null,{"$f":"Working!C25","v":"22)"},{"$f":"Working!D25","v":2},{"$f":"Working!G25","v":" 0"},null,{"$f":"Working!C35","v":"32)"},{"$f":"Working!D35","v":2},{"$f":"Working!G35","v":" 0"}]
[null,null,{"$f":"Working!L6","v":"  0"},null,null,null,{"$f":"Working!L16","v":"  0"},null,null,null,{"$f":"Working!L26","v":"  0"},null,null,null,{"$f":"Working!L36","v":"  0"}]
[{"$f":"Working!C6","v":"3)"},{"$f":"Working!D6","v":2},{"$f":"Working!G6","v":" 0"},null,{"$f":"Working!C16","v":"13)"},{"$f":"Working!D16","v":2},{"$f":"Working!G16","v":" 0"},null,{"$f":"Working!C26","v":"23)"},{"$f":"Working!D26","v":2},{"$f":"Working!G26","v":" 0"},null,{"$f":"Working!C36","v":"33)"},{"$f":"Working!D36","v":2},{"$f":"Working!G36","v":" 0"}]
[null,null,{"$f":"Working!L7","v":"  0"},null,null,null,{"$f":"Working!L17","v":"  0"},null,null,null,{"$f":"Working!L27","v":"  0"},null,null,null,{"$f":"Working!L37","v":"  0"}]
[{"$f":"Working!C7","v":"4)"},{"$f":"Working!D7","v":2},{"$f":"Working!G7","v":" 0"},null,{"$f":"Working!C17","v":"14)"},{"$f":"Working!D17","v":2},{"$f":"Working!G17","v":" 0"},null,{"$f":"Working!C27","v":"24)"},{"$f":"Working!D27","v":2},{"$f":"Working!G27","v":" 0"},null,{"$f":"Working!C37","v":"34)"},{"$f":"Working!D37","v":2},{"$f":"Working!G37","v":" 0"}]
[null,null,{"$f":"Working!L8","v":"  0"},null,null,null,{"$f":"Working!L18","v":"  0"},null,null,null,{"$f":"Working!L28","v":"  0"},null,null,null,{"$f":"Working!L38","v":"  0"}]
[{"$f":"Working!C8","v":"5)"},{"$f":"Working!D8","v":2},{"$f":"Working!G8","v":" 0"},null,{"$f":"Working!C18","v":"15)"},{"$f":"Working!D18","v":2},{"$f":"Working!G18","v":" 0"},null,{"$f":"Working!C28","v":"25)"},{"$f":"Working!D28","v":2},{"$f":"Working!G28","v":" 0"},null,{"$f":"Working!C38","v":"35)"},{"$f":"Working!D38","v":2},{"$f":"Working!G38","v":" 0"}]
[null,null,{"$f":"Working!L9","v":"  0"},null,null,null,{"$f":"Working!L19","v":"  0"},null,null,null,{"$f":"Working!L29","v":"  0"},null,null,null,{"$f":"Working!L39","v":"  0"}]
[{"$f":"Working!C9","v":"6)"},{"$f":"Working!D9","v":2},{"$f":"Working!G9","v":" 0"},null,{"$f":"Working!C19","v":"16)"},{"$f":"Working!D19","v":2},{"$f":"Working!G19","v":" 0"},null,{"$f":"Working!C29","v":"26)"},{"$f":"Working!D29","v":2},{"$f":"Working!G29","v":" 0"},null,{"$f":"Working!C39","v":"36)"},{"$f":"Working!D39","v":2},{"$f":"Working!G39","v":" 0"}]
[null,null,{"$f":"Working!L10","v":"  0"},null,null,null,{"$f":"Working!L20","v":"  0"},null,null,null,{"$f":"Working!L30","v":"  0"},null,null,null,{"$f":"Working!L40","v":"  0"}]
[{"$f":"Working!C10","v":"7)"},{"$f":"Working!D10","v":2},{"$f":"Working!G10","v":" 0"},null,{"$f":"Working!C20","v":"17)"},{"$f":"Working!D20","v":2},{"$f":"Working!G20","v":" 0"},null,{"$f":"Working!C30","v":"27)"},{"$f":"Working!D30","v":2},{"$f":"Working!G30","v":" 0"},null,{"$f":"Working!C40","v":"37)"},{"$f":"Working!D40","v":2},{"$f":"Working!G40","v":" 0"}]
[null,null,{"$f":"Working!L11","v":"  0"},null,null,null,{"$f":"Working!L21","v":"  0"},null,null,null,{"$f":"Working!L31","v":"  0"},null,null,null,{"$f":"Working!L41","v":"  0"}]
[{"$f":"Working!C11","v":"8)"},{"$f":"Working!D11","v":2},{"$f":"Working!G11","v":" 0"},null,{"$f":"Working!C21","v":"18)"},{"$f":"Working!D21","v":2},{"$f":"Working!G21","v":" 0"},null,{"$f":"Working!C31","v":"28)"},{"$f":"Working!D31","v":2},{"$f":"Working!G31","v":" 0"},null,{"$f":"Working!C41","v":"38)"},{"$f":"Working!D41","v":2},{"$f":"Working!G41","v":" 0"}]
[null,null,{"$f":"Working!L12","v":"  0"},null,null,null,{"$f":"Working!L22","v":"  0"},null,null,null,{"$f":"Working!L32","v":"  0"},null,null,null,{"$f":"Working!L42","v":"  0"}]
[{"$f":"Working!C12","v":"9)"},{"$f":"Working!D12","v":2},{"$f":"Working!G12","v":" 0"},null,{"$f":"Working!C22","v":"19)"},{"$f":"Working!D22","v":2},{"$f":"Working!G22","v":" 0"},null,{"$f":"Working!C32","v":"29)"},{"$f":"Working!D32","v":2},{"$f":"Working!G32","v":" 0"},null,{"$f":"Working!C42","v":"39)"},{"$f":"Working!D42","v":2},{"$f":"Working!G42","v":" 0"}]
[null,null,{"$f":"Working!L13","v":"  0"},null,null,null,{"$f":"Working!L23","v":"  0"},null,null,null,{"$f":"Working!L33","v":"  0"},null,null,null,{"$f":"Working!L43","v":"  0"}]
[{"$f":"Working!C13","v":"10)"},{"$f":"Working!D13","v":2},{"$f":"Working!G13","v":" 0"},null,{"$f":"Working!C23","v":"20)"},{"$f":"Working!D23","v":2},{"$f":"Working!G23","v":" 0"},null,{"$f":"Working!C33","v":"30)"},{"$f":"Working!D33","v":2},{"$f":"Working!G33","v":" 0"},null,{"$f":"Working!C43","v":"40)"},{"$f":"Working!D43","v":2},{"$f":"Working!G43","v":" 0"}]

{"sheet":"Working","index":3,"n_rows":43,"n_cols":12,"rows_kept":43,"cut":false,"hidden":true,"merged":[[1,4,1,5],[1,6,1,11]]}
[{"$f":"INT(900*RAND()+100)","v":181},{"$f":"TEXT(1,A1)","v":"181"},"DAW-"]
[null,null,null,null,"Numbers",null,"Text"]
[null,null,null,"Divisor","Quotient","Dividend","Dividend","DLength","QLength",null,"Spaces","Quotient"]
[1,")",{"$f":"CONCATENATE(A4,B4)","v":"1)"},{"$f":"INT((10^Values!$F$6-1)*RAND()+2)","v":2},{"$f":"INT((10^(Values!$F$11-1))*RAND()+(10^(Values!$F$11-2)))","v":0},{"$f":"D4*E4","v":0},{"$f":"CONCATENATE(\" \",F4)","v":" 0"},{"$f":"LEN(G4)","v":2},{"$f":"LEN(E4)","v":1},{"$f":"H4-I4","v":1},{"$f":"IF(J4=0,\" \",IF(J4=1,\"  \",IF(J4=2,\"   \",IF(J4=3,\"     \",\"       \"))))","v":"  "},{"$f":"CONCATENATE(K4,E4)","v":"  0"}]
[2,")",{"$f":"CONCATENATE(A5,B5)","v":"2)"},{"$f":"INT((10^Values!$F$6-1)*RAND()+2)","v":2},{"$f":"INT((10^(Values!$F$11-1))*RAND()+(10^(Values!$F$11-2)))","v":0},{"$f":"D5*E5","v":0},{"$f":"CONCATENATE(\" \",F5)","v":" 0"},{"$f":"LEN(G5)","v":2},{"$f":"LEN(E5)","v":1},{"$f":"H5-I5","v":1},{"$f":"IF(J5=0,\" \",IF(J5=1,\"  \",IF(J5=2,\"   \",IF(J5=3,\"     \",\"       \"))))","v":"  "},"  0"]
[3,")","3)",{"$f":"INT((10^Values!$F$6-1)*RAND()+2)","v":2},{"$f":"INT((10^(Values!$F$11-1))*RAND()+(10^(Values!$F$11-2)))","v":0},0," 0",2,1,1,"  ","  0"]
[4,")","4)",{"$f":"INT((10^Values!$F$6-1)*RAND()+2)","v":2},{"$f":"INT((10^(Values!$F$11-1))*RAND()+(10^(Values!$F$11-2)))","v":0},0," 0",2,1,1,"  ","  0"]
[5,")","5)",{"$f":"INT((10^Values!$F$6-1)*RAND()+2)","v":2},{"$f":"INT((10^(Values!$F$11-1))*RAND()+(10^(Values!$F$11-2)))","v":0},0," 0",2,1,1,"  ","  0"]
[6,")","6)",{"$f":"INT((10^Values!$F$6-1)*RAND()+2)","v":2},{"$f":"INT((10^(Values!$F$11-1))*RAND()+(10^(Values!$F$11-2)))","v":0},0," 0",2,1,1,"  ","  0"]
[7,")","7)",{"$f":"INT((10^Values!$F$6-1)*RAND()+2)","v":2},{"$f":"INT((10^(Values!$F$11-1))*RAND()+(10^(Values!$F$11-2)))","v":0},0," 0",2,1,1,"  ","  0"]
[8,")","8)",{"$f":"INT((10^Values!$F$6-1)*RAND()+2)","v":2},{"$f":"INT((10^(Values!$F$11-1))*RAND()+(10^(Values!$F$11-2)))","v":0},0," 0",2,1,1,"  ","  0"]
[9,")","9)",{"$f":"INT((10^Values!$F$6-1)*RAND()+2)","v":2},{"$f":"INT((10^(Values!$F$11-1))*RAND()+(10^(Values!$F$11-2)))","v":0},0," 0",2,1,1,"  ","  0"]
[10,")","10)",{"$f":"INT((10^Values!$F$6-1)*RAND()+2)","v":2},{"$f":"INT((10^(Values!$F$11-1))*RAND()+(10^(Values!$F$11-2)))","v":0},0," 0",2,1,1,"  ","  0"]
[11,")","11)",{"$f":"INT((10^Values!$F$6-1)*RAND()+2)","v":2},{"$f":"INT((10^(Values!$F$11-1))*RAND()+(10^(Values!$F$11-2)))","v":0},0," 0",2,1,1,"  ","  0"]
[12,")","12)",{"$f":"INT((10^Values!$F$6-1)*RAND()+2)","v":2},{"$f":"INT((10^(Values!$F$11-1))*RAND()+(10^(Values!$F$11-2)))","v":0},0," 0",2,1,1,"  ","  0"]
[13,")","13)",{"$f":"INT((10^Values!$F$6-1)*RAND()+2)","v":2},{"$f":"INT((10^(Values!$F$11-1))*RAND()+(10^(Values!$F$11-2)))","v":0},0," 0",2,1,1,"  ","  0"]
[14,")","14)",{"$f":"INT((10^Values!$F$6-1)*RAND()+2)","v":2},{"$f":"INT((10^(Values!$F$11-1))*RAND()+(10^(Values!$F$11-2)))","v":0},0," 0",2,1,1,"  ","  0"]
[15,")","15)",{"$f":"INT((10^Values!$F$6-1)*RAND()+2)","v":2},{"$f":"INT((10^(Values!$F$11-1))*RAND()+(10^(Values!$F$11-2)))","v":0},0," 0",2,1,1,"  ","  0"]
[16,")","16)",{"$f":"INT((10^Values!$F$6-1)*RAND()+2)","v":2},{"$f":"INT((10^(Values!$F$11-1))*RAND()+(10^(Values!$F$11-2)))","v":0},0," 0",2,1,1,"  ","  0"]
[17,")","17)",{"$f":"INT((10^Values!$F$6-1)*RAND()+2)","v":2},{"$f":"INT((10^(Values!$F$11-1))*RAND()+(10^(Values!$F$11-2)))","v":0},0," 0",2,1,1,"  ","  0"]
[18,")","18)",{"$f":"INT((10^Values!$F$6-1)*RAND()+2)","v":2},{"$f":"INT((10^(Values!$F$11-1))*RAND()+(10^(Values!$F$11-2)))","v":0},0," 0",2,1,1,"  ","  0"]
[19,")","19)",{"$f":"INT((10^Values!$F$6-1)*RAND()+2)","v":2},{"$f":"INT((10^(Values!$F$11-1))*RAND()+(10^(Values!$F$11-2)))","v":0},0," 0",2,1,1,"  ","  0"]
[20,")","20)",{"$f":"INT((10^Values!$F$6-1)*RAND()+2)","v":2},{"$f":"INT((10^(Values!$F$11-1))*RAND()+(10^(Values!$F$11-2)))","v":0},0," 0",2,1,1,"  ","  0"]
[21,")","21)",{"$f":"INT((10^Values!$F$6-1)*RAND()+2)","v":2},{"$f":"INT((10^(Values!$F$11-1))*RAND()+(10^(Values!$F$11-2)))","v":0},0," 0",2,1,1,"  ","  0"]
[22,")","22)",{"$f":"INT((10^Values!$F$6-1)*RAND()+2)","v":2},{"$f":"INT((10^(Values!$F$11-1))*RAND()+(10^(Values!$F$11-2)))","v":0},0," 0",2,1,1,"  ","  0"]
[23,")","23)",{"$f":"INT((10^Values!$F$6-1)*RAND()+2)","v":2},{"$f":"INT((10^(Values!$F$11-1))*RAND()+(10^(Values!$F$11-2)))","v":0},0," 0",2,1,1,"  ","  0"]
[24,")","24)",{"$f":"INT((10^Values!$F$6-1)*RAND()+2)","v":2},{"$f":"INT((10^(Values!$F$11-1))*RAND()+(10^(Values!$F$11-2)))","v":0},0," 0",2,1,1,"  ","  0"]
[25,")","25)",{"$f":"INT((10^Values!$F$6-1)*RAND()+2)","v":2},{"$f":"INT((10^(Values!$F$11-1))*RAND()+(10^(Values!$F$11-2)))","v":0},0," 0",2,1,1,"  ","  0"]
[26,")","26)",{"$f":"INT((10^Values!$F$6-1)*RAND()+2)","v":2},{"$f":"INT((10^(Values!$F$11-1))*RAND()+(10^(Values!$F$11-2)))","v":0},0," 0",2,1,1,"  ","  0"]
[27,")","27)",{"$f":"INT((10^Values!$F$6-1)*RAND()+2)","v":2},{"$f":"INT((10^(Values!$F$11-1))*RAND()+(10^(Values!$F$11-2)))","v":0},0," 0",2,1,1,"  ","  0"]
[28,")","28)",{"$f":"INT((10^Values!$F$6-1)*RAND()+2)","v":2},{"$f":"INT((10^(Values!$F$11-1))*RAND()+(10^(Values!$F$11-2)))","v":0},0," 0",2,1,1,"  ","  0"]
[29,")","29)",{"$f":"INT((10^Values!$F$6-1)*RAND()+2)","v":2},{"$f":"INT((10^(Values!$F$11-1))*RAND()+(10^(Values!$F$11-2)))","v":0},0," 0",2,1,1,"  ","  0"]
[30,")","30)",{"$f":"INT((10^Values!$F$6-1)*RAND()+2)","v":2},{"$f":"INT((10^(Values!$F$11-1))*RAND()+(10^(Values!$F$11-2)))","v":0},0," 0",2,1,1,"  ","  0"]
[31,")","31)",{"$f":"INT((10^Values!$F$6-1)*RAND()+2)","v":2},{"$f":"INT((10^(Values!$F$11-1))*RAND()+(10^(Values!$F$11-2)))","v":0},0," 0",2,1,1,"  ","  0"]
[32,")","32)",{"$f":"INT((10^Values!$F$6-1)*RAND()+2)","v":2},{"$f":"INT((10^(Values!$F$11-1))*RAND()+(10^(Values!$F$11-2)))","v":0},0," 0",2,1,1,"  ","  0"]
[33,")","33)",{"$f":"INT((10^Values!$F$6-1)*RAND()+2)","v":2},{"$f":"INT((10^(Values!$F$11-1))*RAND()+(10^(Values!$F$11-2)))","v":0},0," 0",2,1,1,"  ",{"$f":"CONCATENATE(K36,E36)","v":"  0"}]
[34,")","34)",{"$f":"INT((10^Values!$F$6-1)*RAND()+2)","v":2},{"$f":"INT((10^(Values!$F$11-1))*RAND()+(10^(Values!$F$11-2)))","v":0},0," 0",2,1,1,"  ","  0"]
[35,")","35)",{"$f":"INT((10^Values!$F$6-1)*RAND()+2)","v":2},{"$f":"INT((10^(Values!$F$11-1))*RAND()+(10^(Values!$F$11-2)))","v":0},0," 0",2,1,1,"  ","  0"]
[36,")","36)",{"$f":"INT((10^Values!$F$6-1)*RAND()+2)","v":2},{"$f":"INT((10^(Values!$F$11-1))*RAND()+(10^(Values!$F$11-2)))","v":0},0," 0",2,1,1,"  ","  0"]
[37,")","37)",{"$f":"INT((10^Values!$F$6-1)*RAND()+2)","v":2},{"$f":"INT((10^(Values!$F$11-1))*RAND()+(10^(Values!$F$11-2)))","v":0},0," 0",2,1,1,"  ","  0"]
[38,")","38)",{"$f":"INT((10^Values!$F$6-1)*RAND()+2)","v":2},{"$f":"INT((10^(Values!$F$11-1))*RAND()+(10^(Values!$F$11-2)))","v":0},0," 0",2,1,1,"  ","  0"]
[39,")","39)",{"$f":"INT((10^Values!$F$6-1)*RAND()+2)","v":2},{"$f":"INT((10^(Values!$F$11-1))*RAND()+(10^(Values!$F$11-2)))","v":0},0," 0",2,1,1,"  ","  0"]
[40,")","40)",{"$f":"INT((10^Values!$F$6-1)*RAND()+2)","v":2},{"$f":"INT((10^(Values!$F$11-1))*RAND()+(10^(Values!$F$11-2)))","v":0},0," 0",2,1,1,"  ","  0"]