{"text_format":"1","workbook":"xlsx","n_sheets":4,"sheets":["Values","WorkSheet","Answers","Working"],"not_rendered":{"charts":0,"images":1,"macros":1,"external_links":0,"defined_names":0,"comments":0,"pivot_tables":0},"unopened":[],"bounds":{"document_bytes":16777216,"sheet_cells":100000,"rows_first":2000,"rows_last":500,"rows_between":2000,"halvings":0,"cell_chars":16384,"cell_head_chars":4096},"cells_cut":0,"cells_raw":0,"read":"whole","date_system":"1900"}

{"sheet":"Values","index":0,"n_rows":24,"n_cols":9,"rows_kept":24,"cut":false,"hidden":false,"merged":[[10,2,10,4],[12,2,12,6],[12,8,16,9],[14,2,17,7],[1,2,1,6],[3,2,4,7],[5,2,5,4],[7,2,8,7]]}
[null,null,null,null,"DIVISION - With remainder"]
[null,null,"INSTRUCTIONS"]
[]
[null,"Step 1","Enter the number digits to be used in the divisor for this sheet. (Either 1 or 2)"]
[]
[null,null,"Digits in Divisor"]
[]
[null,"Step 2","Enter the number digits to be used in the dividend for this sheet. (A whole number >1 and ≤6)"]
[]
[]
[null,null,"Digits in Dividend",null,null,null,"  (May be increased or decreased by 1 due to the nature of random calculations)"]
[]
[null,"Step 3","Click on WorkSheet tab below.",null,null,null,null,null,"PRESS F9 for NEW WorkSheet"]
[]
[null,"Note","If you hold down shift then click on the WorkSheet tab and the Answers tab, you will be able to print both the WorkSheet and the solutions."]
[]
[]
[]
[]
[null,null,"NOTES"]
[null,null,"* Practise dividing by 1 or 2 digit numbers."]
[null,null,"* You can choose how many digits upto 6 for the dividend."]
[null,null,"* The quotient is a whole number, that is, there are remainders."]
[null,null,"* This WorkSheet will generate 40 questions at random."]

{"sheet":"WorkSheet","index":1,"n_rows":23,"n_cols":15,"rows_kept":23,"cut":false,"hidden":false,"merged":[]}
[null,null,null,null,null,null,null,"DIVISION"]
[null,null,null,null,null,null,null,null,null,null,null,null,{"$f":"CONCATENATE(\"Worksheet \",Working!C1,Working!B1)","v":"Worksheet DAW-341"}]
["Evaluate the following;"]
[]
[{"$f":"Working!C4","v":"1)"},{"$f":"Working!D4","v":1},{"$f":"Working!H4","v":" 0"},null,{"$f":"Working!C14","v":"11)"},{"$f":"Working!D14","v":1},{"$f":"Working!H14","v":" 0"},null,{"$f":"Working!C24","v":"21)"},{"$f":"Working!D24","v":1},{"$f":"Working!H24","v":" 0"},null,{"$f":"Working!C34","v":"31)"},{"$f":"Working!D34","v":1},{"$f":"Working!H34","v":" 0"}]
[]
[{"$f":"Working!C5","v":"2)"},{"$f":"Working!D5","v":1},{"$f":"Working!H5","v":" 0"},null,{"$f":"Working!C15","v":"12)"},{"$f":"Working!D15","v":1},{"$f":"Working!H15","v":" 0"},null,{"$f":"Working!C25","v":"22)"},{"$f":"Working!D25","v":1},{"$f":"Working!H25","v":" 0"},null,{"$f":"Working!C35","v":"32)"},{"$f":"Working!D35","v":1},{"$f":"Working!H35","v":" 0"}]
[]
[{"$f":"Working!C6","v":"3)"},{"$f":"Working!D6","v":1},{"$f":"Working!H6","v":" 0"},null,{"$f":"Working!C16","v":"13)"},{"$f":"Working!D16","v":1},{"$f":"Working!H16","v":" 0"},null,{"$f":"Working!C26","v":"23)"},{"$f":"Working!D26","v":1},{"$f":"Working!H26","v":" 0"},null,{"$f":"Working!C36","v":"33)"},{"$f":"Working!D36","v":1},{"$f":"Working!H36","v":" 0"}]
[]
[{"$f":"Working!C7","v":"4)"},{"$f":"Working!D7","v":1},{"$f":"Working!H7","v":" 0"},null,{"$f":"Working!C17","v":"14)"},{"$f":"Working!D17","v":1},{"$f":"Working!H17","v":" 0"},null,{"$f":"Working!C27","v":"24)"},{"$f":"Working!D27","v":1},{"$f":"Working!H27","v":" 0"},null,{"$f":"Working!C37","v":"34)"},{"$f":"Working!D37","v":1},{"$f":"Working!H37","v":" 0"}]
[]
[{"$f":"Working!C8","v":"5)"},{"$f":"Working!D8","v":1},{"$f":"Working!H8","v":" 0"},null,{"$f":"Working!C18","v":"15)"},{"$f":"Working!D18","v":1},{"$f":"Working!H18","v":" 0"},null,{"$f":"Working!C28","v":"25)"},{"$f":"Working!D28","v":1},{"$f":"Working!H28","v":" 0"},null,{"$f":"Working!C38","v":"35)"},{"$f":"Working!D38","v":1},{"$f":"Working!H38","v":" 0"}]
[]
[{"$f":"Working!C9","v":"6)"},{"$f":"Working!D9","v":1},{"$f":"Working!H9","v":" 0"},null,{"$f":"Working!C19","v":"16)"},{"$f":"Working!D19","v":1},{"$f":"Working!H19","v":" 0"},null,{"$f":"Working!C29","v":"26)"},{"$f":"Working!D29","v":1},{"$f":"Working!H29","v":" 0"},null,{"$f":"Working!C39","v":"36)"},{"$f":"Working!D39","v":1},{"$f":"Working!H39","v":" 0"}]
[]
[{"$f":"Working!C10","v":"7)"},{"$f":"Working!D10","v":1},{"$f":"Working!H10","v":" 0"},null,{"$f":"Working!C20","v":"17)"},{"$f":"Working!D20","v":1},{"$f":"Working!H20","v":" 0"},null,{"$f":"Working!C30","v":"27)"},{"$f":"Working!D30","v":1},{"$f":"Working!H30","v":" 0"},null,{"$f":"Working!C40","v":"37)"},{"$f":"Working!D40","v":1},{"$f":"Working!H40","v":" 0"}]
[]
[{"$f":"Working!C11","v":"8)"},{"$f":"Working!D11","v":1},{"$f":"Working!H11","v":" 0"},null,{"$f":"Working!C21","v":"18)"},{"$f":"Working!D21","v":1},{"$f":"Working!H21","v":" 0"},null,{"$f":"Working!C31","v":"28)"},{"$f":"Working!D31","v":1},{"$f":"Working!H31","v":" 0"},null,{"$f":"Working!C41","v":"38)"},{"$f":"Working!D41","v":1},{"$f":"Working!H41","v":" 0"}]
[]
[{"$f":"Working!C12","v":"9)"},{"$f":"Working!D12","v":1},{"$f":"Working!H12","v":" 0"},null,{"$f":"Working!C22","v":"19)"},{"$f":"Working!D22","v":1},{"$f":"Working!H22","v":" 0"},null,{"$f":"Working!C32","v":"29)"},{"$f":"Working!D32","v":1},{"$f":"Working!H32","v":" 0"},null,{"$f":"Working!C42","v":"39)"},{"$f":"Working!D42","v":1},{"$f":"Working!H42","v":" 0"}]
[]
[{"$f":"Working!C13","v":"10)"},{"$f":"Working!D13","v":1},{"$f":"Working!H13","v":" 0"},null,{"$f":"Working!C23","v":"20)"},{"$f":"Working!D23","v":1},{"$f":"Working!H23","v":" 0"},null,{"$f":"Working!C33","v":"30)"},{"$f":"Working!D33","v":1},{"$f":"Working!H33","v":" 0"},null,{"$f":"Working!C43","v":"40)"},{"$f":"Working!D43","v":1},{"$f":"Working!H43","v":" 0"}]

{"sheet":"Answers","index":2,"n_rows":23,"n_cols":15,"rows_kept":23,"cut":false,"hidden":false,"merged":[]}
[null,null,null,null,null,null,null,"DIVISION"]
[null,null,null,null,null,null,null,"ANSWERS",null,null,null,null,{"$f":"CONCATENATE(\"Worksheet \",Working!C1,Working!B1)","v":"Worksheet DAW-341"}]
["Evaluate the following;"]
[null,null,{"$f":"Working!N4","v":"  0"},null,null,null,{"$f":"Working!N14","v":"  0"},null,null,null,{"$f":"Working!N24","v":"  0"},null,null,null,{"$f":"Working!N34","v":"  0"}]
[{"$f":"Working!C4","v":"1)"},{"$f":"Working!D4","v":1},{"$f":"Working!H4","v":" 0"},null,{"$f":"Working!C14","v":"11)"},{"$f":"Working!D14","v":1},{"$f":"Working!H14","v":" 0"},null,{"$f":"Working!C24","v":"21)"},{"$f":"Working!D24","v":1},{"$f":"Working!H24","v":" 0"},null,{"$f":"Working!C34","v":"31)"},{"$f":"Working!D34","v":1},{"$f":"Working!H34","v":" 0"}]
[null,null,{"$f":"Working!N5","v":"  0"},null,null,null,{"$f":"Working!N15","v":"  0"},null,null,null,{"$f":"Working!N25","v":"  0"},null,null,null,{"$f":"Working!N35","v":"  0"}]
[{"$f":"Working!C5","v":"2)"},{"$f":"Working!D5","v":1},{"$f":"Working!H5","v":" 0"},null,{"$f":"Working!C15","v":"12)"},{"$f":"Working!D15","v":1},{"$f":"Working!H15","v":" 0"},null,{"$f":"Working!C25","v":"22)"},{"$f":"Working!D25","v":1},{"$f":"Working!H25","v":" 0"},null,{"$f":"Working!C35","v":"32)"},{"$f":"Working!D35","v":1},{"$f":"Working!H35","v":" 0"}]
[null,null,{"$f":"Working!N6","v":"  0"},null,null,null,{"$f":"Working!N16","v":"  0"},null,null,null,{"$f":"Working!N26","v":"  0"},null,null,null,{"$f":"Working!N36","v":"  0"}]
[{"$f":"Working!C6","v":"3)"},{"$f":"Working!D6","v":1},{"$f":"Working!H6","v":" 0"},null,{"$f":"Working!C16","v":"13)"},{"$f":"Working!D16","v":1},{"$f":"Working!H16","v":" 0"},null,{"$f":"Working!C26","v":"23)"},{"$f":"Working!D26","v":1},{"$f":"Working!H26","v":" 0"},null,{"$f":"Working!C36","v":"33)"},{"$f":"Working!D36","v":1},{"$f":"Working!H36","v":" 0"}]
[null,null,{"$f":"Working!N7","v":"  0"},null,null,null,{"$f":"Working!N17","v":"  0"},null,null,null,{"$f":"Working!N27","v":"  0"},null,null,null,{"$f":"Working!N37","v":"  0"}]
[{"$f":"Working!C7","v":"4)"},{"$f":"Working!D7","v":1},{"$f":"Working!H7","v":" 0"},null,{"$f":"Working!C17","v":"14)"},{"$f":"Working!D17","v":1},{"$f":"Working!H17","v":" 0"},null,{"$f":"Working!C27","v":"24)"},{"$f":"Working!D27","v":1},{"$f":"Working!H27","v":" 0"},null,{"$f":"Working!C37","v":"34)"},{"$f":"Working!D37","v":1},{"$f":"Working!H37","v":" 0"}]
[null,null,{"$f":"Working!N8","v":"  0"},null,null,null,{"$f":"Working!N18","v":"  0"},null,null,null,{"$f":"Working!N28","v":"  0"},null,null,null,{"$f":"Working!N38","v":"  0"}]
[{"$f":"Working!C8","v":"5)"},{"$f":"Working!D8","v":1},{"$f":"Working!H8","v":" 0"},null,{"$f":"Working!C18","v":"15)"},{"$f":"Working!D18","v":1},{"$f":"Working!H18","v":" 0"},null,{"$f":"Working!C28","v":"25)"},{"$f":"Working!D28","v":1},{"$f":"Working!H28","v":" 0"},null,{"$f":"Working!C38","v":"35)"},{"$f":"Working!D38","v":1},{"$f":"Working!H38","v":" 0"}]
[null,null,{"$f":"Working!N9","v":"  0"},null,null,null,{"$f":"Working!N19","v":"  0"},null,null,null,{"$f":"Working!N29","v":"  0"},null,null,null,{"$f":"Working!N39","v":"  0"}]
[{"$f":"Working!C9","v":"6)"},{"$f":"Working!D9","v":1},{"$f":"Working!H9","v":" 0"},null,{"$f":"Working!C19","v":"16)"},{"$f":"Working!D19","v":1},{"$f":"Working!H19","v":" 0"},null,{"$f":"Working!C29","v":"26)"},{"$f":"Working!D29","v":1},{"$f":"Working!H29","v":" 0"},null,{"$f":"Working!C39","v":"36)"},{"$f":"Working!D39","v":1},{"$f":"Working!H39","v":" 0"}]
[null,null,{"$f":"Working!N10","v":"  0"},null,null,null,{"$f":"Working!N20","v":"  0"},null,null,null,{"$f":"Working!N30","v":"  0"},null,null,null,{"$f":"Working!N40","v":"  0"}]
[{"$f":"Working!C10","v":"7)"},{"$f":"Working!D10","v":1},{"$f":"Working!H10","v":" 0"},null,{"$f":"Working!C20","v":"17)"},{"$f":"Working!D20","v":1},{"$f":"Working!H20","v":" 0"},null,{"$f":"Working!C30","v":"27)"},{"$f":"Working!D30","v":1},{"$f":"Working!H30","v":" 0"},null,{"$f":"Working!C40","v":"37)"},{"$f":"Working!D40","v":1},{"$f":"Working!H40","v":" 0"}]
[null,null,{"$f":"Working!N11","v":"  0"},null,null,null,{"$f":"Working!N21","v":"  0"},null,null,null,{"$f":"Working!N31","v":"  0"},null,null,null,{"$f":"Working!N41","v":"  0"}]
[{"$f":"Working!C11","v":"8)"},{"$f":"Working!D11","v":1},{"$f":"Working!H11","v":" 0"},null,{"$f":"Working!C21","v":"18)"},{"$f":"Working!D21","v":1},{"$f":"Working!H21","v":" 0"},null,{"$f":"Working!C31","v":"28)"},{"$f":"Working!D31","v":1},{"$f":"Working!H31","v":" 0"},null,{"$f":"Working!C41","v":"38)"},{"$f":"Working!D41","v":1},{"$f":"Working!H41","v":" 0"}]
[null,null,{"$f":"Working!N12","v":"  0"},null,null,null,{"$f":"Working!N22","v":"  0"},null,null,null,{"$f":"Working!N32","v":"  0"},null,null,null,{"$f":"Working!N42","v":"  0"}]
[{"$f":"Working!C12","v":"9)"},{"$f":"Working!D12","v":1},{"$f":"Working!H12","v":" 0"},null,{"$f":"Working!C22","v":"19)"},{"$f":"Working!D22","v":1},{"$f":"Working!H22","v":" 0"},null,{"$f":"Working!C32","v":"29)"},{"$f":"Working!D32","v":1},{"$f":"Working!H32","v":" 0"},null,{"$f":"Working!C42","v":"39)"},{"$f":"Working!D42","v":1},{"$f":"Working!H42","v":" 0"}]
[null,null,{"$f":"Working!N13","v":"  0"},null,null,null,{"$f":"Working!N23","v":"  0"},null,null,null,{"$f":"Working!N33","v":"  0"},null,null,null,{"$f":"Working!N43","v":"  0"}]
[{"$f":"Working!C13","v":"10)"},{"$f":"Working!D13","v":1},{"$f":"Working!H13","v":" 0"},null,{"$f":"Working!C23","v":"20)"},{"$f":"Working!D23","v":1},{"$f":"Working!H23","v":" 0"},null,{"$f":"Working!C33","v":"30)"},{"$f":"Working!D33","v":1},{"$f":"Working!H33","v":" 0"},null,{"$f":"Working!C43","v":"40)"},{"$f":"Working!D43","v":1},{"$f":"Working!H43","v":" 0"}]

{"sheet":"Working","index":3,"n_rows":43,"n_cols":14,"rows_kept":43,"cut":false,"hidden":true,"merged":[[1,4,1,6],[1,7,1,13]]}
[{"$f":"INT(900*RAND()+100)","v":341},{"$f":"TEXT(1,A1)","v":"341"},"DAW-"]
[null,null,null,null,"Numbers",null,null,"Text"]
[null,null,null,"Divisor","Quotient","Remainder","Dividend","Dividend","DLength","QLength",null,"Spaces","Remainder","Quotient"]
[1,")",{"$f":"CONCATENATE(A4,B4)","v":"1)"},{"$f":"INT(((10^Values!$F$6-1)-1)*RAND()+2)","v":1},{"$f":"INT((10^(Values!$F$11-1))*RAND()+(10^(Values!$F$11-2)))","v":0},{"$f":"INT(D4*RAND())","v":0},{"$f":"D4*E4+F4","v":0},{"$f":"CONCATENATE(\" \",G4)","v":" 0"},{"$f":"LEN(H4)","v":2},{"$f":"LEN(E4)","v":1},{"$f":"I4-J4","v":1},{"$f":"IF(K4=0,\" \",IF(K4=1,\"  \",IF(K4=2,\"   \",IF(K4=3,\"     \",\"       \"))))","v":"  "},{"$f":"IF(F4=0,\"\",CONCATENATE(\"r\",F4))","v":""},{"$f":"CONCATENATE(L4,E4,M4)","v":"  0"}]
[2,")",{"$f":"CONCATENATE(A5,B5)","v":"2)"},{"$f":"INT(((10^Values!$F$6-1)-1)*RAND()+2)","v":1},{"$f":"INT((10^(Values!$F$11-1))*RAND()+(10^(Values!$F$11-2)))","v":0},{"$f":"INT(D5*RAND())","v":0},{"$f":"D5*E5+F5","v":0},{"$f":"CONCATENATE(\" \",G5)","v":" 0"},{"$f":"LEN(H5)","v":2},{"$f":"LEN(E5)","v":1},{"$f":"I5-J5","v":1},{"$f":"IF(K5=0,\" \",IF(K5=1,\"  \",IF(K5=2,\"   \",IF(K5=3,\"     \",\"       \"))))","v":"  "},{"$f":"IF(F5=0,\"\",CONCATENATE(\"r\",F5))","v":""},{"$f":"CONCATENATE(L5,E5,M5)","v":"  0"}]
[3,")","3)",{"$f":"INT(((10^Values!$F$6-1)-1)*RAND()+2)","v":1},{"$f":"INT((10^(Values!$F$11-1))*RAND()+(10^(Values!$F$11-2)))","v":0},0,0," 0",2,1,1,"  ","","  0"]
[4,")","4)",{"$f":"INT(((10^Values!$F$6-1)-1)*RAND()+2)","v":1},{"$f":"INT((10^(Values!$F$11-1))*RAND()+(10^(Values!$F$11-2)))","v":0},0,0," 0",2,1,1,"  ","","  0"]
[5,")","5)",{"$f":"INT(((10^Values!$F$6-1)-1)*RAND()+2)","v":1},{"$f":"INT((10^(Values!$F$11-1))*RAND()+(10^(Values!$F$11-2)))","v":0},0,0," 0",2,1,1,"  ","","  0"]
[6,")","6)",{"$f":"INT(((10^Values!$F$6-1)-1)*RAND()+2)","v":1},{"$f":"INT((10^(Values!$F$11-1))*RAND()+(10^(Values!$F$11-2)))","v":0},0,0," 0",2,1,1,"  ","","  0"]
[7,")","7)",{"$f":"INT(((10^Values!$F$6-1)-1)*RAND()+2)","v":1},{"$f":"INT((10^(Values!$F$11-1))*RAND()+(10^(Values!$F$11-2)))","v":0},0,0," 0",2,1,1,"  ","","  0"]
[8,")","8)",{"$f":"INT(((10^Values!$F$6-1)-1)*RAND()+2)","v":1},{"$f":"INT((10^(Values!$F$11-1))*RAND()+(10^(Values!$F$11-2)))","v":0},0,0," 0",2,1,1,"  ","","  0"]
[9,")","9)",{"$f":"INT(((10^Values!$F$6-1)-1)*RAND()+2)","v":1},{"$f":"INT((10^(Values!$F$11-1))*RAND()+(10^(Values!$F$11-2)))","v":0},0,0," 0",2,1,1,"  ","","  0"]
[10,")","10)",{"$f":"INT(((10^Values!$F$6-1)-1)*RAND()+2)","v":1},{"$f":"INT((10^(Values!$F$11-1))*RAND()+(10^(Values!$F$11-2)))","v":0},0,0," 0",2,1,1,"  ","","  0"]
[11,")","11)",{"$f":"INT(((10^Values!$F$6-1)-1)*RAND()+2)","v":1},{"$f":"INT((10^(Values!$F$11-1))*RAND()+(10^(Values!$F$11-2)))","v":0},0,0," 0",2,1,1,"  ","","  0"]
[12,")","12)",{"$f":"INT(((10^Values!$F$6-1)-1)*RAND()+2)","v":1},{"$f":"INT((10^(Values!$F$11-1))*RAND()+(10^(Values!$F$11-2)))","v":0},0,0," 0",2,1,1,"  ","","  0"]
[13,")","13)",{"$f":"INT(((10^Values!$F$6-1)-1)*RAND()+2)","v":1},{"$f":"INT((10^(Values!$F$11-1))*RAND()+(10^(Values!$F$11-2)))","v":0},0,0," 0",2,1,1,"  ","","  0"]
[14,")","14)",{"$f":"INT(((10^Values!$F$6-1)-1)*RAND()+2)","v":1},{"$f":"INT((10^(Values!$F$11-1))*RAND()+(10^(Values!$F$11-2)))","v":0},0,0," 0",2,1,1,"  ","","  0"]
[15,")","15)",{"$f":"INT(((10^Values!$F$6-1)-1)*RAND()+2)","v":1},{"$f":"INT((10^(Values!$F$11-1))*RAND()+(10^(Values!$F$11-2)))","v":0},0,0," 0",2,1,1,"  ","","  0"]
[16,")","16)",{"$f":"INT(((10^Values!$F$6-1)-1)*RAND()+2)","v":1},{"$f":"INT((10^(Values!$F$11-1))*RAND()+(10^(Values!$F$11-2)))","v":0},0,0," 0",2,1,1,"  ","","  0"]
[17,")","17)",{"$f":"INT(((10^Values!$F$6-1)-1)*RAND()+2)","v":1},{"$f":"INT((10^(Values!$F$11-1))*RAND()+(10^(Values!$F$11-2)))","v":0},0,0," 0",2,1,1,"  ","","  0"]
[18,")","18)",{"$f":"INT(((10^Values!$F$6-1)-1)*RAND()+2)","v":1},{"$f":"INT((10^(Values!$F$11-1))*RAND()+(10^(Values!$F$11-2)))","v":0},0,0," 0",2,1,1,"  ","","  0"]
[19,")","19)",{"$f":"INT(((10^Values!$F$6-1)-1)*RAND()+2)","v":1},{"$f":"INT((10^(Values!$F$11-1))*RAND()+(10^(Values!$F$11-2)))","v":0},0,0," 0",2,1,1,"  ","","  0"]
[20,")","20)",{"$f":"INT(((10^Values!$F$6-1)-1)*RAND()+2)","v":1},{"$f":"INT((10^(Values!$F$11-1))*RAND()+(10^(Values!$F$11-2)))","v":0},0,0," 0",2,1,1,"  ","","  0"]
[21,")","21)",{"$f":"INT(((10^Values!$F$6-1)-1)*RAND()+2)","v":1},{"$f":"INT((10^(Values!$F$11-1))*RAND()+(10^(Values!$F$11-2)))","v":0},0,0," 0",2,1,1,"  ","","  0"]
[22,")","22)",{"$f":"INT(((10^Values!$F$6-1)-1)*RAND()+2)","v":1},{"$f":"INT((10^(Values!$F$11-1))*RAND()+(10^(Values!$F$11-2)))","v":0},0,0," 0",2,1,1,"  ","","  0"]
[23,")","23)",{"$f":"INT(((10^Values!$F$6-1)-1)*RAND()+2)","v":1},{"$f":"INT((10^(Values!$F$11-1))*RAND()+(10^(Values!$F$11-2)))","v":0},0,0," 0",2,1,1,"  ","","  0"]
[24,")","24)",{"$f":"INT(((10^Values!$F$6-1)-1)*RAND()+2)","v":1},{"$f":"INT((10^(Values!$F$11-1))*RAND()+(10^(Values!$F$11-2)))","v":0},0,0," 0",2,1,1,"  ","","  0"]
[25,")","25)",{"$f":"INT(((10^Values!$F$6-1)-1)*RAND()+2)","v":1},{"$f":"INT((10^(Values!$F$11-1))*RAND()+(10^(Values!$F$11-2)))","v":0},0,0," 0",2,1,1,"  ","","  0"]
[26,")","26)",{"$f":"INT(((10^Values!$F$6-1)-1)*RAND()+2)","v":1},{"$f":"INT((10^(Values!$F$11-1))*RAND()+(10^(Values!$F$11-2)))","v":0},0,0," 0",2,1,1,"  ","","  0"]
[27,")","27)",{"$f":"INT(((10^Values!$F$6-1)-1)*RAND()+2)","v":1},{"$f":"INT((10^(Values!$F$11-1))*RAND()+(10^(Values!$F$11-2)))","v":0},0,0," 0",2,1,1,"  ","","  0"]
[28,")","28)",{"$f":"INT(((10^Values!$F$6-1)-1)*RAND()+2)","v":1},{"$f":"INT((10^(Values!$F$11-1))*RAND()+(10^(Values!$F$11-2)))","v":0},0,0," 0",2,1,1,"  ","","  0"]
[29,")","29)",{"$f":"INT(((10^Values!$F$6-1)-1)*RAND()+2)","v":1},{"$f":"INT((10^(Values!$F$11-1))*RAND()+(10^(Values!$F$11-2)))","v":0},0,0," 0",2,1,1,"  ","","  0"]
[30,")","30)",{"$f":"INT(((10^Values!$F$6-1)-1)*RAND()+2)","v":1},{"$f":"INT((10^(Values!$F$11-1))*RAND()+(10^(Values!$F$11-2)))","v":0},0,0," 0",2,1,1,"  ","","  0"]
[31,")","31)",{"$f":"INT(((10^Values!$F$6-1)-1)*RAND()+2)","v":1},{"$f":"INT((10^(Values!$F$11-1))*RAND()+(10^(Values!$F$11-2)))","v":0},0,0," 0",2,1,1,"  ","","  0"]
[32,")","32)",{"$f":"INT(((10^Values!$F$6-1)-1)*RAND()+2)","v":1},{"$f":"INT((10^(Values!$F$11-1))*RAND()+(10^(Values!$F$11-2)))","v":0},0,0," 0",2,1,1,"  ","","  0"]
[33,")","33)",{"$f":"INT(((10^Values!$F$6-1)-1)*RAND()+2)","v":1},{"$f":"INT((10^(Values!$F$11-1))*RAND()+(10^(Values!$F$11-2)))","v":0},0,0," 0",2,1,1,"  ","","  0"]
[34,")","34)",{"$f":"INT(((10^Values!$F$6-1)-1)*RAND()+2)","v":1},{"$f":"INT((10^(Values!$F$11-1))*RAND()+(10^(Values!$F$11-2)))","v":0},0,0," 0",2,1,1,"  ","","  0"]
[35,")","35)",{"$f":"INT(((10^Values!$F$6-1)-1)*RAND()+2)","v":1},{"$f":"INT((10^(Values!$F$11-1))*RAND()+(10^(Values!$F$11-2)))","v":0},0,0," 0",2,1,1,"  ","","  0"]
[36,")","36)",{"$f":"INT(((10^Values!$F$6-1)-1)*RAND()+2)","v":1},{"$f":"INT((10^(Values!$F$11-1))*RAND()+(10^(Values!$F$11-2)))","v":0},0,0," 0",2,1,1,"  ","","  0"]
[37,")","37)",{"$f":"INT(((10^Values!$F$6-1)-1)*RAND()+2)","v":1},{"$f":"INT((10^(Values!$F$11-1))*RAND()+(10^(Values!$F$11-2)))","v":0},0,0," 0",2,1,1,"  ","","  0"]
[38,")","38)",{"$f":"INT(((10^Values!$F$6-1)-1)*RAND()+2)","v":1},{"$f":"INT((10^(Values!$F$11-1))*RAND()+(10^(Values!$F$11-2)))","v":0},0,0," 0",2,1,1,"  ","","  0"]
[39,")","39)",{"$f":"INT(((10^Values!$F$6-1)-1)*RAND()+2)","v":1},{"$f":"INT((10^(Values!$F$11-1))*RAND()+(10^(Values!$F$11-2)))","v":0},0,0," 0",2,1,1,"  ","","  0"]
[40,")","40)",{"$f":"INT(((10^Values!$F$6-1)-1)*RAND()+2)","v":1},{"$f":"INT((10^(Values!$F$11-1))*RAND()+(10^(Values!$F$11-2)))","v":0},0,0," 0",2,1,1,"  ","","  0"]