{"text_format":"1","workbook":"xlsx","n_sheets":4,"sheets":["Values","Questions","Answers","Working"],"not_rendered":{"charts":0,"images":0,"macros":1,"external_links":0,"defined_names":0,"comments":0,"pivot_tables":0},"unopened":[],"bounds":{"document_bytes":16777216,"sheet_cells":100000,"rows_first":2000,"rows_last":500,"rows_between":2000,"halvings":0,"cell_chars":16384,"cell_head_chars":4096},"cells_cut":0,"cells_raw":0,"read":"whole","date_system":"1900"}

{"sheet":"Values","index":0,"n_rows":25,"n_cols":9,"rows_kept":25,"cut":false,"hidden":false,"merged":[[12,8,16,9],[14,2,17,7],[1,2,1,6],[3,2,4,7],[5,2,5,4],[7,2,8,7],[10,2,10,4],[12,2,12,6]]}
[null,null,null,null,"DIVISION FACTS"]
[null,null,"INSTRUCTIONS"]
[]
[null,"Step 1","Enter the lowest number to be used for this sheet. (A whole number >1 and ≤ 12)"]
[]
[null,null,"Lowest Divisor"]
[]
[null,"Step 2","Enter the highest number to be used for this sheet. (A whole number ≥ first number and ≤ 12)"]
[]
[]
[null,null,"Highest  Divisor"]
[]
[null,"Step 3","Click on WorkSheet tab below.",null,null,null,null,null,"PRESS F9 for NEW WorkSheet"]
[]
[null,"Note","If you hold down shift then click on the WorkSheet tab and the Solutions tab, you will be able to print both the WorkSheet and the solutions."]
[]
[]
[]
[]
[]
[null,null,"NOTES"]
[null,null,"* Choose to learn 1 number by entering the same number in both boxes."]
[null,null,"* Each WorkSheet has 50 questions."]
[null,null,"* Bigger answers spaces for those who writer bigger."]
[null,null,"* The divisor is always written second."]

{"sheet":"Questions","index":1,"n_rows":37,"n_cols":20,"rows_kept":37,"cut":false,"hidden":false,"merged":[]}
[null,null,null,null,null,null,{"$f":"Working!J1","v":"DIVISION OF NUMBERS"}]
[]
[null,null,null,null,null,null,null,null,null,null,null,null,null,null,null,null,"Worksheet ",null,null,{"$f":"Working!J2","v":148}]
[]
["1)",{"$f":"Working!E3","v":0},"¸",{"$f":"Working!B3","v":0},"=",null,null,"18)",{"$f":"Working!E20","v":0},"¸",{"$f":"Working!B20","v":0},"=",null,null,"35)",{"$f":"Working!J12","v":0},"¸",{"$f":"Working!G12","v":0},"="]
[]
["2)",{"$f":"Working!E4","v":0},"¸",{"$f":"Working!B4","v":0},"=",null,null,"19)",{"$f":"Working!E21","v":0},"¸",{"$f":"Working!B21","v":0},"=",null,null,"36)",{"$f":"Working!J13","v":0},"¸",{"$f":"Working!G13","v":0},"="]
[]
["3)",{"$f":"Working!E5","v":0},"¸",{"$f":"Working!B5","v":0},"=",null,null,"20)",{"$f":"Working!E22","v":0},"¸",{"$f":"Working!B22","v":0},"=",null,null,"37)",{"$f":"Working!J14","v":0},"¸",{"$f":"Working!G14","v":0},"="]
[]
["4)",{"$f":"Working!E6","v":0},"¸",{"$f":"Working!B6","v":0},"=",null,null,"21)",{"$f":"Working!E23","v":0},"¸",{"$f":"Working!B23","v":0},"=",null,null,"38)",{"$f":"Working!J15","v":0},"¸",{"$f":"Working!G15","v":0},"="]
[]
["5)",{"$f":"Working!E7","v":0},"¸",{"$f":"Working!B7","v":0},"=",null,null,"22)",{"$f":"Working!E24","v":0},"¸",{"$f":"Working!B24","v":0},"=",null,null,"39)",{"$f":"Working!J16","v":0},"¸",{"$f":"Working!G16","v":0},"="]
[]
["6)",{"$f":"Working!E8","v":0},"¸",{"$f":"Working!B8","v":0},"=",null,null,"23)",{"$f":"Working!E25","v":0},"¸",{"$f":"Working!B25","v":0},"=",null,null,"40)",{"$f":"Working!J17","v":0},"¸",{"$f":"Working!G17","v":0},"="]
[]
["7)",{"$f":"Working!E9","v":0},"¸",{"$f":"Working!B9","v":0},"=",null,null,"24)",{"$f":"Working!E26","v":0},"¸",{"$f":"Working!B26","v":0},"=",null,null,"41)",{"$f":"Working!J18","v":0},"¸",{"$f":"Working!G18","v":0},"="]
[]
["8)",{"$f":"Working!E10","v":0},"¸",{"$f":"Working!B10","v":0},"=",null,null,"25)",{"$f":"Working!E27","v":0},"¸",{"$f":"Working!B27","v":0},"=",null,null,"42)",{"$f":"Working!J19","v":0},"¸",{"$f":"Working!G19","v":0},"="]
[]
["9)",{"$f":"Working!E11","v":0},"¸",{"$f":"Working!B11","v":0},"=",null,null,"26)",{"$f":"Working!J3","v":0},"¸",{"$f":"Working!G3","v":0},"=",null,null,"43)",{"$f":"Working!J20","v":0},"¸",{"$f":"Working!G20","v":0},"="]
[]
["10)",{"$f":"Working!E12","v":0},"¸",{"$f":"Working!B12","v":0},"=",null,null,"27)",{"$f":"Working!J4","v":0},"¸",{"$f":"Working!G4","v":0},"=",null,null,"44)",{"$f":"Working!J21","v":0},"¸",{"$f":"Working!G21","v":0},"="]
[]
["11)",{"$f":"Working!E13","v":0},"¸",{"$f":"Working!B13","v":0},"=",null,null,"28)",{"$f":"Working!J5","v":0},"¸",{"$f":"Working!G5","v":0},"=",null,null,"45)",{"$f":"Working!J22","v":0},"¸",{"$f":"Working!G22","v":0},"="]
[]
["12)",{"$f":"Working!E14","v":0},"¸",{"$f":"Working!B14","v":0},"=",null,null,"29)",{"$f":"Working!J6","v":0},"¸",{"$f":"Working!G6","v":0},"=",null,null,"46)",{"$f":"Working!J23","v":0},"¸",{"$f":"Working!G23","v":0},"="]
[]
["13)",{"$f":"Working!E15","v":0},"¸",{"$f":"Working!B15","v":0},"=",null,null,"30)",{"$f":"Working!J7","v":0},"¸",{"$f":"Working!G7","v":0},"=",null,null,"47)",{"$f":"Working!J24","v":0},"¸",{"$f":"Working!G24","v":0},"="]
[]
["14)",{"$f":"Working!E16","v":0},"¸",{"$f":"Working!B16","v":0},"=",null,null,"31)",{"$f":"Working!J8","v":0},"¸",{"$f":"Working!G8","v":0},"=",null,null,"48)",{"$f":"Working!J25","v":0},"¸",{"$f":"Working!G25","v":0},"="]
[]
["15)",{"$f":"Working!E17","v":0},"¸",{"$f":"Working!B17","v":0},"=",null,null,"32)",{"$f":"Working!J9","v":0},"¸",{"$f":"Working!G9","v":0},"=",null,null,"49)",{"$f":"Working!J26","v":0},"¸",{"$f":"Working!G26","v":0},"="]
[]
["16)",{"$f":"Working!E18","v":0},"¸",{"$f":"Working!B18","v":0},"=",null,null,"33)",{"$f":"Working!J10","v":0},"¸",{"$f":"Working!G10","v":0},"=",null,null,"50)",{"$f":"Working!J27","v":0},"¸",{"$f":"Working!G27","v":0},"="]
[]
["17)",{"$f":"Working!E19","v":0},"¸",{"$f":"Working!B19","v":0},"=",null,null,"34)",{"$f":"Working!J11","v":0},"¸",{"$f":"Working!G11","v":0},"="]

{"sheet":"Answers","index":2,"n_rows":37,"n_cols":20,"rows_kept":37,"cut":false,"hidden":false,"merged":[]}
[null,null,null,null,null,null,{"$f":"Working!J1","v":"DIVISION OF NUMBERS"}]
[]
[null,null,null,null,null,null,null,null,null,null,null,null,null,null,null,null,"Worksheet ",null,null,{"$f":"Working!J2","v":148}]
[]
["1)",{"$f":"Working!E3","v":0},"¸",{"$f":"Working!B3","v":0},"=",{"$f":"Working!D3","v":2},null,"18)",{"$f":"Working!E20","v":0},"¸",{"$f":"Working!B20","v":0},"=",{"$f":"Working!D20","v":8},null,"35)",{"$f":"Working!J12","v":0},"¸",{"$f":"Working!G12","v":0},"=",{"$f":"Working!I12","v":5}]
[]
["2)",{"$f":"Working!E4","v":0},"¸",{"$f":"Working!B4","v":0},"=",{"$f":"Working!D4","v":6},null,"19)",{"$f":"Working!E21","v":0},"¸",{"$f":"Working!B21","v":0},"=",{"$f":"Working!D21","v":3},null,"36)",{"$f":"Working!J13","v":0},"¸",{"$f":"Working!G13","v":0},"=",{"$f":"Working!I13","v":3}]
[]
["3)",{"$f":"Working!E5","v":0},"¸",{"$f":"Working!B5","v":0},"=",{"$f":"Working!D5","v":6},null,"20)",{"$f":"Working!E22","v":0},"¸",{"$f":"Working!B22","v":0},"=",{"$f":"Working!D22","v":3},null,"37)",{"$f":"Working!J14","v":0},"¸",{"$f":"Working!G14","v":0},"=",{"$f":"Working!I14","v":6}]
[]
["4)",{"$f":"Working!E6","v":0},"¸",{"$f":"Working!B6","v":0},"=",{"$f":"Working!D6","v":10},null,"21)",{"$f":"Working!E23","v":0},"¸",{"$f":"Working!B23","v":0},"=",{"$f":"Working!D22","v":3},null,"38)",{"$f":"Working!J15","v":0},"¸",{"$f":"Working!G15","v":0},"=",{"$f":"Working!I15","v":4}]
[]
["5)",{"$f":"Working!E7","v":0},"¸",{"$f":"Working!B7","v":0},"=",{"$f":"Working!D7","v":9},null,"22)",{"$f":"Working!E24","v":0},"¸",{"$f":"Working!B24","v":0},"=",{"$f":"Working!D24","v":8},null,"39)",{"$f":"Working!J16","v":0},"¸",{"$f":"Working!G16","v":0},"=",{"$f":"Working!I16","v":5}]
[]
["6)",{"$f":"Working!E8","v":0},"¸",{"$f":"Working!B8","v":0},"=",{"$f":"Working!D8","v":3},null,"23)",{"$f":"Working!E25","v":0},"¸",{"$f":"Working!B25","v":0},"=",{"$f":"Working!D25","v":10},null,"40)",{"$f":"Working!J17","v":0},"¸",{"$f":"Working!G17","v":0},"=",{"$f":"Working!I17","v":10}]
[]
["7)",{"$f":"Working!E9","v":0},"¸",{"$f":"Working!B9","v":0},"=",{"$f":"Working!D9","v":3},null,"24)",{"$f":"Working!E26","v":0},"¸",{"$f":"Working!B26","v":0},"=",{"$f":"Working!D26","v":2},null,"41)",{"$f":"Working!J18","v":0},"¸",{"$f":"Working!G18","v":0},"=",{"$f":"Working!I18","v":3}]
[]
["8)",{"$f":"Working!E10","v":0},"¸",{"$f":"Working!B10","v":0},"=",{"$f":"Working!D10","v":7},null,"25)",{"$f":"Working!E27","v":0},"¸",{"$f":"Working!B27","v":0},"=",{"$f":"Working!D27","v":4},null,"42)",{"$f":"Working!J19","v":0},"¸",{"$f":"Working!G19","v":0},"=",{"$f":"Working!I19","v":3}]
[]
["9)",{"$f":"Working!E11","v":0},"¸",{"$f":"Working!B11","v":0},"=",{"$f":"Working!D11","v":8},null,"26)",{"$f":"Working!J3","v":0},"¸",{"$f":"Working!G3","v":0},"=",{"$f":"Working!I3","v":7},null,"43)",{"$f":"Working!J20","v":0},"¸",{"$f":"Working!G20","v":0},"=",{"$f":"Working!I20","v":3}]
[]
["10)",{"$f":"Working!E12","v":0},"¸",{"$f":"Working!B12","v":0},"=",{"$f":"Working!D12","v":8},null,"27)",{"$f":"Working!J4","v":0},"¸",{"$f":"Working!G4","v":0},"=",{"$f":"Working!I4","v":9},null,"44)",{"$f":"Working!J21","v":0},"¸",{"$f":"Working!G21","v":0},"=",{"$f":"Working!I21","v":5}]
[]
["11)",{"$f":"Working!E13","v":0},"¸",{"$f":"Working!B13","v":0},"=",{"$f":"Working!D13","v":9},null,"28)",{"$f":"Working!J5","v":0},"¸",{"$f":"Working!G5","v":0},"=",{"$f":"Working!I5","v":6},null,"45)",{"$f":"Working!J22","v":0},"¸",{"$f":"Working!G22","v":0},"=",{"$f":"Working!I22","v":3}]
[]
["12)",{"$f":"Working!E14","v":0},"¸",{"$f":"Working!B14","v":0},"=",{"$f":"Working!D14","v":4},null,"29)",{"$f":"Working!J6","v":0},"¸",{"$f":"Working!G6","v":0},"=",{"$f":"Working!I6","v":4},null,"46)",{"$f":"Working!J23","v":0},"¸",{"$f":"Working!G23","v":0},"=",{"$f":"Working!I23","v":9}]
[]
["13)",{"$f":"Working!E15","v":0},"¸",{"$f":"Working!B15","v":0},"=",{"$f":"Working!D15","v":6},null,"30)",{"$f":"Working!J7","v":0},"¸",{"$f":"Working!G7","v":0},"=",{"$f":"Working!I7","v":2},null,"47)",{"$f":"Working!J24","v":0},"¸",{"$f":"Working!G24","v":0},"=",{"$f":"Working!I24","v":3}]
[]
["14)",{"$f":"Working!E16","v":0},"¸",{"$f":"Working!B16","v":0},"=",{"$f":"Working!D16","v":2},null,"31)",{"$f":"Working!J8","v":0},"¸",{"$f":"Working!G8","v":0},"=",{"$f":"Working!I8","v":10},null,"48)",{"$f":"Working!J25","v":0},"¸",{"$f":"Working!G25","v":0},"=",{"$f":"Working!I25","v":2}]
[]
["15)",{"$f":"Working!E17","v":0},"¸",{"$f":"Working!B17","v":0},"=",{"$f":"Working!D17","v":8},null,"32)",{"$f":"Working!J9","v":0},"¸",{"$f":"Working!G9","v":0},"=",{"$f":"Working!I9","v":10},null,"49)",{"$f":"Working!J26","v":0},"¸",{"$f":"Working!G26","v":0},"=",{"$f":"Working!I26","v":4}]
[]
["16)",{"$f":"Working!E18","v":0},"¸",{"$f":"Working!B18","v":0},"=",{"$f":"Working!D18","v":8},null,"33)",{"$f":"Working!J10","v":0},"¸",{"$f":"Working!G10","v":0},"=",{"$f":"Working!I10","v":8},null,"50)",{"$f":"Working!J27","v":0},"¸",{"$f":"Working!G27","v":0},"=",{"$f":"Working!I27","v":9}]
[]
["17)",{"$f":"Working!E19","v":0},"¸",{"$f":"Working!B19","v":0},"=",{"$f":"Working!D19","v":4},null,"34)",{"$f":"Working!J11","v":0},"¸",{"$f":"Working!G11","v":0},"=",{"$f":"Working!I11","v":8}]

{"sheet":"Working","index":3,"n_rows":27,"n_cols":10,"rows_kept":27,"cut":false,"hidden":true,"merged":[[1,9,1,10]]}
[null,null,null,null,null,null,null,null,null,"DIVISION OF NUMBERS"]
[null,null,null,null,null,null,"Worksheet ",null,null,{"$f":"INT(1000*RAND()+10)","v":148}]
["1)",{"$f":"INT((Values!$F$11-Values!$F$6+1)*RAND()+Values!$F$6)","v":0},"¸",{"$f":"INT(9*RAND()+2)","v":2},{"$f":"B3*D3","v":0},"26)",{"$f":"INT((Values!$F$11-Values!$F$6+1)*RAND()+Values!$F$6)","v":0},"¸",{"$f":"INT(9*RAND()+2)","v":7},{"$f":"G3*I3","v":0}]
["2)",{"$f":"INT((Values!$F$11-Values!$F$6+1)*RAND()+Values!$F$6)","v":0},"¸",6,{"$f":"B4*D4","v":0},"27)",{"$f":"INT((Values!$F$11-Values!$F$6+1)*RAND()+Values!$F$6)","v":0},"¸",9,{"$f":"G4*I4","v":0}]
["3)",{"$f":"INT((Values!$F$11-Values!$F$6+1)*RAND()+Values!$F$6)","v":0},"¸",6,0,"28)",{"$f":"INT((Values!$F$11-Values!$F$6+1)*RAND()+Values!$F$6)","v":0},"¸",6,0]
["4)",{"$f":"INT((Values!$F$11-Values!$F$6+1)*RAND()+Values!$F$6)","v":0},"¸",10,0,"29)",{"$f":"INT((Values!$F$11-Values!$F$6+1)*RAND()+Values!$F$6)","v":0},"¸",4,0]
["5)",{"$f":"INT((Values!$F$11-Values!$F$6+1)*RAND()+Values!$F$6)","v":0},"¸",9,0,"30)",{"$f":"INT((Values!$F$11-Values!$F$6+1)*RAND()+Values!$F$6)","v":0},"¸",2,0]
["6)",{"$f":"INT((Values!$F$11-Values!$F$6+1)*RAND()+Values!$F$6)","v":0},"¸",3,0,"31)",{"$f":"INT((Values!$F$11-Values!$F$6+1)*RAND()+Values!$F$6)","v":0},"¸",10,0]
["7)",{"$f":"INT((Values!$F$11-Values!$F$6+1)*RAND()+Values!$F$6)","v":0},"¸",3,0,"32)",{"$f":"INT((Values!$F$11-Values!$F$6+1)*RAND()+Values!$F$6)","v":0},"¸",10,0]
["8)",{"$f":"INT((Values!$F$11-Values!$F$6+1)*RAND()+Values!$F$6)","v":0},"¸",7,0,"33)",{"$f":"INT((Values!$F$11-Values!$F$6+1)*RAND()+Values!$F$6)","v":0},"¸",8,0]
["9)",{"$f":"INT((Values!$F$11-Values!$F$6+1)*RAND()+Values!$F$6)","v":0},"¸",8,0,"34)",{"$f":"INT((Values!$F$11-Values!$F$6+1)*RAND()+Values!$F$6)","v":0},"¸",8,0]
["10)",{"$f":"INT((Values!$F$11-Values!$F$6+1)*RAND()+Values!$F$6)","v":0},"¸",8,0,"35)",{"$f":"INT((Values!$F$11-Values!$F$6+1)*RAND()+Values!$F$6)","v":0},"¸",5,0]
["11)",{"$f":"INT((Values!$F$11-Values!$F$6+1)*RAND()+Values!$F$6)","v":0},"¸",9,0,"36)",{"$f":"INT((Values!$F$11-Values!$F$6+1)*RAND()+Values!$F$6)","v":0},"¸",3,0]
["12)",{"$f":"INT((Values!$F$11-Values!$F$6+1)*RAND()+Values!$F$6)","v":0},"¸",4,0,"37)",{"$f":"INT((Values!$F$11-Values!$F$6+1)*RAND()+Values!$F$6)","v":0},"¸",6,0]
["13)",{"$f":"INT((Values!$F$11-Values!$F$6+1)*RAND()+Values!$F$6)","v":0},"¸",6,0,"38)",{"$f":"INT((Values!$F$11-Values!$F$6+1)*RAND()+Values!$F$6)","v":0},"¸",4,0]
["14)",{"$f":"INT((Values!$F$11-Values!$F$6+1)*RAND()+Values!$F$6)","v":0},"¸",2,0,"39)",{"$f":"INT((Values!$F$11-Values!$F$6+1)*RAND()+Values!$F$6)","v":0},"¸",5,0]
["15)",{"$f":"INT((Values!$F$11-Values!$F$6+1)*RAND()+Values!$F$6)","v":0},"¸",8,0,"40)",{"$f":"INT((Values!$F$11-Values!$F$6+1)*RAND()+Values!$F$6)","v":0},"¸",10,0]
["16)",{"$f":"INT((Values!$F$11-Values!$F$6+1)*RAND()+Values!$F$6)","v":0},"¸",8,0,"41)",{"$f":"INT((Values!$F$11-Values!$F$6+1)*RAND()+Values!$F$6)","v":0},"¸",3,0]
["17)",{"$f":"INT((Values!$F$11-Values!$F$6+1)*RAND()+Values!$F$6)","v":0},"¸",4,0,"42)",{"$f":"INT((Values!$F$11-Values!$F$6+1)*RAND()+Values!$F$6)","v":0},"¸",3,0]
["18)",{"$f":"INT((Values!$F$11-Values!$F$6+1)*RAND()+Values!$F$6)","v":0},"¸",8,0,"43)",{"$f":"INT((Values!$F$11-Values!$F$6+1)*RAND()+Values!$F$6)","v":0},"¸",3,0]
["19)",{"$f":"INT((Values!$F$11-Values!$F$6+1)*RAND()+Values!$F$6)","v":0},"¸",3,0,"44)",{"$f":"INT((Values!$F$11-Values!$F$6+1)*RAND()+Values!$F$6)","v":0},"¸",5,0]
["20)",{"$f":"INT((Values!$F$11-Values!$F$6+1)*RAND()+Values!$F$6)","v":0},"¸",3,0,"45)",{"$f":"INT((Values!$F$11-Values!$F$6+1)*RAND()+Values!$F$6)","v":0},"¸",3,0]
["21)",{"$f":"INT((Values!$F$11-Values!$F$6+1)*RAND()+Values!$F$6)","v":0},"¸",9,0,"46)",{"$f":"INT((Values!$F$11-Values!$F$6+1)*RAND()+Values!$F$6)","v":0},"¸",9,0]
["22)",{"$f":"INT((Values!$F$11-Values!$F$6+1)*RAND()+Values!$F$6)","v":0},"¸",8,0,"47)",{"$f":"INT((Values!$F$11-Values!$F$6+1)*RAND()+Values!$F$6)","v":0},"¸",3,0]
["23)",{"$f":"INT((Values!$F$11-Values!$F$6+1)*RAND()+Values!$F$6)","v":0},"¸",10,0,"48)",{"$f":"INT((Values!$F$11-Values!$F$6+1)*RAND()+Values!$F$6)","v":0},"¸",2,0]
["24)",{"$f":"INT((Values!$F$11-Values!$F$6+1)*RAND()+Values!$F$6)","v":0},"¸",2,0,"49)",{"$f":"INT((Values!$F$11-Values!$F$6+1)*RAND()+Values!$F$6)","v":0},"¸",4,0]
["25)",{"$f":"INT((Values!$F$11-Values!$F$6+1)*RAND()+Values!$F$6)","v":0},"¸",4,0,"50)",{"$f":"INT((Values!$F$11-Values!$F$6+1)*RAND()+Values!$F$6)","v":0},"¸",9,0]