{"text_format":"1","workbook":"xlsx","n_sheets":4,"sheets":["Values","Questions","Answers","Working"],"not_rendered":{"charts":0,"images":0,"macros":1,"external_links":0,"defined_names":0,"comments":0,"pivot_tables":0},"unopened":[],"bounds":{"document_bytes":16777216,"sheet_cells":100000,"rows_first":2000,"rows_last":500,"rows_between":2000,"halvings":0,"cell_chars":16384,"cell_head_chars":4096},"cells_cut":0,"cells_raw":0,"read":"whole","date_system":"1900"}

{"sheet":"Values","index":0,"n_rows":24,"n_cols":9,"rows_kept":24,"cut":false,"hidden":false,"merged":[[10,2,10,4],[12,2,12,6],[12,8,16,9],[14,2,17,7],[1,2,1,6],[3,2,4,7],[5,2,5,4],[7,2,8,7]]}
[null,null,null,null,"DIVISION FACTS"]
[null,null,"INSTRUCTIONS"]
[]
[null,"Step 1","Enter the lowest number to be used for this sheet. (A whole number >1 and ≤ 12)"]
[]
[null,null,"Lowest Divisor"]
[]
[null,"Step 2","Enter the highest number to be used for this sheet. (A whole number ≥ first number and ≤ 12)"]
[]
[]
[null,null,"Highest  Divisor"]
[]
[null,"Step 3","Click on WorkSheet tab below.",null,null,null,null,null,"PRESS F9 for NEW WorkSheet"]
[]
[null,"Note","If you hold down shift then click on the WorkSheet tab and the Answers tab, you will be able to print both the WorkSheet and the solutions."]
[]
[]
[]
[]
[]
[null,null,"NOTES"]
[null,null,"* Choose to learn 1 number by entering the same number in both boxes."]
[null,null,"* Each WorkSheet has 100 questions."]
[null,null,"* The divisor is always written second."]

{"sheet":"Questions","index":1,"n_rows":27,"n_cols":20,"rows_kept":27,"cut":false,"hidden":false,"merged":[[1,18,1,19]]}
[null,null,null,null,null,null,null,null,null,{"$f":"Working!J1","v":"DIVISION OF NUMBERS"}]
[null,null,null,null,null,null,null,null,null,null,null,null,null,null,null,"Worksheet ",null,null,{"$f":"INT(1000*RAND()+10)","v":894}]
["1)",{"$f":"Working!E3","v":0},"¸",{"$f":"Working!B3","v":0},"=","26)",{"$f":"Working!J3","v":0},"¸",{"$f":"Working!G3","v":0},"=","51)",{"$f":"Working!O3","v":0},"¸",{"$f":"Working!L3","v":0},"=","76)",{"$f":"Working!T3","v":0},"¸",{"$f":"Working!Q3","v":0},"="]
["2)",{"$f":"Working!E4","v":0},"¸",{"$f":"Working!B4","v":0},"=","27)",{"$f":"Working!J4","v":0},"¸",{"$f":"Working!G4","v":0},"=","52)",{"$f":"Working!O4","v":0},"¸",{"$f":"Working!L4","v":0},"=","77)",{"$f":"Working!T4","v":0},"¸",{"$f":"Working!Q4","v":0},"="]
["3)",{"$f":"Working!E5","v":0},"¸",{"$f":"Working!B5","v":0},"=","28)",{"$f":"Working!J5","v":0},"¸",{"$f":"Working!G5","v":0},"=","53)",{"$f":"Working!O5","v":0},"¸",{"$f":"Working!L5","v":0},"=","78)",{"$f":"Working!T5","v":0},"¸",{"$f":"Working!Q5","v":0},"="]
["4)",{"$f":"Working!E6","v":0},"¸",{"$f":"Working!B6","v":0},"=","29)",{"$f":"Working!J6","v":0},"¸",{"$f":"Working!G6","v":0},"=","54)",{"$f":"Working!O6","v":0},"¸",{"$f":"Working!L6","v":0},"=","79)",{"$f":"Working!T6","v":0},"¸",{"$f":"Working!Q6","v":0},"="]
["5)",{"$f":"Working!E7","v":0},"¸",{"$f":"Working!B7","v":0},"=","30)",{"$f":"Working!J7","v":0},"¸",{"$f":"Working!G7","v":0},"=","55)",{"$f":"Working!O7","v":0},"¸",{"$f":"Working!L7","v":0},"=","80)",{"$f":"Working!T7","v":0},"¸",{"$f":"Working!Q7","v":0},"="]
["6)",{"$f":"Working!E8","v":0},"¸",{"$f":"Working!B8","v":0},"=","31)",{"$f":"Working!J8","v":0},"¸",{"$f":"Working!G8","v":0},"=","56)",{"$f":"Working!O8","v":0},"¸",{"$f":"Working!L8","v":0},"=","81)",{"$f":"Working!T8","v":0},"¸",{"$f":"Working!Q8","v":0},"="]
["7)",{"$f":"Working!E9","v":0},"¸",{"$f":"Working!B9","v":0},"=","32)",{"$f":"Working!J9","v":0},"¸",{"$f":"Working!G9","v":0},"=","57)",{"$f":"Working!O9","v":0},"¸",{"$f":"Working!L9","v":0},"=","82)",{"$f":"Working!T9","v":0},"¸",{"$f":"Working!Q9","v":0},"="]
["8)",{"$f":"Working!E10","v":0},"¸",{"$f":"Working!B10","v":0},"=","33)",{"$f":"Working!J10","v":0},"¸",{"$f":"Working!G10","v":0},"=","58)",{"$f":"Working!O10","v":0},"¸",{"$f":"Working!L10","v":0},"=","88)",{"$f":"Working!T10","v":0},"¸",{"$f":"Working!Q10","v":0},"="]
["9)",{"$f":"Working!E11","v":0},"¸",{"$f":"Working!B11","v":0},"=","34)",{"$f":"Working!J11","v":0},"¸",{"$f":"Working!G11","v":0},"=","59)",{"$f":"Working!O11","v":0},"¸",{"$f":"Working!L11","v":0},"=","84)",{"$f":"Working!T11","v":0},"¸",{"$f":"Working!Q11","v":0},"="]
["10)",{"$f":"Working!E12","v":0},"¸",{"$f":"Working!B12","v":0},"=","35)",{"$f":"Working!J12","v":0},"¸",{"$f":"Working!G12","v":0},"=","60)",{"$f":"Working!O12","v":0},"¸",{"$f":"Working!L12","v":0},"=","85)",{"$f":"Working!T12","v":0},"¸",{"$f":"Working!Q12","v":0},"="]
["11)",{"$f":"Working!E13","v":0},"¸",{"$f":"Working!B13","v":0},"=","36)",{"$f":"Working!J13","v":0},"¸",{"$f":"Working!G13","v":0},"=","61)",{"$f":"Working!O13","v":0},"¸",{"$f":"Working!L13","v":0},"=","86)",{"$f":"Working!T13","v":0},"¸",{"$f":"Working!Q13","v":0},"="]
["12)",{"$f":"Working!E14","v":0},"¸",{"$f":"Working!B14","v":0},"=","37)",{"$f":"Working!J14","v":0},"¸",{"$f":"Working!G14","v":0},"=","62)",{"$f":"Working!O14","v":0},"¸",{"$f":"Working!L14","v":0},"=","87)",{"$f":"Working!T14","v":0},"¸",{"$f":"Working!Q14","v":0},"="]
["13)",{"$f":"Working!E15","v":0},"¸",{"$f":"Working!B15","v":0},"=","38)",{"$f":"Working!J15","v":0},"¸",{"$f":"Working!G15","v":0},"=","63)",{"$f":"Working!O15","v":0},"¸",{"$f":"Working!L15","v":0},"=","88)",{"$f":"Working!T15","v":0},"¸",{"$f":"Working!Q15","v":0},"="]
["14)",{"$f":"Working!E16","v":0},"¸",{"$f":"Working!B16","v":0},"=","39)",{"$f":"Working!J16","v":0},"¸",{"$f":"Working!G16","v":0},"=","64)",{"$f":"Working!O16","v":0},"¸",{"$f":"Working!L16","v":0},"=","89)",{"$f":"Working!T16","v":0},"¸",{"$f":"Working!Q16","v":0},"="]
["15)",{"$f":"Working!E17","v":0},"¸",{"$f":"Working!B17","v":0},"=","40)",{"$f":"Working!J17","v":0},"¸",{"$f":"Working!G17","v":0},"=","65)",{"$f":"Working!O17","v":0},"¸",{"$f":"Working!L17","v":0},"=","90)",{"$f":"Working!T17","v":0},"¸",{"$f":"Working!Q17","v":0},"="]
["16)",{"$f":"Working!E18","v":0},"¸",{"$f":"Working!B18","v":0},"=","41)",{"$f":"Working!J18","v":0},"¸",{"$f":"Working!G18","v":0},"=","66)",{"$f":"Working!O18","v":0},"¸",{"$f":"Working!L18","v":0},"=","91)",{"$f":"Working!T18","v":0},"¸",{"$f":"Working!Q18","v":0},"="]
["17)",{"$f":"Working!E19","v":0},"¸",{"$f":"Working!B19","v":0},"=","42)",{"$f":"Working!J19","v":0},"¸",{"$f":"Working!G19","v":0},"=","67)",{"$f":"Working!O19","v":0},"¸",{"$f":"Working!L19","v":0},"=","92)",{"$f":"Working!T19","v":0},"¸",{"$f":"Working!Q19","v":0},"="]
["18)",{"$f":"Working!E20","v":0},"¸",{"$f":"Working!B20","v":0},"=","43)",{"$f":"Working!J20","v":0},"¸",{"$f":"Working!G20","v":0},"=","68)",{"$f":"Working!O20","v":0},"¸",{"$f":"Working!L20","v":0},"=","93)",{"$f":"Working!T20","v":0},"¸",{"$f":"Working!Q20","v":0},"="]
["19)",{"$f":"Working!E21","v":0},"¸",{"$f":"Working!B21","v":0},"=","44)",{"$f":"Working!J21","v":0},"¸",{"$f":"Working!G21","v":0},"=","69)",{"$f":"Working!O21","v":0},"¸",{"$f":"Working!L21","v":0},"=","94)",{"$f":"Working!T21","v":0},"¸",{"$f":"Working!Q21","v":0},"="]
["20)",{"$f":"Working!E22","v":0},"¸",{"$f":"Working!B22","v":0},"=","45)",{"$f":"Working!J22","v":0},"¸",{"$f":"Working!G22","v":0},"=","70)",{"$f":"Working!O22","v":0},"¸",{"$f":"Working!L22","v":0},"=","95)",{"$f":"Working!T22","v":0},"¸",{"$f":"Working!Q22","v":0},"="]
["21)",{"$f":"Working!E23","v":0},"¸",{"$f":"Working!B23","v":0},"=","46)",{"$f":"Working!J23","v":0},"¸",{"$f":"Working!G23","v":0},"=","71)",{"$f":"Working!O23","v":0},"¸",{"$f":"Working!L23","v":0},"=","96)",{"$f":"Working!T23","v":0},"¸",{"$f":"Working!Q23","v":0},"="]
["22)",{"$f":"Working!E24","v":0},"¸",{"$f":"Working!B24","v":0},"=","47)",{"$f":"Working!J24","v":0},"¸",{"$f":"Working!G24","v":0},"=","72)",{"$f":"Working!O24","v":0},"¸",{"$f":"Working!L24","v":0},"=","97)",{"$f":"Working!T24","v":0},"¸",{"$f":"Working!Q24","v":0},"="]
["23)",{"$f":"Working!E25","v":0},"¸",{"$f":"Working!B25","v":0},"=","48)",{"$f":"Working!J25","v":0},"¸",{"$f":"Working!G25","v":0},"=","73)",{"$f":"Working!O25","v":0},"¸",{"$f":"Working!L25","v":0},"=","98)",{"$f":"Working!T25","v":0},"¸",{"$f":"Working!Q25","v":0},"="]
["24)",{"$f":"Working!E26","v":0},"¸",{"$f":"Working!B26","v":0},"=","49)",{"$f":"Working!J26","v":0},"¸",{"$f":"Working!G26","v":0},"=","74)",{"$f":"Working!O26","v":0},"¸",{"$f":"Working!L26","v":0},"=","99)",{"$f":"Working!T26","v":0},"¸",{"$f":"Working!Q26","v":0},"="]
["25)",{"$f":"Working!E27","v":0},"¸",{"$f":"Working!B27","v":0},"=","50)",{"$f":"Working!J27","v":0},"¸",{"$f":"Working!G27","v":0},"=","75)",{"$f":"Working!O27","v":0},"¸",{"$f":"Working!L27","v":0},"=","100)",{"$f":"Working!T27","v":0},"¸",{"$f":"Working!Q27","v":0},"="]

{"sheet":"Answers","index":2,"n_rows":28,"n_cols":20,"rows_kept":28,"cut":false,"hidden":false,"merged":[[2,18,2,19]]}
[null,null,null,null,null,null,null,null,null,{"$f":"Working!J1","v":"DIVISION OF NUMBERS"}]
[null,null,null,null,null,null,null,null,null,"ANSWERS"]
[null,null,null,null,null,null,null,null,null,null,null,null,null,null,null,"Worksheet ",null,null,{"$f":"Questions!S2","v":894}]
["1)",{"$f":"Working!E3","v":0},"¸",{"$f":"Working!B3","v":0},{"$f":"CONCATENATE(\"= \",B4/D4)","v":{"$error":"#DIV/0!"}},"26)",{"$f":"Working!J3","v":0},"¸",{"$f":"Working!G3","v":0},{"$f":"CONCATENATE(\"= \",G4/I4)","v":{"$error":"#DIV/0!"}},"51)",{"$f":"Working!O3","v":0},"¸",{"$f":"Working!L3","v":0},{"$f":"CONCATENATE(\"= \",L4/N4)","v":{"$error":"#DIV/0!"}},"76)",{"$f":"Working!T3","v":0},"¸",{"$f":"Working!Q3","v":0},{"$f":"CONCATENATE(\"= \",Q4/S4)","v":{"$error":"#DIV/0!"}}]
["2)",{"$f":"Working!E4","v":0},"¸",{"$f":"Working!B4","v":0},{"$f":"CONCATENATE(\"= \",B5/D5)","v":{"$error":"#DIV/0!"}},"27)",{"$f":"Working!J4","v":0},"¸",{"$f":"Working!G4","v":0},{"$f":"CONCATENATE(\"= \",G5/I5)","v":{"$error":"#DIV/0!"}},"52)",{"$f":"Working!O4","v":0},"¸",{"$f":"Working!L4","v":0},{"$f":"CONCATENATE(\"= \",L5/N5)","v":{"$error":"#DIV/0!"}},"77)",{"$f":"Working!T4","v":0},"¸",{"$f":"Working!Q4","v":0},{"$f":"CONCATENATE(\"= \",Q5/S5)","v":{"$error":"#DIV/0!"}}]
["3)",{"$f":"Working!E5","v":0},"¸",{"$f":"Working!B5","v":0},{"$error":"#DIV/0!"},"28)",{"$f":"Working!J5","v":0},"¸",{"$f":"Working!G5","v":0},{"$error":"#DIV/0!"},"53)",{"$f":"Working!O5","v":0},"¸",{"$f":"Working!L5","v":0},{"$error":"#DIV/0!"},"78)",{"$f":"Working!T5","v":0},"¸",{"$f":"Working!Q5","v":0},{"$error":"#DIV/0!"}]
["4)",{"$f":"Working!E6","v":0},"¸",{"$f":"Working!B6","v":0},{"$error":"#DIV/0!"},"29)",{"$f":"Working!J6","v":0},"¸",{"$f":"Working!G6","v":0},{"$error":"#DIV/0!"},"54)",{"$f":"Working!O6","v":0},"¸",{"$f":"Working!L6","v":0},{"$error":"#DIV/0!"},"79)",{"$f":"Working!T6","v":0},"¸",{"$f":"Working!Q6","v":0},{"$error":"#DIV/0!"}]
["5)",{"$f":"Working!E7","v":0},"¸",{"$f":"Working!B7","v":0},{"$error":"#DIV/0!"},"30)",{"$f":"Working!J7","v":0},"¸",{"$f":"Working!G7","v":0},{"$error":"#DIV/0!"},"55)",{"$f":"Working!O7","v":0},"¸",{"$f":"Working!L7","v":0},{"$error":"#DIV/0!"},"80)",{"$f":"Working!T7","v":0},"¸",{"$f":"Working!Q7","v":0},{"$error":"#DIV/0!"}]
["6)",{"$f":"Working!E8","v":0},"¸",{"$f":"Working!B8","v":0},{"$error":"#DIV/0!"},"31)",{"$f":"Working!J8","v":0},"¸",{"$f":"Working!G8","v":0},{"$error":"#DIV/0!"},"56)",{"$f":"Working!O8","v":0},"¸",{"$f":"Working!L8","v":0},{"$error":"#DIV/0!"},"81)",{"$f":"Working!T8","v":0},"¸",{"$f":"Working!Q8","v":0},{"$error":"#DIV/0!"}]
["7)",{"$f":"Working!E9","v":0},"¸",{"$f":"Working!B9","v":0},{"$error":"#DIV/0!"},"32)",{"$f":"Working!J9","v":0},"¸",{"$f":"Working!G9","v":0},{"$error":"#DIV/0!"},"57)",{"$f":"Working!O9","v":0},"¸",{"$f":"Working!L9","v":0},{"$error":"#DIV/0!"},"82)",{"$f":"Working!T9","v":0},"¸",{"$f":"Working!Q9","v":0},{"$error":"#DIV/0!"}]
["8)",{"$f":"Working!E10","v":0},"¸",{"$f":"Working!B10","v":0},{"$error":"#DIV/0!"},"33)",{"$f":"Working!J10","v":0},"¸",{"$f":"Working!G10","v":0},{"$error":"#DIV/0!"},"58)",{"$f":"Working!O10","v":0},"¸",{"$f":"Working!L10","v":0},{"$error":"#DIV/0!"},"88)",{"$f":"Working!T10","v":0},"¸",{"$f":"Working!Q10","v":0},{"$error":"#DIV/0!"}]
["9)",{"$f":"Working!E11","v":0},"¸",{"$f":"Working!B11","v":0},{"$error":"#DIV/0!"},"34)",{"$f":"Working!J11","v":0},"¸",{"$f":"Working!G11","v":0},{"$error":"#DIV/0!"},"59)",{"$f":"Working!O11","v":0},"¸",{"$f":"Working!L11","v":0},{"$error":"#DIV/0!"},"84)",{"$f":"Working!T11","v":0},"¸",{"$f":"Working!Q11","v":0},{"$error":"#DIV/0!"}]
["10)",{"$f":"Working!E12","v":0},"¸",{"$f":"Working!B12","v":0},{"$error":"#DIV/0!"},"35)",{"$f":"Working!J12","v":0},"¸",{"$f":"Working!G12","v":0},{"$error":"#DIV/0!"},"60)",{"$f":"Working!O12","v":0},"¸",{"$f":"Working!L12","v":0},{"$error":"#DIV/0!"},"85)",{"$f":"Working!T12","v":0},"¸",{"$f":"Working!Q12","v":0},{"$error":"#DIV/0!"}]
["11)",{"$f":"Working!E13","v":0},"¸",{"$f":"Working!B13","v":0},{"$error":"#DIV/0!"},"36)",{"$f":"Working!J13","v":0},"¸",{"$f":"Working!G13","v":0},{"$error":"#DIV/0!"},"61)",{"$f":"Working!O13","v":0},"¸",{"$f":"Working!L13","v":0},{"$error":"#DIV/0!"},"86)",{"$f":"Working!T13","v":0},"¸",{"$f":"Working!Q13","v":0},{"$error":"#DIV/0!"}]
["12)",{"$f":"Working!E14","v":0},"If you hold down shift then click on the WorkSheet tab and the Answers tab, you will be able to print both the WorkSheet and the solutions.",{"$f":"Working!B14","v":0},{"$error":"#DIV/0!"},"37)",{"$f":"Working!J14","v":0},"¸",{"$f":"Working!G14","v":0},{"$error":"#DIV/0!"},"62)",{"$f":"Working!O14","v":0},"¸",{"$f":"Working!L14","v":0},{"$error":"#DIV/0!"},"87)",{"$f":"Working!T14","v":0},"¸",{"$f":"Working!Q14","v":0},{"$error":"#DIV/0!"}]
["13)",{"$f":"Working!E15","v":0},"¸",{"$f":"Working!B15","v":0},{"$error":"#DIV/0!"},"38)",{"$f":"Working!J15","v":0},"¸",{"$f":"Working!G15","v":0},{"$error":"#DIV/0!"},"63)",{"$f":"Working!O15","v":0},"¸",{"$f":"Working!L15","v":0},{"$error":"#DIV/0!"},"88)",{"$f":"Working!T15","v":0},"¸",{"$f":"Working!Q15","v":0},{"$error":"#DIV/0!"}]
["14)",{"$f":"Working!E16","v":0},"¸",{"$f":"Working!B16","v":0},{"$error":"#DIV/0!"},"39)",{"$f":"Working!J16","v":0},"¸",{"$f":"Working!G16","v":0},{"$error":"#DIV/0!"},"64)",{"$f":"Working!O16","v":0},"¸",{"$f":"Working!L16","v":0},{"$error":"#DIV/0!"},"89)",{"$f":"Working!T16","v":0},"¸",{"$f":"Working!Q16","v":0},{"$error":"#DIV/0!"}]
["15)",{"$f":"Working!E17","v":0},"¸",{"$f":"Working!B17","v":0},{"$error":"#DIV/0!"},"40)",{"$f":"Working!J17","v":0},"¸",{"$f":"Working!G17","v":0},{"$error":"#DIV/0!"},"65)",{"$f":"Working!O17","v":0},"¸",{"$f":"Working!L17","v":0},{"$error":"#DIV/0!"},"90)",{"$f":"Working!T17","v":0},"¸",{"$f":"Working!Q17","v":0},{"$error":"#DIV/0!"}]
["16)",{"$f":"Working!E18","v":0},"¸",{"$f":"Working!B18","v":0},{"$error":"#DIV/0!"},"41)",{"$f":"Working!J18","v":0},"¸",{"$f":"Working!G18","v":0},{"$error":"#DIV/0!"},"66)",{"$f":"Working!O18","v":0},"¸",{"$f":"Working!L18","v":0},{"$error":"#DIV/0!"},"91)",{"$f":"Working!T18","v":0},"¸",{"$f":"Working!Q18","v":0},{"$error":"#DIV/0!"}]
["17)",{"$f":"Working!E19","v":0},"¸",{"$f":"Working!B19","v":0},{"$error":"#DIV/0!"},"42)",{"$f":"Working!J19","v":0},"¸",{"$f":"Working!G19","v":0},{"$error":"#DIV/0!"},"67)",{"$f":"Working!O19","v":0},"¸",{"$f":"Working!L19","v":0},{"$error":"#DIV/0!"},"92)",{"$f":"Working!T19","v":0},"¸",{"$f":"Working!Q19","v":0},{"$error":"#DIV/0!"}]
["18)",{"$f":"Working!E20","v":0},"¸",{"$f":"Working!B20","v":0},{"$error":"#DIV/0!"},"43)",{"$f":"Working!J20","v":0},"¸",{"$f":"Working!G20","v":0},{"$error":"#DIV/0!"},"68)",{"$f":"Working!O20","v":0},"¸",{"$f":"Working!L20","v":0},{"$error":"#DIV/0!"},"93)",{"$f":"Working!T20","v":0},"¸",{"$f":"Working!Q20","v":0},{"$error":"#DIV/0!"}]
["19)",{"$f":"Working!E21","v":0},"¸",{"$f":"Working!B21","v":0},{"$error":"#DIV/0!"},"44)",{"$f":"Working!J21","v":0},"¸",{"$f":"Working!G21","v":0},{"$error":"#DIV/0!"},"69)",{"$f":"Working!O21","v":0},"¸",{"$f":"Working!L21","v":0},{"$error":"#DIV/0!"},"94)",{"$f":"Working!T21","v":0},"¸",{"$f":"Working!Q21","v":0},{"$error":"#DIV/0!"}]
["20)",{"$f":"Working!E22","v":0},"¸",{"$f":"Working!B22","v":0},{"$error":"#DIV/0!"},"45)",{"$f":"Working!J22","v":0},"¸",{"$f":"Working!G22","v":0},{"$error":"#DIV/0!"},"70)",{"$f":"Working!O22","v":0},"¸",{"$f":"Working!L22","v":0},{"$error":"#DIV/0!"},"95)",{"$f":"Working!T22","v":0},"¸",{"$f":"Working!Q22","v":0},{"$error":"#DIV/0!"}]
["21)",{"$f":"Working!E23","v":0},"¸",{"$f":"Working!B23","v":0},{"$error":"#DIV/0!"},"46)",{"$f":"Working!J23","v":0},"¸",{"$f":"Working!G23","v":0},{"$error":"#DIV/0!"},"71)",{"$f":"Working!O23","v":0},"¸",{"$f":"Working!L23","v":0},{"$error":"#DIV/0!"},"96)",{"$f":"Working!T23","v":0},"¸",{"$f":"Working!Q23","v":0},{"$error":"#DIV/0!"}]
["22)",{"$f":"Working!E24","v":0},"¸",{"$f":"Working!B24","v":0},{"$error":"#DIV/0!"},"47)",{"$f":"Working!J24","v":0},"¸",{"$f":"Working!G24","v":0},{"$error":"#DIV/0!"},"72)",{"$f":"Working!O24","v":0},"¸",{"$f":"Working!L24","v":0},{"$error":"#DIV/0!"},"97)",{"$f":"Working!T24","v":0},"¸",{"$f":"Working!Q24","v":0},{"$error":"#DIV/0!"}]
["23)",{"$f":"Working!E25","v":0},"¸",{"$f":"Working!B25","v":0},{"$error":"#DIV/0!"},"48)",{"$f":"Working!J25","v":0},"¸",{"$f":"Working!G25","v":0},{"$error":"#DIV/0!"},"73)",{"$f":"Working!O25","v":0},"¸",{"$f":"Working!L25","v":0},{"$error":"#DIV/0!"},"98)",{"$f":"Working!T25","v":0},"¸",{"$f":"Working!Q25","v":0},{"$error":"#DIV/0!"}]
["24)",{"$f":"Working!E26","v":0},"¸",{"$f":"Working!B26","v":0},{"$error":"#DIV/0!"},"49)",{"$f":"Working!J26","v":0},"¸",{"$f":"Working!G26","v":0},{"$error":"#DIV/0!"},"74)",{"$f":"Working!O26","v":0},"¸",{"$f":"Working!L26","v":0},{"$error":"#DIV/0!"},"99)",{"$f":"Working!T26","v":0},"¸",{"$f":"Working!Q26","v":0},{"$error":"#DIV/0!"}]
["25)",{"$f":"Working!E27","v":0},"¸",{"$f":"Working!B27","v":0},{"$error":"#DIV/0!"},"50)",{"$f":"Working!J27","v":0},"¸",{"$f":"Working!G27","v":0},{"$error":"#DIV/0!"},"75)",{"$f":"Working!O27","v":0},"¸",{"$f":"Working!L27","v":0},{"$error":"#DIV/0!"},"100)",{"$f":"Working!T27","v":0},"¸",{"$f":"Working!Q27","v":0},{"$error":"#DIV/0!"}]

{"sheet":"Working","index":3,"n_rows":27,"n_cols":20,"rows_kept":27,"cut":false,"hidden":true,"merged":[[1,18,1,19]]}
[null,null,null,null,null,null,null,null,null,"DIVISION OF NUMBERS"]
[null,null,null,null,null,null,null,null,null,null,null,null,null,null,null,"Worksheet ",null,null,{"$f":"INT(1000*RAND()+10)","v":555}]
["1)",{"$f":"INT((Values!$F$11-Values!$F$6+1)*RAND()+Values!$F$6)","v":0},"¸",{"$f":"INT(9*RAND()+2)","v":5},{"$f":"B3*D3","v":0},"26)",{"$f":"INT((Values!$F$11-Values!$F$6+1)*RAND()+Values!$F$6)","v":0},"¸",{"$f":"INT(9*RAND()+2)","v":8},{"$f":"G3*I3","v":0},"51)",{"$f":"INT((Values!$F$11-Values!$F$6+1)*RAND()+Values!$F$6)","v":0},"¸",{"$f":"INT(9*RAND()+2)","v":8},{"$f":"L3*N3","v":0},"76)",{"$f":"INT((Values!$F$11-Values!$F$6+1)*RAND()+Values!$F$6)","v":0},"¸",{"$f":"INT(9*RAND()+2)","v":10},{"$f":"Q3*S3","v":0}]
["2)",{"$f":"INT((Values!$F$11-Values!$F$6+1)*RAND()+Values!$F$6)","v":0},"¸",7,{"$f":"B4*D4","v":0},"27)",{"$f":"INT((Values!$F$11-Values!$F$6+1)*RAND()+Values!$F$6)","v":0},"¸",8,{"$f":"G4*I4","v":0},"52)",{"$f":"INT((Values!$F$11-Values!$F$6+1)*RAND()+Values!$F$6)","v":0},"¸",5,{"$f":"L4*N4","v":0},"77)",{"$f":"INT((Values!$F$11-Values!$F$6+1)*RAND()+Values!$F$6)","v":0},"¸",7,{"$f":"Q4*S4","v":0}]
["3)",{"$f":"INT((Values!$F$11-Values!$F$6+1)*RAND()+Values!$F$6)","v":0},"¸",8,0,"28)",{"$f":"INT((Values!$F$11-Values!$F$6+1)*RAND()+Values!$F$6)","v":0},"¸",8,0,"53)",{"$f":"INT((Values!$F$11-Values!$F$6+1)*RAND()+Values!$F$6)","v":0},"¸",8,0,"78)",{"$f":"INT((Values!$F$11-Values!$F$6+1)*RAND()+Values!$F$6)","v":0},"¸",6,0]
["4)",{"$f":"INT((Values!$F$11-Values!$F$6+1)*RAND()+Values!$F$6)","v":0},"¸",4,0,"29)",{"$f":"INT((Values!$F$11-Values!$F$6+1)*RAND()+Values!$F$6)","v":0},"¸",3,0,"54)",{"$f":"INT((Values!$F$11-Values!$F$6+1)*RAND()+Values!$F$6)","v":0},"¸",2,0,"79)",{"$f":"INT((Values!$F$11-Values!$F$6+1)*RAND()+Values!$F$6)","v":0},"¸",9,0]
["5)",{"$f":"INT((Values!$F$11-Values!$F$6+1)*RAND()+Values!$F$6)","v":0},"¸",7,0,"30)",{"$f":"INT((Values!$F$11-Values!$F$6+1)*RAND()+Values!$F$6)","v":0},"¸",2,0,"55)",{"$f":"INT((Values!$F$11-Values!$F$6+1)*RAND()+Values!$F$6)","v":0},"¸",2,0,"80)",{"$f":"INT((Values!$F$11-Values!$F$6+1)*RAND()+Values!$F$6)","v":0},"¸",4,0]
["6)",{"$f":"INT((Values!$F$11-Values!$F$6+1)*RAND()+Values!$F$6)","v":0},"¸",7,0,"31)",{"$f":"INT((Values!$F$11-Values!$F$6+1)*RAND()+Values!$F$6)","v":0},"¸",6,0,"56)",{"$f":"INT((Values!$F$11-Values!$F$6+1)*RAND()+Values!$F$6)","v":0},"¸",4,0,"81)",{"$f":"INT((Values!$F$11-Values!$F$6+1)*RAND()+Values!$F$6)","v":0},"¸",3,0]
["7)",{"$f":"INT((Values!$F$11-Values!$F$6+1)*RAND()+Values!$F$6)","v":0},"¸",6,0,"32)",{"$f":"INT((Values!$F$11-Values!$F$6+1)*RAND()+Values!$F$6)","v":0},"¸",10,0,"57)",{"$f":"INT((Values!$F$11-Values!$F$6+1)*RAND()+Values!$F$6)","v":0},"¸",9,0,"82)",{"$f":"INT((Values!$F$11-Values!$F$6+1)*RAND()+Values!$F$6)","v":0},"¸",8,0]
["8)",{"$f":"INT((Values!$F$11-Values!$F$6+1)*RAND()+Values!$F$6)","v":0},"¸",9,0,"33)",{"$f":"INT((Values!$F$11-Values!$F$6+1)*RAND()+Values!$F$6)","v":0},"¸",3,0,"58)",{"$f":"INT((Values!$F$11-Values!$F$6+1)*RAND()+Values!$F$6)","v":0},"¸",10,0,"88)",{"$f":"INT((Values!$F$11-Values!$F$6+1)*RAND()+Values!$F$6)","v":0},"¸",6,0]
["9)",{"$f":"INT((Values!$F$11-Values!$F$6+1)*RAND()+Values!$F$6)","v":0},"¸",3,0,"34)",{"$f":"INT((Values!$F$11-Values!$F$6+1)*RAND()+Values!$F$6)","v":0},"¸",10,0,"59)",{"$f":"INT((Values!$F$11-Values!$F$6+1)*RAND()+Values!$F$6)","v":0},"¸",8,0,"84)",{"$f":"INT((Values!$F$11-Values!$F$6+1)*RAND()+Values!$F$6)","v":0},"¸",3,0]
["10)",{"$f":"INT((Values!$F$11-Values!$F$6+1)*RAND()+Values!$F$6)","v":0},"¸",5,0,"35)",{"$f":"INT((Values!$F$11-Values!$F$6+1)*RAND()+Values!$F$6)","v":0},"¸",7,0,"60)",{"$f":"INT((Values!$F$11-Values!$F$6+1)*RAND()+Values!$F$6)","v":0},"¸",9,0,"85)",{"$f":"INT((Values!$F$11-Values!$F$6+1)*RAND()+Values!$F$6)","v":0},"¸",5,0]
["11)",{"$f":"INT((Values!$F$11-Values!$F$6+1)*RAND()+Values!$F$6)","v":0},"¸",7,0,"36)",{"$f":"INT((Values!$F$11-Values!$F$6+1)*RAND()+Values!$F$6)","v":0},"¸",5,0,"61)",{"$f":"INT((Values!$F$11-Values!$F$6+1)*RAND()+Values!$F$6)","v":0},"¸",3,0,"86)",{"$f":"INT((Values!$F$11-Values!$F$6+1)*RAND()+Values!$F$6)","v":0},"¸",10,0]
["12)",{"$f":"INT((Values!$F$11-Values!$F$6+1)*RAND()+Values!$F$6)","v":0},"¸",10,0,"37)",{"$f":"INT((Values!$F$11-Values!$F$6+1)*RAND()+Values!$F$6)","v":0},"¸",8,0,"62)",{"$f":"INT((Values!$F$11-Values!$F$6+1)*RAND()+Values!$F$6)","v":0},"¸",9,0,"87)",{"$f":"INT((Values!$F$11-Values!$F$6+1)*RAND()+Values!$F$6)","v":0},"¸",5,0]
["13)",{"$f":"INT((Values!$F$11-Values!$F$6+1)*RAND()+Values!$F$6)","v":0},"¸",4,0,"38)",{"$f":"INT((Values!$F$11-Values!$F$6+1)*RAND()+Values!$F$6)","v":0},"¸",3,0,"63)",{"$f":"INT((Values!$F$11-Values!$F$6+1)*RAND()+Values!$F$6)","v":0},"¸",3,0,"88)",{"$f":"INT((Values!$F$11-Values!$F$6+1)*RAND()+Values!$F$6)","v":0},"¸",6,0]
["14)",{"$f":"INT((Values!$F$11-Values!$F$6+1)*RAND()+Values!$F$6)","v":0},"¸",6,0,"39)",{"$f":"INT((Values!$F$11-Values!$F$6+1)*RAND()+Values!$F$6)","v":0},"¸",2,0,"64)",{"$f":"INT((Values!$F$11-Values!$F$6+1)*RAND()+Values!$F$6)","v":0},"¸",2,0,"89)",{"$f":"INT((Values!$F$11-Values!$F$6+1)*RAND()+Values!$F$6)","v":0},"¸",9,0]
["15)",{"$f":"INT((Values!$F$11-Values!$F$6+1)*RAND()+Values!$F$6)","v":0},"¸",3,0,"40)",{"$f":"INT((Values!$F$11-Values!$F$6+1)*RAND()+Values!$F$6)","v":0},"¸",6,0,"65)",{"$f":"INT((Values!$F$11-Values!$F$6+1)*RAND()+Values!$F$6)","v":0},"¸",9,0,"90)",{"$f":"INT((Values!$F$11-Values!$F$6+1)*RAND()+Values!$F$6)","v":0},"¸",8,0]
["16)",{"$f":"INT((Values!$F$11-Values!$F$6+1)*RAND()+Values!$F$6)","v":0},"¸",8,0,"41)",{"$f":"INT((Values!$F$11-Values!$F$6+1)*RAND()+Values!$F$6)","v":0},"¸",3,0,"66)",{"$f":"INT((Values!$F$11-Values!$F$6+1)*RAND()+Values!$F$6)","v":0},"¸",3,0,"91)",{"$f":"INT((Values!$F$11-Values!$F$6+1)*RAND()+Values!$F$6)","v":0},"¸",10,0]
["17)",{"$f":"INT((Values!$F$11-Values!$F$6+1)*RAND()+Values!$F$6)","v":0},"¸",10,0,"42)",{"$f":"INT((Values!$F$11-Values!$F$6+1)*RAND()+Values!$F$6)","v":0},"¸",3,0,"67)",{"$f":"INT((Values!$F$11-Values!$F$6+1)*RAND()+Values!$F$6)","v":0},"¸",8,0,"92)",{"$f":"INT((Values!$F$11-Values!$F$6+1)*RAND()+Values!$F$6)","v":0},"¸",4,0]
["18)",{"$f":"INT((Values!$F$11-Values!$F$6+1)*RAND()+Values!$F$6)","v":0},"¸",2,0,"43)",{"$f":"INT((Values!$F$11-Values!$F$6+1)*RAND()+Values!$F$6)","v":0},"¸",2,0,"68)",{"$f":"INT((Values!$F$11-Values!$F$6+1)*RAND()+Values!$F$6)","v":0},"¸",8,0,"93)",{"$f":"INT((Values!$F$11-Values!$F$6+1)*RAND()+Values!$F$6)","v":0},"¸",7,0]
["19)",{"$f":"INT((Values!$F$11-Values!$F$6+1)*RAND()+Values!$F$6)","v":0},"¸",5,0,"44)",{"$f":"INT((Values!$F$11-Values!$F$6+1)*RAND()+Values!$F$6)","v":0},"¸",10,0,"69)",{"$f":"INT((Values!$F$11-Values!$F$6+1)*RAND()+Values!$F$6)","v":0},"¸",9,0,"94)",{"$f":"INT((Values!$F$11-Values!$F$6+1)*RAND()+Values!$F$6)","v":0},"¸",5,0]
["20)",{"$f":"INT((Values!$F$11-Values!$F$6+1)*RAND()+Values!$F$6)","v":0},"¸",10,0,"45)",{"$f":"INT((Values!$F$11-Values!$F$6+1)*RAND()+Values!$F$6)","v":0},"¸",7,0,"70)",{"$f":"INT((Values!$F$11-Values!$F$6+1)*RAND()+Values!$F$6)","v":0},"¸",3,0,"95)",{"$f":"INT((Values!$F$11-Values!$F$6+1)*RAND()+Values!$F$6)","v":0},"¸",4,0]
["21)",{"$f":"INT((Values!$F$11-Values!$F$6+1)*RAND()+Values!$F$6)","v":0},"¸",7,0,"46)",{"$f":"INT((Values!$F$11-Values!$F$6+1)*RAND()+Values!$F$6)","v":0},"¸",6,0,"71)",{"$f":"INT((Values!$F$11-Values!$F$6+1)*RAND()+Values!$F$6)","v":0},"¸",9,0,"96)",{"$f":"INT((Values!$F$11-Values!$F$6+1)*RAND()+Values!$F$6)","v":0},"¸",3,0]
["22)",{"$f":"INT((Values!$F$11-Values!$F$6+1)*RAND()+Values!$F$6)","v":0},"¸",3,0,"47)",{"$f":"INT((Values!$F$11-Values!$F$6+1)*RAND()+Values!$F$6)","v":0},"¸",2,0,"72)",{"$f":"INT((Values!$F$11-Values!$F$6+1)*RAND()+Values!$F$6)","v":0},"¸",7,0,"97)",{"$f":"INT((Values!$F$11-Values!$F$6+1)*RAND()+Values!$F$6)","v":0},"¸",7,0]
["23)",{"$f":"INT((Values!$F$11-Values!$F$6+1)*RAND()+Values!$F$6)","v":0},"¸",10,0,"48)",{"$f":"INT((Values!$F$11-Values!$F$6+1)*RAND()+Values!$F$6)","v":0},"¸",2,0,"73)",{"$f":"INT((Values!$F$11-Values!$F$6+1)*RAND()+Values!$F$6)","v":0},"¸",5,0,"98)",{"$f":"INT((Values!$F$11-Values!$F$6+1)*RAND()+Values!$F$6)","v":0},"¸",4,0]
["24)",{"$f":"INT((Values!$F$11-Values!$F$6+1)*RAND()+Values!$F$6)","v":0},"¸",2,0,"49)",{"$f":"INT((Values!$F$11-Values!$F$6+1)*RAND()+Values!$F$6)","v":0},"¸",5,0,"74)",{"$f":"INT((Values!$F$11-Values!$F$6+1)*RAND()+Values!$F$6)","v":0},"¸",5,0,"99)",{"$f":"INT((Values!$F$11-Values!$F$6+1)*RAND()+Values!$F$6)","v":0},"¸",7,0]
["25)",{"$f":"INT((Values!$F$11-Values!$F$6+1)*RAND()+Values!$F$6)","v":0},"¸",6,0,"50)",{"$f":"INT((Values!$F$11-Values!$F$6+1)*RAND()+Values!$F$6)","v":0},"¸",3,0,"75)",{"$f":"INT((Values!$F$11-Values!$F$6+1)*RAND()+Values!$F$6)","v":0},"¸",8,0,"100)",{"$f":"INT((Values!$F$11-Values!$F$6+1)*RAND()+Values!$F$6)","v":0},"¸",7,0]