{"text_format":"1","workbook":"xlsx","n_sheets":4,"sheets":["Values","WorkSheet","Answers","Working"],"not_rendered":{"charts":0,"images":1,"macros":1,"external_links":0,"defined_names":0,"comments":0,"pivot_tables":0},"unopened":[],"bounds":{"document_bytes":16777216,"sheet_cells":100000,"rows_first":2000,"rows_last":500,"rows_between":2000,"halvings":0,"cell_chars":16384,"cell_head_chars":4096},"cells_cut":0,"cells_raw":0,"read":"whole","date_system":"1900"}

{"sheet":"Values","index":0,"n_rows":24,"n_cols":12,"rows_kept":24,"cut":false,"hidden":false,"merged":[[13,8,17,9],[15,2,18,7],[1,2,1,6],[3,2,4,7],[6,2,6,4],[8,2,9,7],[11,2,11,4],[13,2,13,6]]}
[null,null,null,null,"DIVISION - By 10's"]
[null,null,"INSTRUCTIONS"]
[]
[null,"Step 1","Enter the number digits to be used in the divisor for this sheet. (Either 2 or 3, use 1 for mixed)"]
[]
[]
[null,null,"Digits in Divisor",null,null,null,null,null,null,null,null,"≤"]
[]
[null,"Step 2","Enter the number digits to be used in the dividend for this sheet. (A whole number >1 and ≤4)"]
[]
[]
[null,null,"Digits in Dividend",null,null,null,"  (May be increased or decreased by 1 due to the nature of random calculations)"]
[]
[null,"Step 3","Click on WorkSheet tab below.",null,null,null,null,null,"PRESS F9 for NEW WorkSheet"]
[]
[null,"Note","If you hold down shift then click on the WorkSheet tab and the Answers tab, you will be able to print both the WorkSheet and the solutions."]
[]
[]
[]
[]
[null,null,"NOTES"]
[null,null,"* These questions would usually be done mentally, however,"]
[null,null,"  they have been answers in the division algorithm format."]
[null,null,"* Each Worksheet has 40 random generated questions."]

{"sheet":"WorkSheet","index":1,"n_rows":23,"n_cols":15,"rows_kept":23,"cut":false,"hidden":false,"merged":[]}
[null,null,null,null,null,null,null,"DIVISION"]
[null,null,null,null,null,null,null,null,null,null,null,null,{"$f":"CONCATENATE(\"Worksheet \",Working!C1,Working!B1)","v":"Worksheet DAW-128"}]
["Evaluate the following;"]
[]
[{"$f":"Working!C4","v":"1)"},{"$f":"Working!F4","v":600},{"$f":"Working!I4","v":{"$error":"#VALUE!"}},null,{"$f":"Working!C14","v":"11)"},{"$f":"Working!F14","v":100},{"$f":"Working!I14","v":{"$error":"#VALUE!"}},null,{"$f":"Working!C24","v":"21)"},{"$f":"Working!F24","v":30},{"$f":"Working!I24","v":{"$error":"#VALUE!"}},null,{"$f":"Working!C34","v":"31)"},{"$f":"Working!F34","v":40},{"$f":"Working!I34","v":{"$error":"#VALUE!"}}]
[]
[{"$f":"Working!C5","v":"2)"},{"$f":"Working!F5","v":900},{"$f":"Working!I5","v":{"$error":"#VALUE!"}},null,{"$f":"Working!C15","v":"12)"},{"$f":"Working!F15","v":100},{"$f":"Working!I15","v":{"$error":"#VALUE!"}},null,{"$f":"Working!C25","v":"22)"},{"$f":"Working!F25","v":90},{"$f":"Working!I25","v":{"$error":"#VALUE!"}},null,{"$f":"Working!C35","v":"32)"},{"$f":"Working!F35","v":100},{"$f":"Working!I35","v":{"$error":"#VALUE!"}}]
[]
[{"$f":"Working!C6","v":"3)"},{"$f":"Working!F6","v":200},{"$f":"Working!I6","v":{"$error":"#VALUE!"}},null,{"$f":"Working!C16","v":"13)"},{"$f":"Working!F16","v":900},{"$f":"Working!I16","v":{"$error":"#VALUE!"}},null,{"$f":"Working!C26","v":"23)"},{"$f":"Working!F26","v":50},{"$f":"Working!I26","v":{"$error":"#VALUE!"}},null,{"$f":"Working!C36","v":"33)"},{"$f":"Working!F36","v":600},{"$f":"Working!I36","v":{"$error":"#VALUE!"}}]
[]
[{"$f":"Working!C7","v":"4)"},{"$f":"Working!F7","v":10},{"$f":"Working!I7","v":{"$error":"#VALUE!"}},null,{"$f":"Working!C17","v":"14)"},{"$f":"Working!F17","v":20},{"$f":"Working!I17","v":{"$error":"#VALUE!"}},null,{"$f":"Working!C27","v":"24)"},{"$f":"Working!F27","v":10},{"$f":"Working!I27","v":{"$error":"#VALUE!"}},null,{"$f":"Working!C37","v":"34)"},{"$f":"Working!F37","v":10},{"$f":"Working!I37","v":{"$error":"#VALUE!"}}]
[]
[{"$f":"Working!C8","v":"5)"},{"$f":"Working!F8","v":300},{"$f":"Working!I8","v":{"$error":"#VALUE!"}},null,{"$f":"Working!C18","v":"15)"},{"$f":"Working!F18","v":40},{"$f":"Working!I18","v":{"$error":"#VALUE!"}},null,{"$f":"Working!C28","v":"25)"},{"$f":"Working!F28","v":50},{"$f":"Working!I28","v":{"$error":"#VALUE!"}},null,{"$f":"Working!C38","v":"35)"},{"$f":"Working!F38","v":20},{"$f":"Working!I38","v":{"$error":"#VALUE!"}}]
[]
[{"$f":"Working!C9","v":"6)"},{"$f":"Working!F9","v":70},{"$f":"Working!I9","v":{"$error":"#VALUE!"}},null,{"$f":"Working!C19","v":"16)"},{"$f":"Working!F19","v":30},{"$f":"Working!I19","v":{"$error":"#VALUE!"}},null,{"$f":"Working!C29","v":"26)"},{"$f":"Working!F29","v":90},{"$f":"Working!I29","v":{"$error":"#VALUE!"}},null,{"$f":"Working!C39","v":"36)"},{"$f":"Working!F39","v":900},{"$f":"Working!I39","v":{"$error":"#VALUE!"}}]
[]
[{"$f":"Working!C10","v":"7)"},{"$f":"Working!F10","v":100},{"$f":"Working!I10","v":{"$error":"#VALUE!"}},null,{"$f":"Working!C20","v":"17)"},{"$f":"Working!F20","v":40},{"$f":"Working!I20","v":{"$error":"#VALUE!"}},null,{"$f":"Working!C30","v":"27)"},{"$f":"Working!F30","v":60},{"$f":"Working!I30","v":{"$error":"#VALUE!"}},null,{"$f":"Working!C40","v":"37)"},{"$f":"Working!F40","v":200},{"$f":"Working!I40","v":{"$error":"#VALUE!"}}]
[]
[{"$f":"Working!C11","v":"8)"},{"$f":"Working!F11","v":40},{"$f":"Working!I11","v":{"$error":"#VALUE!"}},null,{"$f":"Working!C21","v":"18)"},{"$f":"Working!F21","v":20},{"$f":"Working!I21","v":{"$error":"#VALUE!"}},null,{"$f":"Working!C31","v":"28)"},{"$f":"Working!F31","v":30},{"$f":"Working!I31","v":{"$error":"#VALUE!"}},null,{"$f":"Working!C41","v":"38)"},{"$f":"Working!F41","v":600},{"$f":"Working!I41","v":{"$error":"#VALUE!"}}]
[]
[{"$f":"Working!C12","v":"9)"},{"$f":"Working!F12","v":200},{"$f":"Working!I12","v":{"$error":"#VALUE!"}},null,{"$f":"Working!C22","v":"19)"},{"$f":"Working!F22","v":50},{"$f":"Working!I22","v":{"$error":"#VALUE!"}},null,{"$f":"Working!C32","v":"29)"},{"$f":"Working!F32","v":200},{"$f":"Working!I32","v":{"$error":"#VALUE!"}},null,{"$f":"Working!C42","v":"39)"},{"$f":"Working!F42","v":90},{"$f":"Working!I42","v":{"$error":"#VALUE!"}}]
[]
[{"$f":"Working!C13","v":"10)"},{"$f":"Working!F13","v":500},{"$f":"Working!I13","v":{"$error":"#VALUE!"}},null,{"$f":"Working!C23","v":"20)"},{"$f":"Working!F23","v":50},{"$f":"Working!I23","v":{"$error":"#VALUE!"}},null,{"$f":"Working!C33","v":"30)"},{"$f":"Working!F33","v":70},{"$f":"Working!I33","v":{"$error":"#VALUE!"}},null,{"$f":"Working!C43","v":"40)"},{"$f":"Working!F43","v":40},{"$f":"Working!I43","v":{"$error":"#VALUE!"}}]

{"sheet":"Answers","index":2,"n_rows":23,"n_cols":15,"rows_kept":23,"cut":false,"hidden":false,"merged":[]}
[null,null,null,null,null,null,null,"DIVISION"]
[null,null,null,null,null,null,null,"ANSWERS",null,null,null,null,{"$f":"CONCATENATE(\"Worksheet \",Working!C1,Working!B1)","v":"Worksheet DAW-128"}]
["Evaluate the following;"]
[null,null,{"$f":"Working!N4","v":{"$error":"#VALUE!"}},null,null,null,{"$f":"Working!N14","v":{"$error":"#VALUE!"}},null,null,null,{"$f":"Working!N24","v":{"$error":"#VALUE!"}},null,null,null,{"$f":"Working!N34","v":{"$error":"#VALUE!"}}]
[{"$f":"Working!C4","v":"1)"},{"$f":"Working!F4","v":600},{"$f":"Working!I4","v":{"$error":"#VALUE!"}},null,{"$f":"Working!C14","v":"11)"},{"$f":"Working!F14","v":100},{"$f":"Working!I14","v":{"$error":"#VALUE!"}},null,{"$f":"Working!C24","v":"21)"},{"$f":"Working!F24","v":30},{"$f":"Working!I24","v":{"$error":"#VALUE!"}},null,{"$f":"Working!C34","v":"31)"},{"$f":"Working!F34","v":40},{"$f":"Working!I34","v":{"$error":"#VALUE!"}}]
[null,null,{"$f":"Working!N5","v":{"$error":"#VALUE!"}},null,null,null,{"$f":"Working!N15","v":{"$error":"#VALUE!"}},null,null,null,{"$f":"Working!N25","v":{"$error":"#VALUE!"}},null,null,null,{"$f":"Working!N35","v":{"$error":"#VALUE!"}}]
[{"$f":"Working!C5","v":"2)"},{"$f":"Working!F5","v":900},{"$f":"Working!I5","v":{"$error":"#VALUE!"}},null,{"$f":"Working!C15","v":"12)"},{"$f":"Working!F15","v":100},{"$f":"Working!I15","v":{"$error":"#VALUE!"}},null,{"$f":"Working!C25","v":"22)"},{"$f":"Working!F25","v":90},{"$f":"Working!I25","v":{"$error":"#VALUE!"}},null,{"$f":"Working!C35","v":"32)"},{"$f":"Working!F35","v":100},{"$f":"Working!I35","v":{"$error":"#VALUE!"}}]
[null,null,{"$f":"Working!N6","v":{"$error":"#VALUE!"}},null,null,null,{"$f":"Working!N16","v":{"$error":"#VALUE!"}},null,null,null,{"$f":"Working!N26","v":{"$error":"#VALUE!"}},null,null,null,{"$f":"Working!N36","v":{"$error":"#VALUE!"}}]
[{"$f":"Working!C6","v":"3)"},{"$f":"Working!F6","v":200},{"$f":"Working!I6","v":{"$error":"#VALUE!"}},null,{"$f":"Working!C16","v":"13)"},{"$f":"Working!F16","v":900},{"$f":"Working!I16","v":{"$error":"#VALUE!"}},null,{"$f":"Working!C26","v":"23)"},{"$f":"Working!F26","v":50},{"$f":"Working!I26","v":{"$error":"#VALUE!"}},null,{"$f":"Working!C36","v":"33)"},{"$f":"Working!F36","v":600},{"$f":"Working!I36","v":{"$error":"#VALUE!"}}]
[null,null,{"$f":"Working!N7","v":{"$error":"#VALUE!"}},null,null,null,{"$f":"Working!N17","v":{"$error":"#VALUE!"}},null,null,null,{"$f":"Working!N27","v":{"$error":"#VALUE!"}},null,null,null,{"$f":"Working!N37","v":{"$error":"#VALUE!"}}]
[{"$f":"Working!C7","v":"4)"},{"$f":"Working!F7","v":10},{"$f":"Working!I7","v":{"$error":"#VALUE!"}},null,{"$f":"Working!C17","v":"14)"},{"$f":"Working!F17","v":20},{"$f":"Working!I17","v":{"$error":"#VALUE!"}},null,{"$f":"Working!C27","v":"24)"},{"$f":"Working!F27","v":10},{"$f":"Working!I27","v":{"$error":"#VALUE!"}},null,{"$f":"Working!C37","v":"34)"},{"$f":"Working!F37","v":10},{"$f":"Working!I37","v":{"$error":"#VALUE!"}}]
[null,null,{"$f":"Working!N8","v":{"$error":"#VALUE!"}},null,null,null,{"$f":"Working!N18","v":{"$error":"#VALUE!"}},null,null,null,{"$f":"Working!N28","v":{"$error":"#VALUE!"}},null,null,null,{"$f":"Working!N38","v":{"$error":"#VALUE!"}}]
[{"$f":"Working!C8","v":"5)"},{"$f":"Working!F8","v":300},{"$f":"Working!I8","v":{"$error":"#VALUE!"}},null,{"$f":"Working!C18","v":"15)"},{"$f":"Working!F18","v":40},{"$f":"Working!I18","v":{"$error":"#VALUE!"}},null,{"$f":"Working!C28","v":"25)"},{"$f":"Working!F28","v":50},{"$f":"Working!I28","v":{"$error":"#VALUE!"}},null,{"$f":"Working!C38","v":"35)"},{"$f":"Working!F38","v":20},{"$f":"Working!I38","v":{"$error":"#VALUE!"}}]
[null,null,{"$f":"Working!N9","v":{"$error":"#VALUE!"}},null,null,null,{"$f":"Working!N19","v":{"$error":"#VALUE!"}},null,null,null,{"$f":"Working!N29","v":{"$error":"#VALUE!"}},null,null,null,{"$f":"Working!N39","v":{"$error":"#VALUE!"}}]
[{"$f":"Working!C9","v":"6)"},{"$f":"Working!F9","v":70},{"$f":"Working!I9","v":{"$error":"#VALUE!"}},null,{"$f":"Working!C19","v":"16)"},{"$f":"Working!F19","v":30},{"$f":"Working!I19","v":{"$error":"#VALUE!"}},null,{"$f":"Working!C29","v":"26)"},{"$f":"Working!F29","v":90},{"$f":"Working!I29","v":{"$error":"#VALUE!"}},null,{"$f":"Working!C39","v":"36)"},{"$f":"Working!F39","v":900},{"$f":"Working!I39","v":{"$error":"#VALUE!"}}]
[null,null,{"$f":"Working!N10","v":{"$error":"#VALUE!"}},null,null,null,{"$f":"Working!N20","v":{"$error":"#VALUE!"}},null,null,null,{"$f":"Working!N30","v":{"$error":"#VALUE!"}},null,null,null,{"$f":"Working!N40","v":{"$error":"#VALUE!"}}]
[{"$f":"Working!C10","v":"7)"},{"$f":"Working!F10","v":100},{"$f":"Working!I10","v":{"$error":"#VALUE!"}},null,{"$f":"Working!C20","v":"17)"},{"$f":"Working!F20","v":40},{"$f":"Working!I20","v":{"$error":"#VALUE!"}},null,{"$f":"Working!C30","v":"27)"},{"$f":"Working!F30","v":60},{"$f":"Working!I30","v":{"$error":"#VALUE!"}},null,{"$f":"Working!C40","v":"37)"},{"$f":"Working!F40","v":200},{"$f":"Working!I40","v":{"$error":"#VALUE!"}}]
[null,null,{"$f":"Working!N11","v":{"$error":"#VALUE!"}},null,null,null,{"$f":"Working!N21","v":{"$error":"#VALUE!"}},null,null,null,{"$f":"Working!N31","v":{"$error":"#VALUE!"}},null,null,null,{"$f":"Working!N41","v":{"$error":"#VALUE!"}}]
[{"$f":"Working!C11","v":"8)"},{"$f":"Working!F11","v":40},{"$f":"Working!I11","v":{"$error":"#VALUE!"}},null,{"$f":"Working!C21","v":"18)"},{"$f":"Working!F21","v":20},{"$f":"Working!I21","v":{"$error":"#VALUE!"}},null,{"$f":"Working!C31","v":"28)"},{"$f":"Working!F31","v":30},{"$f":"Working!I31","v":{"$error":"#VALUE!"}},null,{"$f":"Working!C41","v":"38)"},{"$f":"Working!F41","v":600},{"$f":"Working!I41","v":{"$error":"#VALUE!"}}]
[null,null,{"$f":"Working!N12","v":{"$error":"#VALUE!"}},null,null,null,{"$f":"Working!N22","v":{"$error":"#VALUE!"}},null,null,null,{"$f":"Working!N32","v":{"$error":"#VALUE!"}},null,null,null,{"$f":"Working!N42","v":{"$error":"#VALUE!"}}]
[{"$f":"Working!C12","v":"9)"},{"$f":"Working!F12","v":200},{"$f":"Working!I12","v":{"$error":"#VALUE!"}},null,{"$f":"Working!C22","v":"19)"},{"$f":"Working!F22","v":50},{"$f":"Working!I22","v":{"$error":"#VALUE!"}},null,{"$f":"Working!C32","v":"29)"},{"$f":"Working!F32","v":200},{"$f":"Working!I32","v":{"$error":"#VALUE!"}},null,{"$f":"Working!C42","v":"39)"},{"$f":"Working!F42","v":90},{"$f":"Working!I42","v":{"$error":"#VALUE!"}}]
[null,null,{"$f":"Working!N13","v":{"$error":"#VALUE!"}},null,null,null,{"$f":"Working!N23","v":{"$error":"#VALUE!"}},null,null,null,{"$f":"Working!N33","v":{"$error":"#VALUE!"}},null,null,null,{"$f":"Working!N43","v":{"$error":"#VALUE!"}}]
[{"$f":"Working!C13","v":"10)"},{"$f":"Working!F13","v":500},{"$f":"Working!I13","v":{"$error":"#VALUE!"}},null,{"$f":"Working!C23","v":"20)"},{"$f":"Working!F23","v":50},{"$f":"Working!I23","v":{"$error":"#VALUE!"}},null,{"$f":"Working!C33","v":"30)"},{"$f":"Working!F33","v":70},{"$f":"Working!I33","v":{"$error":"#VALUE!"}},null,{"$f":"Working!C43","v":"40)"},{"$f":"Working!F43","v":40},{"$f":"Working!I43","v":{"$error":"#VALUE!"}}]

{"sheet":"Working","index":3,"n_rows":103,"n_cols":14,"rows_kept":103,"cut":false,"hidden":true,"merged":[[1,6,1,7],[1,8,1,13]]}
[{"$f":"INT(900*RAND()+100)","v":128},{"$f":"TEXT(1,A1)","v":"128"},"DAW-"]
[null,null,null,null,null,null,"Numbers",null,"Text"]
[null,null,null,null,null,"Divisor","Quotient","Dividend","Dividend","DLength","QLength",null,"Spaces","Quotient"]
[1,")",{"$f":"CONCATENATE(A4,B4)","v":"1)"},{"$f":"IF(Values!$F$7=2,1,IF(Values!$F$7=3,2,INT(2*RAND()+1)))","v":2},{"$f":"Values!$F$12-Values!$F$7","v":0},{"$f":"INT(9*RAND()+1)*10^D4","v":600},{"$f":"LEFT(INT((10^(Values!$F$12+3))*RAND()),E4)","v":""},{"$f":"F4*G4","v":{"$error":"#VALUE!"}},{"$f":"H4","v":{"$error":"#VALUE!"}},{"$f":"LEN(I4)","v":{"$error":"#VALUE!"}},{"$f":"LEN(G4)","v":0},{"$f":"J4-K4","v":{"$error":"#VALUE!"}},{"$f":"IF(L4=0,\" \",IF(L4=1,\"  \",IF(L4=2,\"   \",IF(L4=3,\"     \",\"       \"))))","v":{"$error":"#VALUE!"}},{"$f":"CONCATENATE(M4,G4)","v":{"$error":"#VALUE!"}}]
[2,")",{"$f":"CONCATENATE(A5,B5)","v":"2)"},{"$f":"IF(Values!$F$7=2,1,IF(Values!$F$7=3,2,INT(2*RAND()+1)))","v":2},{"$f":"Values!$F$12-Values!$F$7","v":0},{"$f":"INT(9*RAND()+1)*10^D5","v":900},{"$f":"LEFT(INT((10^(Values!$F$12+3))*RAND()),E5)","v":""},{"$f":"F5*G5","v":{"$error":"#VALUE!"}},{"$f":"H5","v":{"$error":"#VALUE!"}},{"$f":"LEN(I5)","v":{"$error":"#VALUE!"}},{"$f":"LEN(G5)","v":0},{"$f":"J5-K5","v":{"$error":"#VALUE!"}},{"$f":"IF(L5=0,\" \",IF(L5=1,\"  \",IF(L5=2,\"   \",IF(L5=3,\"     \",\"       \"))))","v":{"$error":"#VALUE!"}},{"$error":"#VALUE!"}]
[3,")","3)",{"$f":"IF(Values!$F$7=2,1,IF(Values!$F$7=3,2,INT(2*RAND()+1)))","v":2},{"$f":"Values!$F$12-Values!$F$7","v":0},200,{"$f":"LEFT(INT((10^(Values!$F$12+3))*RAND()),E6)","v":""},{"$error":"#VALUE!"},{"$error":"#VALUE!"},{"$error":"#VALUE!"},0,{"$error":"#VALUE!"},{"$error":"#VALUE!"},{"$error":"#VALUE!"}]
[4,")","4)",{"$f":"IF(Values!$F$7=2,1,IF(Values!$F$7=3,2,INT(2*RAND()+1)))","v":1},{"$f":"Values!$F$12-Values!$F$7","v":0},10,{"$f":"LEFT(INT((10^(Values!$F$12+3))*RAND()),E7)","v":""},{"$error":"#VALUE!"},{"$error":"#VALUE!"},{"$error":"#VALUE!"},0,{"$error":"#VALUE!"},{"$error":"#VALUE!"},{"$error":"#VALUE!"}]
[5,")","5)",{"$f":"IF(Values!$F$7=2,1,IF(Values!$F$7=3,2,INT(2*RAND()+1)))","v":2},{"$f":"Values!$F$12-Values!$F$7","v":0},300,{"$f":"LEFT(INT((10^(Values!$F$12+3))*RAND()),E8)","v":""},{"$error":"#VALUE!"},{"$error":"#VALUE!"},{"$error":"#VALUE!"},0,{"$error":"#VALUE!"},{"$error":"#VALUE!"},{"$error":"#VALUE!"}]
[6,")","6)",{"$f":"IF(Values!$F$7=2,1,IF(Values!$F$7=3,2,INT(2*RAND()+1)))","v":1},{"$f":"Values!$F$12-Values!$F$7","v":0},70,{"$f":"LEFT(INT((10^(Values!$F$12+3))*RAND()),E9)","v":""},{"$error":"#VALUE!"},{"$error":"#VALUE!"},{"$error":"#VALUE!"},0,{"$error":"#VALUE!"},{"$error":"#VALUE!"},{"$error":"#VALUE!"}]
[7,")","7)",{"$f":"IF(Values!$F$7=2,1,IF(Values!$F$7=3,2,INT(2*RAND()+1)))","v":2},{"$f":"Values!$F$12-Values!$F$7","v":0},100,{"$f":"LEFT(INT((10^(Values!$F$12+3))*RAND()),E10)","v":""},{"$error":"#VALUE!"},{"$error":"#VALUE!"},{"$error":"#VALUE!"},0,{"$error":"#VALUE!"},{"$error":"#VALUE!"},{"$error":"#VALUE!"}]
[8,")","8)",{"$f":"IF(Values!$F$7=2,1,IF(Values!$F$7=3,2,INT(2*RAND()+1)))","v":1},{"$f":"Values!$F$12-Values!$F$7","v":0},40,{"$f":"LEFT(INT((10^(Values!$F$12+3))*RAND()),E11)","v":""},{"$error":"#VALUE!"},{"$error":"#VALUE!"},{"$error":"#VALUE!"},0,{"$error":"#VALUE!"},{"$error":"#VALUE!"},{"$error":"#VALUE!"}]
[9,")","9)",{"$f":"IF(Values!$F$7=2,1,IF(Values!$F$7=3,2,INT(2*RAND()+1)))","v":2},{"$f":"Values!$F$12-Values!$F$7","v":0},200,{"$f":"LEFT(INT((10^(Values!$F$12+3))*RAND()),E12)","v":""},{"$error":"#VALUE!"},{"$error":"#VALUE!"},{"$error":"#VALUE!"},0,{"$error":"#VALUE!"},{"$error":"#VALUE!"},{"$error":"#VALUE!"}]
[10,")","10)",{"$f":"IF(Values!$F$7=2,1,IF(Values!$F$7=3,2,INT(2*RAND()+1)))","v":2},{"$f":"Values!$F$12-Values!$F$7","v":0},500,{"$f":"LEFT(INT((10^(Values!$F$12+3))*RAND()),E13)","v":""},{"$error":"#VALUE!"},{"$error":"#VALUE!"},{"$error":"#VALUE!"},0,{"$error":"#VALUE!"},{"$error":"#VALUE!"},{"$error":"#VALUE!"}]
[11,")","11)",{"$f":"IF(Values!$F$7=2,1,IF(Values!$F$7=3,2,INT(2*RAND()+1)))","v":2},{"$f":"Values!$F$12-Values!$F$7","v":0},100,{"$f":"LEFT(INT((10^(Values!$F$12+3))*RAND()),E14)","v":""},{"$error":"#VALUE!"},{"$error":"#VALUE!"},{"$error":"#VALUE!"},0,{"$error":"#VALUE!"},{"$error":"#VALUE!"},{"$error":"#VALUE!"}]
[12,")","12)",{"$f":"IF(Values!$F$7=2,1,IF(Values!$F$7=3,2,INT(2*RAND()+1)))","v":2},{"$f":"Values!$F$12-Values!$F$7","v":0},100,{"$f":"LEFT(INT((10^(Values!$F$12+3))*RAND()),E15)","v":""},{"$error":"#VALUE!"},{"$error":"#VALUE!"},{"$error":"#VALUE!"},0,{"$error":"#VALUE!"},{"$error":"#VALUE!"},{"$error":"#VALUE!"}]
[13,")","13)",{"$f":"IF(Values!$F$7=2,1,IF(Values!$F$7=3,2,INT(2*RAND()+1)))","v":2},{"$f":"Values!$F$12-Values!$F$7","v":0},900,{"$f":"LEFT(INT((10^(Values!$F$12+3))*RAND()),E16)","v":""},{"$error":"#VALUE!"},{"$error":"#VALUE!"},{"$error":"#VALUE!"},0,{"$error":"#VALUE!"},{"$error":"#VALUE!"},{"$error":"#VALUE!"}]
[14,")","14)",{"$f":"IF(Values!$F$7=2,1,IF(Values!$F$7=3,2,INT(2*RAND()+1)))","v":1},{"$f":"Values!$F$12-Values!$F$7","v":0},20,{"$f":"LEFT(INT((10^(Values!$F$12+3))*RAND()),E17)","v":""},{"$error":"#VALUE!"},{"$error":"#VALUE!"},{"$error":"#VALUE!"},0,{"$error":"#VALUE!"},{"$error":"#VALUE!"},{"$error":"#VALUE!"}]
[15,")","15)",{"$f":"IF(Values!$F$7=2,1,IF(Values!$F$7=3,2,INT(2*RAND()+1)))","v":1},{"$f":"Values!$F$12-Values!$F$7","v":0},40,{"$f":"LEFT(INT((10^(Values!$F$12+3))*RAND()),E18)","v":""},{"$error":"#VALUE!"},{"$error":"#VALUE!"},{"$error":"#VALUE!"},0,{"$error":"#VALUE!"},{"$error":"#VALUE!"},{"$error":"#VALUE!"}]
[16,")","16)",{"$f":"IF(Values!$F$7=2,1,IF(Values!$F$7=3,2,INT(2*RAND()+1)))","v":1},{"$f":"Values!$F$12-Values!$F$7","v":0},30,{"$f":"LEFT(INT((10^(Values!$F$12+3))*RAND()),E19)","v":""},{"$error":"#VALUE!"},{"$error":"#VALUE!"},{"$error":"#VALUE!"},0,{"$error":"#VALUE!"},{"$error":"#VALUE!"},{"$error":"#VALUE!"}]
[17,")","17)",{"$f":"IF(Values!$F$7=2,1,IF(Values!$F$7=3,2,INT(2*RAND()+1)))","v":1},{"$f":"Values!$F$12-Values!$F$7","v":0},40,{"$f":"LEFT(INT((10^(Values!$F$12+3))*RAND()),E20)","v":""},{"$error":"#VALUE!"},{"$error":"#VALUE!"},{"$error":"#VALUE!"},0,{"$error":"#VALUE!"},{"$error":"#VALUE!"},{"$error":"#VALUE!"}]
[18,")","18)",{"$f":"IF(Values!$F$7=2,1,IF(Values!$F$7=3,2,INT(2*RAND()+1)))","v":1},{"$f":"Values!$F$12-Values!$F$7","v":0},20,{"$f":"LEFT(INT((10^(Values!$F$12+3))*RAND()),E21)","v":""},{"$error":"#VALUE!"},{"$error":"#VALUE!"},{"$error":"#VALUE!"},0,{"$error":"#VALUE!"},{"$error":"#VALUE!"},{"$error":"#VALUE!"}]
[19,")","19)",{"$f":"IF(Values!$F$7=2,1,IF(Values!$F$7=3,2,INT(2*RAND()+1)))","v":1},{"$f":"Values!$F$12-Values!$F$7","v":0},50,{"$f":"LEFT(INT((10^(Values!$F$12+3))*RAND()),E22)","v":""},{"$error":"#VALUE!"},{"$error":"#VALUE!"},{"$error":"#VALUE!"},0,{"$error":"#VALUE!"},{"$error":"#VALUE!"},{"$error":"#VALUE!"}]
[20,")","20)",{"$f":"IF(Values!$F$7=2,1,IF(Values!$F$7=3,2,INT(2*RAND()+1)))","v":1},{"$f":"Values!$F$12-Values!$F$7","v":0},50,{"$f":"LEFT(INT((10^(Values!$F$12+3))*RAND()),E23)","v":""},{"$error":"#VALUE!"},{"$error":"#VALUE!"},{"$error":"#VALUE!"},0,{"$error":"#VALUE!"},{"$error":"#VALUE!"},{"$error":"#VALUE!"}]
[21,")","21)",{"$f":"IF(Values!$F$7=2,1,IF(Values!$F$7=3,2,INT(2*RAND()+1)))","v":1},{"$f":"Values!$F$12-Values!$F$7","v":0},30,{"$f":"LEFT(INT((10^(Values!$F$12+3))*RAND()),E24)","v":""},{"$error":"#VALUE!"},{"$error":"#VALUE!"},{"$error":"#VALUE!"},0,{"$error":"#VALUE!"},{"$error":"#VALUE!"},{"$error":"#VALUE!"}]
[22,")","22)",{"$f":"IF(Values!$F$7=2,1,IF(Values!$F$7=3,2,INT(2*RAND()+1)))","v":1},{"$f":"Values!$F$12-Values!$F$7","v":0},90,{"$f":"LEFT(INT((10^(Values!$F$12+3))*RAND()),E25)","v":""},{"$error":"#VALUE!"},{"$error":"#VALUE!"},{"$error":"#VALUE!"},0,{"$error":"#VALUE!"},{"$error":"#VALUE!"},{"$error":"#VALUE!"}]
[23,")","23)",{"$f":"IF(Values!$F$7=2,1,IF(Values!$F$7=3,2,INT(2*RAND()+1)))","v":1},{"$f":"Values!$F$12-Values!$F$7","v":0},50,{"$f":"LEFT(INT((10^(Values!$F$12+3))*RAND()),E26)","v":""},{"$error":"#VALUE!"},{"$error":"#VALUE!"},{"$error":"#VALUE!"},0,{"$error":"#VALUE!"},{"$error":"#VALUE!"},{"$error":"#VALUE!"}]
[24,")","24)",{"$f":"IF(Values!$F$7=2,1,IF(Values!$F$7=3,2,INT(2*RAND()+1)))","v":1},{"$f":"Values!$F$12-Values!$F$7","v":0},10,{"$f":"LEFT(INT((10^(Values!$F$12+3))*RAND()),E27)","v":""},{"$error":"#VALUE!"},{"$error":"#VALUE!"},{"$error":"#VALUE!"},0,{"$error":"#VALUE!"},{"$error":"#VALUE!"},{"$error":"#VALUE!"}]
[25,")","25)",{"$f":"IF(Values!$F$7=2,1,IF(Values!$F$7=3,2,INT(2*RAND()+1)))","v":1},{"$f":"Values!$F$12-Values!$F$7","v":0},50,{"$f":"LEFT(INT((10^(Values!$F$12+3))*RAND()),E28)","v":""},{"$error":"#VALUE!"},{"$error":"#VALUE!"},{"$error":"#VALUE!"},0,{"$error":"#VALUE!"},{"$error":"#VALUE!"},{"$error":"#VALUE!"}]
[26,")","26)",{"$f":"IF(Values!$F$7=2,1,IF(Values!$F$7=3,2,INT(2*RAND()+1)))","v":1},{"$f":"Values!$F$12-Values!$F$7","v":0},90,{"$f":"LEFT(INT((10^(Values!$F$12+3))*RAND()),E29)","v":""},{"$error":"#VALUE!"},{"$error":"#VALUE!"},{"$error":"#VALUE!"},0,{"$error":"#VALUE!"},{"$error":"#VALUE!"},{"$error":"#VALUE!"}]
[27,")","27)",{"$f":"IF(Values!$F$7=2,1,IF(Values!$F$7=3,2,INT(2*RAND()+1)))","v":1},{"$f":"Values!$F$12-Values!$F$7","v":0},60,{"$f":"LEFT(INT((10^(Values!$F$12+3))*RAND()),E30)","v":""},{"$error":"#VALUE!"},{"$error":"#VALUE!"},{"$error":"#VALUE!"},0,{"$error":"#VALUE!"},{"$error":"#VALUE!"},{"$error":"#VALUE!"}]
[28,")","28)",{"$f":"IF(Values!$F$7=2,1,IF(Values!$F$7=3,2,INT(2*RAND()+1)))","v":1},{"$f":"Values!$F$12-Values!$F$7","v":0},30,{"$f":"LEFT(INT((10^(Values!$F$12+3))*RAND()),E31)","v":""},{"$error":"#VALUE!"},{"$error":"#VALUE!"},{"$error":"#VALUE!"},0,{"$error":"#VALUE!"},{"$error":"#VALUE!"},{"$error":"#VALUE!"}]
[29,")","29)",{"$f":"IF(Values!$F$7=2,1,IF(Values!$F$7=3,2,INT(2*RAND()+1)))","v":2},{"$f":"Values!$F$12-Values!$F$7","v":0},200,{"$f":"LEFT(INT((10^(Values!$F$12+3))*RAND()),E32)","v":""},{"$error":"#VALUE!"},{"$error":"#VALUE!"},{"$error":"#VALUE!"},0,{"$error":"#VALUE!"},{"$error":"#VALUE!"},{"$error":"#VALUE!"}]
[30,")","30)",{"$f":"IF(Values!$F$7=2,1,IF(Values!$F$7=3,2,INT(2*RAND()+1)))","v":1},{"$f":"Values!$F$12-Values!$F$7","v":0},70,{"$f":"LEFT(INT((10^(Values!$F$12+3))*RAND()),E33)","v":""},{"$error":"#VALUE!"},{"$error":"#VALUE!"},{"$error":"#VALUE!"},0,{"$error":"#VALUE!"},{"$error":"#VALUE!"},{"$error":"#VALUE!"}]
[31,")","31)",{"$f":"IF(Values!$F$7=2,1,IF(Values!$F$7=3,2,INT(2*RAND()+1)))","v":1},{"$f":"Values!$F$12-Values!$F$7","v":0},40,{"$f":"LEFT(INT((10^(Values!$F$12+3))*RAND()),E34)","v":""},{"$error":"#VALUE!"},{"$error":"#VALUE!"},{"$error":"#VALUE!"},0,{"$error":"#VALUE!"},{"$error":"#VALUE!"},{"$error":"#VALUE!"}]
[32,")","32)",{"$f":"IF(Values!$F$7=2,1,IF(Values!$F$7=3,2,INT(2*RAND()+1)))","v":2},{"$f":"Values!$F$12-Values!$F$7","v":0},100,{"$f":"LEFT(INT((10^(Values!$F$12+3))*RAND()),E35)","v":""},{"$error":"#VALUE!"},{"$error":"#VALUE!"},{"$error":"#VALUE!"},0,{"$error":"#VALUE!"},{"$error":"#VALUE!"},{"$error":"#VALUE!"}]
[33,")","33)",{"$f":"IF(Values!$F$7=2,1,IF(Values!$F$7=3,2,INT(2*RAND()+1)))","v":2},{"$f":"Values!$F$12-Values!$F$7","v":0},600,{"$f":"LEFT(INT((10^(Values!$F$12+3))*RAND()),E36)","v":""},{"$error":"#VALUE!"},{"$error":"#VALUE!"},{"$error":"#VALUE!"},0,{"$error":"#VALUE!"},{"$error":"#VALUE!"},{"$f":"CONCATENATE(M36,G36)","v":{"$error":"#VALUE!"}}]
[34,")","34)",{"$f":"IF(Values!$F$7=2,1,IF(Values!$F$7=3,2,INT(2*RAND()+1)))","v":1},{"$f":"Values!$F$12-Values!$F$7","v":0},10,{"$f":"LEFT(INT((10^(Values!$F$12+3))*RAND()),E37)","v":""},{"$error":"#VALUE!"},{"$error":"#VALUE!"},{"$error":"#VALUE!"},0,{"$error":"#VALUE!"},{"$error":"#VALUE!"},{"$error":"#VALUE!"}]
[35,")","35)",{"$f":"IF(Values!$F$7=2,1,IF(Values!$F$7=3,2,INT(2*RAND()+1)))","v":1},{"$f":"Values!$F$12-Values!$F$7","v":0},20,{"$f":"LEFT(INT((10^(Values!$F$12+3))*RAND()),E38)","v":""},{"$error":"#VALUE!"},{"$error":"#VALUE!"},{"$error":"#VALUE!"},0,{"$error":"#VALUE!"},{"$error":"#VALUE!"},{"$error":"#VALUE!"}]
[36,")","36)",{"$f":"IF(Values!$F$7=2,1,IF(Values!$F$7=3,2,INT(2*RAND()+1)))","v":2},{"$f":"Values!$F$12-Values!$F$7","v":0},900,{"$f":"LEFT(INT((10^(Values!$F$12+3))*RAND()),E39)","v":""},{"$error":"#VALUE!"},{"$error":"#VALUE!"},{"$error":"#VALUE!"},0,{"$error":"#VALUE!"},{"$error":"#VALUE!"},{"$error":"#VALUE!"}]
[37,")","37)",{"$f":"IF(Values!$F$7=2,1,IF(Values!$F$7=3,2,INT(2*RAND()+1)))","v":2},{"$f":"Values!$F$12-Values!$F$7","v":0},200,{"$f":"LEFT(INT((10^(Values!$F$12+3))*RAND()),E40)","v":""},{"$error":"#VALUE!"},{"$error":"#VALUE!"},{"$error":"#VALUE!"},0,{"$error":"#VALUE!"},{"$error":"#VALUE!"},{"$error":"#VALUE!"}]
[38,")","38)",{"$f":"IF(Values!$F$7=2,1,IF(Values!$F$7=3,2,INT(2*RAND()+1)))","v":2},{"$f":"Values!$F$12-Values!$F$7","v":0},600,{"$f":"LEFT(INT((10^(Values!$F$12+3))*RAND()),E41)","v":""},{"$error":"#VALUE!"},{"$error":"#VALUE!"},{"$error":"#VALUE!"},0,{"$error":"#VALUE!"},{"$error":"#VALUE!"},{"$error":"#VALUE!"}]
[39,")","39)",{"$f":"IF(Values!$F$7=2,1,IF(Values!$F$7=3,2,INT(2*RAND()+1)))","v":1},{"$f":"Values!$F$12-Values!$F$7","v":0},90,{"$f":"LEFT(INT((10^(Values!$F$12+3))*RAND()),E42)","v":""},{"$error":"#VALUE!"},{"$error":"#VALUE!"},{"$error":"#VALUE!"},0,{"$error":"#VALUE!"},{"$error":"#VALUE!"},{"$error":"#VALUE!"}]
[40,")","40)",{"$f":"IF(Values!$F$7=2,1,IF(Values!$F$7=3,2,INT(2*RAND()+1)))","v":1},{"$f":"Values!$F$12-Values!$F$7","v":0},40,{"$f":"LEFT(INT((10^(Values!$F$12+3))*RAND()),E43)","v":""},{"$error":"#VALUE!"},{"$error":"#VALUE!"},{"$error":"#VALUE!"},0,{"$error":"#VALUE!"},{"$error":"#VALUE!"},{"$error":"#VALUE!"}]
[41,")","41)",{"$f":"IF(Values!$F$7=2,1,IF(Values!$F$7=3,2,INT(2*RAND()+1)))","v":2},{"$f":"Values!$F$12-Values!$F$7","v":0},600,{"$f":"LEFT(INT((10^(Values!$F$12+3))*RAND()),E44)","v":""},{"$error":"#VALUE!"},{"$error":"#VALUE!"},{"$error":"#VALUE!"},0,{"$error":"#VALUE!"},{"$error":"#VALUE!"},{"$error":"#VALUE!"}]
[42,")","42)",{"$f":"IF(Values!$F$7=2,1,IF(Values!$F$7=3,2,INT(2*RAND()+1)))","v":1},{"$f":"Values!$F$12-Values!$F$7","v":0},50,{"$f":"LEFT(INT((10^(Values!$F$12+3))*RAND()),E45)","v":""},{"$error":"#VALUE!"},{"$error":"#VALUE!"},{"$error":"#VALUE!"},0,{"$error":"#VALUE!"},{"$error":"#VALUE!"},{"$error":"#VALUE!"}]
[43,")","43)",{"$f":"IF(Values!$F$7=2,1,IF(Values!$F$7=3,2,INT(2*RAND()+1)))","v":1},{"$f":"Values!$F$12-Values!$F$7","v":0},90,{"$f":"LEFT(INT((10^(Values!$F$12+3))*RAND()),E46)","v":""},{"$error":"#VALUE!"},{"$error":"#VALUE!"},{"$error":"#VALUE!"},0,{"$error":"#VALUE!"},{"$error":"#VALUE!"},{"$error":"#VALUE!"}]
[44,")","44)",{"$f":"IF(Values!$F$7=2,1,IF(Values!$F$7=3,2,INT(2*RAND()+1)))","v":1},{"$f":"Values!$F$12-Values!$F$7","v":0},40,{"$f":"LEFT(INT((10^(Values!$F$12+3))*RAND()),E47)","v":""},{"$error":"#VALUE!"},{"$error":"#VALUE!"},{"$error":"#VALUE!"},0,{"$error":"#VALUE!"},{"$error":"#VALUE!"},{"$error":"#VALUE!"}]
[45,")","45)",{"$f":"IF(Values!$F$7=2,1,IF(Values!$F$7=3,2,INT(2*RAND()+1)))","v":1},{"$f":"Values!$F$12-Values!$F$7","v":0},80,{"$f":"LEFT(INT((10^(Values!$F$12+3))*RAND()),E48)","v":""},{"$error":"#VALUE!"},{"$error":"#VALUE!"},{"$error":"#VALUE!"},0,{"$error":"#VALUE!"},{"$error":"#VALUE!"},{"$error":"#VALUE!"}]
[46,")","46)",{"$f":"IF(Values!$F$7=2,1,IF(Values!$F$7=3,2,INT(2*RAND()+1)))","v":2},{"$f":"Values!$F$12-Values!$F$7","v":0},900,{"$f":"LEFT(INT((10^(Values!$F$12+3))*RAND()),E49)","v":""},{"$error":"#VALUE!"},{"$error":"#VALUE!"},{"$error":"#VALUE!"},0,{"$error":"#VALUE!"},{"$error":"#VALUE!"},{"$error":"#VALUE!"}]
[47,")","47)",{"$f":"IF(Values!$F$7=2,1,IF(Values!$F$7=3,2,INT(2*RAND()+1)))","v":2},{"$f":"Values!$F$12-Values!$F$7","v":0},200,{"$f":"LEFT(INT((10^(Values!$F$12+3))*RAND()),E50)","v":""},{"$error":"#VALUE!"},{"$error":"#VALUE!"},{"$error":"#VALUE!"},0,{"$error":"#VALUE!"},{"$error":"#VALUE!"},{"$error":"#VALUE!"}]
[48,")","48)",{"$f":"IF(Values!$F$7=2,1,IF(Values!$F$7=3,2,INT(2*RAND()+1)))","v":1},{"$f":"Values!$F$12-Values!$F$7","v":0},10,{"$f":"LEFT(INT((10^(Values!$F$12+3))*RAND()),E51)","v":""},{"$error":"#VALUE!"},{"$error":"#VALUE!"},{"$error":"#VALUE!"},0,{"$error":"#VALUE!"},{"$error":"#VALUE!"},{"$error":"#VALUE!"}]
[49,")","49)",{"$f":"IF(Values!$F$7=2,1,IF(Values!$F$7=3,2,INT(2*RAND()+1)))","v":1},{"$f":"Values!$F$12-Values!$F$7","v":0},50,{"$f":"LEFT(INT((10^(Values!$F$12+3))*RAND()),E52)","v":""},{"$error":"#VALUE!"},{"$error":"#VALUE!"},{"$error":"#VALUE!"},0,{"$error":"#VALUE!"},{"$error":"#VALUE!"},{"$error":"#VALUE!"}]
[50,")","50)",{"$f":"IF(Values!$F$7=2,1,IF(Values!$F$7=3,2,INT(2*RAND()+1)))","v":2},{"$f":"Values!$F$12-Values!$F$7","v":0},600,{"$f":"LEFT(INT((10^(Values!$F$12+3))*RAND()),E53)","v":""},{"$error":"#VALUE!"},{"$error":"#VALUE!"},{"$error":"#VALUE!"},0,{"$error":"#VALUE!"},{"$error":"#VALUE!"},{"$error":"#VALUE!"}]
[51,")","51)",{"$f":"IF(Values!$F$7=2,1,IF(Values!$F$7=3,2,INT(2*RAND()+1)))","v":1},{"$f":"Values!$F$12-Values!$F$7","v":0},30,{"$f":"LEFT(INT((10^(Values!$F$12+3))*RAND()),E54)","v":""},{"$error":"#VALUE!"},{"$error":"#VALUE!"},{"$error":"#VALUE!"},0,{"$error":"#VALUE!"},{"$error":"#VALUE!"},{"$error":"#VALUE!"}]
[52,")","52)",{"$f":"IF(Values!$F$7=2,1,IF(Values!$F$7=3,2,INT(2*RAND()+1)))","v":1},{"$f":"Values!$F$12-Values!$F$7","v":0},60,{"$f":"LEFT(INT((10^(Values!$F$12+3))*RAND()),E55)","v":""},{"$error":"#VALUE!"},{"$error":"#VALUE!"},{"$error":"#VALUE!"},0,{"$error":"#VALUE!"},{"$error":"#VALUE!"},{"$error":"#VALUE!"}]
[53,")","53)",{"$f":"IF(Values!$F$7=2,1,IF(Values!$F$7=3,2,INT(2*RAND()+1)))","v":2},{"$f":"Values!$F$12-Values!$F$7","v":0},100,{"$f":"LEFT(INT((10^(Values!$F$12+3))*RAND()),E56)","v":""},{"$error":"#VALUE!"},{"$error":"#VALUE!"},{"$error":"#VALUE!"},0,{"$error":"#VALUE!"},{"$error":"#VALUE!"},{"$error":"#VALUE!"}]
[54,")","54)",{"$f":"IF(Values!$F$7=2,1,IF(Values!$F$7=3,2,INT(2*RAND()+1)))","v":1},{"$f":"Values!$F$12-Values!$F$7","v":0},10,{"$f":"LEFT(INT((10^(Values!$F$12+3))*RAND()),E57)","v":""},{"$error":"#VALUE!"},{"$error":"#VALUE!"},{"$error":"#VALUE!"},0,{"$error":"#VALUE!"},{"$error":"#VALUE!"},{"$error":"#VALUE!"}]
[55,")","55)",{"$f":"IF(Values!$F$7=2,1,IF(Values!$F$7=3,2,INT(2*RAND()+1)))","v":1},{"$f":"Values!$F$12-Values!$F$7","v":0},50,{"$f":"LEFT(INT((10^(Values!$F$12+3))*RAND()),E58)","v":""},{"$error":"#VALUE!"},{"$error":"#VALUE!"},{"$error":"#VALUE!"},0,{"$error":"#VALUE!"},{"$error":"#VALUE!"},{"$error":"#VALUE!"}]
[56,")","56)",{"$f":"IF(Values!$F$7=2,1,IF(Values!$F$7=3,2,INT(2*RAND()+1)))","v":2},{"$f":"Values!$F$12-Values!$F$7","v":0},500,{"$f":"LEFT(INT((10^(Values!$F$12+3))*RAND()),E59)","v":""},{"$error":"#VALUE!"},{"$error":"#VALUE!"},{"$error":"#VALUE!"},0,{"$error":"#VALUE!"},{"$error":"#VALUE!"},{"$error":"#VALUE!"}]
[57,")","57)",{"$f":"IF(Values!$F$7=2,1,IF(Values!$F$7=3,2,INT(2*RAND()+1)))","v":2},{"$f":"Values!$F$12-Values!$F$7","v":0},400,{"$f":"LEFT(INT((10^(Values!$F$12+3))*RAND()),E60)","v":""},{"$error":"#VALUE!"},{"$error":"#VALUE!"},{"$error":"#VALUE!"},0,{"$error":"#VALUE!"},{"$error":"#VALUE!"},{"$error":"#VALUE!"}]
[58,")","58)",{"$f":"IF(Values!$F$7=2,1,IF(Values!$F$7=3,2,INT(2*RAND()+1)))","v":2},{"$f":"Values!$F$12-Values!$F$7","v":0},200,{"$f":"LEFT(INT((10^(Values!$F$12+3))*RAND()),E61)","v":""},{"$error":"#VALUE!"},{"$error":"#VALUE!"},{"$error":"#VALUE!"},0,{"$error":"#VALUE!"},{"$error":"#VALUE!"},{"$error":"#VALUE!"}]
[59,")","59)",{"$f":"IF(Values!$F$7=2,1,IF(Values!$F$7=3,2,INT(2*RAND()+1)))","v":2},{"$f":"Values!$F$12-Values!$F$7","v":0},300,{"$f":"LEFT(INT((10^(Values!$F$12+3))*RAND()),E62)","v":""},{"$error":"#VALUE!"},{"$error":"#VALUE!"},{"$error":"#VALUE!"},0,{"$error":"#VALUE!"},{"$error":"#VALUE!"},{"$error":"#VALUE!"}]
[60,")","60)",{"$f":"IF(Values!$F$7=2,1,IF(Values!$F$7=3,2,INT(2*RAND()+1)))","v":1},{"$f":"Values!$F$12-Values!$F$7","v":0},50,{"$f":"LEFT(INT((10^(Values!$F$12+3))*RAND()),E63)","v":""},{"$error":"#VALUE!"},{"$error":"#VALUE!"},{"$error":"#VALUE!"},0,{"$error":"#VALUE!"},{"$error":"#VALUE!"},{"$error":"#VALUE!"}]
[61,")","61)",{"$f":"IF(Values!$F$7=2,1,IF(Values!$F$7=3,2,INT(2*RAND()+1)))","v":1},{"$f":"Values!$F$12-Values!$F$7","v":0},10,{"$f":"LEFT(INT((10^(Values!$F$12+3))*RAND()),E64)","v":""},{"$error":"#VALUE!"},{"$error":"#VALUE!"},{"$error":"#VALUE!"},0,{"$error":"#VALUE!"},{"$error":"#VALUE!"},{"$error":"#VALUE!"}]
[62,")","62)",{"$f":"IF(Values!$F$7=2,1,IF(Values!$F$7=3,2,INT(2*RAND()+1)))","v":1},{"$f":"Values!$F$12-Values!$F$7","v":0},50,{"$f":"LEFT(INT((10^(Values!$F$12+3))*RAND()),E65)","v":""},{"$error":"#VALUE!"},{"$error":"#VALUE!"},{"$error":"#VALUE!"},0,{"$error":"#VALUE!"},{"$error":"#VALUE!"},{"$error":"#VALUE!"}]
[63,")","63)",{"$f":"IF(Values!$F$7=2,1,IF(Values!$F$7=3,2,INT(2*RAND()+1)))","v":1},{"$f":"Values!$F$12-Values!$F$7","v":0},30,{"$f":"LEFT(INT((10^(Values!$F$12+3))*RAND()),E66)","v":""},{"$error":"#VALUE!"},{"$error":"#VALUE!"},{"$error":"#VALUE!"},0,{"$error":"#VALUE!"},{"$error":"#VALUE!"},{"$error":"#VALUE!"}]
[64,")","64)",{"$f":"IF(Values!$F$7=2,1,IF(Values!$F$7=3,2,INT(2*RAND()+1)))","v":2},{"$f":"Values!$F$12-Values!$F$7","v":0},400,{"$f":"LEFT(INT((10^(Values!$F$12+3))*RAND()),E67)","v":""},{"$error":"#VALUE!"},{"$error":"#VALUE!"},{"$error":"#VALUE!"},0,{"$error":"#VALUE!"},{"$error":"#VALUE!"},{"$error":"#VALUE!"}]
[65,")","65)",{"$f":"IF(Values!$F$7=2,1,IF(Values!$F$7=3,2,INT(2*RAND()+1)))","v":2},{"$f":"Values!$F$12-Values!$F$7","v":0},400,{"$f":"LEFT(INT((10^(Values!$F$12+3))*RAND()),E68)","v":""},{"$error":"#VALUE!"},{"$error":"#VALUE!"},{"$error":"#VALUE!"},0,{"$error":"#VALUE!"},{"$error":"#VALUE!"},{"$f":"CONCATENATE(M68,G68)","v":{"$error":"#VALUE!"}}]
[66,")",{"$f":"CONCATENATE(A69,B69)","v":"66)"},{"$f":"IF(Values!$F$7=2,1,IF(Values!$F$7=3,2,INT(2*RAND()+1)))","v":2},{"$f":"Values!$F$12-Values!$F$7","v":0},{"$f":"INT(9*RAND()+1)*10^D69","v":300},{"$f":"LEFT(INT((10^(Values!$F$12+3))*RAND()),E69)","v":""},{"$f":"F69*G69","v":{"$error":"#VALUE!"}},{"$f":"H69","v":{"$error":"#VALUE!"}},{"$f":"LEN(I69)","v":{"$error":"#VALUE!"}},{"$f":"LEN(G69)","v":0},{"$f":"J69-K69","v":{"$error":"#VALUE!"}},{"$f":"IF(L69=0,\" \",IF(L69=1,\"  \",IF(L69=2,\"   \",IF(L69=3,\"     \",\"       \"))))","v":{"$error":"#VALUE!"}},{"$error":"#VALUE!"}]
[67,")","67)",{"$f":"IF(Values!$F$7=2,1,IF(Values!$F$7=3,2,INT(2*RAND()+1)))","v":1},{"$f":"Values!$F$12-Values!$F$7","v":0},90,{"$f":"LEFT(INT((10^(Values!$F$12+3))*RAND()),E70)","v":""},{"$error":"#VALUE!"},{"$error":"#VALUE!"},{"$error":"#VALUE!"},0,{"$error":"#VALUE!"},{"$error":"#VALUE!"},{"$error":"#VALUE!"}]
[68,")","68)",{"$f":"IF(Values!$F$7=2,1,IF(Values!$F$7=3,2,INT(2*RAND()+1)))","v":2},{"$f":"Values!$F$12-Values!$F$7","v":0},500,{"$f":"LEFT(INT((10^(Values!$F$12+3))*RAND()),E71)","v":""},{"$error":"#VALUE!"},{"$error":"#VALUE!"},{"$error":"#VALUE!"},0,{"$error":"#VALUE!"},{"$error":"#VALUE!"},{"$error":"#VALUE!"}]
[69,")","69)",{"$f":"IF(Values!$F$7=2,1,IF(Values!$F$7=3,2,INT(2*RAND()+1)))","v":2},{"$f":"Values!$F$12-Values!$F$7","v":0},100,{"$f":"LEFT(INT((10^(Values!$F$12+3))*RAND()),E72)","v":""},{"$error":"#VALUE!"},{"$error":"#VALUE!"},{"$error":"#VALUE!"},0,{"$error":"#VALUE!"},{"$error":"#VALUE!"},{"$error":"#VALUE!"}]
[70,")","70)",{"$f":"IF(Values!$F$7=2,1,IF(Values!$F$7=3,2,INT(2*RAND()+1)))","v":1},{"$f":"Values!$F$12-Values!$F$7","v":0},10,{"$f":"LEFT(INT((10^(Values!$F$12+3))*RAND()),E73)","v":""},{"$error":"#VALUE!"},{"$error":"#VALUE!"},{"$error":"#VALUE!"},0,{"$error":"#VALUE!"},{"$error":"#VALUE!"},{"$error":"#VALUE!"}]
[71,")","71)",{"$f":"IF(Values!$F$7=2,1,IF(Values!$F$7=3,2,INT(2*RAND()+1)))","v":1},{"$f":"Values!$F$12-Values!$F$7","v":0},10,{"$f":"LEFT(INT((10^(Values!$F$12+3))*RAND()),E74)","v":""},{"$error":"#VALUE!"},{"$error":"#VALUE!"},{"$error":"#VALUE!"},0,{"$error":"#VALUE!"},{"$error":"#VALUE!"},{"$error":"#VALUE!"}]
[72,")","72)",{"$f":"IF(Values!$F$7=2,1,IF(Values!$F$7=3,2,INT(2*RAND()+1)))","v":2},{"$f":"Values!$F$12-Values!$F$7","v":0},300,{"$f":"LEFT(INT((10^(Values!$F$12+3))*RAND()),E75)","v":""},{"$error":"#VALUE!"},{"$error":"#VALUE!"},{"$error":"#VALUE!"},0,{"$error":"#VALUE!"},{"$error":"#VALUE!"},{"$error":"#VALUE!"}]
[73,")","73)",{"$f":"IF(Values!$F$7=2,1,IF(Values!$F$7=3,2,INT(2*RAND()+1)))","v":1},{"$f":"Values!$F$12-Values!$F$7","v":0},30,{"$f":"LEFT(INT((10^(Values!$F$12+3))*RAND()),E76)","v":""},{"$error":"#VALUE!"},{"$error":"#VALUE!"},{"$error":"#VALUE!"},0,{"$error":"#VALUE!"},{"$error":"#VALUE!"},{"$error":"#VALUE!"}]
[74,")","74)",{"$f":"IF(Values!$F$7=2,1,IF(Values!$F$7=3,2,INT(2*RAND()+1)))","v":2},{"$f":"Values!$F$12-Values!$F$7","v":0},300,{"$f":"LEFT(INT((10^(Values!$F$12+3))*RAND()),E77)","v":""},{"$error":"#VALUE!"},{"$error":"#VALUE!"},{"$error":"#VALUE!"},0,{"$error":"#VALUE!"},{"$error":"#VALUE!"},{"$error":"#VALUE!"}]
[75,")","75)",{"$f":"IF(Values!$F$7=2,1,IF(Values!$F$7=3,2,INT(2*RAND()+1)))","v":1},{"$f":"Values!$F$12-Values!$F$7","v":0},30,{"$f":"LEFT(INT((10^(Values!$F$12+3))*RAND()),E78)","v":""},{"$error":"#VALUE!"},{"$error":"#VALUE!"},{"$error":"#VALUE!"},0,{"$error":"#VALUE!"},{"$error":"#VALUE!"},{"$error":"#VALUE!"}]
[76,")","76)",{"$f":"IF(Values!$F$7=2,1,IF(Values!$F$7=3,2,INT(2*RAND()+1)))","v":2},{"$f":"Values!$F$12-Values!$F$7","v":0},600,{"$f":"LEFT(INT((10^(Values!$F$12+3))*RAND()),E79)","v":""},{"$error":"#VALUE!"},{"$error":"#VALUE!"},{"$error":"#VALUE!"},0,{"$error":"#VALUE!"},{"$error":"#VALUE!"},{"$error":"#VALUE!"}]
[77,")","77)",{"$f":"IF(Values!$F$7=2,1,IF(Values!$F$7=3,2,INT(2*RAND()+1)))","v":2},{"$f":"Values!$F$12-Values!$F$7","v":0},600,{"$f":"LEFT(INT((10^(Values!$F$12+3))*RAND()),E80)","v":""},{"$error":"#VALUE!"},{"$error":"#VALUE!"},{"$error":"#VALUE!"},0,{"$error":"#VALUE!"},{"$error":"#VALUE!"},{"$error":"#VALUE!"}]
[78,")","78)",{"$f":"IF(Values!$F$7=2,1,IF(Values!$F$7=3,2,INT(2*RAND()+1)))","v":2},{"$f":"Values!$F$12-Values!$F$7","v":0},300,{"$f":"LEFT(INT((10^(Values!$F$12+3))*RAND()),E81)","v":""},{"$error":"#VALUE!"},{"$error":"#VALUE!"},{"$error":"#VALUE!"},0,{"$error":"#VALUE!"},{"$error":"#VALUE!"},{"$error":"#VALUE!"}]
[79,")","79)",{"$f":"IF(Values!$F$7=2,1,IF(Values!$F$7=3,2,INT(2*RAND()+1)))","v":1},{"$f":"Values!$F$12-Values!$F$7","v":0},80,{"$f":"LEFT(INT((10^(Values!$F$12+3))*RAND()),E82)","v":""},{"$error":"#VALUE!"},{"$error":"#VALUE!"},{"$error":"#VALUE!"},0,{"$error":"#VALUE!"},{"$error":"#VALUE!"},{"$error":"#VALUE!"}]
[80,")","80)",{"$f":"IF(Values!$F$7=2,1,IF(Values!$F$7=3,2,INT(2*RAND()+1)))","v":2},{"$f":"Values!$F$12-Values!$F$7","v":0},300,{"$f":"LEFT(INT((10^(Values!$F$12+3))*RAND()),E83)","v":""},{"$error":"#VALUE!"},{"$error":"#VALUE!"},{"$error":"#VALUE!"},0,{"$error":"#VALUE!"},{"$error":"#VALUE!"},{"$error":"#VALUE!"}]
[81,")","81)",{"$f":"IF(Values!$F$7=2,1,IF(Values!$F$7=3,2,INT(2*RAND()+1)))","v":2},{"$f":"Values!$F$12-Values!$F$7","v":0},200,{"$f":"LEFT(INT((10^(Values!$F$12+3))*RAND()),E84)","v":""},{"$error":"#VALUE!"},{"$error":"#VALUE!"},{"$error":"#VALUE!"},0,{"$error":"#VALUE!"},{"$error":"#VALUE!"},{"$error":"#VALUE!"}]
[82,")","82)",{"$f":"IF(Values!$F$7=2,1,IF(Values!$F$7=3,2,INT(2*RAND()+1)))","v":2},{"$f":"Values!$F$12-Values!$F$7","v":0},400,{"$f":"LEFT(INT((10^(Values!$F$12+3))*RAND()),E85)","v":""},{"$error":"#VALUE!"},{"$error":"#VALUE!"},{"$error":"#VALUE!"},0,{"$error":"#VALUE!"},{"$error":"#VALUE!"},{"$error":"#VALUE!"}]
[83,")","83)",{"$f":"IF(Values!$F$7=2,1,IF(Values!$F$7=3,2,INT(2*RAND()+1)))","v":1},{"$f":"Values!$F$12-Values!$F$7","v":0},30,{"$f":"LEFT(INT((10^(Values!$F$12+3))*RAND()),E86)","v":""},{"$error":"#VALUE!"},{"$error":"#VALUE!"},{"$error":"#VALUE!"},0,{"$error":"#VALUE!"},{"$error":"#VALUE!"},{"$error":"#VALUE!"}]
[84,")","84)",{"$f":"IF(Values!$F$7=2,1,IF(Values!$F$7=3,2,INT(2*RAND()+1)))","v":1},{"$f":"Values!$F$12-Values!$F$7","v":0},70,{"$f":"LEFT(INT((10^(Values!$F$12+3))*RAND()),E87)","v":""},{"$error":"#VALUE!"},{"$error":"#VALUE!"},{"$error":"#VALUE!"},0,{"$error":"#VALUE!"},{"$error":"#VALUE!"},{"$error":"#VALUE!"}]
[85,")","85)",{"$f":"IF(Values!$F$7=2,1,IF(Values!$F$7=3,2,INT(2*RAND()+1)))","v":1},{"$f":"Values!$F$12-Values!$F$7","v":0},50,{"$f":"LEFT(INT((10^(Values!$F$12+3))*RAND()),E88)","v":""},{"$error":"#VALUE!"},{"$error":"#VALUE!"},{"$error":"#VALUE!"},0,{"$error":"#VALUE!"},{"$error":"#VALUE!"},{"$error":"#VALUE!"}]
[86,")","86)",{"$f":"IF(Values!$F$7=2,1,IF(Values!$F$7=3,2,INT(2*RAND()+1)))","v":1},{"$f":"Values!$F$12-Values!$F$7","v":0},50,{"$f":"LEFT(INT((10^(Values!$F$12+3))*RAND()),E89)","v":""},{"$error":"#VALUE!"},{"$error":"#VALUE!"},{"$error":"#VALUE!"},0,{"$error":"#VALUE!"},{"$error":"#VALUE!"},{"$error":"#VALUE!"}]
[87,")","87)",{"$f":"IF(Values!$F$7=2,1,IF(Values!$F$7=3,2,INT(2*RAND()+1)))","v":1},{"$f":"Values!$F$12-Values!$F$7","v":0},40,{"$f":"LEFT(INT((10^(Values!$F$12+3))*RAND()),E90)","v":""},{"$error":"#VALUE!"},{"$error":"#VALUE!"},{"$error":"#VALUE!"},0,{"$error":"#VALUE!"},{"$error":"#VALUE!"},{"$error":"#VALUE!"}]
[88,")","88)",{"$f":"IF(Values!$F$7=2,1,IF(Values!$F$7=3,2,INT(2*RAND()+1)))","v":2},{"$f":"Values!$F$12-Values!$F$7","v":0},500,{"$f":"LEFT(INT((10^(Values!$F$12+3))*RAND()),E91)","v":""},{"$error":"#VALUE!"},{"$error":"#VALUE!"},{"$error":"#VALUE!"},0,{"$error":"#VALUE!"},{"$error":"#VALUE!"},{"$error":"#VALUE!"}]
[89,")","89)",{"$f":"IF(Values!$F$7=2,1,IF(Values!$F$7=3,2,INT(2*RAND()+1)))","v":2},{"$f":"Values!$F$12-Values!$F$7","v":0},800,{"$f":"LEFT(INT((10^(Values!$F$12+3))*RAND()),E92)","v":""},{"$error":"#VALUE!"},{"$error":"#VALUE!"},{"$error":"#VALUE!"},0,{"$error":"#VALUE!"},{"$error":"#VALUE!"},{"$error":"#VALUE!"}]
[90,")","90)",{"$f":"IF(Values!$F$7=2,1,IF(Values!$F$7=3,2,INT(2*RAND()+1)))","v":2},{"$f":"Values!$F$12-Values!$F$7","v":0},500,{"$f":"LEFT(INT((10^(Values!$F$12+3))*RAND()),E93)","v":""},{"$error":"#VALUE!"},{"$error":"#VALUE!"},{"$error":"#VALUE!"},0,{"$error":"#VALUE!"},{"$error":"#VALUE!"},{"$error":"#VALUE!"}]
[91,")","91)",{"$f":"IF(Values!$F$7=2,1,IF(Values!$F$7=3,2,INT(2*RAND()+1)))","v":2},{"$f":"Values!$F$12-Values!$F$7","v":0},900,{"$f":"LEFT(INT((10^(Values!$F$12+3))*RAND()),E94)","v":""},{"$error":"#VALUE!"},{"$error":"#VALUE!"},{"$error":"#VALUE!"},0,{"$error":"#VALUE!"},{"$error":"#VALUE!"},{"$error":"#VALUE!"}]
[92,")","92)",{"$f":"IF(Values!$F$7=2,1,IF(Values!$F$7=3,2,INT(2*RAND()+1)))","v":1},{"$f":"Values!$F$12-Values!$F$7","v":0},60,{"$f":"LEFT(INT((10^(Values!$F$12+3))*RAND()),E95)","v":""},{"$error":"#VALUE!"},{"$error":"#VALUE!"},{"$error":"#VALUE!"},0,{"$error":"#VALUE!"},{"$error":"#VALUE!"},{"$error":"#VALUE!"}]
[93,")","93)",{"$f":"IF(Values!$F$7=2,1,IF(Values!$F$7=3,2,INT(2*RAND()+1)))","v":1},{"$f":"Values!$F$12-Values!$F$7","v":0},60,{"$f":"LEFT(INT((10^(Values!$F$12+3))*RAND()),E96)","v":""},{"$error":"#VALUE!"},{"$error":"#VALUE!"},{"$error":"#VALUE!"},0,{"$error":"#VALUE!"},{"$error":"#VALUE!"},{"$error":"#VALUE!"}]
[94,")","94)",{"$f":"IF(Values!$F$7=2,1,IF(Values!$F$7=3,2,INT(2*RAND()+1)))","v":2},{"$f":"Values!$F$12-Values!$F$7","v":0},900,{"$f":"LEFT(INT((10^(Values!$F$12+3))*RAND()),E97)","v":""},{"$error":"#VALUE!"},{"$error":"#VALUE!"},{"$error":"#VALUE!"},0,{"$error":"#VALUE!"},{"$error":"#VALUE!"},{"$error":"#VALUE!"}]
[95,")","95)",{"$f":"IF(Values!$F$7=2,1,IF(Values!$F$7=3,2,INT(2*RAND()+1)))","v":1},{"$f":"Values!$F$12-Values!$F$7","v":0},60,{"$f":"LEFT(INT((10^(Values!$F$12+3))*RAND()),E98)","v":""},{"$error":"#VALUE!"},{"$error":"#VALUE!"},{"$error":"#VALUE!"},0,{"$error":"#VALUE!"},{"$error":"#VALUE!"},{"$error":"#VALUE!"}]
[96,")","96)",{"$f":"IF(Values!$F$7=2,1,IF(Values!$F$7=3,2,INT(2*RAND()+1)))","v":1},{"$f":"Values!$F$12-Values!$F$7","v":0},60,{"$f":"LEFT(INT((10^(Values!$F$12+3))*RAND()),E99)","v":""},{"$error":"#VALUE!"},{"$error":"#VALUE!"},{"$error":"#VALUE!"},0,{"$error":"#VALUE!"},{"$error":"#VALUE!"},{"$error":"#VALUE!"}]
[97,")","97)",{"$f":"IF(Values!$F$7=2,1,IF(Values!$F$7=3,2,INT(2*RAND()+1)))","v":1},{"$f":"Values!$F$12-Values!$F$7","v":0},30,{"$f":"LEFT(INT((10^(Values!$F$12+3))*RAND()),E100)","v":""},{"$error":"#VALUE!"},{"$error":"#VALUE!"},{"$error":"#VALUE!"},0,{"$error":"#VALUE!"},{"$error":"#VALUE!"},{"$f":"CONCATENATE(M100,G100)","v":{"$error":"#VALUE!"}}]
[98,")","98)",{"$f":"IF(Values!$F$7=2,1,IF(Values!$F$7=3,2,INT(2*RAND()+1)))","v":2},{"$f":"Values!$F$12-Values!$F$7","v":0},900,{"$f":"LEFT(INT((10^(Values!$F$12+3))*RAND()),E101)","v":""},{"$error":"#VALUE!"},{"$error":"#VALUE!"},{"$error":"#VALUE!"},0,{"$error":"#VALUE!"},{"$error":"#VALUE!"},{"$f":"CONCATENATE(M101,G101)","v":{"$error":"#VALUE!"}}]
[99,")","99)",{"$f":"IF(Values!$F$7=2,1,IF(Values!$F$7=3,2,INT(2*RAND()+1)))","v":2},{"$f":"Values!$F$12-Values!$F$7","v":0},600,{"$f":"LEFT(INT((10^(Values!$F$12+3))*RAND()),E102)","v":""},{"$error":"#VALUE!"},{"$error":"#VALUE!"},{"$error":"#VALUE!"},0,{"$error":"#VALUE!"},{"$error":"#VALUE!"},{"$f":"CONCATENATE(M102,G102)","v":{"$error":"#VALUE!"}}]
[100,")","100)",{"$f":"IF(Values!$F$7=2,1,IF(Values!$F$7=3,2,INT(2*RAND()+1)))","v":1},{"$f":"Values!$F$12-Values!$F$7","v":0},70,{"$f":"LEFT(INT((10^(Values!$F$12+3))*RAND()),E103)","v":""},{"$error":"#VALUE!"},{"$error":"#VALUE!"},{"$error":"#VALUE!"},0,{"$error":"#VALUE!"},{"$error":"#VALUE!"},{"$f":"CONCATENATE(M103,G103)","v":{"$error":"#VALUE!"}}]