{"text_format":"1","workbook":"xlsx","n_sheets":3,"sheets":["Worksheet","Solutions","Working"],"not_rendered":{"charts":0,"images":0,"macros":1,"external_links":0,"defined_names":0,"comments":0,"pivot_tables":0},"unopened":[],"bounds":{"document_bytes":16777216,"sheet_cells":100000,"rows_first":2000,"rows_last":500,"rows_between":2000,"halvings":0,"cell_chars":16384,"cell_head_chars":4096},"cells_cut":0,"cells_raw":0,"read":"whole","date_system":"1900"}

{"sheet":"Worksheet","index":0,"n_rows":27,"n_cols":5,"rows_kept":27,"cut":false,"hidden":false,"merged":[[1,4,1,5]]}
[null,null,null,"DIVISION OF NUMBERS BY MULTIPLES OF 10"]
[null,null,null,null,{"$f":"CONCATENATE(\"Worksheet \",Working!D1,Working!A1)","v":"Worksheet DPT-666"}]
["1)",{"$f":"Working!J3","v":"8400 ÷ 100"},null,"26)",{"$f":"Working!J28","v":"2442300 ÷ 10000"}]
["2)",{"$f":"Working!J4","v":"700000 ÷ 100000"},null,"27)",{"$f":"Working!J29","v":"7 ÷ 100"}]
["3)",{"$f":"Working!J5","v":"900 ÷ 100"},null,"28)",{"$f":"Working!J30","v":"991 ÷ 10000"}]
["4)",{"$f":"Working!J6","v":"400 ÷ 100"},null,"29)",{"$f":"Working!J31","v":"0.0784 ÷ 100"}]
["5)",{"$f":"Working!J7","v":"7700000 ÷ 100000"},null,"30)",{"$f":"Working!J32","v":"10 ÷ 10000"}]
["6)",{"$f":"Working!J8","v":"81100 ÷ 1000"},null,"31)",{"$f":"Working!J33","v":"74060 ÷ 1000"}]
["7)",{"$f":"Working!J9","v":"680300 ÷ 1000"},null,"32)",{"$f":"Working!J34","v":"0.9 ÷ 100000"}]
["8)",{"$f":"Working!J10","v":"67913000 ÷ 10000"},null,"33)",{"$f":"Working!J35","v":"49450 ÷ 10000"}]
["9)",{"$f":"Working!J11","v":"15160 ÷ 100"},null,"34)",{"$f":"Working!J36","v":"0.05 ÷ 10000"}]
["10)",{"$f":"Working!J12","v":"66762 ÷ 100"},null,"35)",{"$f":"Working!J37","v":"55337 ÷ 10000"}]
["11)",{"$f":"Working!J13","v":"4032100 ÷ 10000"},null,"36)",{"$f":"Working!J38","v":"83.55 ÷ 10000"}]
["12)",{"$f":"Working!J14","v":"36770 ÷ 100"},null,"37)",{"$f":"Working!J39","v":"0.0008 ÷ 100"}]
["13)",{"$f":"Working!J15","v":"77830 ÷ 100"},null,"38)",{"$f":"Working!J40","v":"815 ÷ 100000"}]
["14)",{"$f":"Working!J16","v":"86491000 ÷ 10000"},null,"39)",{"$f":"Working!J41","v":"782 ÷ 1000"}]
["15)",{"$f":"Working!J17","v":"7967000 ÷ 100000"},null,"40)",{"$f":"Working!J42","v":"84.4 ÷ 1000"}]
["16)",{"$f":"Working!J18","v":"441852000 ÷ 100000"},null,"41)",{"$f":"Working!J43","v":"350 ÷ 1000"}]
["17)",{"$f":"Working!J19","v":"18751190 ÷ 1000"},null,"44)",{"$f":"Working!J44","v":"58.9 ÷ 1000"}]
["18)",{"$f":"Working!J20","v":"6520700 ÷ 10000"},null,"43)",{"$f":"Working!J45","v":"828340 ÷ 100000"}]
["19)",{"$f":"Working!J21","v":"90490 ÷ 1000"},null,"44)",{"$f":"Working!J46","v":"786 ÷ 1000"}]
["20)",{"$f":"Working!J22","v":"422000 ÷ 100000"},null,"45)",{"$f":"Working!J47","v":"82.92 ÷ 1000"}]
["21)",{"$f":"Working!J23","v":"68957 ÷ 100"},null,"46)",{"$f":"Working!J48","v":"2000 ÷ 100000"}]
["22)",{"$f":"Working!J24","v":"959929000 ÷ 100000"},null,"47)",{"$f":"Working!J49","v":"900 ÷ 10000"}]
["23)",{"$f":"Working!J25","v":"31884700 ÷ 10000"},null,"48)",{"$f":"Working!J50","v":"0.2483 ÷ 100"}]
["24)",{"$f":"Working!J26","v":"929922000 ÷ 100000"},null,"49)",{"$f":"Working!J51","v":"61.8 ÷ 10000"}]
["25)",{"$f":"Working!J27","v":"1312525 ÷ 100"},null,"50)",{"$f":"Working!J52","v":"4986 ÷ 10000"}]

{"sheet":"Solutions","index":1,"n_rows":27,"n_cols":6,"rows_kept":27,"cut":false,"hidden":false,"merged":[[1,4,1,5]]}
[null,null,null,"DIVISION OF NUMBERS BY MULTIPLES OF 10"]
[null,null,null,null,{"$f":"CONCATENATE(\"Worksheet \",Working!D1,Working!A1)","v":"Worksheet DPT-666"}]
["1)",{"$f":"Working!J3","v":"8400 ÷ 100"},{"$f":"Working!D3","v":84},"26)",{"$f":"Working!J28","v":"2442300 ÷ 10000"},{"$f":"Working!D28","v":244.23}]
["2)",{"$f":"Working!J4","v":"700000 ÷ 100000"},{"$f":"Working!D4","v":7},"27)",{"$f":"Working!J29","v":"7 ÷ 100"},{"$f":"Working!D29","v":7.0000000000000007E-2}]
["3)",{"$f":"Working!J5","v":"900 ÷ 100"},{"$f":"Working!D5","v":9},"28)",{"$f":"Working!J30","v":"991 ÷ 10000"},{"$f":"Working!D30","v":9.9099999999999994E-2}]
["4)",{"$f":"Working!J6","v":"400 ÷ 100"},{"$f":"Working!D6","v":4},"29)",{"$f":"Working!J31","v":"0.0784 ÷ 100"},{"$f":"Working!D31","v":7.8399999999999997E-4}]
["5)",{"$f":"Working!J7","v":"7700000 ÷ 100000"},{"$f":"Working!D7","v":77},"30)",{"$f":"Working!J32","v":"10 ÷ 10000"},{"$f":"Working!D32","v":1E-3}]
["6)",{"$f":"Working!J8","v":"81100 ÷ 1000"},{"$f":"Working!D8","v":81.099999999999994},"31)",{"$f":"Working!J33","v":"74060 ÷ 1000"},{"$f":"Working!D33","v":74.06}]
["7)",{"$f":"Working!J9","v":"680300 ÷ 1000"},{"$f":"Working!D9","v":680.3},"32)",{"$f":"Working!J34","v":"0.9 ÷ 100000"},{"$f":"Working!D34","v":9.0000000000000002E-6}]
["8)",{"$f":"Working!J10","v":"67913000 ÷ 10000"},{"$f":"Working!D10","v":6791.3},"33)",{"$f":"Working!J35","v":"49450 ÷ 10000"},{"$f":"Working!D35","v":4.9450000000000003}]
["9)",{"$f":"Working!J11","v":"15160 ÷ 100"},{"$f":"Working!D11","v":151.6},"34)",{"$f":"Working!J36","v":"0.05 ÷ 10000"},{"$f":"Working!D36","v":5.0000000000000004E-6}]
["10)",{"$f":"Working!J12","v":"66762 ÷ 100"},{"$f":"Working!D12","v":667.62},"35)",{"$f":"Working!J37","v":"55337 ÷ 10000"},{"$f":"Working!D37","v":5.5336999999999996}]
["11)",{"$f":"Working!J13","v":"4032100 ÷ 10000"},{"$f":"Working!D13","v":403.21},"36)",{"$f":"Working!J38","v":"83.55 ÷ 10000"},{"$f":"Working!D38","v":8.3549999999999996E-3}]
["12)",{"$f":"Working!J14","v":"36770 ÷ 100"},{"$f":"Working!D14","v":367.7},"37)",{"$f":"Working!J39","v":"0.0008 ÷ 100"},{"$f":"Working!D39","v":7.9999999999999996E-6}]
["13)",{"$f":"Working!J15","v":"77830 ÷ 100"},{"$f":"Working!D15","v":778.3},"38)",{"$f":"Working!J40","v":"815 ÷ 100000"},{"$f":"Working!D40","v":8.1499999999999993E-3}]
["14)",{"$f":"Working!J16","v":"86491000 ÷ 10000"},{"$f":"Working!D16","v":8649.1},"39)",{"$f":"Working!J41","v":"782 ÷ 1000"},{"$f":"Working!D41","v":0.78200000000000003}]
["15)",{"$f":"Working!J17","v":"7967000 ÷ 100000"},{"$f":"Working!D17","v":79.67},"40)",{"$f":"Working!J42","v":"84.4 ÷ 1000"},{"$f":"Working!D42","v":8.4400000000000003E-2}]
["16)",{"$f":"Working!J18","v":"441852000 ÷ 100000"},{"$f":"Working!D18","v":4418.5200000000004},"41)",{"$f":"Working!J43","v":"350 ÷ 1000"},{"$f":"Working!D43","v":0.35}]
["17)",{"$f":"Working!J19","v":"18751190 ÷ 1000"},{"$f":"Working!D19","v":18751.189999999999},"44)",{"$f":"Working!J44","v":"58.9 ÷ 1000"},{"$f":"Working!D44","v":5.8900000000000001E-2}]
["18)",{"$f":"Working!J20","v":"6520700 ÷ 10000"},{"$f":"Working!D20","v":652.07000000000005},"43)",{"$f":"Working!J45","v":"828340 ÷ 100000"},{"$f":"Working!D45","v":8.2834000000000003}]
["19)",{"$f":"Working!J21","v":"90490 ÷ 1000"},{"$f":"Working!D21","v":90.49},"44)",{"$f":"Working!J46","v":"786 ÷ 1000"},{"$f":"Working!D46","v":0.78600000000000003}]
["20)",{"$f":"Working!J22","v":"422000 ÷ 100000"},{"$f":"Working!D22","v":4.22},"45)",{"$f":"Working!J47","v":"82.92 ÷ 1000"},{"$f":"Working!D47","v":8.2919999999999994E-2}]
["21)",{"$f":"Working!J23","v":"68957 ÷ 100"},{"$f":"Working!D23","v":689.57},"46)",{"$f":"Working!J48","v":"2000 ÷ 100000"},{"$f":"Working!D48","v":0.02}]
["22)",{"$f":"Working!J24","v":"959929000 ÷ 100000"},{"$f":"Working!D24","v":9599.2900000000009},"47)",{"$f":"Working!J49","v":"900 ÷ 10000"},{"$f":"Working!D49","v":0.09}]
["23)",{"$f":"Working!J25","v":"31884700 ÷ 10000"},{"$f":"Working!D25","v":3188.47},"48)",{"$f":"Working!J50","v":"0.2483 ÷ 100"},{"$f":"Working!D50","v":2.483E-3}]
["24)",{"$f":"Working!J26","v":"929922000 ÷ 100000"},{"$f":"Working!D26","v":9299.2199999999993},"49)",{"$f":"Working!J51","v":"61.8 ÷ 10000"},{"$f":"Working!D51","v":6.1799999999999997E-3}]
["25)",{"$f":"Working!J27","v":"1312525 ÷ 100"},{"$f":"Working!D27","v":13125.25},"50)",{"$f":"Working!J52","v":"4986 ÷ 10000"},{"$f":"Working!D52","v":0.49859999999999999}]

{"sheet":"Working","index":2,"n_rows":52,"n_cols":10,"rows_kept":52,"cut":false,"hidden":true,"merged":[]}
[{"$f":"INT(900*RAND()+100)","v":666},null,null,"DPT-"]
[null,null,null,null,null,null,null,"Solution"]
[1,{"$f":"INT(2*RAND()+1)","v":2},{"$f":"INT(5*RAND()+2)","v":2},{"$f":"INT(10^B3*RAND()+1)","v":84},{"$f":"INT(4*RAND()+2)","v":2},{"$f":"10^E3","v":100},{"$f":"INT(2*RAND())","v":1},{"$f":"D3*F3","v":8400},null,{"$f":"CONCATENATE(H3,\" ÷ \",F3)","v":"8400 ÷ 100"}]
[2,{"$f":"INT(2*RAND()+1)","v":1},2,7,{"$f":"INT(4*RAND()+2)","v":5},{"$f":"10^E4","v":100000},{"$f":"INT(2*RAND())","v":1},{"$f":"D4*F4","v":700000},null,{"$f":"CONCATENATE(H4,\" ÷ \",F4)","v":"700000 ÷ 100000"}]
[3,1,4,9,2,100,1,900,null,"900 ÷ 100"]
[4,1,6,4,2,100,0,400,null,"400 ÷ 100"]
[5,2,3,77,5,100000,0,7700000,null,"7700000 ÷ 100000"]
[6,1,2,{"$f":"INT(10^(B8+2)*RAND()+1)/10","v":81.099999999999994},3,1000,1,81100,null,"81100 ÷ 1000"]
[7,{"$f":"INT(2*RAND()+2)","v":2},6,{"$f":"INT(10^(B9+2)*RAND()+1)/10","v":680.3},3,1000,1,680300,null,"680300 ÷ 1000"]
[8,{"$f":"INT(2*RAND()+2)","v":3},3,6791.3,4,10000,0,67913000,null,"67913000 ÷ 10000"]
[9,2,6,151.6,2,100,1,15160,null,"15160 ÷ 100"]
[10,3,4,{"$f":"INT(10^(B12+2)*RAND()+1)/100","v":667.62},2,100,1,66762,null,"66762 ÷ 100"]
[11,3,6,{"$f":"INT(10^(B13+2)*RAND()+1)/100","v":403.21},4,10000,0,4032100,null,"4032100 ÷ 10000"]
[12,2,6,367.7,2,100,1,36770,null,"36770 ÷ 100"]
[13,2,5,778.3,2,100,0,77830,null,"77830 ÷ 100"]
[14,{"$f":"INT(5*RAND()+1)","v":3},3,8649.1,4,10000,1,86491000,null,"86491000 ÷ 10000"]
[15,{"$f":"INT(4*RAND()+2)","v":2},4,{"$f":"INT(10^(B17+2)*RAND()+1)/100","v":79.67},5,100000,0,7967000,null,"7967000 ÷ 100000"]
[16,{"$f":"INT(4*RAND()+2)","v":4},2,{"$f":"INT(10^(B18+2)*RAND()+1)/100","v":4418.5200000000004},5,100000,0,441852000.00000006,null,"441852000 ÷ 100000"]
[17,5,4,18751.189999999999,3,1000,1,18751190,null,"18751190 ÷ 1000"]
[18,3,4,652.07000000000005,4,10000,0,6520700.0000000009,null,"6520700 ÷ 10000"]
[19,2,3,90.49,3,1000,1,90490,null,"90490 ÷ 1000"]
[20,2,5,4.22,5,100000,0,422000,null,"422000 ÷ 100000"]
[21,3,2,689.57,2,100,0,68957,null,"68957 ÷ 100"]
[22,4,2,9599.2900000000009,5,100000,0,959929000.00000012,null,"959929000 ÷ 100000"]
[23,4,6,3188.47,4,10000,0,31884699.999999996,null,"31884700 ÷ 10000"]
[24,5,5,9299.2199999999993,5,100000,1,929921999.99999988,null,"929922000 ÷ 100000"]
[25,5,4,13125.25,2,100,1,1312525,null,"1312525 ÷ 100"]
[26,5,{"$f":"INT(5*RAND())","v":1},{"$f":"INT(10^B28*RAND()+1)/10^C3","v":244.23},4,10000,0,2442300,null,"2442300 ÷ 10000"]
[27,1,{"$f":"INT(5*RAND())","v":4},{"$f":"INT(10^B29*RAND()+1)/10^C4","v":7.0000000000000007E-2},2,100,1,7.0000000000000009,null,"7 ÷ 100"]
[28,3,2,9.9099999999999994E-2,4,10000,1,990.99999999999989,null,"991 ÷ 10000"]
[29,3,1,7.8399999999999997E-4,2,100,0,7.8399999999999997E-2,null,"0.0784 ÷ 100"]
[30,1,1,1E-3,4,10000,1,10,null,"10 ÷ 10000"]
[31,4,3,74.06,3,1000,0,74060,null,"74060 ÷ 1000"]
[32,1,0,9.0000000000000002E-6,5,100000,1,0.9,null,"0.9 ÷ 100000"]
[33,4,2,4.9450000000000003,4,10000,1,49450,null,"49450 ÷ 10000"]
[34,1,1,5.0000000000000004E-6,4,10000,1,0.05,null,"0.05 ÷ 10000"]
[35,5,4,5.5336999999999996,4,10000,1,55336.999999999993,null,"55337 ÷ 10000"]
[36,4,2,8.3549999999999996E-3,4,10000,0,83.55,null,"83.55 ÷ 10000"]
[37,1,3,7.9999999999999996E-6,2,100,0,7.9999999999999993E-4,null,"0.0008 ÷ 100"]
[38,3,1,8.1499999999999993E-3,5,100000,0,814.99999999999989,null,"815 ÷ 100000"]
[39,3,2,0.78200000000000003,3,1000,1,782,null,"782 ÷ 1000"]
[40,3,4,8.4400000000000003E-2,3,1000,0,84.4,null,"84.4 ÷ 1000"]
[41,2,1,0.35,3,1000,1,350,null,"350 ÷ 1000"]
[42,3,2,5.8900000000000001E-2,3,1000,1,58.9,null,"58.9 ÷ 1000"]
[43,5,2,8.2834000000000003,5,100000,0,828340,null,"828340 ÷ 100000"]
[44,3,4,0.78600000000000003,3,1000,0,786,null,"786 ÷ 1000"]
[45,4,2,8.2919999999999994E-2,3,1000,1,82.919999999999987,null,"82.92 ÷ 1000"]
[46,1,1,0.02,5,100000,1,2000,null,"2000 ÷ 100000"]
[47,1,2,0.09,4,10000,1,900,null,"900 ÷ 10000"]
[48,4,3,2.483E-3,2,100,1,0.24829999999999999,null,"0.2483 ÷ 100"]
[49,3,4,6.1799999999999997E-3,4,10000,1,61.8,null,"61.8 ÷ 10000"]
[50,5,2,0.49859999999999999,4,10000,0,4986,null,"4986 ÷ 10000"]