{"text_format":"1","workbook":"xlsx","n_sheets":4,"sheets":["Information","WorkSheet","Answers","Working"],"not_rendered":{"charts":0,"images":0,"macros":1,"external_links":0,"defined_names":0,"comments":0,"pivot_tables":0},"unopened":[],"bounds":{"document_bytes":16777216,"sheet_cells":100000,"rows_first":2000,"rows_last":500,"rows_between":2000,"halvings":0,"cell_chars":16384,"cell_head_chars":4096},"cells_cut":0,"cells_raw":0,"read":"whole","date_system":"1900"}

{"sheet":"Information","index":0,"n_rows":17,"n_cols":6,"rows_kept":17,"cut":false,"hidden":false,"merged":[[3,5,7,6]]}
[null,null,null,"FACTORISATION"]
[null,null,null,"3 terms"]
[]
[null,null,null,null,null,"PRESS F9 for NEW WorkSheet"]
[]
[]
[]
[]
[]
[null,"NOTES"]
[null,"* Practise factorising algebraic expressions."]
[null,"* Addition gives an answer from 2 to 20 while subtraction in the inverse."]
[null,"* The questions have 3 terms"]
[null,"* Expression contain integers."]
[null,"* This WorkSheet will generate 75 questions at random."]
[null,"* It is possible that some questions do not comply with accepted algrebraic rules."]
[null,"  In this case just recalculate."]

{"sheet":"WorkSheet","index":1,"n_rows":28,"n_cols":6,"rows_kept":28,"cut":false,"hidden":false,"merged":[]}
[null,null,null,"FACTORISATION"]
[null,null,null,null,null,{"$f":"CONCATENATE(\"Worksheet \",Working!D1,Working!B1)","v":"Worksheet DP-837"}]
["Factorise the following;"]
[{"$f":"CONCATENATE(Working!A3,\")\")","v":"1)"},{"$f":"Working!AT3","v":" 16gd + 32gp - 24gb"},{"$f":"CONCATENATE(Working!A28,\")\")","v":"26)"},{"$f":"Working!AT28","v":" 12xf + 21xt + 9xm"},{"$f":"CONCATENATE(Working!A53,\")\")","v":"51)"},{"$f":"Working!AT52","v":" 27gm + 9gc + 9gs"}]
[{"$f":"CONCATENATE(Working!A4,\")\")","v":"2)"},{"$f":"Working!AT4","v":" 16in + 4iu - 2io"},{"$f":"CONCATENATE(Working!A29,\")\")","v":"27)"},{"$f":"Working!AT29","v":"-45rj - 10rp - 20rm"},{"$f":"CONCATENATE(Working!A54,\")\")","v":"52)"},{"$f":"Working!AT53","v":"-40wx + 10wy + 20wa"}]
[{"$f":"CONCATENATE(Working!A5,\")\")","v":"3)"},{"$f":"Working!AT5","v":" 63ta + 27tq + 63td"},{"$f":"CONCATENATE(Working!A30,\")\")","v":"28)"},{"$f":"Working!AT30","v":" 24sh + 56sw - 8sc"},{"$f":"CONCATENATE(Working!A55,\")\")","v":"53)"},{"$f":"Working!AT54","v":"-28ti - 28to - 28tb"}]
[{"$f":"CONCATENATE(Working!A6,\")\")","v":"4)"},{"$f":"Working!AT6","v":" 8xp - 8xk - 16xb"},{"$f":"CONCATENATE(Working!A31,\")\")","v":"29)"},{"$f":"Working!AT31","v":" 36yo - 42yb - 12yf"},{"$f":"CONCATENATE(Working!A56,\")\")","v":"54)"},{"$f":"Working!AT55","v":"-48fj + 24fg - 8fh"}]
[{"$f":"CONCATENATE(Working!A7,\")\")","v":"5)"},{"$f":"Working!AT7","v":" 54ip - 63ib + 18ir"},{"$f":"CONCATENATE(Working!A32,\")\")","v":"30)"},{"$f":"Working!AT32","v":"-16gf + 24gd + 56gc"},{"$f":"CONCATENATE(Working!A57,\")\")","v":"55)"},{"$f":"Working!AT56","v":" 9qm + 63qv + 9qw"}]
[{"$f":"CONCATENATE(Working!A8,\")\")","v":"6)"},{"$f":"Working!AT8","v":"-7go - 14gc + 21gn"},{"$f":"CONCATENATE(Working!A33,\")\")","v":"31)"},{"$f":"Working!AT33","v":" 72oc - 40ou + 32of"},{"$f":"CONCATENATE(Working!A58,\")\")","v":"56)"},{"$f":"Working!AT57","v":" 9xk - xt + 5xf"}]
[{"$f":"CONCATENATE(Working!A9,\")\")","v":"7)"},{"$f":"Working!AT9","v":" 5my - 30mw - 20mi"},{"$f":"CONCATENATE(Working!A34,\")\")","v":"32)"},{"$f":"Working!AT34","v":"-12qd + 6qe + 9qk"},{"$f":"CONCATENATE(Working!A59,\")\")","v":"57)"},{"$f":"Working!AT58","v":" 4xi + 8xc - 14xm"}]
[{"$f":"CONCATENATE(Working!A10,\")\")","v":"8)"},{"$f":"Working!AT10","v":"-45yj + 15yx - 15yb"},{"$f":"CONCATENATE(Working!A35,\")\")","v":"33)"},{"$f":"Working!AT35","v":"-2xm - 6xo + 12xs"},{"$f":"CONCATENATE(Working!A60,\")\")","v":"58)"},{"$f":"Working!AT59","v":"-18ef - 15ef - 12eb"}]
[{"$f":"CONCATENATE(Working!A11,\")\")","v":"9)"},{"$f":"Working!AT11","v":" 5km + 35kf + 5kr"},{"$f":"CONCATENATE(Working!A36,\")\")","v":"34)"},{"$f":"Working!AT36","v":" 28qe - 12qc + 12qb"},{"$f":"CONCATENATE(Working!A61,\")\")","v":"59)"},{"$f":"Working!AT60","v":"-30yr + 30yq - 42ym"}]
[{"$f":"CONCATENATE(Working!A12,\")\")","v":"10)"},{"$f":"Working!AT12","v":"-45qe + 15qu + 25qk"},{"$f":"CONCATENATE(Working!A37,\")\")","v":"35)"},{"$f":"Working!AT37","v":"-35sr - 14sv + 14sg"},{"$f":"CONCATENATE(Working!A62,\")\")","v":"60)"},{"$f":"Working!AT61","v":" 24ue + 18ui - 15uf"}]
[{"$f":"CONCATENATE(Working!A13,\")\")","v":"11)"},{"$f":"Working!AT13","v":"-24yi - 36yx - 42yj"},{"$f":"CONCATENATE(Working!A38,\")\")","v":"36)"},{"$f":"Working!AT38","v":" 36ra - 4rh - 4rm"},{"$f":"CONCATENATE(Working!A63,\")\")","v":"61)"},{"$f":"Working!AT62","v":" 49mp - 35mv - 7me"}]
[{"$f":"CONCATENATE(Working!A14,\")\")","v":"12)"},{"$f":"Working!AT14","v":"-28iq + 7ij - 21im"},{"$f":"CONCATENATE(Working!A39,\")\")","v":"37)"},{"$f":"Working!AT39","v":"-24ra + 36re + 36rv"},{"$f":"CONCATENATE(Working!A64,\")\")","v":"62)"},{"$f":"Working!AT63","v":" 6ov + 9ow - 9om"}]
[{"$f":"CONCATENATE(Working!A15,\")\")","v":"13)"},{"$f":"Working!AT15","v":"-6kl + 4kn - 14kj"},{"$f":"CONCATENATE(Working!A40,\")\")","v":"38)"},{"$f":"Working!AT40","v":" 42ng - 24na + 30nm"},{"$f":"CONCATENATE(Working!A65,\")\")","v":"63)"},{"$f":"Working!AT64","v":" 20pd - 15pj - 15pt"}]
[{"$f":"CONCATENATE(Working!A16,\")\")","v":"14)"},{"$f":"Working!AT16","v":" 6hi - 12hn - 6hv"},{"$f":"CONCATENATE(Working!A41,\")\")","v":"39)"},{"$f":"Working!AT41","v":"-12cv - 12cn - 6cg"},{"$f":"CONCATENATE(Working!A66,\")\")","v":"64)"},{"$f":"Working!AT65","v":"-4hr - 2hx - 2hh"}]
[{"$f":"CONCATENATE(Working!A17,\")\")","v":"15)"},{"$f":"Working!AT17","v":" 21yr + 7yp - 35yk"},{"$f":"CONCATENATE(Working!A42,\")\")","v":"40)"},{"$f":"Working!AT42","v":"-5ck - 30cj - 20cc"},{"$f":"CONCATENATE(Working!A67,\")\")","v":"65)"},{"$f":"Working!AT66","v":" 4is + 8im + 8iq"}]
[{"$f":"CONCATENATE(Working!A18,\")\")","v":"16)"},{"$f":"Working!AT18","v":" 27fq - 45fn - 45fg"},{"$f":"CONCATENATE(Working!A43,\")\")","v":"41)"},{"$f":"Working!AT43","v":" 15fp - 3fd - 12fn"},{"$f":"CONCATENATE(Working!A68,\")\")","v":"66)"},{"$f":"Working!AT67","v":"-27ln + 6lr + 12le"}]
[{"$f":"CONCATENATE(Working!A19,\")\")","v":"17)"},{"$f":"Working!AT19","v":"-12pe + 6px + 6pi"},{"$f":"CONCATENATE(Working!A44,\")\")","v":"42)"},{"$f":"Working!AT44","v":" 56vc - 28vx + 35vw"},{"$f":"CONCATENATE(Working!A69,\")\")","v":"67)"},{"$f":"Working!AT68","v":"-15cp + 15cq - 15cm"}]
[{"$f":"CONCATENATE(Working!A20,\")\")","v":"18)"},{"$f":"Working!AT20","v":" 42eo + 7en + 7eg"},{"$f":"CONCATENATE(Working!A45,\")\")","v":"43)"},{"$f":"Working!AT45","v":" 35ig - 35ij + 20id"},{"$f":"CONCATENATE(Working!A70,\")\")","v":"68)"},{"$f":"Working!AT69","v":"-32nm - 40nu - 48nd"}]
[{"$f":"CONCATENATE(Working!A21,\")\")","v":"19)"},{"$f":"Working!AT21","v":"-18ym - 36yk - 42yv"},{"$f":"CONCATENATE(Working!A46,\")\")","v":"44)"},{"$f":"Working!AT46","v":"-12za - 15zx - 15ze"},{"$f":"CONCATENATE(Working!A71,\")\")","v":"69)"},{"$f":"Working!AT70","v":" 7jo - 14jt - 28ju"}]
[{"$f":"CONCATENATE(Working!A22,\")\")","v":"20)"},{"$f":"Working!AT22","v":"-36vi + 12vw + 24vo"},{"$f":"CONCATENATE(Working!A47,\")\")","v":"45)"},{"$f":"Working!AT47","v":" 42zn + 30zx - 42zm"},{"$f":"CONCATENATE(Working!A72,\")\")","v":"70)"},{"$f":"Working!AT71","v":"-18qu + 21qb - 12qe"}]
[{"$f":"CONCATENATE(Working!A23,\")\")","v":"21)"},{"$f":"Working!AT23","v":" 9wk + 45wd + 36wb"},{"$f":"CONCATENATE(Working!A48,\")\")","v":"46)"},{"$f":"Working!AT48","v":"-24xq - 56xm + 40xn"},{"$f":"CONCATENATE(Working!A73,\")\")","v":"71)"},{"$f":"Working!AT72","v":"-18mv + 12mf + 4md"}]
[{"$f":"CONCATENATE(Working!A24,\")\")","v":"22)"},{"$f":"Working!AT24","v":"-36tu - 9tw + 63tf"},{"$f":"CONCATENATE(Working!A49,\")\")","v":"47)"},{"$f":"Working!AT49","v":" 16ro + 16rg - 16rk"},{"$f":"CONCATENATE(Working!A74,\")\")","v":"72)"},{"$f":"Working!AT73","v":"-5to - 15ti - 5tw"}]
[{"$f":"CONCATENATE(Working!A25,\")\")","v":"23)"},{"$f":"Working!AT25","v":" 4dg + 4du + 12da"},{"$f":"CONCATENATE(Working!A50,\")\")","v":"48)"},{"$f":"Working!AT50","v":" 12sn - 42so + 36su"},{"$f":"CONCATENATE(Working!A75,\")\")","v":"73)"},{"$f":"Working!AT74","v":"-24lk - 40ln - 16lc"}]
[{"$f":"CONCATENATE(Working!A26,\")\")","v":"24)"},{"$f":"Working!AT26","v":" 32ly - 8lq - 24la"},{"$f":"CONCATENATE(Working!A51,\")\")","v":"49)"},{"$f":"Working!AT51","v":"-20qy + 28qr - 8qp"},{"$f":"CONCATENATE(Working!A76,\")\")","v":"74)"},{"$f":"Working!AT75","v":" 72ef - 54em - 9ea"}]
[{"$f":"CONCATENATE(Working!A27,\")\")","v":"25)"},{"$f":"Working!AT27","v":"-36jy - 6jm + 12ju"},{"$f":"CONCATENATE(Working!A52,\")\")","v":"50)"},{"$f":"Working!AT52","v":" 27gm + 9gc + 9gs"},{"$f":"CONCATENATE(Working!A77,\")\")","v":"75)"},{"$f":"Working!AT76","v":"-16ex + 8ea + 2ew"}]

{"sheet":"Answers","index":2,"n_rows":28,"n_cols":6,"rows_kept":28,"cut":false,"hidden":false,"merged":[]}
[null,null,null,"FACTORISATION"]
[null,null,null,"Answers",null,{"$f":"CONCATENATE(\"Worksheet \",Working!D1,Working!B1)","v":"Worksheet DP-837"}]
[]
[{"$f":"CONCATENATE(Working!A3,\")\")","v":"1)"},{"$f":"Working!AS3","v":"8g(2d + 4p - 3b)"},{"$f":"CONCATENATE(Working!A28,\")\")","v":"26)"},{"$f":"Working!AS28","v":"3x(4f + 7t + 3m)"},{"$f":"CONCATENATE(Working!A53,\")\")","v":"51)"},{"$f":"Working!AS52","v":"9g(3m + c + s)"}]
[{"$f":"CONCATENATE(Working!A4,\")\")","v":"2)"},{"$f":"Working!AS4","v":"2i(8n + 2u - o)"},{"$f":"CONCATENATE(Working!A29,\")\")","v":"27)"},{"$f":"Working!AS29","v":"5r(9j - 2p - 4m)"},{"$f":"CONCATENATE(Working!A54,\")\")","v":"52)"},{"$f":"Working!AS53","v":"-5w(8x - 2y - 4a)"}]
[{"$f":"CONCATENATE(Working!A5,\")\")","v":"3)"},{"$f":"Working!AS5","v":"9t(7a + 3q + 7d)"},{"$f":"CONCATENATE(Working!A30,\")\")","v":"28)"},{"$f":"Working!AS30","v":"-8s(3h - 7w + c)"},{"$f":"CONCATENATE(Working!A55,\")\")","v":"53)"},{"$f":"Working!AS54","v":"4t(7i - 7o - 7b)"}]
[{"$f":"CONCATENATE(Working!A6,\")\")","v":"4)"},{"$f":"Working!AS6","v":"4x(2p - 2k - 4b)"},{"$f":"CONCATENATE(Working!A31,\")\")","v":"29)"},{"$f":"Working!AS31","v":"-6y(6o + 7b + 2f)"},{"$f":"CONCATENATE(Working!A56,\")\")","v":"54)"},{"$f":"Working!AS55","v":"8f(6j + 3g - h)"}]
[{"$f":"CONCATENATE(Working!A7,\")\")","v":"5)"},{"$f":"Working!AS7","v":"9i(6p - 7b + 2r)"},{"$f":"CONCATENATE(Working!A32,\")\")","v":"30)"},{"$f":"Working!AS32","v":"-8g(2f - 3d - 7c)"},{"$f":"CONCATENATE(Working!A57,\")\")","v":"55)"},{"$f":"Working!AS56","v":"-9q(m - 7v - w)"}]
[{"$f":"CONCATENATE(Working!A8,\")\")","v":"6)"},{"$f":"Working!AS8","v":"7g(o - 2c + 3n)"},{"$f":"CONCATENATE(Working!A33,\")\")","v":"31)"},{"$f":"Working!AS33","v":"-8o(9c + 5u - 4f)"},{"$f":"CONCATENATE(Working!A58,\")\")","v":"56)"},{"$f":"Working!AS57","v":"-x(9k + t - 5f)"}]
[{"$f":"CONCATENATE(Working!A9,\")\")","v":"7)"},{"$f":"Working!AS9","v":"5m(y - 6w - 4i)"},{"$f":"CONCATENATE(Working!A34,\")\")","v":"32)"},{"$f":"Working!AS34","v":"3q(4d + 2e + 3k)"},{"$f":"CONCATENATE(Working!A59,\")\")","v":"57)"},{"$f":"Working!AS58","v":"-2x(2i - 4c + 7m)"}]
[{"$f":"CONCATENATE(Working!A10,\")\")","v":"8)"},{"$f":"Working!AS10","v":"5y(9j + 3x - 3b)"},{"$f":"CONCATENATE(Working!A35,\")\")","v":"33)"},{"$f":"Working!AS35","v":"-2x(m + 3o - 6s)"},{"$f":"CONCATENATE(Working!A60,\")\")","v":"58)"},{"$f":"Working!AS59","v":"3e(6f - 5f - 4b)"}]
[{"$f":"CONCATENATE(Working!A11,\")\")","v":"9)"},{"$f":"Working!AS11","v":"5k(m + 7f + r)"},{"$f":"CONCATENATE(Working!A36,\")\")","v":"34)"},{"$f":"Working!AS36","v":"4q(7e - 3c + 3b)"},{"$f":"CONCATENATE(Working!A61,\")\")","v":"59)"},{"$f":"Working!AS60","v":"-6y(5r - 5q + 7m)"}]
[{"$f":"CONCATENATE(Working!A12,\")\")","v":"10)"},{"$f":"Working!AS12","v":"5q(9e + 3u + 5k)"},{"$f":"CONCATENATE(Working!A37,\")\")","v":"35)"},{"$f":"Working!AS37","v":"-7s(5r + 2v - 2g)"},{"$f":"CONCATENATE(Working!A62,\")\")","v":"60)"},{"$f":"Working!AS61","v":"-3u(8e - 6i + 5f)"}]
[{"$f":"CONCATENATE(Working!A13,\")\")","v":"11)"},{"$f":"Working!AS13","v":"-6y(4i + 6x + 7j)"},{"$f":"CONCATENATE(Working!A38,\")\")","v":"36)"},{"$f":"Working!AS38","v":"-4r(9a + h + m)"},{"$f":"CONCATENATE(Working!A63,\")\")","v":"61)"},{"$f":"Working!AS62","v":"-7m(7p + 5v + e)"}]
[{"$f":"CONCATENATE(Working!A14,\")\")","v":"12)"},{"$f":"Working!AS14","v":"-7i(4q - j + 3m)"},{"$f":"CONCATENATE(Working!A39,\")\")","v":"37)"},{"$f":"Working!AS39","v":"6r(4a + 6e + 6v)"},{"$f":"CONCATENATE(Working!A64,\")\")","v":"62)"},{"$f":"Working!AS63","v":"-3o(2v - 3w + 3m)"}]
[{"$f":"CONCATENATE(Working!A15,\")\")","v":"13)"},{"$f":"Working!AS15","v":"-2k(3l - 2n + 7j)"},{"$f":"CONCATENATE(Working!A40,\")\")","v":"38)"},{"$f":"Working!AS40","v":"6n(7g - 4a + 5m)"},{"$f":"CONCATENATE(Working!A65,\")\")","v":"63)"},{"$f":"Working!AS64","v":"-5p(4d + 3j + 3t)"}]
[{"$f":"CONCATENATE(Working!A16,\")\")","v":"14)"},{"$f":"Working!AS16","v":"-3h(2i + 4n + 2v)"},{"$f":"CONCATENATE(Working!A41,\")\")","v":"39)"},{"$f":"Working!AS41","v":"-3c(4v + 4n + 2g)"},{"$f":"CONCATENATE(Working!A66,\")\")","v":"64)"},{"$f":"Working!AS65","v":"h(4r - 2x - 2h)"}]
[{"$f":"CONCATENATE(Working!A17,\")\")","v":"15)"},{"$f":"Working!AS17","v":"-7y(3r - p + 5k)"},{"$f":"CONCATENATE(Working!A42,\")\")","v":"40)"},{"$f":"Working!AS42","v":"-5c(k + 6j + 4c)"},{"$f":"CONCATENATE(Working!A67,\")\")","v":"65)"},{"$f":"Working!AS66","v":"-4i(s - 2m - 2q)"}]
[{"$f":"CONCATENATE(Working!A18,\")\")","v":"16)"},{"$f":"Working!AS18","v":"-9f(3q + 5n + 5g)"},{"$f":"CONCATENATE(Working!A43,\")\")","v":"41)"},{"$f":"Working!AS43","v":"3f(5p - d - 4n)"},{"$f":"CONCATENATE(Working!A68,\")\")","v":"66)"},{"$f":"Working!AS67","v":"3l(9n + 2r + 4e)"}]
[{"$f":"CONCATENATE(Working!A19,\")\")","v":"17)"},{"$f":"Working!AS19","v":"-6p(2e - x - i)"},{"$f":"CONCATENATE(Working!A44,\")\")","v":"42)"},{"$f":"Working!AS44","v":"-7v(8c + 4x - 5w)"},{"$f":"CONCATENATE(Working!A69,\")\")","v":"67)"},{"$f":"Working!AS68","v":"5c(3p + 3q - 3m)"}]
[{"$f":"CONCATENATE(Working!A20,\")\")","v":"18)"},{"$f":"Working!AS20","v":"-7e(6o - n - g)"},{"$f":"CONCATENATE(Working!A45,\")\")","v":"43)"},{"$f":"Working!AS45","v":"-5i(7g + 7j - 4d)"},{"$f":"CONCATENATE(Working!A70,\")\")","v":"68)"},{"$f":"Working!AS69","v":"-8n(4m + 5u + 6d)"}]
[{"$f":"CONCATENATE(Working!A21,\")\")","v":"19)"},{"$f":"Working!AS21","v":"-6y(3m + 6k + 7v)"},{"$f":"CONCATENATE(Working!A46,\")\")","v":"44)"},{"$f":"Working!AS46","v":"-3z(4a + 5x + 5e)"},{"$f":"CONCATENATE(Working!A71,\")\")","v":"69)"},{"$f":"Working!AS70","v":"-7j(o + 2t + 4u)"}]
[{"$f":"CONCATENATE(Working!A22,\")\")","v":"20)"},{"$f":"Working!AS22","v":"-4v(9i - 3w - 6o)"},{"$f":"CONCATENATE(Working!A47,\")\")","v":"45)"},{"$f":"Working!AS47","v":"6z(7n + 5x - 7m)"},{"$f":"CONCATENATE(Working!A72,\")\")","v":"70)"},{"$f":"Working!AS71","v":"3q(6u + 7b - 4e)"}]
[{"$f":"CONCATENATE(Working!A23,\")\")","v":"21)"},{"$f":"Working!AS23","v":"-9w(k - 5d - 4b)"},{"$f":"CONCATENATE(Working!A48,\")\")","v":"46)"},{"$f":"Working!AS48","v":"-8x(3q + 7m - 5n)"},{"$f":"CONCATENATE(Working!A73,\")\")","v":"71)"},{"$f":"Working!AS72","v":"2m(9v + 6f + 2d)"}]
[{"$f":"CONCATENATE(Working!A24,\")\")","v":"22)"},{"$f":"Working!AS24","v":"-9t(4u + w - 7f)"},{"$f":"CONCATENATE(Working!A49,\")\")","v":"47)"},{"$f":"Working!AS49","v":"-4r(4o - 4g + 4k)"},{"$f":"CONCATENATE(Working!A74,\")\")","v":"72)"},{"$f":"Working!AS73","v":"-5t(o + 3i + w)"}]
[{"$f":"CONCATENATE(Working!A25,\")\")","v":"23)"},{"$f":"Working!AS25","v":"2d(2g + 2u + 6a)"},{"$f":"CONCATENATE(Working!A50,\")\")","v":"48)"},{"$f":"Working!AS50","v":"-6s(2n + 7o - 6u)"},{"$f":"CONCATENATE(Working!A75,\")\")","v":"73)"},{"$f":"Working!AS74","v":"8l(3k - 5n - 2c)"}]
[{"$f":"CONCATENATE(Working!A26,\")\")","v":"24)"},{"$f":"Working!AS26","v":"-4l(8y + 2q + 6a)"},{"$f":"CONCATENATE(Working!A51,\")\")","v":"49)"},{"$f":"Working!AS51","v":"4q(5y + 7r - 2p)"},{"$f":"CONCATENATE(Working!A76,\")\")","v":"74)"},{"$f":"Working!AS75","v":"-9e(8f + 6m + a)"}]
[{"$f":"CONCATENATE(Working!A27,\")\")","v":"25)"},{"$f":"Working!AS27","v":"6j(6y - m + 2u)"},{"$f":"CONCATENATE(Working!A52,\")\")","v":"50)"},{"$f":"Working!AS52","v":"9g(3m + c + s)"},{"$f":"CONCATENATE(Working!A77,\")\")","v":"75)"},{"$f":"Working!AS76","v":"-2e(8x - 4a - w)"}]

{"sheet":"Working","index":3,"n_rows":77,"n_cols":46,"rows_kept":77,"cut":false,"hidden":true,"merged":[]}
[{"$f":"INT(900*RAND()+100)","v":837},{"$f":"TEXT(1,A1)","v":"837"},null,"DP-",0,null,null,"aX(bY+cZ+dW) = fA+gB=hC",null,null,null,{"$f":"IF(OR(J3=C3,J3=G3),J3+1,J3)","v":112}]
[null,"ASSCII",null,"X","ASSCII",null,"Compare with X","Y","ASSCII",null,"Compare with Y","Z","ASSCII",null,"Compare with Y & Z","W",null,null,null,"a",null,null,null,"b",null,null,null,"c",null,null,null,null,"d",null,null,"f",null,null,"g",null,null,"h"]
[1,{"$f":"RANDBETWEEN(97,122)","v":103},{"$f":"IF(B3=108,B3+1,B3)","v":103},{"$f":"CHAR(B3)","v":"g"},{"$f":"RANDBETWEEN(97,121)","v":100},{"$f":"IF(E3=108,E3+1,E3)","v":100},{"$f":"IF(F3=C3,F3+1,F3)","v":100},{"$f":"CHAR(G3)","v":"d"},{"$f":"RANDBETWEEN(97,120)","v":112},{"$f":"IF(I3=108,I3+1,I3)","v":112},{"$f":"IF(OR(J3=C3,J3=G3),J3+1,J3)","v":112},{"$f":"CHAR(K3)","v":"p"},{"$f":"RANDBETWEEN(97,119)","v":98},{"$f":"IF(M3=108,M3+1,M3)","v":98},{"$f":"IF(OR(N3=G3,N3=K3),N3+1,N3)","v":98},{"$f":"CHAR(O3)","v":"b"},{"$f":"INT(8*RAND()+2)","v":8},0,{"$f":"IF(R3=0,\"\",\"-\")","v":""},{"$f":"IF(Q3=1,\"\",TEXT(Q3,Q3))","v":"8"},{"$f":"INT(9*RAND()+1)","v":2},0,{"$f":"IF(V3=0,\"\",\"-\")","v":""},{"$f":"IF(U3=1,\"\",TEXT(U3,U3))","v":"2"},{"$f":"INT(7*RAND()+1)","v":4},0,{"$f":"IF(Z3=0,\" + \",\" - \")","v":" + "},{"$f":"IF(Y3=1,\"\",TEXT(Y3,Y3))","v":"4"},{"$f":"INT(7*RAND()+1)","v":3},{"$f":"AC3","v":3},1,{"$f":"IF(AE3=0,\" + \",\" - \")","v":" - "},{"$f":"IF(AC3=1,\"\",TEXT(AC3,AC3))","v":"3"},null,{"$f":"Q3*U3","v":16},{"$f":"IF(AI3=1,\"\",TEXT($E$1,AI3))","v":"16"},{"$f":"IF((R3+V3)=1,\"-\",\" \")","v":" "},{"$f":"Q3*Y3","v":32},{"$f":"IF(AL3=1,\"\",TEXT($E$1,AL3))","v":"32"},{"$f":"IF((R3+Z3)=1,\" - \",\" + \")","v":" + "},{"$f":"Q3*AC3","v":24},{"$f":"IF(AO3=1,\"\",TEXT($E$1,AO3))","v":"24"},{"$f":"IF((R3+AE3)=1,\" - \",\" + \")","v":" - "},null,{"$f":"CONCATENATE(S3,T3,D3,\"(\",X3,H3,AA3,AB3,L3,AF3,AG3,P3,\")\")","v":"8g(2d + 4p - 3b)"},{"$f":"CONCATENATE(AK3,AJ3,D3,H3,AN3,AM3,D3,L3,AQ3,AP3,D3,P3)","v":" 16gd + 32gp - 24gb"}]
[2,{"$f":"RANDBETWEEN(97,122)","v":105},{"$f":"IF(B4=108,B4+1,B4)","v":105},{"$f":"CHAR(B4)","v":"i"},{"$f":"RANDBETWEEN(97,121)","v":110},{"$f":"IF(E4=108,E4+1,E4)","v":110},{"$f":"IF(F4=C4,F4+1,F4)","v":110},{"$f":"CHAR(G4)","v":"n"},{"$f":"RANDBETWEEN(97,120)","v":117},{"$f":"IF(I4=108,I4+1,I4)","v":117},{"$f":"IF(OR(J4=C4,J4=G4),J4+1,J4)","v":117},{"$f":"CHAR(K4)","v":"u"},{"$f":"RANDBETWEEN(97,119)","v":110},{"$f":"IF(M4=108,M4+1,M4)","v":110},{"$f":"IF(OR(N4=G4,N4=K4),N4+1,N4)","v":111},{"$f":"CHAR(O4)","v":"o"},{"$f":"INT(8*RAND()+2)","v":2},0,"",{"$f":"IF(Q4=1,\"\",TEXT(Q4,Q4))","v":"2"},8,0,{"$f":"IF(V4=0,\"\",\"-\")","v":""},{"$f":"IF(U4=1,\"\",TEXT(U4,U4))","v":"8"},{"$f":"INT(7*RAND()+1)","v":2},0,{"$f":"IF(Z4=0,\" + \",\" - \")","v":" + "},{"$f":"IF(Y4=1,\"\",TEXT(Y4,Y4))","v":"2"},{"$f":"INT(7*RAND()+1)","v":1},{"$f":"AC4","v":1},1,{"$f":"IF(AE4=0,\" + \",\" - \")","v":" - "},{"$f":"IF(AC4=1,\"\",TEXT(AC4,AC4))","v":""},null,16,{"$f":"IF(AI4=1,\"\",TEXT($E$1,AI4))","v":"16"},{"$f":"IF((R4+V4)=1,\"-\",\" \")","v":" "},{"$f":"Q4*Y4","v":4},{"$f":"IF(AL4=1,\"\",TEXT($E$1,AL4))","v":"4"},{"$f":"IF((R4+Z4)=1,\" - \",\" + \")","v":" + "},{"$f":"Q4*AC4","v":2},{"$f":"IF(AO4=1,\"\",TEXT($E$1,AO4))","v":"2"},{"$f":"IF((R4+AE4)=1,\" - \",\" + \")","v":" - "},null,{"$f":"CONCATENATE(S4,T4,D4,\"(\",X4,H4,AA4,AB4,L4,AF4,AG4,P4,\")\")","v":"2i(8n + 2u - o)"},{"$f":"CONCATENATE(AK4,AJ4,D4,H4,AN4,AM4,D4,L4,AQ4,AP4,D4,P4)","v":" 16in + 4iu - 2io"}]
[3,116,116,"t",97,97,97,"a",113,113,{"$f":"IF(OR(J5=C5,J5=G5),J5+1,J5)","v":113},"q",100,100,{"$f":"IF(OR(N5=G5,N5=K5),N5+1,N5)","v":100},"d",9,0,"","9",7,0,"","7",3,0," + ","3",7,7,{"$f":"INT(2*RAND())","v":0}," + ","7",null,63,"63"," ",27,"27"," + ",63,"63"," + ",null,{"$f":"CONCATENATE(S5,T5,D5,\"(\",X5,H5,AA5,AB5,L5,AF5,AG5,P5,\")\")","v":"9t(7a + 3q + 7d)"},{"$f":"CONCATENATE(AK5,AJ5,D5,H5,AN5,AM5,D5,L5,AQ5,AP5,D5,P5)","v":" 63ta + 27tq + 63td"}]
[4,120,120,"x",112,112,112,"p",107,107,{"$f":"IF(OR(J6=C6,J6=G6),J6+1,J6)","v":107},"k",98,98,{"$f":"IF(OR(N6=G6,N6=K6),N6+1,N6)","v":98},"b",4,0,"","4",2,0,"","2",2,1," - ","2",4,4,1," - ","4",null,8,"8"," ",8,"8"," - ",16,"16"," - ",null,{"$f":"CONCATENATE(S6,T6,D6,\"(\",X6,H6,AA6,AB6,L6,AF6,AG6,P6,\")\")","v":"4x(2p - 2k - 4b)"},{"$f":"CONCATENATE(AK6,AJ6,D6,H6,AN6,AM6,D6,L6,AQ6,AP6,D6,P6)","v":" 8xp - 8xk - 16xb"}]
[5,105,105,"i",112,112,112,"p",98,98,{"$f":"IF(OR(J7=C7,J7=G7),J7+1,J7)","v":98},"b",114,114,{"$f":"IF(OR(N7=G7,N7=K7),N7+1,N7)","v":114},"r",9,0,"","9",6,0,"","6",7,1," - ","7",2,2,0," + ","2",null,54,"54"," ",63,"63"," - ",18,"18"," + ",null,{"$f":"CONCATENATE(S7,T7,D7,\"(\",X7,H7,AA7,AB7,L7,AF7,AG7,P7,\")\")","v":"9i(6p - 7b + 2r)"},{"$f":"CONCATENATE(AK7,AJ7,D7,H7,AN7,AM7,D7,L7,AQ7,AP7,D7,P7)","v":" 54ip - 63ib + 18ir"}]
[6,103,103,"g",111,111,111,"o",99,99,{"$f":"IF(OR(J8=C8,J8=G8),J8+1,J8)","v":99},"c",110,110,{"$f":"IF(OR(N8=G8,N8=K8),N8+1,N8)","v":110},"n",7,0,"","7",1,{"$f":"INT(2*RAND())","v":1},"-","",2,{"$f":"INT(2*RAND())","v":1}," - ","2",3,3,0," + ","3",null,7,"7","-",14,"14"," - ",21,"21"," + ",null,{"$f":"CONCATENATE(S8,T8,D8,\"(\",X8,H8,AA8,AB8,L8,AF8,AG8,P8,\")\")","v":"7g(o - 2c + 3n)"},{"$f":"CONCATENATE(AK8,AJ8,D8,H8,AN8,AM8,D8,L8,AQ8,AP8,D8,P8)","v":"-7go - 14gc + 21gn"}]
[7,109,109,"m",121,121,121,"y",119,119,{"$f":"IF(OR(J9=C9,J9=G9),J9+1,J9)","v":119},"w",105,105,{"$f":"IF(OR(N9=G9,N9=K9),N9+1,N9)","v":105},"i",5,0,"","5",1,0,"","",6,1," - ","6",4,4,1," - ","4",null,5,"5"," ",30,"30"," - ",20,"20"," - ",null,{"$f":"CONCATENATE(S9,T9,D9,\"(\",X9,H9,AA9,AB9,L9,AF9,AG9,P9,\")\")","v":"5m(y - 6w - 4i)"},{"$f":"CONCATENATE(AK9,AJ9,D9,H9,AN9,AM9,D9,L9,AQ9,AP9,D9,P9)","v":" 5my - 30mw - 20mi"}]
[8,121,121,"y",106,106,106,"j",120,120,{"$f":"IF(OR(J10=C10,J10=G10),J10+1,J10)","v":120},"x",98,98,{"$f":"IF(OR(N10=G10,N10=K10),N10+1,N10)","v":98},"b",5,0,"","5",9,1,"-","9",3,0," + ","3",3,3,1," - ","3",null,45,"45","-",15,"15"," + ",15,"15"," - ",null,{"$f":"CONCATENATE(S10,T10,D10,\"(\",X10,H10,AA10,AB10,L10,AF10,AG10,P10,\")\")","v":"5y(9j + 3x - 3b)"},{"$f":"CONCATENATE(AK10,AJ10,D10,H10,AN10,AM10,D10,L10,AQ10,AP10,D10,P10)","v":"-45yj + 15yx - 15yb"}]
[9,107,107,"k",109,109,109,"m",102,102,{"$f":"IF(OR(J11=C11,J11=G11),J11+1,J11)","v":102},"f",114,114,{"$f":"IF(OR(N11=G11,N11=K11),N11+1,N11)","v":114},"r",5,0,"","5",1,0,"","",7,0," + ","7",1,1,0," + ","",null,5,"5"," ",35,"35"," + ",5,"5"," + ",null,{"$f":"CONCATENATE(S11,T11,D11,\"(\",X11,H11,AA11,AB11,L11,AF11,AG11,P11,\")\")","v":"5k(m + 7f + r)"},{"$f":"CONCATENATE(AK11,AJ11,D11,H11,AN11,AM11,D11,L11,AQ11,AP11,D11,P11)","v":" 5km + 35kf + 5kr"}]
[10,113,113,"q",101,101,101,"e",117,117,{"$f":"IF(OR(J12=C12,J12=G12),J12+1,J12)","v":117},"u",107,107,{"$f":"IF(OR(N12=G12,N12=K12),N12+1,N12)","v":107},"k",5,0,"","5",9,1,"-","9",3,0," + ","3",5,5,0," + ","5",null,45,"45","-",15,"15"," + ",25,"25"," + ",null,{"$f":"CONCATENATE(S12,T12,D12,\"(\",X12,H12,AA12,AB12,L12,AF12,AG12,P12,\")\")","v":"5q(9e + 3u + 5k)"},{"$f":"CONCATENATE(AK12,AJ12,D12,H12,AN12,AM12,D12,L12,AQ12,AP12,D12,P12)","v":"-45qe + 15qu + 25qk"}]
[11,121,121,"y",105,105,105,"i",120,120,{"$f":"IF(OR(J13=C13,J13=G13),J13+1,J13)","v":120},"x",106,106,{"$f":"IF(OR(N13=G13,N13=K13),N13+1,N13)","v":106},"j",6,1,"-","6",4,0,"","4",6,0," + ","6",7,7,0," + ","7",null,24,"24","-",36,"36"," - ",42,"42"," - ",null,{"$f":"CONCATENATE(S13,T13,D13,\"(\",X13,H13,AA13,AB13,L13,AF13,AG13,P13,\")\")","v":"-6y(4i + 6x + 7j)"},{"$f":"CONCATENATE(AK13,AJ13,D13,H13,AN13,AM13,D13,L13,AQ13,AP13,D13,P13)","v":"-24yi - 36yx - 42yj"}]
[12,105,105,"i",113,113,113,"q",106,106,{"$f":"IF(OR(J14=C14,J14=G14),J14+1,J14)","v":106},"j",109,109,{"$f":"IF(OR(N14=G14,N14=K14),N14+1,N14)","v":109},"m",7,1,"-","7",4,0,"","4",1,1," - ","",3,3,0," + ","3",null,28,"28","-",7,"7"," + ",21,"21"," - ",null,{"$f":"CONCATENATE(S14,T14,D14,\"(\",X14,H14,AA14,AB14,L14,AF14,AG14,P14,\")\")","v":"-7i(4q - j + 3m)"},{"$f":"CONCATENATE(AK14,AJ14,D14,H14,AN14,AM14,D14,L14,AQ14,AP14,D14,P14)","v":"-28iq + 7ij - 21im"}]
[13,107,107,"k",107,107,108,"l",110,110,{"$f":"IF(OR(J15=C15,J15=G15),J15+1,J15)","v":110},"n",106,106,{"$f":"IF(OR(N15=G15,N15=K15),N15+1,N15)","v":106},"j",2,1,"-","2",3,0,"","3",2,1," - ","2",7,7,0," + ","7",null,6,"6","-",4,"4"," + ",14,"14"," - ",null,{"$f":"CONCATENATE(S15,T15,D15,\"(\",X15,H15,AA15,AB15,L15,AF15,AG15,P15,\")\")","v":"-2k(3l - 2n + 7j)"},{"$f":"CONCATENATE(AK15,AJ15,D15,H15,AN15,AM15,D15,L15,AQ15,AP15,D15,P15)","v":"-6kl + 4kn - 14kj"}]
[14,104,104,"h",104,104,105,"i",110,110,{"$f":"IF(OR(J16=C16,J16=G16),J16+1,J16)","v":110},"n",118,118,{"$f":"IF(OR(N16=G16,N16=K16),N16+1,N16)","v":118},"v",3,1,"-","3",2,1,"-","2",4,0," + ","4",2,2,0," + ","2",null,6,"6"," ",12,"12"," - ",6,"6"," - ",null,{"$f":"CONCATENATE(S16,T16,D16,\"(\",X16,H16,AA16,AB16,L16,AF16,AG16,P16,\")\")","v":"-3h(2i + 4n + 2v)"},{"$f":"CONCATENATE(AK16,AJ16,D16,H16,AN16,AM16,D16,L16,AQ16,AP16,D16,P16)","v":" 6hi - 12hn - 6hv"}]
[15,121,121,"y",114,114,114,"r",112,112,{"$f":"IF(OR(J17=C17,J17=G17),J17+1,J17)","v":112},"p",107,107,{"$f":"IF(OR(N17=G17,N17=K17),N17+1,N17)","v":107},"k",7,1,"-","7",3,1,"-","3",1,1," - ","",5,5,0," + ","5",null,21,"21"," ",7,"7"," + ",35,"35"," - ",null,{"$f":"CONCATENATE(S17,T17,D17,\"(\",X17,H17,AA17,AB17,L17,AF17,AG17,P17,\")\")","v":"-7y(3r - p + 5k)"},{"$f":"CONCATENATE(AK17,AJ17,D17,H17,AN17,AM17,D17,L17,AQ17,AP17,D17,P17)","v":" 21yr + 7yp - 35yk"}]
[16,102,102,"f",113,113,113,"q",110,110,{"$f":"IF(OR(J18=C18,J18=G18),J18+1,J18)","v":110},"n",103,103,{"$f":"IF(OR(N18=G18,N18=K18),N18+1,N18)","v":103},"g",9,1,"-","9",3,1,"-","3",5,0," + ","5",5,5,0," + ","5",null,27,"27"," ",45,"45"," - ",45,"45"," - ",null,{"$f":"CONCATENATE(S18,T18,D18,\"(\",X18,H18,AA18,AB18,L18,AF18,AG18,P18,\")\")","v":"-9f(3q + 5n + 5g)"},{"$f":"CONCATENATE(AK18,AJ18,D18,H18,AN18,AM18,D18,L18,AQ18,AP18,D18,P18)","v":" 27fq - 45fn - 45fg"}]
[17,112,112,"p",101,101,101,"e",120,120,{"$f":"IF(OR(J19=C19,J19=G19),J19+1,J19)","v":120},"x",105,105,{"$f":"IF(OR(N19=G19,N19=K19),N19+1,N19)","v":105},"i",6,1,"-","6",2,0,"","2",1,1," - ","",1,1,1," - ","",null,12,"12","-",6,"6"," + ",6,"6"," + ",null,{"$f":"CONCATENATE(S19,T19,D19,\"(\",X19,H19,AA19,AB19,L19,AF19,AG19,P19,\")\")","v":"-6p(2e - x - i)"},{"$f":"CONCATENATE(AK19,AJ19,D19,H19,AN19,AM19,D19,L19,AQ19,AP19,D19,P19)","v":"-12pe + 6px + 6pi"}]
[18,101,101,"e",111,111,111,"o",110,110,{"$f":"IF(OR(J20=C20,J20=G20),J20+1,J20)","v":110},"n",103,103,{"$f":"IF(OR(N20=G20,N20=K20),N20+1,N20)","v":103},"g",7,1,"-","7",6,1,"-","6",1,1," - ","",1,1,1," - ","",null,42,"42"," ",7,"7"," + ",7,"7"," + ",null,{"$f":"CONCATENATE(S20,T20,D20,\"(\",X20,H20,AA20,AB20,L20,AF20,AG20,P20,\")\")","v":"-7e(6o - n - g)"},{"$f":"CONCATENATE(AK20,AJ20,D20,H20,AN20,AM20,D20,L20,AQ20,AP20,D20,P20)","v":" 42eo + 7en + 7eg"}]
[19,121,121,"y",109,109,109,"m",107,107,{"$f":"IF(OR(J21=C21,J21=G21),J21+1,J21)","v":107},"k",118,118,{"$f":"IF(OR(N21=G21,N21=K21),N21+1,N21)","v":118},"v",6,1,"-","6",3,0,"","3",6,0," + ","6",7,7,0," + ","7",null,18,"18","-",36,"36"," - ",42,"42"," - ",null,{"$f":"CONCATENATE(S21,T21,D21,\"(\",X21,H21,AA21,AB21,L21,AF21,AG21,P21,\")\")","v":"-6y(3m + 6k + 7v)"},{"$f":"CONCATENATE(AK21,AJ21,D21,H21,AN21,AM21,D21,L21,AQ21,AP21,D21,P21)","v":"-18ym - 36yk - 42yv"}]
[20,118,118,"v",105,105,105,"i",119,119,{"$f":"IF(OR(J22=C22,J22=G22),J22+1,J22)","v":119},"w",111,111,{"$f":"IF(OR(N22=G22,N22=K22),N22+1,N22)","v":111},"o",4,1,"-","4",9,0,"","9",3,1," - ","3",6,6,1," - ","6",null,36,"36","-",12,"12"," + ",24,"24"," + ",null,{"$f":"CONCATENATE(S22,T22,D22,\"(\",X22,H22,AA22,AB22,L22,AF22,AG22,P22,\")\")","v":"-4v(9i - 3w - 6o)"},{"$f":"CONCATENATE(AK22,AJ22,D22,H22,AN22,AM22,D22,L22,AQ22,AP22,D22,P22)","v":"-36vi + 12vw + 24vo"}]
[21,119,119,"w",107,107,107,"k",100,100,{"$f":"IF(OR(J23=C23,J23=G23),J23+1,J23)","v":100},"d",98,98,{"$f":"IF(OR(N23=G23,N23=K23),N23+1,N23)","v":98},"b",9,{"$f":"INT(2*RAND())","v":1},"-","9",1,1,"-","",5,1," - ","5",4,4,1," - ","4",null,9,"9"," ",45,"45"," + ",36,"36"," + ",null,{"$f":"CONCATENATE(S23,T23,D23,\"(\",X23,H23,AA23,AB23,L23,AF23,AG23,P23,\")\")","v":"-9w(k - 5d - 4b)"},{"$f":"CONCATENATE(AK23,AJ23,D23,H23,AN23,AM23,D23,L23,AQ23,AP23,D23,P23)","v":" 9wk + 45wd + 36wb"}]
[22,116,116,"t",117,117,117,"u",119,119,{"$f":"IF(OR(J24=C24,J24=G24),J24+1,J24)","v":119},"w",102,102,{"$f":"IF(OR(N24=G24,N24=K24),N24+1,N24)","v":102},"f",9,1,"-","9",4,0,"","4",1,0," + ","",7,7,1," - ","7",null,36,"36","-",9,"9"," - ",63,"63"," + ",null,{"$f":"CONCATENATE(S24,T24,D24,\"(\",X24,H24,AA24,AB24,L24,AF24,AG24,P24,\")\")","v":"-9t(4u + w - 7f)"},{"$f":"CONCATENATE(AK24,AJ24,D24,H24,AN24,AM24,D24,L24,AQ24,AP24,D24,P24)","v":"-36tu - 9tw + 63tf"}]
[23,100,100,"d",103,103,103,"g",117,117,{"$f":"IF(OR(J25=C25,J25=G25),J25+1,J25)","v":117},"u",97,97,{"$f":"IF(OR(N25=G25,N25=K25),N25+1,N25)","v":97},"a",2,0,"","2",2,0,"","2",2,0," + ","2",6,6,0," + ","6",null,4,"4"," ",4,"4"," + ",12,"12"," + ",null,{"$f":"CONCATENATE(S25,T25,D25,\"(\",X25,H25,AA25,AB25,L25,AF25,AG25,P25,\")\")","v":"2d(2g + 2u + 6a)"},{"$f":"CONCATENATE(AK25,AJ25,D25,H25,AN25,AM25,D25,L25,AQ25,AP25,D25,P25)","v":" 4dg + 4du + 12da"}]
[24,108,109,"l",121,121,121,"y",113,113,{"$f":"IF(OR(J26=C26,J26=G26),J26+1,J26)","v":113},"q",97,97,{"$f":"IF(OR(N26=G26,N26=K26),N26+1,N26)","v":97},"a",4,1,"-","4",8,1,"-","8",2,0," + ","2",6,6,0," + ","6",null,32,"32"," ",8,"8"," - ",24,"24"," - ",null,{"$f":"CONCATENATE(S26,T26,D26,\"(\",X26,H26,AA26,AB26,L26,AF26,AG26,P26,\")\")","v":"-4l(8y + 2q + 6a)"},{"$f":"CONCATENATE(AK26,AJ26,D26,H26,AN26,AM26,D26,L26,AQ26,AP26,D26,P26)","v":" 32ly - 8lq - 24la"}]
[25,106,106,"j",121,121,121,"y",109,109,{"$f":"IF(OR(J27=C27,J27=G27),J27+1,J27)","v":109},"m",117,117,{"$f":"IF(OR(N27=G27,N27=K27),N27+1,N27)","v":117},"u",6,0,"","6",6,1,"-","6",1,1," - ","",2,2,0," + ","2",null,36,"36","-",6,"6"," - ",12,"12"," + ",null,{"$f":"CONCATENATE(S27,T27,D27,\"(\",X27,H27,AA27,AB27,L27,AF27,AG27,P27,\")\")","v":"6j(6y - m + 2u)"},{"$f":"CONCATENATE(AK27,AJ27,D27,H27,AN27,AM27,D27,L27,AQ27,AP27,D27,P27)","v":"-36jy - 6jm + 12ju"}]
[26,120,120,"x",102,102,102,"f",116,116,{"$f":"IF(OR(J28=C28,J28=G28),J28+1,J28)","v":116},"t",109,109,{"$f":"IF(OR(N28=G28,N28=K28),N28+1,N28)","v":109},"m",3,0,"","3",4,0,"","4",7,0," + ","7",3,3,0," + ","3",null,12,"12"," ",21,"21"," + ",9,"9"," + ",null,{"$f":"CONCATENATE(S28,T28,D28,\"(\",X28,H28,AA28,AB28,L28,AF28,AG28,P28,\")\")","v":"3x(4f + 7t + 3m)"},{"$f":"CONCATENATE(AK28,AJ28,D28,H28,AN28,AM28,D28,L28,AQ28,AP28,D28,P28)","v":" 12xf + 21xt + 9xm"}]
[27,114,114,"r",106,106,106,"j",112,112,{"$f":"IF(OR(J29=C29,J29=G29),J29+1,J29)","v":112},"p",109,109,{"$f":"IF(OR(N29=G29,N29=K29),N29+1,N29)","v":109},"m",5,0,"","5",9,1,"-","9",2,1," - ","2",4,4,1," - ","4",null,45,"45","-",10,"10"," - ",20,"20"," - ",null,{"$f":"CONCATENATE(S29,T29,D29,\"(\",X29,H29,AA29,AB29,L29,AF29,AG29,P29,\")\")","v":"5r(9j - 2p - 4m)"},{"$f":"CONCATENATE(AK29,AJ29,D29,H29,AN29,AM29,D29,L29,AQ29,AP29,D29,P29)","v":"-45rj - 10rp - 20rm"}]
[28,115,115,"s",104,104,104,"h",119,119,{"$f":"IF(OR(J30=C30,J30=G30),J30+1,J30)","v":119},"w",99,99,{"$f":"IF(OR(N30=G30,N30=K30),N30+1,N30)","v":99},"c",8,1,"-","8",3,1,"-","3",7,1," - ","7",1,1,0," + ","",null,24,"24"," ",56,"56"," + ",8,"8"," - ",null,{"$f":"CONCATENATE(S30,T30,D30,\"(\",X30,H30,AA30,AB30,L30,AF30,AG30,P30,\")\")","v":"-8s(3h - 7w + c)"},{"$f":"CONCATENATE(AK30,AJ30,D30,H30,AN30,AM30,D30,L30,AQ30,AP30,D30,P30)","v":" 24sh + 56sw - 8sc"}]
[29,121,121,"y",111,111,111,"o",98,98,{"$f":"IF(OR(J31=C31,J31=G31),J31+1,J31)","v":98},"b",102,102,{"$f":"IF(OR(N31=G31,N31=K31),N31+1,N31)","v":102},"f",6,1,"-","6",6,1,"-","6",7,0," + ","7",2,2,0," + ","2",null,36,"36"," ",42,"42"," - ",12,"12"," - ",null,{"$f":"CONCATENATE(S31,T31,D31,\"(\",X31,H31,AA31,AB31,L31,AF31,AG31,P31,\")\")","v":"-6y(6o + 7b + 2f)"},{"$f":"CONCATENATE(AK31,AJ31,D31,H31,AN31,AM31,D31,L31,AQ31,AP31,D31,P31)","v":" 36yo - 42yb - 12yf"}]
[30,103,103,"g",102,102,102,"f",100,100,{"$f":"IF(OR(J32=C32,J32=G32),J32+1,J32)","v":100},"d",99,99,{"$f":"IF(OR(N32=G32,N32=K32),N32+1,N32)","v":99},"c",8,1,"-","8",2,0,"","2",3,1," - ","3",7,7,1," - ","7",null,16,"16","-",24,"24"," + ",56,"56"," + ",null,{"$f":"CONCATENATE(S32,T32,D32,\"(\",X32,H32,AA32,AB32,L32,AF32,AG32,P32,\")\")","v":"-8g(2f - 3d - 7c)"},{"$f":"CONCATENATE(AK32,AJ32,D32,H32,AN32,AM32,D32,L32,AQ32,AP32,D32,P32)","v":"-16gf + 24gd + 56gc"}]
[31,111,111,"o",99,99,99,"c",117,117,{"$f":"IF(OR(J33=C33,J33=G33),J33+1,J33)","v":117},"u",102,102,{"$f":"IF(OR(N33=G33,N33=K33),N33+1,N33)","v":102},"f",8,1,"-","8",9,1,"-","9",5,0," + ","5",4,4,1," - ","4",null,72,"72"," ",40,"40"," - ",32,"32"," + ",null,{"$f":"CONCATENATE(S33,T33,D33,\"(\",X33,H33,AA33,AB33,L33,AF33,AG33,P33,\")\")","v":"-8o(9c + 5u - 4f)"},{"$f":"CONCATENATE(AK33,AJ33,D33,H33,AN33,AM33,D33,L33,AQ33,AP33,D33,P33)","v":" 72oc - 40ou + 32of"}]
[32,113,113,"q",100,100,100,"d",101,101,{"$f":"IF(OR(J34=C34,J34=G34),J34+1,J34)","v":101},"e",107,107,{"$f":"IF(OR(N34=G34,N34=K34),N34+1,N34)","v":107},"k",3,0,"","3",4,1,"-","4",2,0," + ","2",3,3,0," + ","3",null,12,"12","-",6,"6"," + ",9,"9"," + ",null,{"$f":"CONCATENATE(S34,T34,D34,\"(\",X34,H34,AA34,AB34,L34,AF34,AG34,P34,\")\")","v":"3q(4d + 2e + 3k)"},{"$f":"CONCATENATE(AK34,AJ34,D34,H34,AN34,AM34,D34,L34,AQ34,AP34,D34,P34)","v":"-12qd + 6qe + 9qk"}]
[33,120,120,"x",108,109,109,"m",111,111,{"$f":"IF(OR(J35=C35,J35=G35),J35+1,J35)","v":111},"o",115,115,{"$f":"IF(OR(N35=G35,N35=K35),N35+1,N35)","v":115},"s",2,1,{"$f":"IF(R35=0,\"\",\"-\")","v":"-"},"2",{"$f":"INT(9*RAND()+1)","v":1},0,"","",3,{"$f":"INT(2*RAND())","v":0}," + ","3",6,6,1," - ","6",null,{"$f":"Q35*U35","v":2},"2","-",6,"6"," - ",12,"12"," + ",null,{"$f":"CONCATENATE(S35,T35,D35,\"(\",X35,H35,AA35,AB35,L35,AF35,AG35,P35,\")\")","v":"-2x(m + 3o - 6s)"},{"$f":"CONCATENATE(AK35,AJ35,D35,H35,AN35,AM35,D35,L35,AQ35,AP35,D35,P35)","v":"-2xm - 6xo + 12xs"}]
[34,113,113,"q",101,101,101,"e",99,99,{"$f":"IF(OR(J36=C36,J36=G36),J36+1,J36)","v":99},"c",98,98,{"$f":"IF(OR(N36=G36,N36=K36),N36+1,N36)","v":98},"b",4,0,"","4",7,0,"","7",3,1," - ","3",3,3,0," + ","3",null,28,"28"," ",12,"12"," - ",12,"12"," + ",null,{"$f":"CONCATENATE(S36,T36,D36,\"(\",X36,H36,AA36,AB36,L36,AF36,AG36,P36,\")\")","v":"4q(7e - 3c + 3b)"},{"$f":"CONCATENATE(AK36,AJ36,D36,H36,AN36,AM36,D36,L36,AQ36,AP36,D36,P36)","v":" 28qe - 12qc + 12qb"}]
[35,115,115,"s",114,114,114,"r",118,118,{"$f":"IF(OR(J37=C37,J37=G37),J37+1,J37)","v":118},"v",103,103,{"$f":"IF(OR(N37=G37,N37=K37),N37+1,N37)","v":103},"g",7,1,"-","7",5,0,"","5",2,0," + ","2",2,2,1," - ","2",null,35,"35","-",14,"14"," - ",14,"14"," + ",null,{"$f":"CONCATENATE(S37,T37,D37,\"(\",X37,H37,AA37,AB37,L37,AF37,AG37,P37,\")\")","v":"-7s(5r + 2v - 2g)"},{"$f":"CONCATENATE(AK37,AJ37,D37,H37,AN37,AM37,D37,L37,AQ37,AP37,D37,P37)","v":"-35sr - 14sv + 14sg"}]
[36,114,114,"r",97,97,97,"a",104,104,{"$f":"IF(OR(J38=C38,J38=G38),J38+1,J38)","v":104},"h",108,109,{"$f":"IF(OR(N38=G38,N38=K38),N38+1,N38)","v":109},"m",4,1,"-","4",9,1,"-","9",1,0," + ","",1,1,0," + ","",null,36,"36"," ",4,"4"," - ",4,"4"," - ",null,{"$f":"CONCATENATE(S38,T38,D38,\"(\",X38,H38,AA38,AB38,L38,AF38,AG38,P38,\")\")","v":"-4r(9a + h + m)"},{"$f":"CONCATENATE(AK38,AJ38,D38,H38,AN38,AM38,D38,L38,AQ38,AP38,D38,P38)","v":" 36ra - 4rh - 4rm"}]
[37,114,114,"r",97,97,97,"a",101,101,{"$f":"IF(OR(J39=C39,J39=G39),J39+1,J39)","v":101},"e",118,118,{"$f":"IF(OR(N39=G39,N39=K39),N39+1,N39)","v":118},"v",6,0,"","6",4,1,"-","4",6,0," + ","6",6,6,0," + ","6",null,24,"24","-",36,"36"," + ",36,"36"," + ",null,{"$f":"CONCATENATE(S39,T39,D39,\"(\",X39,H39,AA39,AB39,L39,AF39,AG39,P39,\")\")","v":"6r(4a + 6e + 6v)"},{"$f":"CONCATENATE(AK39,AJ39,D39,H39,AN39,AM39,D39,L39,AQ39,AP39,D39,P39)","v":"-24ra + 36re + 36rv"}]
[38,110,110,"n",103,103,103,"g",97,97,{"$f":"IF(OR(J40=C40,J40=G40),J40+1,J40)","v":97},"a",108,109,{"$f":"IF(OR(N40=G40,N40=K40),N40+1,N40)","v":109},"m",6,0,"","6",7,{"$f":"INT(2*RAND())","v":0},"","7",4,1," - ","4",5,5,0," + ","5",null,42,"42"," ",24,"24"," - ",30,"30"," + ",null,{"$f":"CONCATENATE(S40,T40,D40,\"(\",X40,H40,AA40,AB40,L40,AF40,AG40,P40,\")\")","v":"6n(7g - 4a + 5m)"},{"$f":"CONCATENATE(AK40,AJ40,D40,H40,AN40,AM40,D40,L40,AQ40,AP40,D40,P40)","v":" 42ng - 24na + 30nm"}]
[39,99,99,"c",118,118,118,"v",110,110,{"$f":"IF(OR(J41=C41,J41=G41),J41+1,J41)","v":110},"n",103,103,{"$f":"IF(OR(N41=G41,N41=K41),N41+1,N41)","v":103},"g",3,1,"-","3",4,0,"","4",4,0," + ","4",2,2,0," + ","2",null,12,"12","-",12,"12"," - ",6,"6"," - ",null,{"$f":"CONCATENATE(S41,T41,D41,\"(\",X41,H41,AA41,AB41,L41,AF41,AG41,P41,\")\")","v":"-3c(4v + 4n + 2g)"},{"$f":"CONCATENATE(AK41,AJ41,D41,H41,AN41,AM41,D41,L41,AQ41,AP41,D41,P41)","v":"-12cv - 12cn - 6cg"}]
[40,99,99,"c",107,107,107,"k",106,106,{"$f":"IF(OR(J42=C42,J42=G42),J42+1,J42)","v":106},"j",99,99,{"$f":"IF(OR(N42=G42,N42=K42),N42+1,N42)","v":99},"c",5,1,"-","5",1,0,"","",6,0," + ","6",4,4,0," + ","4",null,5,"5","-",30,"30"," - ",20,"20"," - ",null,{"$f":"CONCATENATE(S42,T42,D42,\"(\",X42,H42,AA42,AB42,L42,AF42,AG42,P42,\")\")","v":"-5c(k + 6j + 4c)"},{"$f":"CONCATENATE(AK42,AJ42,D42,H42,AN42,AM42,D42,L42,AQ42,AP42,D42,P42)","v":"-5ck - 30cj - 20cc"}]
[41,102,102,"f",112,112,112,"p",100,100,{"$f":"IF(OR(J43=C43,J43=G43),J43+1,J43)","v":100},"d",110,110,{"$f":"IF(OR(N43=G43,N43=K43),N43+1,N43)","v":110},"n",3,0,"","3",5,0,"","5",1,1," - ","",4,4,1," - ","4",null,15,"15"," ",3,"3"," - ",12,"12"," - ",null,{"$f":"CONCATENATE(S43,T43,D43,\"(\",X43,H43,AA43,AB43,L43,AF43,AG43,P43,\")\")","v":"3f(5p - d - 4n)"},{"$f":"CONCATENATE(AK43,AJ43,D43,H43,AN43,AM43,D43,L43,AQ43,AP43,D43,P43)","v":" 15fp - 3fd - 12fn"}]
[42,118,118,"v",99,99,99,"c",120,120,{"$f":"IF(OR(J44=C44,J44=G44),J44+1,J44)","v":120},"x",119,119,{"$f":"IF(OR(N44=G44,N44=K44),N44+1,N44)","v":119},"w",7,1,"-","7",8,1,"-","8",4,0," + ","4",5,5,1," - ","5",null,56,"56"," ",28,"28"," - ",35,"35"," + ",null,{"$f":"CONCATENATE(S44,T44,D44,\"(\",X44,H44,AA44,AB44,L44,AF44,AG44,P44,\")\")","v":"-7v(8c + 4x - 5w)"},{"$f":"CONCATENATE(AK44,AJ44,D44,H44,AN44,AM44,D44,L44,AQ44,AP44,D44,P44)","v":" 56vc - 28vx + 35vw"}]
[43,105,105,"i",103,103,103,"g",106,106,{"$f":"IF(OR(J45=C45,J45=G45),J45+1,J45)","v":106},"j",100,100,{"$f":"IF(OR(N45=G45,N45=K45),N45+1,N45)","v":100},"d",5,1,"-","5",7,1,"-","7",7,0," + ","7",4,4,1," - ","4",null,35,"35"," ",35,"35"," - ",20,"20"," + ",null,{"$f":"CONCATENATE(S45,T45,D45,\"(\",X45,H45,AA45,AB45,L45,AF45,AG45,P45,\")\")","v":"-5i(7g + 7j - 4d)"},{"$f":"CONCATENATE(AK45,AJ45,D45,H45,AN45,AM45,D45,L45,AQ45,AP45,D45,P45)","v":" 35ig - 35ij + 20id"}]
[44,122,122,"z",97,97,97,"a",120,120,{"$f":"IF(OR(J46=C46,J46=G46),J46+1,J46)","v":120},"x",101,101,{"$f":"IF(OR(N46=G46,N46=K46),N46+1,N46)","v":101},"e",3,1,"-","3",4,0,"","4",5,0," + ","5",5,5,0," + ","5",null,12,"12","-",15,"15"," - ",15,"15"," - ",null,{"$f":"CONCATENATE(S46,T46,D46,\"(\",X46,H46,AA46,AB46,L46,AF46,AG46,P46,\")\")","v":"-3z(4a + 5x + 5e)"},{"$f":"CONCATENATE(AK46,AJ46,D46,H46,AN46,AM46,D46,L46,AQ46,AP46,D46,P46)","v":"-12za - 15zx - 15ze"}]
[45,122,122,"z",110,110,110,"n",120,120,{"$f":"IF(OR(J47=C47,J47=G47),J47+1,J47)","v":120},"x",109,109,{"$f":"IF(OR(N47=G47,N47=K47),N47+1,N47)","v":109},"m",6,0,"","6",7,0,"","7",5,0," + ","5",7,7,1," - ","7",null,42,"42"," ",30,"30"," + ",42,"42"," - ",null,{"$f":"CONCATENATE(S47,T47,D47,\"(\",X47,H47,AA47,AB47,L47,AF47,AG47,P47,\")\")","v":"6z(7n + 5x - 7m)"},{"$f":"CONCATENATE(AK47,AJ47,D47,H47,AN47,AM47,D47,L47,AQ47,AP47,D47,P47)","v":" 42zn + 30zx - 42zm"}]
[46,120,120,"x",113,113,113,"q",109,109,{"$f":"IF(OR(J48=C48,J48=G48),J48+1,J48)","v":109},"m",109,109,{"$f":"IF(OR(N48=G48,N48=K48),N48+1,N48)","v":110},"n",8,1,"-","8",3,0,"","3",7,0," + ","7",5,5,1," - ","5",null,24,"24","-",56,"56"," - ",40,"40"," + ",null,{"$f":"CONCATENATE(S48,T48,D48,\"(\",X48,H48,AA48,AB48,L48,AF48,AG48,P48,\")\")","v":"-8x(3q + 7m - 5n)"},{"$f":"CONCATENATE(AK48,AJ48,D48,H48,AN48,AM48,D48,L48,AQ48,AP48,D48,P48)","v":"-24xq - 56xm + 40xn"}]
[47,114,114,"r",111,111,111,"o",103,103,{"$f":"IF(OR(J49=C49,J49=G49),J49+1,J49)","v":103},"g",107,107,{"$f":"IF(OR(N49=G49,N49=K49),N49+1,N49)","v":107},"k",4,1,"-","4",4,1,"-","4",4,1," - ","4",4,4,0," + ","4",null,16,"16"," ",16,"16"," + ",16,"16"," - ",null,{"$f":"CONCATENATE(S49,T49,D49,\"(\",X49,H49,AA49,AB49,L49,AF49,AG49,P49,\")\")","v":"-4r(4o - 4g + 4k)"},{"$f":"CONCATENATE(AK49,AJ49,D49,H49,AN49,AM49,D49,L49,AQ49,AP49,D49,P49)","v":" 16ro + 16rg - 16rk"}]
[48,115,115,"s",110,110,110,"n",110,110,{"$f":"IF(OR(J50=C50,J50=G50),J50+1,J50)","v":111},"o",117,117,{"$f":"IF(OR(N50=G50,N50=K50),N50+1,N50)","v":117},"u",6,1,"-","6",2,1,"-","2",7,0," + ","7",6,6,1," - ","6",null,12,"12"," ",42,"42"," - ",36,"36"," + ",null,{"$f":"CONCATENATE(S50,T50,D50,\"(\",X50,H50,AA50,AB50,L50,AF50,AG50,P50,\")\")","v":"-6s(2n + 7o - 6u)"},{"$f":"CONCATENATE(AK50,AJ50,D50,H50,AN50,AM50,D50,L50,AQ50,AP50,D50,P50)","v":" 12sn - 42so + 36su"}]
[49,113,113,"q",121,121,121,"y",114,114,{"$f":"IF(OR(J51=C51,J51=G51),J51+1,J51)","v":114},"r",112,112,{"$f":"IF(OR(N51=G51,N51=K51),N51+1,N51)","v":112},"p",4,0,"","4",5,1,"-","5",7,0," + ","7",2,2,1," - ","2",null,20,"20","-",28,"28"," + ",8,"8"," - ",null,{"$f":"CONCATENATE(S51,T51,D51,\"(\",X51,H51,AA51,AB51,L51,AF51,AG51,P51,\")\")","v":"4q(5y + 7r - 2p)"},{"$f":"CONCATENATE(AK51,AJ51,D51,H51,AN51,AM51,D51,L51,AQ51,AP51,D51,P51)","v":"-20qy + 28qr - 8qp"}]
[50,103,103,"g",109,109,109,"m",99,99,{"$f":"IF(OR(J52=C52,J52=G52),J52+1,J52)","v":99},"c",115,115,{"$f":"IF(OR(N52=G52,N52=K52),N52+1,N52)","v":115},"s",9,0,"","9",3,0,"","3",1,0," + ","",1,1,0," + ","",null,27,"27"," ",9,"9"," + ",9,"9"," + ",null,{"$f":"CONCATENATE(S52,T52,D52,\"(\",X52,H52,AA52,AB52,L52,AF52,AG52,P52,\")\")","v":"9g(3m + c + s)"},{"$f":"CONCATENATE(AK52,AJ52,D52,H52,AN52,AM52,D52,L52,AQ52,AP52,D52,P52)","v":" 27gm + 9gc + 9gs"}]
[51,119,119,"w",120,120,120,"x",120,120,{"$f":"IF(OR(J53=C53,J53=G53),J53+1,J53)","v":121},"y",97,97,{"$f":"IF(OR(N53=G53,N53=K53),N53+1,N53)","v":97},"a",{"$f":"INT(9*RAND()+1)","v":5},1,"-","5",8,0,"","8",2,1," - ","2",4,4,1," - ","4",null,40,"40","-",10,"10"," + ",20,"20"," + ",null,{"$f":"CONCATENATE(S53,T53,D53,\"(\",X53,H53,AA53,AB53,L53,AF53,AG53,P53,\")\")","v":"-5w(8x - 2y - 4a)"},{"$f":"CONCATENATE(AK53,AJ53,D53,H53,AN53,AM53,D53,L53,AQ53,AP53,D53,P53)","v":"-40wx + 10wy + 20wa"}]
[52,116,116,"t",105,105,105,"i",111,111,{"$f":"IF(OR(J54=C54,J54=G54),J54+1,J54)","v":111},"o",98,98,{"$f":"IF(OR(N54=G54,N54=K54),N54+1,N54)","v":98},"b",4,0,"","4",7,1,"-","7",7,1," - ","7",7,7,1," - ","7",null,28,"28","-",28,"28"," - ",28,"28"," - ",null,{"$f":"CONCATENATE(S54,T54,D54,\"(\",X54,H54,AA54,AB54,L54,AF54,AG54,P54,\")\")","v":"4t(7i - 7o - 7b)"},{"$f":"CONCATENATE(AK54,AJ54,D54,H54,AN54,AM54,D54,L54,AQ54,AP54,D54,P54)","v":"-28ti - 28to - 28tb"}]
[53,102,102,"f",106,106,106,"j",102,102,{"$f":"IF(OR(J55=C55,J55=G55),J55+1,J55)","v":103},"g",104,104,{"$f":"IF(OR(N55=G55,N55=K55),N55+1,N55)","v":104},"h",8,{"$f":"INT(2*RAND())","v":0},"","8",6,1,"-","6",3,0," + ","3",1,1,1," - ","",null,48,"48","-",24,"24"," + ",8,"8"," - ",null,{"$f":"CONCATENATE(S55,T55,D55,\"(\",X55,H55,AA55,AB55,L55,AF55,AG55,P55,\")\")","v":"8f(6j + 3g - h)"},{"$f":"CONCATENATE(AK55,AJ55,D55,H55,AN55,AM55,D55,L55,AQ55,AP55,D55,P55)","v":"-48fj + 24fg - 8fh"}]
[54,113,113,"q",109,109,109,"m",118,118,{"$f":"IF(OR(J56=C56,J56=G56),J56+1,J56)","v":118},"v",118,118,{"$f":"IF(OR(N56=G56,N56=K56),N56+1,N56)","v":119},"w",9,1,"-","9",1,1,"-","",7,1," - ","7",1,1,1," - ","",null,9,"9"," ",63,"63"," + ",9,"9"," + ",null,{"$f":"CONCATENATE(S56,T56,D56,\"(\",X56,H56,AA56,AB56,L56,AF56,AG56,P56,\")\")","v":"-9q(m - 7v - w)"},{"$f":"CONCATENATE(AK56,AJ56,D56,H56,AN56,AM56,D56,L56,AQ56,AP56,D56,P56)","v":" 9qm + 63qv + 9qw"}]
[55,120,120,"x",107,107,107,"k",116,116,{"$f":"IF(OR(J57=C57,J57=G57),J57+1,J57)","v":116},"t",102,102,{"$f":"IF(OR(N57=G57,N57=K57),N57+1,N57)","v":102},"f",1,1,"-","",9,1,"-","9",1,0," + ","",5,5,1," - ","5",null,9,"9"," ",1,""," - ",5,"5"," + ",null,{"$f":"CONCATENATE(S57,T57,D57,\"(\",X57,H57,AA57,AB57,L57,AF57,AG57,P57,\")\")","v":"-x(9k + t - 5f)"},{"$f":"CONCATENATE(AK57,AJ57,D57,H57,AN57,AM57,D57,L57,AQ57,AP57,D57,P57)","v":" 9xk - xt + 5xf"}]
[56,120,120,"x",105,105,105,"i",99,99,{"$f":"IF(OR(J58=C58,J58=G58),J58+1,J58)","v":99},"c",108,109,{"$f":"IF(OR(N58=G58,N58=K58),N58+1,N58)","v":109},"m",2,1,"-","2",2,1,"-","2",4,1," - ","4",7,7,0," + ","7",null,4,"4"," ",8,"8"," + ",14,"14"," - ",null,{"$f":"CONCATENATE(S58,T58,D58,\"(\",X58,H58,AA58,AB58,L58,AF58,AG58,P58,\")\")","v":"-2x(2i - 4c + 7m)"},{"$f":"CONCATENATE(AK58,AJ58,D58,H58,AN58,AM58,D58,L58,AQ58,AP58,D58,P58)","v":" 4xi + 8xc - 14xm"}]
[57,101,101,"e",102,102,102,"f",101,101,{"$f":"IF(OR(J59=C59,J59=G59),J59+1,J59)","v":102},"f",98,98,{"$f":"IF(OR(N59=G59,N59=K59),N59+1,N59)","v":98},"b",3,0,"","3",6,1,"-","6",5,1," - ","5",4,4,1," - ","4",null,18,"18","-",15,"15"," - ",12,"12"," - ",null,{"$f":"CONCATENATE(S59,T59,D59,\"(\",X59,H59,AA59,AB59,L59,AF59,AG59,P59,\")\")","v":"3e(6f - 5f - 4b)"},{"$f":"CONCATENATE(AK59,AJ59,D59,H59,AN59,AM59,D59,L59,AQ59,AP59,D59,P59)","v":"-18ef - 15ef - 12eb"}]
[58,121,121,"y",114,114,114,"r",113,113,{"$f":"IF(OR(J60=C60,J60=G60),J60+1,J60)","v":113},"q",108,109,{"$f":"IF(OR(N60=G60,N60=K60),N60+1,N60)","v":109},"m",6,1,"-","6",5,0,"","5",5,1," - ","5",7,7,0," + ","7",null,30,"30","-",30,"30"," + ",42,"42"," - ",null,{"$f":"CONCATENATE(S60,T60,D60,\"(\",X60,H60,AA60,AB60,L60,AF60,AG60,P60,\")\")","v":"-6y(5r - 5q + 7m)"},{"$f":"CONCATENATE(AK60,AJ60,D60,H60,AN60,AM60,D60,L60,AQ60,AP60,D60,P60)","v":"-30yr + 30yq - 42ym"}]
[59,117,117,"u",101,101,101,"e",105,105,{"$f":"IF(OR(J61=C61,J61=G61),J61+1,J61)","v":105},"i",102,102,{"$f":"IF(OR(N61=G61,N61=K61),N61+1,N61)","v":102},"f",3,1,"-","3",8,1,"-","8",6,1," - ","6",5,5,0," + ","5",null,24,"24"," ",18,"18"," + ",15,"15"," - ",null,{"$f":"CONCATENATE(S61,T61,D61,\"(\",X61,H61,AA61,AB61,L61,AF61,AG61,P61,\")\")","v":"-3u(8e - 6i + 5f)"},{"$f":"CONCATENATE(AK61,AJ61,D61,H61,AN61,AM61,D61,L61,AQ61,AP61,D61,P61)","v":" 24ue + 18ui - 15uf"}]
[60,109,109,"m",112,112,112,"p",118,118,{"$f":"IF(OR(J62=C62,J62=G62),J62+1,J62)","v":118},"v",101,101,{"$f":"IF(OR(N62=G62,N62=K62),N62+1,N62)","v":101},"e",7,1,"-","7",7,1,"-","7",5,0," + ","5",1,1,0," + ","",null,49,"49"," ",35,"35"," - ",7,"7"," - ",null,{"$f":"CONCATENATE(S62,T62,D62,\"(\",X62,H62,AA62,AB62,L62,AF62,AG62,P62,\")\")","v":"-7m(7p + 5v + e)"},{"$f":"CONCATENATE(AK62,AJ62,D62,H62,AN62,AM62,D62,L62,AQ62,AP62,D62,P62)","v":" 49mp - 35mv - 7me"}]
[61,111,111,"o",118,118,118,"v",119,119,{"$f":"IF(OR(J63=C63,J63=G63),J63+1,J63)","v":119},"w",109,109,{"$f":"IF(OR(N63=G63,N63=K63),N63+1,N63)","v":109},"m",3,1,"-","3",2,1,"-","2",3,1," - ","3",3,3,0," + ","3",null,6,"6"," ",9,"9"," + ",9,"9"," - ",null,{"$f":"CONCATENATE(S63,T63,D63,\"(\",X63,H63,AA63,AB63,L63,AF63,AG63,P63,\")\")","v":"-3o(2v - 3w + 3m)"},{"$f":"CONCATENATE(AK63,AJ63,D63,H63,AN63,AM63,D63,L63,AQ63,AP63,D63,P63)","v":" 6ov + 9ow - 9om"}]
[62,112,112,"p",100,100,100,"d",106,106,{"$f":"IF(OR(J64=C64,J64=G64),J64+1,J64)","v":106},"j",116,116,{"$f":"IF(OR(N64=G64,N64=K64),N64+1,N64)","v":116},"t",5,1,"-","5",4,1,"-","4",3,0," + ","3",3,3,0," + ","3",null,20,"20"," ",15,"15"," - ",15,"15"," - ",null,{"$f":"CONCATENATE(S64,T64,D64,\"(\",X64,H64,AA64,AB64,L64,AF64,AG64,P64,\")\")","v":"-5p(4d + 3j + 3t)"},{"$f":"CONCATENATE(AK64,AJ64,D64,H64,AN64,AM64,D64,L64,AQ64,AP64,D64,P64)","v":" 20pd - 15pj - 15pt"}]
[63,104,104,"h",114,114,114,"r",120,120,{"$f":"IF(OR(J65=C65,J65=G65),J65+1,J65)","v":120},"x",104,104,{"$f":"IF(OR(N65=G65,N65=K65),N65+1,N65)","v":104},"h",1,0,"","",4,1,"-","4",2,1," - ","2",2,2,1," - ","2",null,4,"4","-",2,"2"," - ",2,"2"," - ",null,{"$f":"CONCATENATE(S65,T65,D65,\"(\",X65,H65,AA65,AB65,L65,AF65,AG65,P65,\")\")","v":"h(4r - 2x - 2h)"},{"$f":"CONCATENATE(AK65,AJ65,D65,H65,AN65,AM65,D65,L65,AQ65,AP65,D65,P65)","v":"-4hr - 2hx - 2hh"}]
[64,105,105,"i",115,115,115,"s",108,109,{"$f":"IF(OR(J66=C66,J66=G66),J66+1,J66)","v":109},"m",113,113,{"$f":"IF(OR(N66=G66,N66=K66),N66+1,N66)","v":113},"q",4,1,"-","4",1,1,"-","",2,1," - ","2",2,2,1," - ","2",null,4,"4"," ",8,"8"," + ",8,"8"," + ",null,{"$f":"CONCATENATE(S66,T66,D66,\"(\",X66,H66,AA66,AB66,L66,AF66,AG66,P66,\")\")","v":"-4i(s - 2m - 2q)"},{"$f":"CONCATENATE(AK66,AJ66,D66,H66,AN66,AM66,D66,L66,AQ66,AP66,D66,P66)","v":" 4is + 8im + 8iq"}]
[65,108,109,"l",108,109,110,"n",114,114,{"$f":"IF(OR(J67=C67,J67=G67),J67+1,J67)","v":114},"r",101,101,{"$f":"IF(OR(N67=G67,N67=K67),N67+1,N67)","v":101},"e",3,0,{"$f":"IF(R67=0,\"\",\"-\")","v":""},"3",{"$f":"INT(9*RAND()+1)","v":9},1,"-","9",2,{"$f":"INT(2*RAND())","v":0}," + ","2",4,4,{"$f":"INT(2*RAND())","v":0}," + ","4",null,{"$f":"Q67*U67","v":27},"27","-",6,"6"," + ",12,"12"," + ",null,{"$f":"CONCATENATE(S67,T67,D67,\"(\",X67,H67,AA67,AB67,L67,AF67,AG67,P67,\")\")","v":"3l(9n + 2r + 4e)"},{"$f":"CONCATENATE(AK67,AJ67,D67,H67,AN67,AM67,D67,L67,AQ67,AP67,D67,P67)","v":"-27ln + 6lr + 12le"}]
[66,{"$f":"RANDBETWEEN(97,122)","v":99},{"$f":"IF(B68=108,B68+1,B68)","v":99},{"$f":"CHAR(B68)","v":"c"},{"$f":"RANDBETWEEN(97,121)","v":112},{"$f":"IF(E68=108,E68+1,E68)","v":112},{"$f":"IF(F68=C68,F68+1,F68)","v":112},{"$f":"CHAR(G68)","v":"p"},{"$f":"RANDBETWEEN(97,120)","v":112},{"$f":"IF(I68=108,I68+1,I68)","v":112},{"$f":"IF(OR(J68=C68,J68=G68),J68+1,J68)","v":113},{"$f":"CHAR(K68)","v":"q"},{"$f":"RANDBETWEEN(97,119)","v":108},{"$f":"IF(M68=108,M68+1,M68)","v":109},{"$f":"IF(OR(N68=G68,N68=K68),N68+1,N68)","v":109},{"$f":"CHAR(O68)","v":"m"},5,0,"",{"$f":"IF(Q68=1,\"\",TEXT(Q68,Q68))","v":"5"},3,1,{"$f":"IF(V68=0,\"\",\"-\")","v":"-"},{"$f":"IF(U68=1,\"\",TEXT(U68,U68))","v":"3"},{"$f":"INT(7*RAND()+1)","v":3},0,{"$f":"IF(Z68=0,\" + \",\" - \")","v":" + "},{"$f":"IF(Y68=1,\"\",TEXT(Y68,Y68))","v":"3"},{"$f":"INT(7*RAND()+1)","v":3},{"$f":"AC68","v":3},1,{"$f":"IF(AE68=0,\" + \",\" - \")","v":" - "},{"$f":"IF(AC68=1,\"\",TEXT(AC68,AC68))","v":"3"},null,15,{"$f":"IF(AI68=1,\"\",TEXT($E$1,AI68))","v":"15"},{"$f":"IF((R68+V68)=1,\"-\",\" \")","v":"-"},{"$f":"Q68*Y68","v":15},{"$f":"IF(AL68=1,\"\",TEXT($E$1,AL68))","v":"15"},{"$f":"IF((R68+Z68)=1,\" - \",\" + \")","v":" + "},{"$f":"Q68*AC68","v":15},{"$f":"IF(AO68=1,\"\",TEXT($E$1,AO68))","v":"15"},{"$f":"IF((R68+AE68)=1,\" - \",\" + \")","v":" - "},null,{"$f":"CONCATENATE(S68,T68,D68,\"(\",X68,H68,AA68,AB68,L68,AF68,AG68,P68,\")\")","v":"5c(3p + 3q - 3m)"},{"$f":"CONCATENATE(AK68,AJ68,D68,H68,AN68,AM68,D68,L68,AQ68,AP68,D68,P68)","v":"-15cp + 15cq - 15cm"}]
[67,110,110,"n",108,109,109,"m",117,117,{"$f":"IF(OR(J69=C69,J69=G69),J69+1,J69)","v":117},"u",100,100,{"$f":"IF(OR(N69=G69,N69=K69),N69+1,N69)","v":100},"d",8,1,"-","8",4,0,"","4",5,0," + ","5",6,6,0," + ","6",null,32,"32","-",40,"40"," - ",48,"48"," - ",null,{"$f":"CONCATENATE(S69,T69,D69,\"(\",X69,H69,AA69,AB69,L69,AF69,AG69,P69,\")\")","v":"-8n(4m + 5u + 6d)"},{"$f":"CONCATENATE(AK69,AJ69,D69,H69,AN69,AM69,D69,L69,AQ69,AP69,D69,P69)","v":"-32nm - 40nu - 48nd"}]
[68,106,106,"j",111,111,111,"o",116,116,{"$f":"IF(OR(J70=C70,J70=G70),J70+1,J70)","v":116},"t",117,117,{"$f":"IF(OR(N70=G70,N70=K70),N70+1,N70)","v":117},"u",7,1,"-","7",1,1,"-","",2,0," + ","2",4,4,0," + ","4",null,7,"7"," ",14,"14"," - ",28,"28"," - ",null,{"$f":"CONCATENATE(S70,T70,D70,\"(\",X70,H70,AA70,AB70,L70,AF70,AG70,P70,\")\")","v":"-7j(o + 2t + 4u)"},{"$f":"CONCATENATE(AK70,AJ70,D70,H70,AN70,AM70,D70,L70,AQ70,AP70,D70,P70)","v":" 7jo - 14jt - 28ju"}]
[69,113,113,"q",117,117,117,"u",98,98,{"$f":"IF(OR(J71=C71,J71=G71),J71+1,J71)","v":98},"b",101,101,{"$f":"IF(OR(N71=G71,N71=K71),N71+1,N71)","v":101},"e",3,0,"","3",6,1,"-","6",7,0," + ","7",4,4,1," - ","4",null,18,"18","-",21,"21"," + ",12,"12"," - ",null,{"$f":"CONCATENATE(S71,T71,D71,\"(\",X71,H71,AA71,AB71,L71,AF71,AG71,P71,\")\")","v":"3q(6u + 7b - 4e)"},{"$f":"CONCATENATE(AK71,AJ71,D71,H71,AN71,AM71,D71,L71,AQ71,AP71,D71,P71)","v":"-18qu + 21qb - 12qe"}]
[70,109,109,"m",118,118,118,"v",102,102,{"$f":"IF(OR(J72=C72,J72=G72),J72+1,J72)","v":102},"f",100,100,{"$f":"IF(OR(N72=G72,N72=K72),N72+1,N72)","v":100},"d",2,0,"","2",9,{"$f":"INT(2*RAND())","v":1},"-","9",6,0," + ","6",2,2,0," + ","2",null,18,"18","-",12,"12"," + ",4,"4"," + ",null,{"$f":"CONCATENATE(S72,T72,D72,\"(\",X72,H72,AA72,AB72,L72,AF72,AG72,P72,\")\")","v":"2m(9v + 6f + 2d)"},{"$f":"CONCATENATE(AK72,AJ72,D72,H72,AN72,AM72,D72,L72,AQ72,AP72,D72,P72)","v":"-18mv + 12mf + 4md"}]
[71,116,116,"t",111,111,111,"o",105,105,{"$f":"IF(OR(J73=C73,J73=G73),J73+1,J73)","v":105},"i",119,119,{"$f":"IF(OR(N73=G73,N73=K73),N73+1,N73)","v":119},"w",5,1,"-","5",1,0,"","",3,0," + ","3",1,1,0," + ","",null,5,"5","-",15,"15"," - ",5,"5"," - ",null,{"$f":"CONCATENATE(S73,T73,D73,\"(\",X73,H73,AA73,AB73,L73,AF73,AG73,P73,\")\")","v":"-5t(o + 3i + w)"},{"$f":"CONCATENATE(AK73,AJ73,D73,H73,AN73,AM73,D73,L73,AQ73,AP73,D73,P73)","v":"-5to - 15ti - 5tw"}]
[72,108,109,"l",107,107,107,"k",110,110,{"$f":"IF(OR(J74=C74,J74=G74),J74+1,J74)","v":110},"n",99,99,{"$f":"IF(OR(N74=G74,N74=K74),N74+1,N74)","v":99},"c",8,0,"","8",3,1,"-","3",5,1," - ","5",2,2,1," - ","2",null,24,"24","-",40,"40"," - ",16,"16"," - ",null,{"$f":"CONCATENATE(S74,T74,D74,\"(\",X74,H74,AA74,AB74,L74,AF74,AG74,P74,\")\")","v":"8l(3k - 5n - 2c)"},{"$f":"CONCATENATE(AK74,AJ74,D74,H74,AN74,AM74,D74,L74,AQ74,AP74,D74,P74)","v":"-24lk - 40ln - 16lc"}]
[73,101,101,"e",102,102,102,"f",108,109,{"$f":"IF(OR(J75=C75,J75=G75),J75+1,J75)","v":109},"m",97,97,{"$f":"IF(OR(N75=G75,N75=K75),N75+1,N75)","v":97},"a",9,1,"-","9",8,1,"-","8",6,0," + ","6",1,1,0," + ","",null,72,"72"," ",54,"54"," - ",9,"9"," - ",null,{"$f":"CONCATENATE(S75,T75,D75,\"(\",X75,H75,AA75,AB75,L75,AF75,AG75,P75,\")\")","v":"-9e(8f + 6m + a)"},{"$f":"CONCATENATE(AK75,AJ75,D75,H75,AN75,AM75,D75,L75,AQ75,AP75,D75,P75)","v":" 72ef - 54em - 9ea"}]
[74,101,101,"e",120,120,120,"x",97,97,{"$f":"IF(OR(J76=C76,J76=G76),J76+1,J76)","v":97},"a",119,119,{"$f":"IF(OR(N76=G76,N76=K76),N76+1,N76)","v":119},"w",2,1,"-","2",8,0,"","8",4,1," - ","4",1,1,1," - ","",null,16,"16","-",8,"8"," + ",2,"2"," + ",null,{"$f":"CONCATENATE(S76,T76,D76,\"(\",X76,H76,AA76,AB76,L76,AF76,AG76,P76,\")\")","v":"-2e(8x - 4a - w)"},{"$f":"CONCATENATE(AK76,AJ76,D76,H76,AN76,AM76,D76,L76,AQ76,AP76,D76,P76)","v":"-16ex + 8ea + 2ew"}]
[75,98,98,"b",97,97,97,"a",108,109,{"$f":"IF(OR(J77=C77,J77=G77),J77+1,J77)","v":109},"m",97,97,{"$f":"IF(OR(N77=G77,N77=K77),N77+1,N77)","v":98},"b",6,0,"","6",4,1,"-","4",6,0," + ","6",2,2,1," - ","2",null,24,"24","-",36,"36"," + ",12,"12"," - ",null,{"$f":"CONCATENATE(S77,T77,D77,\"(\",X77,H77,AA77,AB77,L77,AF77,AG77,P77,\")\")","v":"6b(4a + 6m - 2b)"},{"$f":"CONCATENATE(AK77,AJ77,D77,H77,AN77,AM77,D77,L77,AQ77,AP77,D77,P77)","v":"-24ba + 36bm - 12bb"}]