{"text_format":"1","workbook":"xlsx","n_sheets":4,"sheets":["Type","Working","WorkSheet","Solutions"],"not_rendered":{"charts":0,"images":5,"macros":1,"external_links":0,"defined_names":0,"comments":0,"pivot_tables":0},"unopened":[],"bounds":{"document_bytes":16777216,"sheet_cells":100000,"rows_first":2000,"rows_last":500,"rows_between":2000,"halvings":0,"cell_chars":16384,"cell_head_chars":4096},"cells_cut":0,"cells_raw":0,"read":"whole","date_system":"1900"}

{"sheet":"Type","index":0,"n_rows":12,"n_cols":8,"rows_kept":12,"cut":false,"hidden":false,"merged":[[10,2,10,6],[11,2,14,7],[2,2,2,6],[3,2,3,7],[4,2,4,4],[4,7,7,8]]}
[null,null,null,null,"INTEGERS"]
[]
[null,null,"INSTRUCTIONS"]
[null,"Step 1","Select desired operation with integers"]
[null,null,null,null,null,null,null,"PRESS F9 for NEW WorkSheet"]
[]
[]
[]
[]
[]
[null,"Step 2","Click on Select tab below to choose different WorkSheet."]
[null,"Note","If you click on the WorkSheet tab then hold down shift and click on the Solutions tab, you will be able to print both the WorkSheet and the solutions."]

{"sheet":"Working","index":1,"n_rows":102,"n_cols":9,"rows_kept":102,"cut":false,"hidden":true,"merged":[]}
[{"$f":"INT(900*RAND()+100)","v":434},{"$f":"TEXT(A1,0)","v":"434"},"AI-","ADDITION OF INTEGERS"]
[null,null,null,null,null,"2nd",null,"1st","Solution"]
[1,0,{"$f":"INT(24*RAND()-12)","v":-12},{"$f":"IF(B3=0,\"+\",IF(B3=1,\"-\",IF(B3=2,CHAR(180),CHAR(184))))","v":"+"},{"$f":"INT(24*RAND()-12)","v":8},{"$f":"IF(E3=0,1,E3)","v":8},{"$f":"IF(B3=0,C3+F3,IF(B3=1,C3-F3,IF(B3=2,C3*F3,C3*F3)))","v":-4},{"$f":"IF(B3=0,C3,IF(B3=1,C3,IF(B3=2,C3,G3)))","v":-12},{"$f":"IF(B3=0,C3+F3,IF(B3=1,C3-F3,IF(B3=2,C3*F3,C3)))","v":-4}]
[2,0,{"$f":"INT(24*RAND()-12)","v":7},{"$f":"IF(B4=0,\"+\",IF(B4=1,\"-\",IF(B4=2,CHAR(180),CHAR(184))))","v":"+"},{"$f":"INT(24*RAND()-12)","v":-4},{"$f":"IF(E4=0,1,E4)","v":-4},{"$f":"IF(B4=0,C4+F4,IF(B4=1,C4-F4,IF(B4=2,C4*F4,C4*F4)))","v":3},{"$f":"IF(B4=0,C4,IF(B4=1,C4,IF(B4=2,C4,G4)))","v":7},{"$f":"IF(B4=0,C4+F4,IF(B4=1,C4-F4,IF(B4=2,C4*F4,C4)))","v":3}]
[3,0,-2,"+",4,4,2,-2,2]
[4,0,-1,"+",-6,-6,-7,-1,-7]
[5,0,-10,"+",-3,-3,-13,-10,-13]
[6,0,-10,"+",-6,-6,-16,-10,-16]
[7,0,-2,"+",11,11,9,-2,9]
[8,0,11,"+",3,3,14,11,14]
[9,0,-12,"+",8,8,-4,-12,-4]
[10,0,8,"+",11,11,19,8,19]
[11,0,2,"+",5,5,7,2,7]
[12,0,10,"+",8,8,18,10,18]
[13,0,-3,"+",7,7,4,-3,4]
[14,0,-6,"+",-11,-11,-17,-6,-17]
[15,0,11,"+",7,7,18,11,18]
[16,0,-12,"+",-7,-7,-19,-12,-19]
[17,0,-5,"+",-9,-9,-14,-5,-14]
[18,0,-5,"+",3,3,-2,-5,-2]
[19,0,-10,"+",-7,-7,-17,-10,-17]
[20,0,-9,"+",-12,-12,-21,-9,-21]
[21,0,0,"+",-12,-12,-12,0,-12]
[22,0,11,"+",-2,-2,9,11,9]
[23,0,9,"+",10,10,19,9,19]
[24,0,-2,"+",-4,-4,-6,-2,-6]
[25,0,-12,"+",10,10,-2,-12,-2]
[26,0,1,"+",-12,-12,-11,1,-11]
[27,0,-2,"+",8,8,6,-2,6]
[28,0,-2,"+",-2,-2,-4,-2,-4]
[29,0,-1,"+",-7,-7,-8,-1,-8]
[30,0,10,"+",-9,-9,1,10,1]
[31,0,6,"+",7,7,13,6,13]
[32,0,7,"+",11,11,18,7,18]
[33,0,-12,"+",-7,-7,-19,-12,-19]
[34,0,-10,"+",-3,-3,-13,-10,-13]
[35,0,-10,"+",2,2,-8,-10,-8]
[36,0,6,"+",3,3,9,6,9]
[37,0,-3,"+",3,3,0,-3,0]
[38,0,2,"+",-5,-5,-3,2,-3]
[39,0,-11,"+",-4,-4,-15,-11,-15]
[40,0,-12,"+",-1,-1,-13,-12,-13]
[41,0,-10,"+",5,5,-5,-10,-5]
[42,0,-6,"+",3,3,-3,-6,-3]
[43,0,9,"+",0,1,10,9,10]
[44,0,9,"+",-3,-3,6,9,6]
[45,0,-4,"+",10,10,6,-4,6]
[46,0,3,"+",-5,-5,-2,3,-2]
[47,0,-6,"+",1,1,-5,-6,-5]
[48,0,5,"+",2,2,7,5,7]
[49,0,8,"+",11,11,19,8,19]
[50,0,-6,"+",1,1,-5,-6,-5]
[51,0,10,"+",1,1,11,10,11]
[52,0,-1,"+",5,5,4,-1,4]
[53,0,5,"+",10,10,15,5,15]
[54,0,-6,"+",0,1,-5,-6,-5]
[55,0,-2,"+",-3,-3,-5,-2,-5]
[56,0,6,"+",-10,-10,-4,6,-4]
[57,0,6,"+",6,6,12,6,12]
[58,0,11,"+",6,6,17,11,17]
[59,0,11,"+",2,2,13,11,13]
[60,0,7,"+",5,5,12,7,12]
[61,0,-9,"+",-9,-9,-18,-9,-18]
[62,0,-4,"+",2,2,-2,-4,-2]
[63,0,-9,"+",3,3,-6,-9,-6]
[64,0,11,"+",1,1,12,11,12]
[65,0,11,"+",4,4,15,11,15]
[66,0,{"$f":"INT(24*RAND()-12)","v":3},{"$f":"IF(B68=0,\"+\",IF(B68=1,\"-\",IF(B68=2,CHAR(180),CHAR(184))))","v":"+"},{"$f":"INT(24*RAND()-12)","v":-6},{"$f":"IF(E68=0,1,E68)","v":-6},{"$f":"IF(B68=0,C68+F68,IF(B68=1,C68-F68,IF(B68=2,C68*F68,C68*F68)))","v":-3},{"$f":"IF(B68=0,C68,IF(B68=1,C68,IF(B68=2,C68,G68)))","v":3},{"$f":"IF(B68=0,C68+F68,IF(B68=1,C68-F68,IF(B68=2,C68*F68,C68)))","v":-3}]
[67,0,3,"+",5,5,8,3,8]
[68,0,-8,"+",-11,-11,-19,-8,-19]
[69,0,-3,"+",-8,-8,-11,-3,-11]
[70,0,8,"+",-9,-9,-1,8,-1]
[71,0,7,"+",-12,-12,-5,7,-5]
[72,0,-9,"+",-10,-10,-19,-9,-19]
[73,0,-7,"+",-1,-1,-8,-7,-8]
[74,0,-10,"+",-4,-4,-14,-10,-14]
[75,0,10,"+",-9,-9,1,10,1]
[76,0,-1,"+",-3,-3,-4,-1,-4]
[77,0,0,"+",-5,-5,-5,0,-5]
[78,0,-3,"+",7,7,4,-3,4]
[79,0,-2,"+",6,6,4,-2,4]
[80,0,-11,"+",-9,-9,-20,-11,-20]
[81,0,-10,"+",-6,-6,-16,-10,-16]
[82,0,-1,"+",10,10,9,-1,9]
[83,0,-12,"+",0,1,-11,-12,-11]
[84,0,-6,"+",3,3,-3,-6,-3]
[85,0,-10,"+",5,5,-5,-10,-5]
[86,0,9,"+",-5,-5,4,9,4]
[87,0,1,"+",1,1,2,1,2]
[88,0,3,"+",-10,-10,-7,3,-7]
[89,0,1,"+",7,7,8,1,8]
[90,0,-7,"+",-10,-10,-17,-7,-17]
[91,0,-6,"+",-5,-5,-11,-6,-11]
[92,0,-10,"+",4,4,-6,-10,-6]
[93,0,-2,"+",-10,-10,-12,-2,-12]
[94,0,4,"+",4,4,8,4,8]
[95,0,-4,"+",1,1,-3,-4,-3]
[96,0,-2,"+",6,6,4,-2,4]
[97,0,5,"+",6,6,11,5,11]
[98,0,-8,"+",2,2,-6,-8,-6]
[99,0,-1,"+",-5,-5,-6,-1,-6]
[100,0,1,"+",-6,-6,-5,1,-5]

{"sheet":"WorkSheet","index":2,"n_rows":28,"n_cols":20,"rows_kept":28,"cut":false,"hidden":false,"merged":[]}
[null,null,null,null,null,null,null,null,null,{"$f":"Working!D1","v":"ADDITION OF INTEGERS"}]
[null,null,null,null,null,null,null,null,null,null,null,null,null,null,null,{"$f":"CONCATENATE(\"Worksheet \",Working!C1,Working!B1)","v":"Worksheet AI-434"}]
["Evaluate the following;"]
[{"$f":"CONCATENATE(Working!A3,\")\")","v":"1)"},{"$f":"Working!$H3","v":-12},{"$f":"Working!$D3","v":"+"},{"$f":"Working!$F3","v":8},"=",{"$f":"CONCATENATE(Working!A28,\")\")","v":"26)"},{"$f":"Working!$H28","v":1},{"$f":"Working!$D28","v":"+"},{"$f":"Working!$F28","v":-12},"=",{"$f":"CONCATENATE(Working!A53,\")\")","v":"51)"},{"$f":"Working!$H53","v":10},{"$f":"Working!$D53","v":"+"},{"$f":"Working!$F53","v":1},"=",{"$f":"CONCATENATE(Working!A78,\")\")","v":"76)"},{"$f":"Working!$H78","v":-1},{"$f":"Working!$D78","v":"+"},{"$f":"Working!$F78","v":-3},"="]
[{"$f":"CONCATENATE(Working!A4,\")\")","v":"2)"},{"$f":"Working!$H4","v":7},{"$f":"Working!$D4","v":"+"},{"$f":"Working!$F4","v":-4},"=",{"$f":"CONCATENATE(Working!A29,\")\")","v":"27)"},{"$f":"Working!$H29","v":-2},{"$f":"Working!$D29","v":"+"},{"$f":"Working!$F29","v":8},"=",{"$f":"CONCATENATE(Working!A54,\")\")","v":"52)"},{"$f":"Working!$H54","v":-1},{"$f":"Working!$D54","v":"+"},{"$f":"Working!$F54","v":5},"=",{"$f":"CONCATENATE(Working!A79,\")\")","v":"77)"},{"$f":"Working!$H79","v":0},{"$f":"Working!$D79","v":"+"},{"$f":"Working!$F79","v":-5},"="]
[{"$f":"CONCATENATE(Working!A5,\")\")","v":"3)"},{"$f":"Working!$H5","v":-2},{"$f":"Working!$D5","v":"+"},{"$f":"Working!$F5","v":4},"=",{"$f":"CONCATENATE(Working!A30,\")\")","v":"28)"},{"$f":"Working!$H30","v":-2},{"$f":"Working!$D30","v":"+"},{"$f":"Working!$F30","v":-2},"=",{"$f":"CONCATENATE(Working!A55,\")\")","v":"53)"},{"$f":"Working!$H55","v":5},{"$f":"Working!$D55","v":"+"},{"$f":"Working!$F55","v":10},"=",{"$f":"CONCATENATE(Working!A80,\")\")","v":"78)"},{"$f":"Working!$H80","v":-3},{"$f":"Working!$D80","v":"+"},{"$f":"Working!$F80","v":7},"="]
[{"$f":"CONCATENATE(Working!A6,\")\")","v":"4)"},{"$f":"Working!$H6","v":-1},{"$f":"Working!$D6","v":"+"},{"$f":"Working!$F6","v":-6},"=",{"$f":"CONCATENATE(Working!A31,\")\")","v":"29)"},{"$f":"Working!$H31","v":-1},{"$f":"Working!$D31","v":"+"},{"$f":"Working!$F31","v":-7},"=",{"$f":"CONCATENATE(Working!A56,\")\")","v":"54)"},{"$f":"Working!$H56","v":-6},{"$f":"Working!$D56","v":"+"},{"$f":"Working!$F56","v":1},"=",{"$f":"CONCATENATE(Working!A81,\")\")","v":"79)"},{"$f":"Working!$H81","v":-2},{"$f":"Working!$D81","v":"+"},{"$f":"Working!$F81","v":6},"="]
[{"$f":"CONCATENATE(Working!A7,\")\")","v":"5)"},{"$f":"Working!$H7","v":-10},{"$f":"Working!$D7","v":"+"},{"$f":"Working!$F7","v":-3},"=",{"$f":"CONCATENATE(Working!A32,\")\")","v":"30)"},{"$f":"Working!$H32","v":10},{"$f":"Working!$D32","v":"+"},{"$f":"Working!$F32","v":-9},"=",{"$f":"CONCATENATE(Working!A57,\")\")","v":"55)"},{"$f":"Working!$H57","v":-2},{"$f":"Working!$D57","v":"+"},{"$f":"Working!$F57","v":-3},"=",{"$f":"CONCATENATE(Working!A82,\")\")","v":"80)"},{"$f":"Working!$H82","v":-11},{"$f":"Working!$D82","v":"+"},{"$f":"Working!$F82","v":-9},"="]
[{"$f":"CONCATENATE(Working!A8,\")\")","v":"6)"},{"$f":"Working!$H8","v":-10},{"$f":"Working!$D8","v":"+"},{"$f":"Working!$F8","v":-6},"=",{"$f":"CONCATENATE(Working!A33,\")\")","v":"31)"},{"$f":"Working!$H33","v":6},{"$f":"Working!$D33","v":"+"},{"$f":"Working!$F33","v":7},"=",{"$f":"CONCATENATE(Working!A58,\")\")","v":"56)"},{"$f":"Working!$H58","v":6},{"$f":"Working!$D58","v":"+"},{"$f":"Working!$F58","v":-10},"=",{"$f":"CONCATENATE(Working!A83,\")\")","v":"81)"},{"$f":"Working!$H83","v":-10},{"$f":"Working!$D83","v":"+"},{"$f":"Working!$F83","v":-6},"="]
[{"$f":"CONCATENATE(Working!A9,\")\")","v":"7)"},{"$f":"Working!$H9","v":-2},{"$f":"Working!$D9","v":"+"},{"$f":"Working!$F9","v":11},"=",{"$f":"CONCATENATE(Working!A34,\")\")","v":"32)"},{"$f":"Working!$H34","v":7},{"$f":"Working!$D34","v":"+"},{"$f":"Working!$F34","v":11},"=",{"$f":"CONCATENATE(Working!A59,\")\")","v":"57)"},{"$f":"Working!$H59","v":6},{"$f":"Working!$D59","v":"+"},{"$f":"Working!$F59","v":6},"=",{"$f":"CONCATENATE(Working!A84,\")\")","v":"82)"},{"$f":"Working!$H84","v":-1},{"$f":"Working!$D84","v":"+"},{"$f":"Working!$F84","v":10},"="]
[{"$f":"CONCATENATE(Working!A10,\")\")","v":"8)"},{"$f":"Working!$H10","v":11},{"$f":"Working!$D10","v":"+"},{"$f":"Working!$F10","v":3},"=",{"$f":"CONCATENATE(Working!A35,\")\")","v":"33)"},{"$f":"Working!$H35","v":-12},{"$f":"Working!$D35","v":"+"},{"$f":"Working!$F35","v":-7},"=",{"$f":"CONCATENATE(Working!A60,\")\")","v":"58)"},{"$f":"Working!$H60","v":11},{"$f":"Working!$D60","v":"+"},{"$f":"Working!$F60","v":6},"=",{"$f":"CONCATENATE(Working!A85,\")\")","v":"83)"},{"$f":"Working!$H85","v":-12},{"$f":"Working!$D85","v":"+"},{"$f":"Working!$F85","v":1},"="]
[{"$f":"CONCATENATE(Working!A11,\")\")","v":"9)"},{"$f":"Working!$H11","v":-12},{"$f":"Working!$D11","v":"+"},{"$f":"Working!$F11","v":8},"=",{"$f":"CONCATENATE(Working!A36,\")\")","v":"34)"},{"$f":"Working!$H36","v":-10},{"$f":"Working!$D36","v":"+"},{"$f":"Working!$F36","v":-3},"=",{"$f":"CONCATENATE(Working!A61,\")\")","v":"59)"},{"$f":"Working!$H61","v":11},{"$f":"Working!$D61","v":"+"},{"$f":"Working!$F61","v":2},"=",{"$f":"CONCATENATE(Working!A86,\")\")","v":"84)"},{"$f":"Working!$H86","v":-6},{"$f":"Working!$D86","v":"+"},{"$f":"Working!$F86","v":3},"="]
[{"$f":"CONCATENATE(Working!A12,\")\")","v":"10)"},{"$f":"Working!$H12","v":8},{"$f":"Working!$D12","v":"+"},{"$f":"Working!$F12","v":11},"=",{"$f":"CONCATENATE(Working!A37,\")\")","v":"35)"},{"$f":"Working!$H37","v":-10},{"$f":"Working!$D37","v":"+"},{"$f":"Working!$F37","v":2},"=",{"$f":"CONCATENATE(Working!A62,\")\")","v":"60)"},{"$f":"Working!$H62","v":7},{"$f":"Working!$D62","v":"+"},{"$f":"Working!$F62","v":5},"=",{"$f":"CONCATENATE(Working!A87,\")\")","v":"85)"},{"$f":"Working!$H87","v":-10},{"$f":"Working!$D87","v":"+"},{"$f":"Working!$F87","v":5},"="]
[{"$f":"CONCATENATE(Working!A13,\")\")","v":"11)"},{"$f":"Working!$H13","v":2},{"$f":"Working!$D13","v":"+"},{"$f":"Working!$F13","v":5},"=",{"$f":"CONCATENATE(Working!A38,\")\")","v":"36)"},{"$f":"Working!$H38","v":6},{"$f":"Working!$D38","v":"+"},{"$f":"Working!$F38","v":3},"=",{"$f":"CONCATENATE(Working!A63,\")\")","v":"61)"},{"$f":"Working!$H63","v":-9},{"$f":"Working!$D63","v":"+"},{"$f":"Working!$F63","v":-9},"=",{"$f":"CONCATENATE(Working!A88,\")\")","v":"86)"},{"$f":"Working!$H88","v":9},{"$f":"Working!$D88","v":"+"},{"$f":"Working!$F88","v":-5},"="]
[{"$f":"CONCATENATE(Working!A14,\")\")","v":"12)"},{"$f":"Working!$H14","v":10},{"$f":"Working!$D14","v":"+"},{"$f":"Working!$F14","v":8},"=",{"$f":"CONCATENATE(Working!A39,\")\")","v":"37)"},{"$f":"Working!$H39","v":-3},{"$f":"Working!$D39","v":"+"},{"$f":"Working!$F39","v":3},"=",{"$f":"CONCATENATE(Working!A64,\")\")","v":"62)"},{"$f":"Working!$H64","v":-4},{"$f":"Working!$D64","v":"+"},{"$f":"Working!$F64","v":2},"=",{"$f":"CONCATENATE(Working!A89,\")\")","v":"87)"},{"$f":"Working!$H89","v":1},{"$f":"Working!$D89","v":"+"},{"$f":"Working!$F89","v":1},"="]
[{"$f":"CONCATENATE(Working!A15,\")\")","v":"13)"},{"$f":"Working!$H15","v":-3},{"$f":"Working!$D15","v":"+"},{"$f":"Working!$F15","v":7},"=",{"$f":"CONCATENATE(Working!A40,\")\")","v":"38)"},{"$f":"Working!$H40","v":2},{"$f":"Working!$D40","v":"+"},{"$f":"Working!$F40","v":-5},"=",{"$f":"CONCATENATE(Working!A65,\")\")","v":"63)"},{"$f":"Working!$H65","v":-9},{"$f":"Working!$D65","v":"+"},{"$f":"Working!$F65","v":3},"=",{"$f":"CONCATENATE(Working!A90,\")\")","v":"88)"},{"$f":"Working!$H90","v":3},{"$f":"Working!$D90","v":"+"},{"$f":"Working!$F90","v":-10},"="]
[{"$f":"CONCATENATE(Working!A16,\")\")","v":"14)"},{"$f":"Working!$H16","v":-6},{"$f":"Working!$D16","v":"+"},{"$f":"Working!$F16","v":-11},"=",{"$f":"CONCATENATE(Working!A41,\")\")","v":"39)"},{"$f":"Working!$H41","v":-11},{"$f":"Working!$D41","v":"+"},{"$f":"Working!$F41","v":-4},"=",{"$f":"CONCATENATE(Working!A66,\")\")","v":"64)"},{"$f":"Working!$H66","v":11},{"$f":"Working!$D66","v":"+"},{"$f":"Working!$F66","v":1},"=",{"$f":"CONCATENATE(Working!A91,\")\")","v":"89)"},{"$f":"Working!$H91","v":1},{"$f":"Working!$D91","v":"+"},{"$f":"Working!$F91","v":7},"="]
[{"$f":"CONCATENATE(Working!A17,\")\")","v":"15)"},{"$f":"Working!$H17","v":11},{"$f":"Working!$D17","v":"+"},{"$f":"Working!$F17","v":7},"=",{"$f":"CONCATENATE(Working!A42,\")\")","v":"40)"},{"$f":"Working!$H42","v":-12},{"$f":"Working!$D42","v":"+"},{"$f":"Working!$F42","v":-1},"=",{"$f":"CONCATENATE(Working!A67,\")\")","v":"65)"},{"$f":"Working!$H67","v":11},{"$f":"Working!$D67","v":"+"},{"$f":"Working!$F67","v":4},"=",{"$f":"CONCATENATE(Working!A92,\")\")","v":"90)"},{"$f":"Working!$H92","v":-7},{"$f":"Working!$D92","v":"+"},{"$f":"Working!$F92","v":-10},"="]
[{"$f":"CONCATENATE(Working!A18,\")\")","v":"16)"},{"$f":"Working!$H18","v":-12},{"$f":"Working!$D18","v":"+"},{"$f":"Working!$F18","v":-7},"=",{"$f":"CONCATENATE(Working!A43,\")\")","v":"41)"},{"$f":"Working!$H43","v":-10},{"$f":"Working!$D43","v":"+"},{"$f":"Working!$F43","v":5},"=",{"$f":"CONCATENATE(Working!A68,\")\")","v":"66)"},{"$f":"Working!$H68","v":3},{"$f":"Working!$D68","v":"+"},{"$f":"Working!$F68","v":-6},"=",{"$f":"CONCATENATE(Working!A93,\")\")","v":"91)"},{"$f":"Working!$H93","v":-6},{"$f":"Working!$D93","v":"+"},{"$f":"Working!$F93","v":-5},"="]
[{"$f":"CONCATENATE(Working!A19,\")\")","v":"17)"},{"$f":"Working!$H19","v":-5},{"$f":"Working!$D19","v":"+"},{"$f":"Working!$F19","v":-9},"=",{"$f":"CONCATENATE(Working!A44,\")\")","v":"42)"},{"$f":"Working!$H44","v":-6},{"$f":"Working!$D44","v":"+"},{"$f":"Working!$F44","v":3},"=",{"$f":"CONCATENATE(Working!A69,\")\")","v":"67)"},{"$f":"Working!$H69","v":3},{"$f":"Working!$D69","v":"+"},{"$f":"Working!$F69","v":5},"=",{"$f":"CONCATENATE(Working!A94,\")\")","v":"92)"},{"$f":"Working!$H94","v":-10},{"$f":"Working!$D94","v":"+"},{"$f":"Working!$F94","v":4},"="]
[{"$f":"CONCATENATE(Working!A20,\")\")","v":"18)"},{"$f":"Working!$H20","v":-5},{"$f":"Working!$D20","v":"+"},{"$f":"Working!$F20","v":3},"=",{"$f":"CONCATENATE(Working!A45,\")\")","v":"43)"},{"$f":"Working!$H45","v":9},{"$f":"Working!$D45","v":"+"},{"$f":"Working!$F45","v":1},"=",{"$f":"CONCATENATE(Working!A70,\")\")","v":"68)"},{"$f":"Working!$H70","v":-8},{"$f":"Working!$D70","v":"+"},{"$f":"Working!$F70","v":-11},"=",{"$f":"CONCATENATE(Working!A95,\")\")","v":"93)"},{"$f":"Working!$H95","v":-2},{"$f":"Working!$D95","v":"+"},{"$f":"Working!$F95","v":-10},"="]
[{"$f":"CONCATENATE(Working!A21,\")\")","v":"19)"},{"$f":"Working!$H21","v":-10},{"$f":"Working!$D21","v":"+"},{"$f":"Working!$F21","v":-7},"=",{"$f":"CONCATENATE(Working!A46,\")\")","v":"44)"},{"$f":"Working!$H46","v":9},{"$f":"Working!$D46","v":"+"},{"$f":"Working!$F46","v":-3},"=",{"$f":"CONCATENATE(Working!A71,\")\")","v":"69)"},{"$f":"Working!$H71","v":-3},{"$f":"Working!$D71","v":"+"},{"$f":"Working!$F71","v":-8},"=",{"$f":"CONCATENATE(Working!A96,\")\")","v":"94)"},{"$f":"Working!$H96","v":4},{"$f":"Working!$D96","v":"+"},{"$f":"Working!$F96","v":4},"="]
[{"$f":"CONCATENATE(Working!A22,\")\")","v":"20)"},{"$f":"Working!$H22","v":-9},{"$f":"Working!$D22","v":"+"},{"$f":"Working!$F22","v":-12},"=",{"$f":"CONCATENATE(Working!A47,\")\")","v":"45)"},{"$f":"Working!$H47","v":-4},{"$f":"Working!$D47","v":"+"},{"$f":"Working!$F47","v":10},"=",{"$f":"CONCATENATE(Working!A72,\")\")","v":"70)"},{"$f":"Working!$H72","v":8},{"$f":"Working!$D72","v":"+"},{"$f":"Working!$F72","v":-9},"=",{"$f":"CONCATENATE(Working!A97,\")\")","v":"95)"},{"$f":"Working!$H97","v":-4},{"$f":"Working!$D97","v":"+"},{"$f":"Working!$F97","v":1},"="]
[{"$f":"CONCATENATE(Working!A23,\")\")","v":"21)"},{"$f":"Working!$H23","v":0},{"$f":"Working!$D23","v":"+"},{"$f":"Working!$F23","v":-12},"=",{"$f":"CONCATENATE(Working!A48,\")\")","v":"46)"},{"$f":"Working!$H48","v":3},{"$f":"Working!$D48","v":"+"},{"$f":"Working!$F48","v":-5},"=",{"$f":"CONCATENATE(Working!A73,\")\")","v":"71)"},{"$f":"Working!$H73","v":7},{"$f":"Working!$D73","v":"+"},{"$f":"Working!$F73","v":-12},"=",{"$f":"CONCATENATE(Working!A98,\")\")","v":"96)"},{"$f":"Working!$H98","v":-2},{"$f":"Working!$D98","v":"+"},{"$f":"Working!$F98","v":6},"="]
[{"$f":"CONCATENATE(Working!A24,\")\")","v":"22)"},{"$f":"Working!$H24","v":11},{"$f":"Working!$D24","v":"+"},{"$f":"Working!$F24","v":-2},"=",{"$f":"CONCATENATE(Working!A49,\")\")","v":"47)"},{"$f":"Working!$H49","v":-6},{"$f":"Working!$D49","v":"+"},{"$f":"Working!$F49","v":1},"=",{"$f":"CONCATENATE(Working!A74,\")\")","v":"72)"},{"$f":"Working!$H74","v":-9},{"$f":"Working!$D74","v":"+"},{"$f":"Working!$F74","v":-10},"=",{"$f":"CONCATENATE(Working!A99,\")\")","v":"97)"},{"$f":"Working!$H99","v":5},{"$f":"Working!$D99","v":"+"},{"$f":"Working!$F99","v":6},"="]
[{"$f":"CONCATENATE(Working!A25,\")\")","v":"23)"},{"$f":"Working!$H25","v":9},{"$f":"Working!$D25","v":"+"},{"$f":"Working!$F25","v":10},"=",{"$f":"CONCATENATE(Working!A50,\")\")","v":"48)"},{"$f":"Working!$H50","v":5},{"$f":"Working!$D50","v":"+"},{"$f":"Working!$F50","v":2},"=",{"$f":"CONCATENATE(Working!A75,\")\")","v":"73)"},{"$f":"Working!$H75","v":-7},{"$f":"Working!$D75","v":"+"},{"$f":"Working!$F75","v":-1},"=",{"$f":"CONCATENATE(Working!A100,\")\")","v":"98)"},{"$f":"Working!$H100","v":-8},{"$f":"Working!$D100","v":"+"},{"$f":"Working!$F100","v":2},"="]
[{"$f":"CONCATENATE(Working!A26,\")\")","v":"24)"},{"$f":"Working!$H26","v":-2},{"$f":"Working!$D26","v":"+"},{"$f":"Working!$F26","v":-4},"=",{"$f":"CONCATENATE(Working!A51,\")\")","v":"49)"},{"$f":"Working!$H51","v":8},{"$f":"Working!$D51","v":"+"},{"$f":"Working!$F51","v":11},"=",{"$f":"CONCATENATE(Working!A76,\")\")","v":"74)"},{"$f":"Working!$H76","v":-10},{"$f":"Working!$D76","v":"+"},{"$f":"Working!$F76","v":-4},"=",{"$f":"CONCATENATE(Working!A101,\")\")","v":"99)"},{"$f":"Working!$H101","v":-1},{"$f":"Working!$D101","v":"+"},{"$f":"Working!$F101","v":-5},"="]
[{"$f":"CONCATENATE(Working!A27,\")\")","v":"25)"},{"$f":"Working!$H27","v":-12},{"$f":"Working!$D27","v":"+"},{"$f":"Working!$F27","v":10},"=",{"$f":"CONCATENATE(Working!A52,\")\")","v":"50)"},{"$f":"Working!$H52","v":-6},{"$f":"Working!$D52","v":"+"},{"$f":"Working!$F52","v":1},"=",{"$f":"CONCATENATE(Working!A77,\")\")","v":"75)"},{"$f":"Working!$H77","v":10},{"$f":"Working!$D77","v":"+"},{"$f":"Working!$F77","v":-9},"=",{"$f":"CONCATENATE(Working!A102,\")\")","v":"100)"},{"$f":"Working!$H102","v":1},{"$f":"Working!$D102","v":"+"},{"$f":"Working!$F102","v":-6},"="]

{"sheet":"Solutions","index":3,"n_rows":28,"n_cols":20,"rows_kept":28,"cut":false,"hidden":false,"merged":[]}
[null,null,null,null,null,null,null,null,null,{"$f":"Working!D1","v":"ADDITION OF INTEGERS"}]
[null,null,null,null,null,null,null,null,null,"SOLUTIONS",null,null,null,null,null,{"$f":"CONCATENATE(\"Worksheet \",Working!C1,Working!B1)","v":"Worksheet AI-434"}]
[]
[{"$f":"CONCATENATE(Working!A3,\")\")","v":"1)"},{"$f":"Working!$H3","v":-12},{"$f":"Working!$D3","v":"+"},{"$f":"Working!$F3","v":8},{"$f":"CONCATENATE(\"= \",Working!$I3)","v":"= -4"},{"$f":"CONCATENATE(Working!A28,\")\")","v":"26)"},{"$f":"Working!$H28","v":1},{"$f":"Working!$D28","v":"+"},{"$f":"Working!$F28","v":-12},{"$f":"CONCATENATE(\"= \",Working!$I28)","v":"= -11"},{"$f":"CONCATENATE(Working!A53,\")\")","v":"51)"},{"$f":"Working!$H53","v":10},{"$f":"Working!$D53","v":"+"},{"$f":"Working!$F53","v":1},{"$f":"CONCATENATE(\"= \",Working!$I53)","v":"= 11"},{"$f":"CONCATENATE(Working!A78,\")\")","v":"76)"},{"$f":"Working!$H78","v":-1},{"$f":"Working!$D78","v":"+"},{"$f":"Working!$F78","v":-3},{"$f":"CONCATENATE(\"= \",Working!$I78)","v":"= -4"}]
[{"$f":"CONCATENATE(Working!A4,\")\")","v":"2)"},{"$f":"Working!$H4","v":7},{"$f":"Working!$D4","v":"+"},{"$f":"Working!$F4","v":-4},{"$f":"CONCATENATE(\"= \",Working!$I4)","v":"= 3"},{"$f":"CONCATENATE(Working!A29,\")\")","v":"27)"},{"$f":"Working!$H29","v":-2},{"$f":"Working!$D29","v":"+"},{"$f":"Working!$F29","v":8},{"$f":"CONCATENATE(\"= \",Working!$I29)","v":"= 6"},{"$f":"CONCATENATE(Working!A54,\")\")","v":"52)"},{"$f":"Working!$H54","v":-1},{"$f":"Working!$D54","v":"+"},{"$f":"Working!$F54","v":5},{"$f":"CONCATENATE(\"= \",Working!$I54)","v":"= 4"},{"$f":"CONCATENATE(Working!A79,\")\")","v":"77)"},{"$f":"Working!$H79","v":0},{"$f":"Working!$D79","v":"+"},{"$f":"Working!$F79","v":-5},{"$f":"CONCATENATE(\"= \",Working!$I79)","v":"= -5"}]
[{"$f":"CONCATENATE(Working!A5,\")\")","v":"3)"},{"$f":"Working!$H5","v":-2},{"$f":"Working!$D5","v":"+"},{"$f":"Working!$F5","v":4},{"$f":"CONCATENATE(\"= \",Working!$I5)","v":"= 2"},{"$f":"CONCATENATE(Working!A30,\")\")","v":"28)"},{"$f":"Working!$H30","v":-2},{"$f":"Working!$D30","v":"+"},{"$f":"Working!$F30","v":-2},{"$f":"CONCATENATE(\"= \",Working!$I30)","v":"= -4"},{"$f":"CONCATENATE(Working!A55,\")\")","v":"53)"},{"$f":"Working!$H55","v":5},{"$f":"Working!$D55","v":"+"},{"$f":"Working!$F55","v":10},{"$f":"CONCATENATE(\"= \",Working!$I55)","v":"= 15"},{"$f":"CONCATENATE(Working!A80,\")\")","v":"78)"},{"$f":"Working!$H80","v":-3},{"$f":"Working!$D80","v":"+"},{"$f":"Working!$F80","v":7},{"$f":"CONCATENATE(\"= \",Working!$I80)","v":"= 4"}]
[{"$f":"CONCATENATE(Working!A6,\")\")","v":"4)"},{"$f":"Working!$H6","v":-1},{"$f":"Working!$D6","v":"+"},{"$f":"Working!$F6","v":-6},{"$f":"CONCATENATE(\"= \",Working!$I6)","v":"= -7"},{"$f":"CONCATENATE(Working!A31,\")\")","v":"29)"},{"$f":"Working!$H31","v":-1},{"$f":"Working!$D31","v":"+"},{"$f":"Working!$F31","v":-7},{"$f":"CONCATENATE(\"= \",Working!$I31)","v":"= -8"},{"$f":"CONCATENATE(Working!A56,\")\")","v":"54)"},{"$f":"Working!$H56","v":-6},{"$f":"Working!$D56","v":"+"},{"$f":"Working!$F56","v":1},{"$f":"CONCATENATE(\"= \",Working!$I56)","v":"= -5"},{"$f":"CONCATENATE(Working!A81,\")\")","v":"79)"},{"$f":"Working!$H81","v":-2},{"$f":"Working!$D81","v":"+"},{"$f":"Working!$F81","v":6},{"$f":"CONCATENATE(\"= \",Working!$I81)","v":"= 4"}]
[{"$f":"CONCATENATE(Working!A7,\")\")","v":"5)"},{"$f":"Working!$H7","v":-10},{"$f":"Working!$D7","v":"+"},{"$f":"Working!$F7","v":-3},{"$f":"CONCATENATE(\"= \",Working!$I7)","v":"= -13"},{"$f":"CONCATENATE(Working!A32,\")\")","v":"30)"},{"$f":"Working!$H32","v":10},{"$f":"Working!$D32","v":"+"},{"$f":"Working!$F32","v":-9},{"$f":"CONCATENATE(\"= \",Working!$I32)","v":"= 1"},{"$f":"CONCATENATE(Working!A57,\")\")","v":"55)"},{"$f":"Working!$H57","v":-2},{"$f":"Working!$D57","v":"+"},{"$f":"Working!$F57","v":-3},{"$f":"CONCATENATE(\"= \",Working!$I57)","v":"= -5"},{"$f":"CONCATENATE(Working!A82,\")\")","v":"80)"},{"$f":"Working!$H82","v":-11},{"$f":"Working!$D82","v":"+"},{"$f":"Working!$F82","v":-9},{"$f":"CONCATENATE(\"= \",Working!$I82)","v":"= -20"}]
[{"$f":"CONCATENATE(Working!A8,\")\")","v":"6)"},{"$f":"Working!$H8","v":-10},{"$f":"Working!$D8","v":"+"},{"$f":"Working!$F8","v":-6},{"$f":"CONCATENATE(\"= \",Working!$I8)","v":"= -16"},{"$f":"CONCATENATE(Working!A33,\")\")","v":"31)"},{"$f":"Working!$H33","v":6},{"$f":"Working!$D33","v":"+"},{"$f":"Working!$F33","v":7},{"$f":"CONCATENATE(\"= \",Working!$I33)","v":"= 13"},{"$f":"CONCATENATE(Working!A58,\")\")","v":"56)"},{"$f":"Working!$H58","v":6},{"$f":"Working!$D58","v":"+"},{"$f":"Working!$F58","v":-10},{"$f":"CONCATENATE(\"= \",Working!$I58)","v":"= -4"},{"$f":"CONCATENATE(Working!A83,\")\")","v":"81)"},{"$f":"Working!$H83","v":-10},{"$f":"Working!$D83","v":"+"},{"$f":"Working!$F83","v":-6},{"$f":"CONCATENATE(\"= \",Working!$I83)","v":"= -16"}]
[{"$f":"CONCATENATE(Working!A9,\")\")","v":"7)"},{"$f":"Working!$H9","v":-2},{"$f":"Working!$D9","v":"+"},{"$f":"Working!$F9","v":11},{"$f":"CONCATENATE(\"= \",Working!$I9)","v":"= 9"},{"$f":"CONCATENATE(Working!A34,\")\")","v":"32)"},{"$f":"Working!$H34","v":7},{"$f":"Working!$D34","v":"+"},{"$f":"Working!$F34","v":11},{"$f":"CONCATENATE(\"= \",Working!$I34)","v":"= 18"},{"$f":"CONCATENATE(Working!A59,\")\")","v":"57)"},{"$f":"Working!$H59","v":6},{"$f":"Working!$D59","v":"+"},{"$f":"Working!$F59","v":6},{"$f":"CONCATENATE(\"= \",Working!$I59)","v":"= 12"},{"$f":"CONCATENATE(Working!A84,\")\")","v":"82)"},{"$f":"Working!$H84","v":-1},{"$f":"Working!$D84","v":"+"},{"$f":"Working!$F84","v":10},{"$f":"CONCATENATE(\"= \",Working!$I84)","v":"= 9"}]
[{"$f":"CONCATENATE(Working!A10,\")\")","v":"8)"},{"$f":"Working!$H10","v":11},{"$f":"Working!$D10","v":"+"},{"$f":"Working!$F10","v":3},{"$f":"CONCATENATE(\"= \",Working!$I10)","v":"= 14"},{"$f":"CONCATENATE(Working!A35,\")\")","v":"33)"},{"$f":"Working!$H35","v":-12},{"$f":"Working!$D35","v":"+"},{"$f":"Working!$F35","v":-7},{"$f":"CONCATENATE(\"= \",Working!$I35)","v":"= -19"},{"$f":"CONCATENATE(Working!A60,\")\")","v":"58)"},{"$f":"Working!$H60","v":11},{"$f":"Working!$D60","v":"+"},{"$f":"Working!$F60","v":6},{"$f":"CONCATENATE(\"= \",Working!$I60)","v":"= 17"},{"$f":"CONCATENATE(Working!A85,\")\")","v":"83)"},{"$f":"Working!$H85","v":-12},{"$f":"Working!$D85","v":"+"},{"$f":"Working!$F85","v":1},{"$f":"CONCATENATE(\"= \",Working!$I85)","v":"= -11"}]
[{"$f":"CONCATENATE(Working!A11,\")\")","v":"9)"},{"$f":"Working!$H11","v":-12},{"$f":"Working!$D11","v":"+"},{"$f":"Working!$F11","v":8},{"$f":"CONCATENATE(\"= \",Working!$I11)","v":"= -4"},{"$f":"CONCATENATE(Working!A36,\")\")","v":"34)"},{"$f":"Working!$H36","v":-10},{"$f":"Working!$D36","v":"+"},{"$f":"Working!$F36","v":-3},{"$f":"CONCATENATE(\"= \",Working!$I36)","v":"= -13"},{"$f":"CONCATENATE(Working!A61,\")\")","v":"59)"},{"$f":"Working!$H61","v":11},{"$f":"Working!$D61","v":"+"},{"$f":"Working!$F61","v":2},{"$f":"CONCATENATE(\"= \",Working!$I61)","v":"= 13"},{"$f":"CONCATENATE(Working!A86,\")\")","v":"84)"},{"$f":"Working!$H86","v":-6},{"$f":"Working!$D86","v":"+"},{"$f":"Working!$F86","v":3},{"$f":"CONCATENATE(\"= \",Working!$I86)","v":"= -3"}]
[{"$f":"CONCATENATE(Working!A12,\")\")","v":"10)"},{"$f":"Working!$H12","v":8},{"$f":"Working!$D12","v":"+"},{"$f":"Working!$F12","v":11},{"$f":"CONCATENATE(\"= \",Working!$I12)","v":"= 19"},{"$f":"CONCATENATE(Working!A37,\")\")","v":"35)"},{"$f":"Working!$H37","v":-10},{"$f":"Working!$D37","v":"+"},{"$f":"Working!$F37","v":2},{"$f":"CONCATENATE(\"= \",Working!$I37)","v":"= -8"},{"$f":"CONCATENATE(Working!A62,\")\")","v":"60)"},{"$f":"Working!$H62","v":7},{"$f":"Working!$D62","v":"+"},{"$f":"Working!$F62","v":5},{"$f":"CONCATENATE(\"= \",Working!$I62)","v":"= 12"},{"$f":"CONCATENATE(Working!A87,\")\")","v":"85)"},{"$f":"Working!$H87","v":-10},{"$f":"Working!$D87","v":"+"},{"$f":"Working!$F87","v":5},{"$f":"CONCATENATE(\"= \",Working!$I87)","v":"= -5"}]
[{"$f":"CONCATENATE(Working!A13,\")\")","v":"11)"},{"$f":"Working!$H13","v":2},{"$f":"Working!$D13","v":"+"},{"$f":"Working!$F13","v":5},{"$f":"CONCATENATE(\"= \",Working!$I13)","v":"= 7"},{"$f":"CONCATENATE(Working!A38,\")\")","v":"36)"},{"$f":"Working!$H38","v":6},{"$f":"Working!$D38","v":"+"},{"$f":"Working!$F38","v":3},{"$f":"CONCATENATE(\"= \",Working!$I38)","v":"= 9"},{"$f":"CONCATENATE(Working!A63,\")\")","v":"61)"},{"$f":"Working!$H63","v":-9},{"$f":"Working!$D63","v":"+"},{"$f":"Working!$F63","v":-9},{"$f":"CONCATENATE(\"= \",Working!$I63)","v":"= -18"},{"$f":"CONCATENATE(Working!A88,\")\")","v":"86)"},{"$f":"Working!$H88","v":9},{"$f":"Working!$D88","v":"+"},{"$f":"Working!$F88","v":-5},{"$f":"CONCATENATE(\"= \",Working!$I88)","v":"= 4"}]
[{"$f":"CONCATENATE(Working!A14,\")\")","v":"12)"},{"$f":"Working!$H14","v":10},{"$f":"Working!$D14","v":"+"},{"$f":"Working!$F14","v":8},{"$f":"CONCATENATE(\"= \",Working!$I14)","v":"= 18"},{"$f":"CONCATENATE(Working!A39,\")\")","v":"37)"},{"$f":"Working!$H39","v":-3},{"$f":"Working!$D39","v":"+"},{"$f":"Working!$F39","v":3},{"$f":"CONCATENATE(\"= \",Working!$I39)","v":"= 0"},{"$f":"CONCATENATE(Working!A64,\")\")","v":"62)"},{"$f":"Working!$H64","v":-4},{"$f":"Working!$D64","v":"+"},{"$f":"Working!$F64","v":2},{"$f":"CONCATENATE(\"= \",Working!$I64)","v":"= -2"},{"$f":"CONCATENATE(Working!A89,\")\")","v":"87)"},{"$f":"Working!$H89","v":1},{"$f":"Working!$D89","v":"+"},{"$f":"Working!$F89","v":1},{"$f":"CONCATENATE(\"= \",Working!$I89)","v":"= 2"}]
[{"$f":"CONCATENATE(Working!A15,\")\")","v":"13)"},{"$f":"Working!$H15","v":-3},{"$f":"Working!$D15","v":"+"},{"$f":"Working!$F15","v":7},{"$f":"CONCATENATE(\"= \",Working!$I15)","v":"= 4"},{"$f":"CONCATENATE(Working!A40,\")\")","v":"38)"},{"$f":"Working!$H40","v":2},{"$f":"Working!$D40","v":"+"},{"$f":"Working!$F40","v":-5},{"$f":"CONCATENATE(\"= \",Working!$I40)","v":"= -3"},{"$f":"CONCATENATE(Working!A65,\")\")","v":"63)"},{"$f":"Working!$H65","v":-9},{"$f":"Working!$D65","v":"+"},{"$f":"Working!$F65","v":3},{"$f":"CONCATENATE(\"= \",Working!$I65)","v":"= -6"},{"$f":"CONCATENATE(Working!A90,\")\")","v":"88)"},{"$f":"Working!$H90","v":3},{"$f":"Working!$D90","v":"+"},{"$f":"Working!$F90","v":-10},{"$f":"CONCATENATE(\"= \",Working!$I90)","v":"= -7"}]
[{"$f":"CONCATENATE(Working!A16,\")\")","v":"14)"},{"$f":"Working!$H16","v":-6},{"$f":"Working!$D16","v":"+"},{"$f":"Working!$F16","v":-11},{"$f":"CONCATENATE(\"= \",Working!$I16)","v":"= -17"},{"$f":"CONCATENATE(Working!A41,\")\")","v":"39)"},{"$f":"Working!$H41","v":-11},{"$f":"Working!$D41","v":"+"},{"$f":"Working!$F41","v":-4},{"$f":"CONCATENATE(\"= \",Working!$I41)","v":"= -15"},{"$f":"CONCATENATE(Working!A66,\")\")","v":"64)"},{"$f":"Working!$H66","v":11},{"$f":"Working!$D66","v":"+"},{"$f":"Working!$F66","v":1},{"$f":"CONCATENATE(\"= \",Working!$I66)","v":"= 12"},{"$f":"CONCATENATE(Working!A91,\")\")","v":"89)"},{"$f":"Working!$H91","v":1},{"$f":"Working!$D91","v":"+"},{"$f":"Working!$F91","v":7},{"$f":"CONCATENATE(\"= \",Working!$I91)","v":"= 8"}]
[{"$f":"CONCATENATE(Working!A17,\")\")","v":"15)"},{"$f":"Working!$H17","v":11},{"$f":"Working!$D17","v":"+"},{"$f":"Working!$F17","v":7},{"$f":"CONCATENATE(\"= \",Working!$I17)","v":"= 18"},{"$f":"CONCATENATE(Working!A42,\")\")","v":"40)"},{"$f":"Working!$H42","v":-12},{"$f":"Working!$D42","v":"+"},{"$f":"Working!$F42","v":-1},{"$f":"CONCATENATE(\"= \",Working!$I42)","v":"= -13"},{"$f":"CONCATENATE(Working!A67,\")\")","v":"65)"},{"$f":"Working!$H67","v":11},{"$f":"Working!$D67","v":"+"},{"$f":"Working!$F67","v":4},{"$f":"CONCATENATE(\"= \",Working!$I67)","v":"= 15"},{"$f":"CONCATENATE(Working!A92,\")\")","v":"90)"},{"$f":"Working!$H92","v":-7},{"$f":"Working!$D92","v":"+"},{"$f":"Working!$F92","v":-10},{"$f":"CONCATENATE(\"= \",Working!$I92)","v":"= -17"}]
[{"$f":"CONCATENATE(Working!A18,\")\")","v":"16)"},{"$f":"Working!$H18","v":-12},{"$f":"Working!$D18","v":"+"},{"$f":"Working!$F18","v":-7},{"$f":"CONCATENATE(\"= \",Working!$I18)","v":"= -19"},{"$f":"CONCATENATE(Working!A43,\")\")","v":"41)"},{"$f":"Working!$H43","v":-10},{"$f":"Working!$D43","v":"+"},{"$f":"Working!$F43","v":5},{"$f":"CONCATENATE(\"= \",Working!$I43)","v":"= -5"},{"$f":"CONCATENATE(Working!A68,\")\")","v":"66)"},{"$f":"Working!$H68","v":3},{"$f":"Working!$D68","v":"+"},{"$f":"Working!$F68","v":-6},{"$f":"CONCATENATE(\"= \",Working!$I68)","v":"= -3"},{"$f":"CONCATENATE(Working!A93,\")\")","v":"91)"},{"$f":"Working!$H93","v":-6},{"$f":"Working!$D93","v":"+"},{"$f":"Working!$F93","v":-5},{"$f":"CONCATENATE(\"= \",Working!$I93)","v":"= -11"}]
[{"$f":"CONCATENATE(Working!A19,\")\")","v":"17)"},{"$f":"Working!$H19","v":-5},{"$f":"Working!$D19","v":"+"},{"$f":"Working!$F19","v":-9},{"$f":"CONCATENATE(\"= \",Working!$I19)","v":"= -14"},{"$f":"CONCATENATE(Working!A44,\")\")","v":"42)"},{"$f":"Working!$H44","v":-6},{"$f":"Working!$D44","v":"+"},{"$f":"Working!$F44","v":3},{"$f":"CONCATENATE(\"= \",Working!$I44)","v":"= -3"},{"$f":"CONCATENATE(Working!A69,\")\")","v":"67)"},{"$f":"Working!$H69","v":3},{"$f":"Working!$D69","v":"+"},{"$f":"Working!$F69","v":5},{"$f":"CONCATENATE(\"= \",Working!$I69)","v":"= 8"},{"$f":"CONCATENATE(Working!A94,\")\")","v":"92)"},{"$f":"Working!$H94","v":-10},{"$f":"Working!$D94","v":"+"},{"$f":"Working!$F94","v":4},{"$f":"CONCATENATE(\"= \",Working!$I94)","v":"= -6"}]
[{"$f":"CONCATENATE(Working!A20,\")\")","v":"18)"},{"$f":"Working!$H20","v":-5},{"$f":"Working!$D20","v":"+"},{"$f":"Working!$F20","v":3},{"$f":"CONCATENATE(\"= \",Working!$I20)","v":"= -2"},{"$f":"CONCATENATE(Working!A45,\")\")","v":"43)"},{"$f":"Working!$H45","v":9},{"$f":"Working!$D45","v":"+"},{"$f":"Working!$F45","v":1},{"$f":"CONCATENATE(\"= \",Working!$I45)","v":"= 10"},{"$f":"CONCATENATE(Working!A70,\")\")","v":"68)"},{"$f":"Working!$H70","v":-8},{"$f":"Working!$D70","v":"+"},{"$f":"Working!$F70","v":-11},{"$f":"CONCATENATE(\"= \",Working!$I70)","v":"= -19"},{"$f":"CONCATENATE(Working!A95,\")\")","v":"93)"},{"$f":"Working!$H95","v":-2},{"$f":"Working!$D95","v":"+"},{"$f":"Working!$F95","v":-10},{"$f":"CONCATENATE(\"= \",Working!$I95)","v":"= -12"}]
[{"$f":"CONCATENATE(Working!A21,\")\")","v":"19)"},{"$f":"Working!$H21","v":-10},{"$f":"Working!$D21","v":"+"},{"$f":"Working!$F21","v":-7},{"$f":"CONCATENATE(\"= \",Working!$I21)","v":"= -17"},{"$f":"CONCATENATE(Working!A46,\")\")","v":"44)"},{"$f":"Working!$H46","v":9},{"$f":"Working!$D46","v":"+"},{"$f":"Working!$F46","v":-3},{"$f":"CONCATENATE(\"= \",Working!$I46)","v":"= 6"},{"$f":"CONCATENATE(Working!A71,\")\")","v":"69)"},{"$f":"Working!$H71","v":-3},{"$f":"Working!$D71","v":"+"},{"$f":"Working!$F71","v":-8},{"$f":"CONCATENATE(\"= \",Working!$I71)","v":"= -11"},{"$f":"CONCATENATE(Working!A96,\")\")","v":"94)"},{"$f":"Working!$H96","v":4},{"$f":"Working!$D96","v":"+"},{"$f":"Working!$F96","v":4},{"$f":"CONCATENATE(\"= \",Working!$I96)","v":"= 8"}]
[{"$f":"CONCATENATE(Working!A22,\")\")","v":"20)"},{"$f":"Working!$H22","v":-9},{"$f":"Working!$D22","v":"+"},{"$f":"Working!$F22","v":-12},{"$f":"CONCATENATE(\"= \",Working!$I22)","v":"= -21"},{"$f":"CONCATENATE(Working!A47,\")\")","v":"45)"},{"$f":"Working!$H47","v":-4},{"$f":"Working!$D47","v":"+"},{"$f":"Working!$F47","v":10},{"$f":"CONCATENATE(\"= \",Working!$I47)","v":"= 6"},{"$f":"CONCATENATE(Working!A72,\")\")","v":"70)"},{"$f":"Working!$H72","v":8},{"$f":"Working!$D72","v":"+"},{"$f":"Working!$F72","v":-9},{"$f":"CONCATENATE(\"= \",Working!$I72)","v":"= -1"},{"$f":"CONCATENATE(Working!A97,\")\")","v":"95)"},{"$f":"Working!$H97","v":-4},{"$f":"Working!$D97","v":"+"},{"$f":"Working!$F97","v":1},{"$f":"CONCATENATE(\"= \",Working!$I97)","v":"= -3"}]
[{"$f":"CONCATENATE(Working!A23,\")\")","v":"21)"},{"$f":"Working!$H23","v":0},{"$f":"Working!$D23","v":"+"},{"$f":"Working!$F23","v":-12},{"$f":"CONCATENATE(\"= \",Working!$I23)","v":"= -12"},{"$f":"CONCATENATE(Working!A48,\")\")","v":"46)"},{"$f":"Working!$H48","v":3},{"$f":"Working!$D48","v":"+"},{"$f":"Working!$F48","v":-5},{"$f":"CONCATENATE(\"= \",Working!$I48)","v":"= -2"},{"$f":"CONCATENATE(Working!A73,\")\")","v":"71)"},{"$f":"Working!$H73","v":7},{"$f":"Working!$D73","v":"+"},{"$f":"Working!$F73","v":-12},{"$f":"CONCATENATE(\"= \",Working!$I73)","v":"= -5"},{"$f":"CONCATENATE(Working!A98,\")\")","v":"96)"},{"$f":"Working!$H98","v":-2},{"$f":"Working!$D98","v":"+"},{"$f":"Working!$F98","v":6},{"$f":"CONCATENATE(\"= \",Working!$I98)","v":"= 4"}]
[{"$f":"CONCATENATE(Working!A24,\")\")","v":"22)"},{"$f":"Working!$H24","v":11},{"$f":"Working!$D24","v":"+"},{"$f":"Working!$F24","v":-2},{"$f":"CONCATENATE(\"= \",Working!$I24)","v":"= 9"},{"$f":"CONCATENATE(Working!A49,\")\")","v":"47)"},{"$f":"Working!$H49","v":-6},{"$f":"Working!$D49","v":"+"},{"$f":"Working!$F49","v":1},{"$f":"CONCATENATE(\"= \",Working!$I49)","v":"= -5"},{"$f":"CONCATENATE(Working!A74,\")\")","v":"72)"},{"$f":"Working!$H74","v":-9},{"$f":"Working!$D74","v":"+"},{"$f":"Working!$F74","v":-10},{"$f":"CONCATENATE(\"= \",Working!$I74)","v":"= -19"},{"$f":"CONCATENATE(Working!A99,\")\")","v":"97)"},{"$f":"Working!$H99","v":5},{"$f":"Working!$D99","v":"+"},{"$f":"Working!$F99","v":6},{"$f":"CONCATENATE(\"= \",Working!$I99)","v":"= 11"}]
[{"$f":"CONCATENATE(Working!A25,\")\")","v":"23)"},{"$f":"Working!$H25","v":9},{"$f":"Working!$D25","v":"+"},{"$f":"Working!$F25","v":10},{"$f":"CONCATENATE(\"= \",Working!$I25)","v":"= 19"},{"$f":"CONCATENATE(Working!A50,\")\")","v":"48)"},{"$f":"Working!$H50","v":5},{"$f":"Working!$D50","v":"+"},{"$f":"Working!$F50","v":2},{"$f":"CONCATENATE(\"= \",Working!$I50)","v":"= 7"},{"$f":"CONCATENATE(Working!A75,\")\")","v":"73)"},{"$f":"Working!$H75","v":-7},{"$f":"Working!$D75","v":"+"},{"$f":"Working!$F75","v":-1},{"$f":"CONCATENATE(\"= \",Working!$I75)","v":"= -8"},{"$f":"CONCATENATE(Working!A100,\")\")","v":"98)"},{"$f":"Working!$H100","v":-8},{"$f":"Working!$D100","v":"+"},{"$f":"Working!$F100","v":2},{"$f":"CONCATENATE(\"= \",Working!$I100)","v":"= -6"}]
[{"$f":"CONCATENATE(Working!A26,\")\")","v":"24)"},{"$f":"Working!$H26","v":-2},{"$f":"Working!$D26","v":"+"},{"$f":"Working!$F26","v":-4},{"$f":"CONCATENATE(\"= \",Working!$I26)","v":"= -6"},{"$f":"CONCATENATE(Working!A51,\")\")","v":"49)"},{"$f":"Working!$H51","v":8},{"$f":"Working!$D51","v":"+"},{"$f":"Working!$F51","v":11},{"$f":"CONCATENATE(\"= \",Working!$I51)","v":"= 19"},{"$f":"CONCATENATE(Working!A76,\")\")","v":"74)"},{"$f":"Working!$H76","v":-10},{"$f":"Working!$D76","v":"+"},{"$f":"Working!$F76","v":-4},{"$f":"CONCATENATE(\"= \",Working!$I76)","v":"= -14"},{"$f":"CONCATENATE(Working!A101,\")\")","v":"99)"},{"$f":"Working!$H101","v":-1},{"$f":"Working!$D101","v":"+"},{"$f":"Working!$F101","v":-5},{"$f":"CONCATENATE(\"= \",Working!$I101)","v":"= -6"}]
[{"$f":"CONCATENATE(Working!A27,\")\")","v":"25)"},{"$f":"Working!$H27","v":-12},{"$f":"Working!$D27","v":"+"},{"$f":"Working!$F27","v":10},{"$f":"CONCATENATE(\"= \",Working!$I27)","v":"= -2"},{"$f":"CONCATENATE(Working!A52,\")\")","v":"50)"},{"$f":"Working!$H52","v":-6},{"$f":"Working!$D52","v":"+"},{"$f":"Working!$F52","v":1},{"$f":"CONCATENATE(\"= \",Working!$I52)","v":"= -5"},{"$f":"CONCATENATE(Working!A77,\")\")","v":"75)"},{"$f":"Working!$H77","v":10},{"$f":"Working!$D77","v":"+"},{"$f":"Working!$F77","v":-9},{"$f":"CONCATENATE(\"= \",Working!$I77)","v":"= 1"},{"$f":"CONCATENATE(Working!A102,\")\")","v":"100)"},{"$f":"Working!$H102","v":1},{"$f":"Working!$D102","v":"+"},{"$f":"Working!$F102","v":-6},{"$f":"CONCATENATE(\"= \",Working!$I102)","v":"= -5"}]