{"text_format":"1","workbook":"xlsx","n_sheets":4,"sheets":["Values","Worksheet","Answers","Working"],"not_rendered":{"charts":0,"images":0,"macros":1,"external_links":0,"defined_names":0,"comments":0,"pivot_tables":0},"unopened":[],"bounds":{"document_bytes":16777216,"sheet_cells":100000,"rows_first":2000,"rows_last":500,"rows_between":2000,"halvings":0,"cell_chars":16384,"cell_head_chars":4096},"cells_cut":0,"cells_raw":0,"read":"whole","date_system":"1900"}

{"sheet":"Values","index":0,"n_rows":18,"n_cols":9,"rows_kept":18,"cut":false,"hidden":false,"merged":[[8,8,12,9],[10,2,13,7],[1,2,1,6],[3,2,4,7],[6,2,6,4],[8,2,8,6]]}
[null,null,null,null,{"$f":"Working!C1","v":"ADDITITION OF MONEY"}]
[null,null,"INSTRUCTIONS"]
[]
[null,"Step 1","Enter the maximum number of digits to be used for this sheet. (A whole number >1 and <=8)"]
[]
[]
[null,null,"No. of digits"]
[]
[null,"Step 2","Click on WorkSheet tab below.",null,null,null,null,null,"PRESS F9 for NEW WorkSheet"]
[]
[null,"Note","If you hold down shift then click on the WorkSheet tab and the Solutions tab, you will be able to print both the WorkSheet and the solutions."]
[]
[]
[]
[]
[]
[null,null,"NOTES"]
[null,null,"* Questions are asked and answered in vertical algorithms."]

{"sheet":"Worksheet","index":1,"n_rows":37,"n_cols":12,"rows_kept":37,"cut":false,"hidden":false,"merged":[]}
[null,null,null,null,null,null,{"$f":"Working!C1","v":"ADDITITION OF MONEY"}]
[null,null,null,null,null,null,null,null,null,{"$f":"CONCATENATE(\"Worksheet \",Working!B1,Working!A1)","v":"Worksheet ADB-197"}]
["Evaluate the following;"]
[{"$f":"CONCATENATE(Working!A3,\")\")","v":"1)"},{"$f":"Working!$Q3","v":"$0.03"},"+",{"$f":"CONCATENATE(Working!A9,\")\")","v":"7)"},{"$f":"Working!$Q9","v":"$0.08"},"+",{"$f":"CONCATENATE(Working!A15,\")\")","v":"13)"},{"$f":"Working!$Q15","v":"$0.04"},"+",{"$f":"CONCATENATE(Working!A21,\")\")","v":"19)"},{"$f":"Working!$Q21","v":"$0.06"},"+"]
[null,{"$f":"Working!$S3","v":"$0.01"},null,null,{"$f":"Working!$S9","v":"$0.00"},null,null,{"$f":"Working!$S15","v":"$0.06"},null,null,{"$f":"Working!$S21","v":"$0.07"}]
[null,{"$f":"Working!$U3","v":"$0.04"},null,null,{"$f":"Working!$U9","v":"$0.07"},null,null,{"$f":"Working!$U15","v":"$0.08"},null,null,{"$f":"Working!$U21","v":"$0.07"}]
[null,{"$f":"Working!$W3","v":"$0.06"},null,null,{"$f":"Working!$W9","v":"$0.03"},null,null,{"$f":"Working!$W15","v":"$0.07"},null,null,{"$f":"Working!$W21","v":"$0.02"}]
[]
[]
[{"$f":"CONCATENATE(Working!A4,\")\")","v":"2)"},{"$f":"Working!$Q4","v":"$0.06"},"+",{"$f":"CONCATENATE(Working!A10,\")\")","v":"8)"},{"$f":"Working!$Q10","v":"$0.01"},"+",{"$f":"CONCATENATE(Working!A16,\")\")","v":"14)"},{"$f":"Working!$Q16","v":"$0.07"},"+",{"$f":"CONCATENATE(Working!A22,\")\")","v":"20)"},{"$f":"Working!$Q22","v":"$0.05"},"+"]
[null,{"$f":"Working!$S4","v":"$0.04"},null,null,{"$f":"Working!$S10","v":"$0.00"},null,null,{"$f":"Working!$S16","v":"$0.06"},null,null,{"$f":"Working!$S22","v":"$0.07"}]
[null,{"$f":"Working!$U4","v":"$0.03"},null,null,{"$f":"Working!$U10","v":"$0.03"},null,null,{"$f":"Working!$U16","v":"$0.06"},null,null,{"$f":"Working!$U22","v":"$0.04"}]
[null,{"$f":"Working!$W4","v":"$0.05"},null,null,{"$f":"Working!$W10","v":"$0.01"},null,null,{"$f":"Working!$W16","v":"$0.01"},null,null,{"$f":"Working!$W22","v":"$0.00"}]
[]
[]
[{"$f":"CONCATENATE(Working!A5,\")\")","v":"3)"},{"$f":"Working!$Q5","v":"$0.07"},"+",{"$f":"CONCATENATE(Working!A11,\")\")","v":"9)"},{"$f":"Working!$Q11","v":"$0.00"},"+",{"$f":"CONCATENATE(Working!A17,\")\")","v":"15)"},{"$f":"Working!$Q17","v":"$0.01"},"+",{"$f":"CONCATENATE(Working!A23,\")\")","v":"21)"},{"$f":"Working!$Q23","v":"$0.05"},"+"]
[null,{"$f":"Working!$S5","v":"$0.01"},null,null,{"$f":"Working!$S11","v":"$0.00"},null,null,{"$f":"Working!$S17","v":"$0.08"},null,null,{"$f":"Working!$S23","v":"$0.01"}]
[null,{"$f":"Working!$U5","v":"$0.05"},null,null,{"$f":"Working!$U11","v":"$0.03"},null,null,{"$f":"Working!$U17","v":"$0.01"},null,null,{"$f":"Working!$U23","v":"$0.00"}]
[null,{"$f":"Working!$W5","v":"$0.04"},null,null,{"$f":"Working!$W11","v":"$0.08"},null,null,{"$f":"Working!$W17","v":"$0.03"},null,null,{"$f":"Working!$W23","v":"$0.05"}]
[]
[]
[{"$f":"CONCATENATE(Working!A6,\")\")","v":"4)"},{"$f":"Working!$Q6","v":"$0.06"},"+",{"$f":"CONCATENATE(Working!A12,\")\")","v":"10)"},{"$f":"Working!$Q12","v":"$0.05"},"+",{"$f":"CONCATENATE(Working!A18,\")\")","v":"16)"},{"$f":"Working!$Q18","v":"$0.04"},"+",{"$f":"CONCATENATE(Working!A24,\")\")","v":"22)"},{"$f":"Working!$Q24","v":"$0.06"},"+"]
[null,{"$f":"Working!$S6","v":"$0.00"},null,null,{"$f":"Working!$S12","v":"$0.06"},null,null,{"$f":"Working!$S18","v":"$0.01"},null,null,{"$f":"Working!$S24","v":"$0.02"}]
[null,{"$f":"Working!$U6","v":"$0.04"},null,null,{"$f":"Working!$U12","v":"$0.05"},null,null,{"$f":"Working!$U18","v":"$0.08"},null,null,{"$f":"Working!$U24","v":"$0.07"}]
[null,{"$f":"Working!$W6","v":"$0.01"},null,null,{"$f":"Working!$W12","v":"$0.00"},null,null,{"$f":"Working!$W18","v":"$0.07"},null,null,{"$f":"Working!$W24","v":"$0.07"}]
[]
[]
[{"$f":"CONCATENATE(Working!A7,\")\")","v":"5)"},{"$f":"Working!$Q7","v":"$0.06"},"+",{"$f":"CONCATENATE(Working!A13,\")\")","v":"11)"},{"$f":"Working!$Q13","v":"$0.02"},"+",{"$f":"CONCATENATE(Working!A19,\")\")","v":"17)"},{"$f":"Working!$Q19","v":"$0.00"},"+",{"$f":"CONCATENATE(Working!A25,\")\")","v":"23)"},{"$f":"Working!$Q25","v":"$0.07"},"+"]
[null,{"$f":"Working!$S7","v":"$0.05"},null,null,{"$f":"Working!$S13","v":"$0.02"},null,null,{"$f":"Working!$S19","v":"$0.03"},null,null,{"$f":"Working!$S25","v":"$0.08"}]
[null,{"$f":"Working!$U7","v":"$0.02"},null,null,{"$f":"Working!$U13","v":"$0.00"},null,null,{"$f":"Working!$U19","v":"$0.04"},null,null,{"$f":"Working!$U25","v":"$0.03"}]
[null,{"$f":"Working!$W7","v":"$0.08"},null,null,{"$f":"Working!$W13","v":"$0.03"},null,null,{"$f":"Working!$W19","v":"$0.00"},null,null,{"$f":"Working!$W25","v":"$0.05"}]
[]
[]
[{"$f":"CONCATENATE(Working!A8,\")\")","v":"6)"},{"$f":"Working!$Q8","v":"$0.03"},"+",{"$f":"CONCATENATE(Working!A14,\")\")","v":"12)"},{"$f":"Working!$Q14","v":"$0.06"},"+",{"$f":"CONCATENATE(Working!A20,\")\")","v":"18)"},{"$f":"Working!$Q20","v":"$0.02"},"+",{"$f":"CONCATENATE(Working!A26,\")\")","v":"24)"},{"$f":"Working!$Q26","v":"$0.03"},"+"]
[null,{"$f":"Working!$S8","v":"$0.02"},null,null,{"$f":"Working!$S14","v":"$0.01"},null,null,{"$f":"Working!$S20","v":"$0.06"},null,null,{"$f":"Working!$S26","v":"$0.05"}]
[null,{"$f":"Working!$U8","v":"$0.05"},null,null,{"$f":"Working!$U14","v":"$0.00"},null,null,{"$f":"Working!$U20","v":"$0.01"},null,null,{"$f":"Working!$U26","v":"$0.01"}]
[null,{"$f":"Working!$W8","v":"$0.00"},null,null,{"$f":"Working!$W14","v":"$0.08"},null,null,{"$f":"Working!$W20","v":"$0.08"},null,null,{"$f":"Working!$W26","v":"$0.01"}]

{"sheet":"Answers","index":2,"n_rows":38,"n_cols":12,"rows_kept":38,"cut":false,"hidden":false,"merged":[]}
[null,null,null,null,null,null,{"$f":"Working!C1","v":"ADDITITION OF MONEY"}]
[null,null,null,null,null,null,"Answers",null,null,{"$f":"CONCATENATE(\"Worksheet \",Working!B1,Working!A1)","v":"Worksheet ADB-197"}]
["Evaluate the following;"]
[{"$f":"CONCATENATE(Working!A3,\")\")","v":"1)"},{"$f":"Working!$Q3","v":"$0.03"},"+",{"$f":"CONCATENATE(Working!A9,\")\")","v":"7)"},{"$f":"Working!$Q9","v":"$0.08"},"+",{"$f":"CONCATENATE(Working!A15,\")\")","v":"13)"},{"$f":"Working!$Q15","v":"$0.04"},"+",{"$f":"CONCATENATE(Working!A21,\")\")","v":"19)"},{"$f":"Working!$Q21","v":"$0.06"},"+"]
[null,{"$f":"Working!$S3","v":"$0.01"},null,null,{"$f":"Working!$S9","v":"$0.00"},null,null,{"$f":"Working!$S15","v":"$0.06"},null,null,{"$f":"Working!$S21","v":"$0.07"}]
[null,{"$f":"Working!$U3","v":"$0.04"},null,null,{"$f":"Working!$U9","v":"$0.07"},null,null,{"$f":"Working!$U15","v":"$0.08"},null,null,{"$f":"Working!$U21","v":"$0.07"}]
[null,{"$f":"Working!$W3","v":"$0.06"},null,null,{"$f":"Working!$W9","v":"$0.03"},null,null,{"$f":"Working!$W15","v":"$0.07"},null,null,{"$f":"Working!$W21","v":"$0.02"}]
[null,{"$f":"Working!$Y3","v":"$0.14"},null,null,{"$f":"Working!$Y9","v":"$0.18"},null,null,{"$f":"Working!$Y15","v":"$0.25"},null,null,{"$f":"Working!$Y21","v":"$0.22"}]
[]
[{"$f":"CONCATENATE(Working!A4,\")\")","v":"2)"},{"$f":"Working!$Q4","v":"$0.06"},"+",{"$f":"CONCATENATE(Working!A10,\")\")","v":"8)"},{"$f":"Working!$Q10","v":"$0.01"},"+",{"$f":"CONCATENATE(Working!A16,\")\")","v":"14)"},{"$f":"Working!$Q16","v":"$0.07"},"+",{"$f":"CONCATENATE(Working!A22,\")\")","v":"20)"},{"$f":"Working!$Q22","v":"$0.05"},"+"]
[null,{"$f":"Working!$S4","v":"$0.04"},null,null,{"$f":"Working!$S10","v":"$0.00"},null,null,{"$f":"Working!$S16","v":"$0.06"},null,null,{"$f":"Working!$S22","v":"$0.07"}]
[null,{"$f":"Working!$U4","v":"$0.03"},null,null,{"$f":"Working!$U10","v":"$0.03"},null,null,{"$f":"Working!$U16","v":"$0.06"},null,null,{"$f":"Working!$U22","v":"$0.04"}]
[null,{"$f":"Working!$W4","v":"$0.05"},null,null,{"$f":"Working!$W10","v":"$0.01"},null,null,{"$f":"Working!$W16","v":"$0.01"},null,null,{"$f":"Working!$W22","v":"$0.00"}]
[null,{"$f":"Working!$Y4","v":"$0.18"},null,null,{"$f":"Working!$Y10","v":"$0.05"},null,null,{"$f":"Working!$Y16","v":"$0.20"},null,null,{"$f":"Working!$Y22","v":"$0.16"}]
[]
[{"$f":"CONCATENATE(Working!A5,\")\")","v":"3)"},{"$f":"Working!$Q5","v":"$0.07"},"+",{"$f":"CONCATENATE(Working!A11,\")\")","v":"9)"},{"$f":"Working!$Q11","v":"$0.00"},"+",{"$f":"CONCATENATE(Working!A17,\")\")","v":"15)"},{"$f":"Working!$Q17","v":"$0.01"},"+",{"$f":"CONCATENATE(Working!A23,\")\")","v":"21)"},{"$f":"Working!$Q23","v":"$0.05"},"+"]
[null,{"$f":"Working!$S5","v":"$0.01"},null,null,{"$f":"Working!$S11","v":"$0.00"},null,null,{"$f":"Working!$S17","v":"$0.08"},null,null,{"$f":"Working!$S23","v":"$0.01"}]
[null,{"$f":"Working!$U5","v":"$0.05"},null,null,{"$f":"Working!$U11","v":"$0.03"},null,null,{"$f":"Working!$U17","v":"$0.01"},null,null,{"$f":"Working!$U23","v":"$0.00"}]
[null,{"$f":"Working!$W5","v":"$0.04"},null,null,{"$f":"Working!$W11","v":"$0.08"},null,null,{"$f":"Working!$W17","v":"$0.03"},null,null,{"$f":"Working!$W23","v":"$0.05"}]
[null,{"$f":"Working!$Y5","v":"$0.17"},null,null,{"$f":"Working!$Y11","v":"$0.11"},null,null,{"$f":"Working!$Y17","v":"$0.13"},null,null,{"$f":"Working!$Y23","v":"$0.11"}]
[]
[{"$f":"CONCATENATE(Working!A6,\")\")","v":"4)"},{"$f":"Working!$Q6","v":"$0.06"},"+",{"$f":"CONCATENATE(Working!A12,\")\")","v":"10)"},{"$f":"Working!$Q12","v":"$0.05"},"+",{"$f":"CONCATENATE(Working!A18,\")\")","v":"16)"},{"$f":"Working!$Q18","v":"$0.04"},"+",{"$f":"CONCATENATE(Working!A24,\")\")","v":"22)"},{"$f":"Working!$Q24","v":"$0.06"},"+"]
[null,{"$f":"Working!$S6","v":"$0.00"},null,null,{"$f":"Working!$S12","v":"$0.06"},null,null,{"$f":"Working!$S18","v":"$0.01"},null,null,{"$f":"Working!$S24","v":"$0.02"}]
[null,{"$f":"Working!$U6","v":"$0.04"},null,null,{"$f":"Working!$U12","v":"$0.05"},null,null,{"$f":"Working!$U18","v":"$0.08"},null,null,{"$f":"Working!$U24","v":"$0.07"}]
[null,{"$f":"Working!$W6","v":"$0.01"},null,null,{"$f":"Working!$W12","v":"$0.00"},null,null,{"$f":"Working!$W18","v":"$0.07"},null,null,{"$f":"Working!$W24","v":"$0.07"}]
[null,{"$f":"Working!$Y6","v":"$0.11"},null,null,{"$f":"Working!$Y12","v":"$0.16"},null,null,{"$f":"Working!$Y18","v":"$0.20"},null,null,{"$f":"Working!$Y24","v":"$0.22"}]
[]
[{"$f":"CONCATENATE(Working!A7,\")\")","v":"5)"},{"$f":"Working!$Q7","v":"$0.06"},"+",{"$f":"CONCATENATE(Working!A13,\")\")","v":"11)"},{"$f":"Working!$Q13","v":"$0.02"},"+",{"$f":"CONCATENATE(Working!A19,\")\")","v":"17)"},{"$f":"Working!$Q19","v":"$0.00"},"+",{"$f":"CONCATENATE(Working!A25,\")\")","v":"23)"},{"$f":"Working!$Q25","v":"$0.07"},"+"]
[null,{"$f":"Working!$S7","v":"$0.05"},null,null,{"$f":"Working!$S13","v":"$0.02"},null,null,{"$f":"Working!$S19","v":"$0.03"},null,null,{"$f":"Working!$S25","v":"$0.08"}]
[null,{"$f":"Working!$U7","v":"$0.02"},null,null,{"$f":"Working!$U13","v":"$0.00"},null,null,{"$f":"Working!$U19","v":"$0.04"},null,null,{"$f":"Working!$U25","v":"$0.03"}]
[null,{"$f":"Working!$W7","v":"$0.08"},null,null,{"$f":"Working!$W13","v":"$0.03"},null,null,{"$f":"Working!$W19","v":"$0.00"},null,null,{"$f":"Working!$W25","v":"$0.05"}]
[null,{"$f":"Working!$Y7","v":"$0.21"},null,null,{"$f":"Working!$Y13","v":"$0.07"},null,null,{"$f":"Working!$Y19","v":"$0.07"},null,null,{"$f":"Working!$Y25","v":"$0.23"}]
[]
[{"$f":"CONCATENATE(Working!A8,\")\")","v":"6)"},{"$f":"Working!$Q8","v":"$0.03"},"+",{"$f":"CONCATENATE(Working!A14,\")\")","v":"12)"},{"$f":"Working!$Q14","v":"$0.06"},"+",{"$f":"CONCATENATE(Working!A20,\")\")","v":"18)"},{"$f":"Working!$Q20","v":"$0.02"},"+",{"$f":"CONCATENATE(Working!A26,\")\")","v":"24)"},{"$f":"Working!$Q26","v":"$0.03"},"+"]
[null,{"$f":"Working!$S8","v":"$0.02"},null,null,{"$f":"Working!$S14","v":"$0.01"},null,null,{"$f":"Working!$S20","v":"$0.06"},null,null,{"$f":"Working!$S26","v":"$0.05"}]
[null,{"$f":"Working!$U8","v":"$0.05"},null,null,{"$f":"Working!$U14","v":"$0.00"},null,null,{"$f":"Working!$U20","v":"$0.01"},null,null,{"$f":"Working!$U26","v":"$0.01"}]
[null,{"$f":"Working!$W8","v":"$0.00"},null,null,{"$f":"Working!$W14","v":"$0.08"},null,null,{"$f":"Working!$W20","v":"$0.08"},null,null,{"$f":"Working!$W26","v":"$0.01"}]
[null,{"$f":"Working!$Y8","v":"$0.10"},null,null,{"$f":"Working!$Y14","v":"$0.15"},null,null,{"$f":"Working!$Y20","v":"$0.17"},null,null,{"$f":"Working!$Y26","v":"$0.10"}]

{"sheet":"Working","index":3,"n_rows":42,"n_cols":26,"rows_kept":42,"cut":false,"hidden":true,"merged":[]}
[{"$f":"INT(900*RAND()+100)","v":197},"ADB-","ADDITITION OF MONEY"]
[null,"1st","2nd","3rd","4th"]
[1,{"$f":"INT(9*(10^((INT((Values!$F$7-1)*RAND()+1))))*RAND())","v":3},{"$f":"INT(9*(10^((INT((Values!$F$7-1)*RAND()+1))))*RAND())","v":1},{"$f":"INT(9*(10^((INT((Values!$F$7-1)*RAND()+1))))*RAND())","v":4},{"$f":"INT(9*(10^((INT((Values!$F$7-1)*RAND()+1))))*RAND())","v":6},null,{"$f":"INT(3*RAND()+2)","v":3},{"$f":"IF(G3=0,B3,B3/100)","v":0.03},{"$f":"INT(3*RAND()+2)","v":4},{"$f":"IF(I3=0,C3,C3/100)","v":0.01},{"$f":"INT(3*RAND()+2)","v":3},{"$f":"IF(K3=0,D3,D3/100)","v":0.04},{"$f":"INT(3*RAND()+2)","v":3},{"$f":"IF(M3=0,E3,E3/100)","v":0.06},{"$f":"INT(3*RAND()+2)","v":4},{"$f":"H3+J3+L3+N3","v":0.14000000000000001},{"$f":"IF(INT(H3)=H3,CONCATENATE(\"$\",H3,\".00\"),IF(INT(10*H3)=10*H3,CONCATENATE(\"$\",H3,\"0\"),CONCATENATE(\"$\",H3)))","v":"$0.03"},{"$f":"IF(H3<1,CONCATENATE(H3*100,\"c\"),Q3)","v":"3c"},{"$f":"IF(INT(J3)=J3,CONCATENATE(\"$\",J3,\".00\"),IF(INT(10*J3)=10*J3,CONCATENATE(\"$\",J3,\"0\"),CONCATENATE(\"$\",J3)))","v":"$0.01"},{"$f":"IF(J3<1,CONCATENATE(J3*100,\"c\"),S3)","v":"1c"},{"$f":"IF(INT(L3)=L3,CONCATENATE(\"$\",L3,\".00\"),IF(INT(10*L3)=10*L3,CONCATENATE(\"$\",L3,\"0\"),CONCATENATE(\"$\",L3)))","v":"$0.04"},{"$f":"IF(L3<1,CONCATENATE(L3*100,\"c\"),U3)","v":"4c"},{"$f":"IF(INT(N3)=N3,CONCATENATE(\"$\",N3,\".00\"),IF(INT(10*N3)=10*N3,CONCATENATE(\"$\",N3,\"0\"),CONCATENATE(\"$\",N3)))","v":"$0.06"},{"$f":"IF(N3<1,CONCATENATE(N3*100,\"c\"),W3)","v":"6c"},{"$f":"IF(INT(P3)=P3,CONCATENATE(\"$\",P3,\".00\"),IF(INT(10*P3)=10*P3,CONCATENATE(\"$\",P3,\"0\"),CONCATENATE(\"$\",P3)))","v":"$0.14"},{"$f":"IF(P3<1,CONCATENATE(P3*100,\"c\"),Y3)","v":"14c"}]
[2,{"$f":"INT(9*(10^((INT((Values!$F$7-1)*RAND()+1))))*RAND())","v":6},{"$f":"INT(9*(10^((INT((Values!$F$7-1)*RAND()+1))))*RAND())","v":4},{"$f":"INT(9*(10^((INT((Values!$F$7-1)*RAND()+1))))*RAND())","v":3},{"$f":"INT(9*(10^((INT((Values!$F$7-1)*RAND()+1))))*RAND())","v":5},null,{"$f":"INT(3*RAND()+2)","v":3},0.06,4,0.04,4,0.03,2,0.05,4,{"$f":"H4+J4+L4+N4","v":0.18},{"$f":"IF(INT(H4)=H4,CONCATENATE(\"$\",H4,\".00\"),IF(INT(10*H4)=10*H4,CONCATENATE(\"$\",H4,\"0\"),CONCATENATE(\"$\",H4)))","v":"$0.06"},{"$f":"IF(H4<1,CONCATENATE(H4*100,\"c\"),Q4)","v":"6c"},{"$f":"IF(INT(J4)=J4,CONCATENATE(\"$\",J4,\".00\"),IF(INT(10*J4)=10*J4,CONCATENATE(\"$\",J4,\"0\"),CONCATENATE(\"$\",J4)))","v":"$0.04"},{"$f":"IF(J4<1,CONCATENATE(J4*100,\"c\"),S4)","v":"4c"},{"$f":"IF(INT(L4)=L4,CONCATENATE(\"$\",L4,\".00\"),IF(INT(10*L4)=10*L4,CONCATENATE(\"$\",L4,\"0\"),CONCATENATE(\"$\",L4)))","v":"$0.03"},{"$f":"IF(L4<1,CONCATENATE(L4*100,\"c\"),U4)","v":"3c"},{"$f":"IF(INT(N4)=N4,CONCATENATE(\"$\",N4,\".00\"),IF(INT(10*N4)=10*N4,CONCATENATE(\"$\",N4,\"0\"),CONCATENATE(\"$\",N4)))","v":"$0.05"},{"$f":"IF(N4<1,CONCATENATE(N4*100,\"c\"),W4)","v":"5c"},{"$f":"IF(INT(P4)=P4,CONCATENATE(\"$\",P4,\".00\"),IF(INT(10*P4)=10*P4,CONCATENATE(\"$\",P4,\"0\"),CONCATENATE(\"$\",P4)))","v":"$0.18"},{"$f":"IF(P4<1,CONCATENATE(P4*100,\"c\"),Y4)","v":"18c"}]
[3,{"$f":"INT(9*(10^((INT((Values!$F$7-1)*RAND()+1))))*RAND())","v":7},{"$f":"INT(9*(10^((INT((Values!$F$7-1)*RAND()+1))))*RAND())","v":1},{"$f":"INT(9*(10^((INT((Values!$F$7-1)*RAND()+1))))*RAND())","v":5},{"$f":"INT(9*(10^((INT((Values!$F$7-1)*RAND()+1))))*RAND())","v":4},null,3,7.0000000000000007E-2,2,0.01,4,0.05,4,0.04,4,0.17,"$0.07","7c","$0.01","1c","$0.05","5c","$0.04","4c","$0.17","17c"]
[4,{"$f":"INT(9*(10^((INT((Values!$F$7-1)*RAND()+1))))*RAND())","v":6},{"$f":"INT(9*(10^((INT((Values!$F$7-1)*RAND()+1))))*RAND())","v":0},{"$f":"INT(9*(10^((INT((Values!$F$7-1)*RAND()+1))))*RAND())","v":4},{"$f":"INT(9*(10^((INT((Values!$F$7-1)*RAND()+1))))*RAND())","v":1},null,3,0.06,2,0,2,0.04,2,0.01,4,0.11,"$0.06","6c","$0.00","0c","$0.04","4c","$0.01","1c","$0.11","11c"]
[5,{"$f":"INT(9*(10^((INT((Values!$F$7-1)*RAND()+1))))*RAND())","v":6},{"$f":"INT(9*(10^((INT((Values!$F$7-1)*RAND()+1))))*RAND())","v":5},{"$f":"INT(9*(10^((INT((Values!$F$7-1)*RAND()+1))))*RAND())","v":2},{"$f":"INT(9*(10^((INT((Values!$F$7-1)*RAND()+1))))*RAND())","v":8},null,2,0.06,4,0.05,2,0.02,4,0.08,2,0.21000000000000002,"$0.06","6c","$0.05","5c","$0.02","2c","$0.08","8c","$0.21","21c"]
[6,{"$f":"INT(9*(10^((INT((Values!$F$7-1)*RAND()+1))))*RAND())","v":3},{"$f":"INT(9*(10^((INT((Values!$F$7-1)*RAND()+1))))*RAND())","v":2},{"$f":"INT(9*(10^((INT((Values!$F$7-1)*RAND()+1))))*RAND())","v":5},{"$f":"INT(9*(10^((INT((Values!$F$7-1)*RAND()+1))))*RAND())","v":0},null,3,0.03,2,0.02,2,0.05,2,0,3,0.1,"$0.03","3c","$0.02","2c","$0.05","5c","$0.00","0c","$0.10","10c"]
[7,{"$f":"INT(9*(10^((INT((Values!$F$7-1)*RAND()+1))))*RAND())","v":8},{"$f":"INT(9*(10^((INT((Values!$F$7-1)*RAND()+1))))*RAND())","v":0},{"$f":"INT(9*(10^((INT((Values!$F$7-1)*RAND()+1))))*RAND())","v":7},{"$f":"INT(9*(10^((INT((Values!$F$7-1)*RAND()+1))))*RAND())","v":3},null,3,0.08,3,0,4,7.0000000000000007E-2,3,0.03,4,0.18000000000000002,"$0.08","8c","$0.00","0c","$0.07","7c","$0.03","3c","$0.18","18c"]
[8,{"$f":"INT(9*(10^((INT((Values!$F$7-1)*RAND()+1))))*RAND())","v":1},{"$f":"INT(9*(10^((INT((Values!$F$7-1)*RAND()+1))))*RAND())","v":0},{"$f":"INT(9*(10^((INT((Values!$F$7-1)*RAND()+1))))*RAND())","v":3},{"$f":"INT(9*(10^((INT((Values!$F$7-1)*RAND()+1))))*RAND())","v":1},null,4,0.01,3,0,2,0.03,3,0.01,4,0.05,"$0.01","1c","$0.00","0c","$0.03","3c","$0.01","1c","$0.05","5c"]
[9,{"$f":"INT(9*(10^((INT((Values!$F$7-1)*RAND()+1))))*RAND())","v":0},{"$f":"INT(9*(10^((INT((Values!$F$7-1)*RAND()+1))))*RAND())","v":0},{"$f":"INT(9*(10^((INT((Values!$F$7-1)*RAND()+1))))*RAND())","v":3},{"$f":"INT(9*(10^((INT((Values!$F$7-1)*RAND()+1))))*RAND())","v":8},null,2,0,4,0,4,0.03,3,0.08,2,0.11,"$0.00","0c","$0.00","0c","$0.03","3c","$0.08","8c","$0.11","11c"]
[10,{"$f":"INT(9*(10^((INT((Values!$F$7-1)*RAND()+1))))*RAND())","v":5},{"$f":"INT(9*(10^((INT((Values!$F$7-1)*RAND()+1))))*RAND())","v":6},{"$f":"INT(9*(10^((INT((Values!$F$7-1)*RAND()+1))))*RAND())","v":5},{"$f":"INT(9*(10^((INT((Values!$F$7-1)*RAND()+1))))*RAND())","v":0},null,2,0.05,2,0.06,3,0.05,4,0,2,0.16,"$0.05","5c","$0.06","6c","$0.05","5c","$0.00","0c","$0.16","16c"]
[11,{"$f":"INT(9*(10^((INT((Values!$F$7-1)*RAND()+1))))*RAND())","v":2},{"$f":"INT(9*(10^((INT((Values!$F$7-1)*RAND()+1))))*RAND())","v":2},{"$f":"INT(9*(10^((INT((Values!$F$7-1)*RAND()+1))))*RAND())","v":0},{"$f":"INT(9*(10^((INT((Values!$F$7-1)*RAND()+1))))*RAND())","v":3},null,4,0.02,2,0.02,2,0,3,0.03,2,7.0000000000000007E-2,"$0.02","2c","$0.02","2c","$0.00","0c","$0.03","3c","$0.07","7c"]
[12,{"$f":"INT(9*(10^((INT((Values!$F$7-1)*RAND()+1))))*RAND())","v":6},{"$f":"INT(9*(10^((INT((Values!$F$7-1)*RAND()+1))))*RAND())","v":1},{"$f":"INT(9*(10^((INT((Values!$F$7-1)*RAND()+1))))*RAND())","v":0},{"$f":"INT(9*(10^((INT((Values!$F$7-1)*RAND()+1))))*RAND())","v":8},null,4,0.06,3,0.01,2,0,3,0.08,4,0.15,"$0.06","6c","$0.01","1c","$0.00","0c","$0.08","8c","$0.15","15c"]
[13,{"$f":"INT(9*(10^((INT((Values!$F$7-1)*RAND()+1))))*RAND())","v":4},{"$f":"INT(9*(10^((INT((Values!$F$7-1)*RAND()+1))))*RAND())","v":6},{"$f":"INT(9*(10^((INT((Values!$F$7-1)*RAND()+1))))*RAND())","v":8},{"$f":"INT(9*(10^((INT((Values!$F$7-1)*RAND()+1))))*RAND())","v":7},null,4,0.04,4,0.06,3,0.08,4,7.0000000000000007E-2,4,0.25,"$0.04","4c","$0.06","6c","$0.08","8c","$0.07","7c","$0.25","25c"]
[14,{"$f":"INT(9*(10^((INT((Values!$F$7-1)*RAND()+1))))*RAND())","v":7},{"$f":"INT(9*(10^((INT((Values!$F$7-1)*RAND()+1))))*RAND())","v":6},{"$f":"INT(9*(10^((INT((Values!$F$7-1)*RAND()+1))))*RAND())","v":6},{"$f":"INT(9*(10^((INT((Values!$F$7-1)*RAND()+1))))*RAND())","v":1},null,4,7.0000000000000007E-2,4,0.06,2,0.06,2,0.01,3,0.2,"$0.07","7c","$0.06","6c","$0.06","6c","$0.01","1c","$0.20","20c"]
[15,{"$f":"INT(9*(10^((INT((Values!$F$7-1)*RAND()+1))))*RAND())","v":1},{"$f":"INT(9*(10^((INT((Values!$F$7-1)*RAND()+1))))*RAND())","v":8},{"$f":"INT(9*(10^((INT((Values!$F$7-1)*RAND()+1))))*RAND())","v":1},{"$f":"INT(9*(10^((INT((Values!$F$7-1)*RAND()+1))))*RAND())","v":3},null,4,0.01,4,0.08,2,0.01,4,0.03,3,0.13,"$0.01","1c","$0.08","8c","$0.01","1c","$0.03","3c","$0.13","13c"]
[16,{"$f":"INT(9*(10^((INT((Values!$F$7-1)*RAND()+1))))*RAND())","v":4},{"$f":"INT(9*(10^((INT((Values!$F$7-1)*RAND()+1))))*RAND())","v":1},{"$f":"INT(9*(10^((INT((Values!$F$7-1)*RAND()+1))))*RAND())","v":8},{"$f":"INT(9*(10^((INT((Values!$F$7-1)*RAND()+1))))*RAND())","v":7},null,4,0.04,4,0.01,4,0.08,4,7.0000000000000007E-2,3,0.2,"$0.04","4c","$0.01","1c","$0.08","8c","$0.07","7c","$0.20","20c"]
[17,{"$f":"INT(9*(10^((INT((Values!$F$7-1)*RAND()+1))))*RAND())","v":0},{"$f":"INT(9*(10^((INT((Values!$F$7-1)*RAND()+1))))*RAND())","v":3},{"$f":"INT(9*(10^((INT((Values!$F$7-1)*RAND()+1))))*RAND())","v":4},{"$f":"INT(9*(10^((INT((Values!$F$7-1)*RAND()+1))))*RAND())","v":0},null,3,0,4,0.03,2,0.04,4,0,3,7.0000000000000007E-2,"$0.00","0c","$0.03","3c","$0.04","4c","$0.00","0c","$0.07","7c"]
[18,{"$f":"INT(9*(10^((INT((Values!$F$7-1)*RAND()+1))))*RAND())","v":2},{"$f":"INT(9*(10^((INT((Values!$F$7-1)*RAND()+1))))*RAND())","v":6},{"$f":"INT(9*(10^((INT((Values!$F$7-1)*RAND()+1))))*RAND())","v":1},{"$f":"INT(9*(10^((INT((Values!$F$7-1)*RAND()+1))))*RAND())","v":8},null,2,0.02,2,0.06,4,0.01,4,0.08,4,0.16999999999999998,"$0.02","2c","$0.06","6c","$0.01","1c","$0.08","8c","$0.17","17c"]
[19,{"$f":"INT(9*(10^((INT((Values!$F$7-1)*RAND()+1))))*RAND())","v":6},{"$f":"INT(9*(10^((INT((Values!$F$7-1)*RAND()+1))))*RAND())","v":7},{"$f":"INT(9*(10^((INT((Values!$F$7-1)*RAND()+1))))*RAND())","v":7},{"$f":"INT(9*(10^((INT((Values!$F$7-1)*RAND()+1))))*RAND())","v":2},null,3,0.06,2,7.0000000000000007E-2,4,7.0000000000000007E-2,3,0.02,2,0.22,"$0.06","6c","$0.07","7c","$0.07","7c","$0.02","2c","$0.22","22c"]
[20,{"$f":"INT(9*(10^((INT((Values!$F$7-1)*RAND()+1))))*RAND())","v":5},{"$f":"INT(9*(10^((INT((Values!$F$7-1)*RAND()+1))))*RAND())","v":7},{"$f":"INT(9*(10^((INT((Values!$F$7-1)*RAND()+1))))*RAND())","v":4},{"$f":"INT(9*(10^((INT((Values!$F$7-1)*RAND()+1))))*RAND())","v":0},null,3,0.05,4,7.0000000000000007E-2,2,0.04,4,0,4,0.16,"$0.05","5c","$0.07","7c","$0.04","4c","$0.00","0c","$0.16","16c"]
[21,{"$f":"INT(9*(10^((INT((Values!$F$7-1)*RAND()+1))))*RAND())","v":5},{"$f":"INT(9*(10^((INT((Values!$F$7-1)*RAND()+1))))*RAND())","v":1},{"$f":"INT(9*(10^((INT((Values!$F$7-1)*RAND()+1))))*RAND())","v":0},{"$f":"INT(9*(10^((INT((Values!$F$7-1)*RAND()+1))))*RAND())","v":5},null,3,0.05,4,0.01,2,0,3,0.05,3,0.11000000000000001,"$0.05","5c","$0.01","1c","$0.00","0c","$0.05","5c","$0.11","11c"]
[22,{"$f":"INT(9*(10^((INT((Values!$F$7-1)*RAND()+1))))*RAND())","v":6},{"$f":"INT(9*(10^((INT((Values!$F$7-1)*RAND()+1))))*RAND())","v":2},{"$f":"INT(9*(10^((INT((Values!$F$7-1)*RAND()+1))))*RAND())","v":7},{"$f":"INT(9*(10^((INT((Values!$F$7-1)*RAND()+1))))*RAND())","v":7},null,4,0.06,3,0.02,4,7.0000000000000007E-2,4,7.0000000000000007E-2,2,0.22000000000000003,"$0.06","6c","$0.02","2c","$0.07","7c","$0.07","7c","$0.22","22c"]
[23,{"$f":"INT(9*(10^((INT((Values!$F$7-1)*RAND()+1))))*RAND())","v":7},{"$f":"INT(9*(10^((INT((Values!$F$7-1)*RAND()+1))))*RAND())","v":8},{"$f":"INT(9*(10^((INT((Values!$F$7-1)*RAND()+1))))*RAND())","v":3},{"$f":"INT(9*(10^((INT((Values!$F$7-1)*RAND()+1))))*RAND())","v":5},null,2,7.0000000000000007E-2,3,0.08,4,0.03,4,0.05,4,0.23000000000000004,"$0.07","7c","$0.08","8c","$0.03","3c","$0.05","5c","$0.23","23c"]
[24,{"$f":"INT(9*(10^((INT((Values!$F$7-1)*RAND()+1))))*RAND())","v":3},{"$f":"INT(9*(10^((INT((Values!$F$7-1)*RAND()+1))))*RAND())","v":5},{"$f":"INT(9*(10^((INT((Values!$F$7-1)*RAND()+1))))*RAND())","v":1},{"$f":"INT(9*(10^((INT((Values!$F$7-1)*RAND()+1))))*RAND())","v":1},null,3,0.03,2,0.05,4,0.01,3,0.01,4,9.9999999999999992E-2,"$0.03","3c","$0.05","5c","$0.01","1c","$0.01","1c","$0.10","10c"]
[25,{"$f":"INT(9*(10^((INT((Values!$F$7-1)*RAND()+1))))*RAND())","v":7},{"$f":"INT(9*(10^((INT((Values!$F$7-1)*RAND()+1))))*RAND())","v":1},{"$f":"INT(9*(10^((INT((Values!$F$7-1)*RAND()+1))))*RAND())","v":2},{"$f":"INT(9*(10^((INT((Values!$F$7-1)*RAND()+1))))*RAND())","v":8},null,4,7.0000000000000007E-2,2,0.01,4,0.02,3,0.08,2,0.18,"$0.07","7c","$0.01","1c","$0.02","2c","$0.08","8c","$0.18","18c"]
[26,{"$f":"INT(9*(10^((INT((Values!$F$7-1)*RAND()+1))))*RAND())","v":2},{"$f":"INT(9*(10^((INT((Values!$F$7-1)*RAND()+1))))*RAND())","v":4},{"$f":"INT(9*(10^((INT((Values!$F$7-1)*RAND()+1))))*RAND())","v":7},{"$f":"INT(9*(10^((INT((Values!$F$7-1)*RAND()+1))))*RAND())","v":2},null,3,0.02,4,0.04,2,7.0000000000000007E-2,3,0.02,2,0.15,"$0.02","2c","$0.04","4c","$0.07","7c","$0.02","2c","$0.15","15c"]
[27,{"$f":"INT(9*(10^((INT((Values!$F$7-1)*RAND()+1))))*RAND())","v":6},{"$f":"INT(9*(10^((INT((Values!$F$7-1)*RAND()+1))))*RAND())","v":0},{"$f":"INT(9*(10^((INT((Values!$F$7-1)*RAND()+1))))*RAND())","v":2},{"$f":"INT(9*(10^((INT((Values!$F$7-1)*RAND()+1))))*RAND())","v":1},null,3,0.06,2,0,2,0.02,2,0.01,4,0.09,"$0.06","6c","$0.00","0c","$0.02","2c","$0.01","1c","$0.09","9c"]
[28,{"$f":"INT(9*(10^((INT((Values!$F$7-1)*RAND()+1))))*RAND())","v":1},{"$f":"INT(9*(10^((INT((Values!$F$7-1)*RAND()+1))))*RAND())","v":3},{"$f":"INT(9*(10^((INT((Values!$F$7-1)*RAND()+1))))*RAND())","v":5},{"$f":"INT(9*(10^((INT((Values!$F$7-1)*RAND()+1))))*RAND())","v":0},null,4,0.01,4,0.03,3,0.05,3,0,4,0.09,"$0.01","1c","$0.03","3c","$0.05","5c","$0.00","0c","$0.09","9c"]
[29,{"$f":"INT(9*(10^((INT((Values!$F$7-1)*RAND()+1))))*RAND())","v":8},{"$f":"INT(9*(10^((INT((Values!$F$7-1)*RAND()+1))))*RAND())","v":3},{"$f":"INT(9*(10^((INT((Values!$F$7-1)*RAND()+1))))*RAND())","v":2},{"$f":"INT(9*(10^((INT((Values!$F$7-1)*RAND()+1))))*RAND())","v":5},null,2,0.08,4,0.03,2,0.02,4,0.05,3,0.18,"$0.08","8c","$0.03","3c","$0.02","2c","$0.05","5c","$0.18","18c"]
[30,{"$f":"INT(9*(10^((INT((Values!$F$7-1)*RAND()+1))))*RAND())","v":6},{"$f":"INT(9*(10^((INT((Values!$F$7-1)*RAND()+1))))*RAND())","v":6},{"$f":"INT(9*(10^((INT((Values!$F$7-1)*RAND()+1))))*RAND())","v":5},{"$f":"INT(9*(10^((INT((Values!$F$7-1)*RAND()+1))))*RAND())","v":0},null,4,0.06,3,0.06,2,0.05,4,0,4,0.16999999999999998,"$0.06","6c","$0.06","6c","$0.05","5c","$0.00","0c","$0.17","17c"]
[31,{"$f":"INT(9*(10^((INT((Values!$F$7-1)*RAND()+1))))*RAND())","v":4},{"$f":"INT(9*(10^((INT((Values!$F$7-1)*RAND()+1))))*RAND())","v":6},{"$f":"INT(9*(10^((INT((Values!$F$7-1)*RAND()+1))))*RAND())","v":5},{"$f":"INT(9*(10^((INT((Values!$F$7-1)*RAND()+1))))*RAND())","v":2},null,4,0.04,2,0.06,3,0.05,3,0.02,2,0.17,"$0.04","4c","$0.06","6c","$0.05","5c","$0.02","2c","$0.17","17c"]
[32,{"$f":"INT(9*(10^((INT((Values!$F$7-1)*RAND()+1))))*RAND())","v":2},{"$f":"INT(9*(10^((INT((Values!$F$7-1)*RAND()+1))))*RAND())","v":4},{"$f":"INT(9*(10^((INT((Values!$F$7-1)*RAND()+1))))*RAND())","v":6},{"$f":"INT(9*(10^((INT((Values!$F$7-1)*RAND()+1))))*RAND())","v":5},null,3,0.02,4,0.04,3,0.06,3,0.05,2,0.16999999999999998,"$0.02","2c","$0.04","4c","$0.06","6c","$0.05","5c","$0.17","17c"]
[33,{"$f":"INT(9*(10^((INT((Values!$F$7-1)*RAND()+1))))*RAND())","v":3},{"$f":"INT(9*(10^((INT((Values!$F$7-1)*RAND()+1))))*RAND())","v":8},{"$f":"INT(9*(10^((INT((Values!$F$7-1)*RAND()+1))))*RAND())","v":5},{"$f":"INT(9*(10^((INT((Values!$F$7-1)*RAND()+1))))*RAND())","v":3},null,2,0.03,3,0.08,3,0.05,3,0.03,4,0.19,"$0.03","3c","$0.08","8c","$0.05","5c","$0.03","3c","$0.19","19c"]
[34,{"$f":"INT(9*(10^((INT((Values!$F$7-1)*RAND()+1))))*RAND())","v":4},{"$f":"INT(9*(10^((INT((Values!$F$7-1)*RAND()+1))))*RAND())","v":8},{"$f":"INT(9*(10^((INT((Values!$F$7-1)*RAND()+1))))*RAND())","v":6},{"$f":"INT(9*(10^((INT((Values!$F$7-1)*RAND()+1))))*RAND())","v":0},null,3,0.04,3,0.08,4,0.06,4,0,4,0.18,"$0.04","4c","$0.08","8c","$0.06","6c","$0.00","0c","$0.18","18c"]
[35,{"$f":"INT(9*(10^((INT((Values!$F$7-1)*RAND()+1))))*RAND())","v":5},{"$f":"INT(9*(10^((INT((Values!$F$7-1)*RAND()+1))))*RAND())","v":0},{"$f":"INT(9*(10^((INT((Values!$F$7-1)*RAND()+1))))*RAND())","v":3},{"$f":"INT(9*(10^((INT((Values!$F$7-1)*RAND()+1))))*RAND())","v":0},null,2,0.05,4,0,3,0.03,3,0,3,0.08,"$0.05","5c","$0.00","0c","$0.03","3c","$0.00","0c","$0.08","8c"]
[36,{"$f":"INT(9*(10^((INT((Values!$F$7-1)*RAND()+1))))*RAND())","v":3},{"$f":"INT(9*(10^((INT((Values!$F$7-1)*RAND()+1))))*RAND())","v":0},{"$f":"INT(9*(10^((INT((Values!$F$7-1)*RAND()+1))))*RAND())","v":4},{"$f":"INT(9*(10^((INT((Values!$F$7-1)*RAND()+1))))*RAND())","v":5},null,2,0.03,3,0,3,0.04,4,0.05,2,0.12000000000000001,"$0.03","3c","$0.00","0c","$0.04","4c","$0.05","5c","$0.12","12c"]
[37,{"$f":"INT(9*(10^((INT((Values!$F$7-1)*RAND()+1))))*RAND())","v":8},{"$f":"INT(9*(10^((INT((Values!$F$7-1)*RAND()+1))))*RAND())","v":1},{"$f":"INT(9*(10^((INT((Values!$F$7-1)*RAND()+1))))*RAND())","v":0},{"$f":"INT(9*(10^((INT((Values!$F$7-1)*RAND()+1))))*RAND())","v":7},null,2,0.08,2,0.01,4,0,3,7.0000000000000007E-2,2,0.16,"$0.08","8c","$0.01","1c","$0.00","0c","$0.07","7c","$0.16","16c"]
[38,{"$f":"INT(9*(10^((INT((Values!$F$7-1)*RAND()+1))))*RAND())","v":5},{"$f":"INT(9*(10^((INT((Values!$F$7-1)*RAND()+1))))*RAND())","v":8},{"$f":"INT(9*(10^((INT((Values!$F$7-1)*RAND()+1))))*RAND())","v":4},{"$f":"INT(9*(10^((INT((Values!$F$7-1)*RAND()+1))))*RAND())","v":3},null,2,0.05,3,0.08,4,0.04,2,0.03,3,0.2,"$0.05","5c","$0.08","8c","$0.04","4c","$0.03","3c","$0.20","20c"]
[39,{"$f":"INT(9*(10^((INT((Values!$F$7-1)*RAND()+1))))*RAND())","v":8},{"$f":"INT(9*(10^((INT((Values!$F$7-1)*RAND()+1))))*RAND())","v":5},{"$f":"INT(9*(10^((INT((Values!$F$7-1)*RAND()+1))))*RAND())","v":0},{"$f":"INT(9*(10^((INT((Values!$F$7-1)*RAND()+1))))*RAND())","v":0},null,2,0.08,4,0.05,3,0,3,0,4,0.13,"$0.08","8c","$0.05","5c","$0.00","0c","$0.00","0c","$0.13","13c"]
[40,{"$f":"INT(9*(10^((INT((Values!$F$7-1)*RAND()+1))))*RAND())","v":2},{"$f":"INT(9*(10^((INT((Values!$F$7-1)*RAND()+1))))*RAND())","v":0},{"$f":"INT(9*(10^((INT((Values!$F$7-1)*RAND()+1))))*RAND())","v":6},{"$f":"INT(9*(10^((INT((Values!$F$7-1)*RAND()+1))))*RAND())","v":6},null,3,0.02,4,0,2,0.06,3,0.06,4,0.14000000000000001,"$0.02","2c","$0.00","0c","$0.06","6c","$0.06","6c","$0.14","14c"]