{"text_format":"1","workbook":"xlsx","n_sheets":5,"sheets":["Values","Worksheet","Answer Sheet","Answers","Working"],"not_rendered":{"charts":0,"images":0,"macros":1,"external_links":0,"defined_names":0,"comments":0,"pivot_tables":0},"unopened":[],"bounds":{"document_bytes":16777216,"sheet_cells":100000,"rows_first":2000,"rows_last":500,"rows_between":2000,"halvings":0,"cell_chars":16384,"cell_head_chars":4096},"cells_cut":0,"cells_raw":0,"read":"whole","date_system":"1900"}

{"sheet":"Values","index":0,"n_rows":18,"n_cols":9,"rows_kept":18,"cut":false,"hidden":false,"merged":[[8,8,12,9],[10,2,13,7],[1,2,1,6],[3,2,4,7],[6,2,6,4],[8,2,8,6]]}
[null,null,null,null,"ADDITITION OF MONEY"]
[null,null,"INSTRUCTIONS"]
[]
[null,"Step 1","Enter the maximum number of digits to be used for this sheet. (A whole number >1 and <=8)"]
[]
[]
[null,null,"No. of digits"]
[]
[null,"Step 2","Click on WorkSheet tab below.",null,null,null,null,null,"PRESS F9 for NEW WorkSheet"]
[]
[null,"Note","If you hold down shift then click on the WorkSheet tab and the Solutions tab, you will be able to print both the WorkSheet and the solutions."]
[]
[]
[]
[]
[]
[null,null,"NOTES"]
[null,null,"* Questions are asked in line form and answered in vertical algorithms."]

{"sheet":"Worksheet","index":1,"n_rows":27,"n_cols":5,"rows_kept":27,"cut":false,"hidden":false,"merged":[]}
[null,null,null,"ADDITITION OF MONEY"]
[null,null,null,null,{"$f":"CONCATENATE(\"Worksheet \",Working!B1,Working!A1)","v":"Worksheet ADB-263"}]
["Evaluate the following;"]
[{"$f":"CONCATENATE(Working!A3,\")\")","v":"1)"},{"$f":"CONCATENATE(Working!$Q3,\" + \",Working!$R3,\" + \",Working!$S3,\" + \",Working!$T3,\" =\")","v":"$0.05 + $0.07 + $7.00 + $0.03 ="}]
[{"$f":"CONCATENATE(Working!A4,\")\")","v":"2)"},{"$f":"CONCATENATE(Working!$Q4,\" + \",Working!$R4,\" + \",Working!$S4,\" + \",Working!$T4,\" =\")","v":"$4.00 + $0.08 + $0.06 + $0.00 ="}]
[{"$f":"CONCATENATE(Working!A5,\")\")","v":"3)"},{"$f":"CONCATENATE(Working!$Q5,\" + \",Working!$R5,\" + \",Working!$S5,\" + \",Working!$T5,\" =\")","v":"$0.02 + $8.00 + $0.01 + $0.04 ="}]
[{"$f":"CONCATENATE(Working!A6,\")\")","v":"4)"},{"$f":"CONCATENATE(Working!$Q6,\" + \",Working!$R6,\" + \",Working!$S6,\" + \",Working!$T6,\" =\")","v":"$0.08 + $0.03 + $0.07 + $0.05 ="}]
[{"$f":"CONCATENATE(Working!A7,\")\")","v":"5)"},{"$f":"CONCATENATE(Working!$Q7,\" + \",Working!$R7,\" + \",Working!$S7,\" + \",Working!$T7,\" =\")","v":"$0.07 + $0.05 + $0.02 + $0.05 ="}]
[{"$f":"CONCATENATE(Working!A8,\")\")","v":"6)"},{"$f":"CONCATENATE(Working!$Q8,\" + \",Working!$R8,\" + \",Working!$S8,\" + \",Working!$T8,\" =\")","v":"$0.00 + $0.04 + $4.00 + $0.00 ="}]
[{"$f":"CONCATENATE(Working!A9,\")\")","v":"7)"},{"$f":"CONCATENATE(Working!$Q9,\" + \",Working!$R9,\" + \",Working!$S9,\" + \",Working!$T9,\" =\")","v":"$0.05 + $0.06 + $0.06 + $0.02 ="}]
[{"$f":"CONCATENATE(Working!A10,\")\")","v":"8)"},{"$f":"CONCATENATE(Working!$Q10,\" + \",Working!$R10,\" + \",Working!$S10,\" + \",Working!$T10,\" =\")","v":"$0.00 + $7.00 + $0.01 + $8.00 ="}]
[{"$f":"CONCATENATE(Working!A11,\")\")","v":"9)"},{"$f":"CONCATENATE(Working!$Q11,\" + \",Working!$R11,\" + \",Working!$S11,\" + \",Working!$T11,\" =\")","v":"$0.01 + $0.04 + $0.05 + $0.05 ="}]
[{"$f":"CONCATENATE(Working!A12,\")\")","v":"10)"},{"$f":"CONCATENATE(Working!$Q12,\" + \",Working!$R12,\" + \",Working!$S12,\" + \",Working!$T12,\" =\")","v":"$0.03 + $0.01 + $0.07 + $5.00 ="}]
[{"$f":"CONCATENATE(Working!A13,\")\")","v":"11)"},{"$f":"CONCATENATE(Working!$Q13,\" + \",Working!$R13,\" + \",Working!$S13,\" + \",Working!$T13,\" =\")","v":"$0.05 + $6.00 + $0.05 + $0.04 ="}]
[{"$f":"CONCATENATE(Working!A14,\")\")","v":"12)"},{"$f":"CONCATENATE(Working!$Q14,\" + \",Working!$R14,\" + \",Working!$S14,\" + \",Working!$T14,\" =\")","v":"$0.02 + $0.04 + $0.00 + $0.00 ="}]
[{"$f":"CONCATENATE(Working!A15,\")\")","v":"13)"},{"$f":"CONCATENATE(Working!$Q15,\" + \",Working!$R15,\" + \",Working!$S15,\" + \",Working!$T15,\" =\")","v":"$0.03 + $0.00 + $0.00 + $0.03 ="}]
[{"$f":"CONCATENATE(Working!A16,\")\")","v":"14)"},{"$f":"CONCATENATE(Working!$Q16,\" + \",Working!$R16,\" + \",Working!$S16,\" + \",Working!$T16,\" =\")","v":"$0.05 + $0.07 + $5.00 + $5.00 ="}]
[{"$f":"CONCATENATE(Working!A17,\")\")","v":"15)"},{"$f":"CONCATENATE(Working!$Q17,\" + \",Working!$R17,\" + \",Working!$S17,\" + \",Working!$T17,\" =\")","v":"$0.07 + $0.08 + $2.00 + $0.01 ="}]
[{"$f":"CONCATENATE(Working!A18,\")\")","v":"16)"},{"$f":"CONCATENATE(Working!$Q18,\" + \",Working!$R18,\" + \",Working!$S18,\" + \",Working!$T18,\" =\")","v":"$6.00 + $4.00 + $0.00 + $0.00 ="}]
[{"$f":"CONCATENATE(Working!A19,\")\")","v":"17)"},{"$f":"CONCATENATE(Working!$Q19,\" + \",Working!$R19,\" + \",Working!$S19,\" + \",Working!$T19,\" =\")","v":"$0.05 + $0.04 + $0.02 + $0.01 ="}]
[{"$f":"CONCATENATE(Working!A20,\")\")","v":"18)"},{"$f":"CONCATENATE(Working!$Q20,\" + \",Working!$R20,\" + \",Working!$S20,\" + \",Working!$T20,\" =\")","v":"$0.08 + $0.05 + $2.00 + $0.08 ="}]
[{"$f":"CONCATENATE(Working!A21,\")\")","v":"19)"},{"$f":"CONCATENATE(Working!$Q21,\" + \",Working!$R21,\" + \",Working!$S21,\" + \",Working!$T21,\" =\")","v":"$8.00 + $2.00 + $0.03 + $0.01 ="}]
[{"$f":"CONCATENATE(Working!A22,\")\")","v":"20)"},{"$f":"CONCATENATE(Working!$Q22,\" + \",Working!$R22,\" + \",Working!$S22,\" + \",Working!$T22,\" =\")","v":"$0.00 + $1.00 + $5.00 + $0.07 ="}]
[{"$f":"CONCATENATE(Working!A23,\")\")","v":"21)"},{"$f":"CONCATENATE(Working!$Q23,\" + \",Working!$R23,\" + \",Working!$S23,\" + \",Working!$T23,\" =\")","v":"$0.06 + $0.03 + $0.03 + $0.07 ="}]
[{"$f":"CONCATENATE(Working!A24,\")\")","v":"22)"},{"$f":"CONCATENATE(Working!$Q24,\" + \",Working!$R24,\" + \",Working!$S24,\" + \",Working!$T24,\" =\")","v":"$1.00 + $8.00 + $0.00 + $0.04 ="}]
[{"$f":"CONCATENATE(Working!A25,\")\")","v":"23)"},{"$f":"CONCATENATE(Working!$Q25,\" + \",Working!$R25,\" + \",Working!$S25,\" + \",Working!$T25,\" =\")","v":"$0.04 + $4.00 + $0.07 + $0.04 ="}]
[{"$f":"CONCATENATE(Working!A26,\")\")","v":"24)"},{"$f":"CONCATENATE(Working!$Q26,\" + \",Working!$R26,\" + \",Working!$S26,\" + \",Working!$T26,\" =\")","v":"$0.00 + $0.07 + $0.00 + $0.01 ="}]

{"sheet":"Answer Sheet","index":2,"n_rows":34,"n_cols":12,"rows_kept":34,"cut":false,"hidden":false,"merged":[]}
[null,null,null,null,null,null,"ADDITITION OF MONEY"]
[null,null,null,null,null,null,"Answers",null,null,{"$f":"CONCATENATE(\"Worksheet \",Working!B1,Working!A1)","v":"Worksheet ADB-263"}]
["Evaluate the following;"]
[{"$f":"CONCATENATE(Working!A3,\")\")","v":"1)"},null,"+",{"$f":"CONCATENATE(Working!A9,\")\")","v":"7)"},null,"+",{"$f":"CONCATENATE(Working!A15,\")\")","v":"13)"},null,"+",{"$f":"CONCATENATE(Working!A21,\")\")","v":"19)"},null,"+"]
[]
[]
[]
[]
[]
[{"$f":"CONCATENATE(Working!A4,\")\")","v":"2)"},null,"+",{"$f":"CONCATENATE(Working!A10,\")\")","v":"8)"},null,"+",{"$f":"CONCATENATE(Working!A16,\")\")","v":"14)"},null,"+",{"$f":"CONCATENATE(Working!A22,\")\")","v":"20)"},null,"+"]
[]
[]
[]
[]
[]
[{"$f":"CONCATENATE(Working!A5,\")\")","v":"3)"},null,"+",{"$f":"CONCATENATE(Working!A11,\")\")","v":"9)"},null,"+",{"$f":"CONCATENATE(Working!A17,\")\")","v":"15)"},null,"+",{"$f":"CONCATENATE(Working!A23,\")\")","v":"21)"},null,"+"]
[]
[]
[]
[]
[]
[{"$f":"CONCATENATE(Working!A6,\")\")","v":"4)"},null,"+",{"$f":"CONCATENATE(Working!A12,\")\")","v":"10)"},null,"+",{"$f":"CONCATENATE(Working!A18,\")\")","v":"16)"},null,"+",{"$f":"CONCATENATE(Working!A24,\")\")","v":"22)"},null,"+"]
[]
[]
[]
[]
[]
[{"$f":"CONCATENATE(Working!A7,\")\")","v":"5)"},null,"+",{"$f":"CONCATENATE(Working!A13,\")\")","v":"11)"},null,"+",{"$f":"CONCATENATE(Working!A19,\")\")","v":"17)"},null,"+",{"$f":"CONCATENATE(Working!A25,\")\")","v":"23)"},null,"+"]
[]
[]
[]
[]
[]
[{"$f":"CONCATENATE(Working!A8,\")\")","v":"6)"},null,"+",{"$f":"CONCATENATE(Working!A14,\")\")","v":"12)"},null,"+",{"$f":"CONCATENATE(Working!A20,\")\")","v":"18)"},null,"+",{"$f":"CONCATENATE(Working!A26,\")\")","v":"24)"},null,"+"]

{"sheet":"Answers","index":3,"n_rows":38,"n_cols":12,"rows_kept":38,"cut":false,"hidden":false,"merged":[]}
[null,null,null,null,null,null,"ADDITITION OF MONEY"]
[null,null,null,null,null,null,"Answers",null,null,{"$f":"CONCATENATE(\"Worksheet \",Working!B1,Working!A1)","v":"Worksheet ADB-263"}]
["Evaluate the following;"]
[{"$f":"CONCATENATE(Working!A3,\")\")","v":"1)"},{"$f":"Working!$Q3","v":"$0.05"},"+",{"$f":"CONCATENATE(Working!A9,\")\")","v":"7)"},{"$f":"Working!$Q9","v":"$0.05"},"+",{"$f":"CONCATENATE(Working!A15,\")\")","v":"13)"},{"$f":"Working!$Q15","v":"$0.03"},"+",{"$f":"CONCATENATE(Working!A21,\")\")","v":"19)"},{"$f":"Working!$Q21","v":"$8.00"},"+"]
[null,{"$f":"Working!$R3","v":"$0.07"},null,null,{"$f":"Working!$R9","v":"$0.06"},null,null,{"$f":"Working!$R15","v":"$0.00"},null,null,{"$f":"Working!$R21","v":"$2.00"}]
[null,{"$f":"Working!$S3","v":"$7.00"},null,null,{"$f":"Working!$S9","v":"$0.06"},null,null,{"$f":"Working!$S15","v":"$0.00"},null,null,{"$f":"Working!$S21","v":"$0.03"}]
[null,{"$f":"Working!$T3","v":"$0.03"},null,null,{"$f":"Working!$T9","v":"$0.02"},null,null,{"$f":"Working!$T15","v":"$0.03"},null,null,{"$f":"Working!$T21","v":"$0.01"}]
[null,{"$f":"Working!$U3","v":"$7.15"},null,null,{"$f":"Working!$U9","v":"$0.19"},null,null,{"$f":"Working!$U15","v":"$0.06"},null,null,{"$f":"Working!$U21","v":"$10.04"}]
[]
[{"$f":"CONCATENATE(Working!A4,\")\")","v":"2)"},{"$f":"Working!$Q4","v":"$4.00"},"+",{"$f":"CONCATENATE(Working!A10,\")\")","v":"8)"},{"$f":"Working!$Q10","v":"$0.00"},"+",{"$f":"CONCATENATE(Working!A16,\")\")","v":"14)"},{"$f":"Working!$Q16","v":"$0.05"},"+",{"$f":"CONCATENATE(Working!A22,\")\")","v":"20)"},{"$f":"Working!$Q22","v":"$0.00"},"+"]
[null,{"$f":"Working!$R4","v":"$0.08"},null,null,{"$f":"Working!$R10","v":"$7.00"},null,null,{"$f":"Working!$R16","v":"$0.07"},null,null,{"$f":"Working!$R22","v":"$1.00"}]
[null,{"$f":"Working!$S4","v":"$0.06"},null,null,{"$f":"Working!$S10","v":"$0.01"},null,null,{"$f":"Working!$S16","v":"$5.00"},null,null,{"$f":"Working!$S22","v":"$5.00"}]
[null,{"$f":"Working!$T4","v":"$0.00"},null,null,{"$f":"Working!$T10","v":"$8.00"},null,null,{"$f":"Working!$T16","v":"$5.00"},null,null,{"$f":"Working!$T22","v":"$0.07"}]
[null,{"$f":"Working!$U4","v":"$4.14"},null,null,{"$f":"Working!$U10","v":"$15.01"},null,null,{"$f":"Working!$U16","v":"$10.12"},null,null,{"$f":"Working!$U22","v":"$6.07"}]
[]
[{"$f":"CONCATENATE(Working!A5,\")\")","v":"3)"},{"$f":"Working!$Q5","v":"$0.02"},"+",{"$f":"CONCATENATE(Working!A11,\")\")","v":"9)"},{"$f":"Working!$Q11","v":"$0.01"},"+",{"$f":"CONCATENATE(Working!A17,\")\")","v":"15)"},{"$f":"Working!$Q17","v":"$0.07"},"+",{"$f":"CONCATENATE(Working!A23,\")\")","v":"21)"},{"$f":"Working!$Q23","v":"$0.06"},"+"]
[null,{"$f":"Working!$R5","v":"$8.00"},null,null,{"$f":"Working!$R11","v":"$0.04"},null,null,{"$f":"Working!$R17","v":"$0.08"},null,null,{"$f":"Working!$R23","v":"$0.03"}]
[null,{"$f":"Working!$S5","v":"$0.01"},null,null,{"$f":"Working!$S11","v":"$0.05"},null,null,{"$f":"Working!$S17","v":"$2.00"},null,null,{"$f":"Working!$S23","v":"$0.03"}]
[null,{"$f":"Working!$T5","v":"$0.04"},null,null,{"$f":"Working!$T11","v":"$0.05"},null,null,{"$f":"Working!$T17","v":"$0.01"},null,null,{"$f":"Working!$T23","v":"$0.07"}]
[null,{"$f":"Working!$U5","v":"$8.07"},null,null,{"$f":"Working!$U11","v":"$0.15"},null,null,{"$f":"Working!$U17","v":"$2.16"},null,null,{"$f":"Working!$U23","v":"$0.19"}]
[]
[{"$f":"CONCATENATE(Working!A6,\")\")","v":"4)"},{"$f":"Working!$Q6","v":"$0.08"},"+",{"$f":"CONCATENATE(Working!A12,\")\")","v":"10)"},{"$f":"Working!$Q12","v":"$0.03"},"+",{"$f":"CONCATENATE(Working!A18,\")\")","v":"16)"},{"$f":"Working!$Q18","v":"$6.00"},"+",{"$f":"CONCATENATE(Working!A24,\")\")","v":"22)"},{"$f":"Working!$Q24","v":"$1.00"},"+"]
[null,{"$f":"Working!$R6","v":"$0.03"},null,null,{"$f":"Working!$R12","v":"$0.01"},null,null,{"$f":"Working!$R18","v":"$4.00"},null,null,{"$f":"Working!$R24","v":"$8.00"}]
[null,{"$f":"Working!$S6","v":"$0.07"},null,null,{"$f":"Working!$S12","v":"$0.07"},null,null,{"$f":"Working!$S18","v":"$0.00"},null,null,{"$f":"Working!$S24","v":"$0.00"}]
[null,{"$f":"Working!$T6","v":"$0.05"},null,null,{"$f":"Working!$T12","v":"$5.00"},null,null,{"$f":"Working!$T18","v":"$0.00"},null,null,{"$f":"Working!$T24","v":"$0.04"}]
[null,{"$f":"Working!$U6","v":"$0.23"},null,null,{"$f":"Working!$U12","v":"$5.11"},null,null,{"$f":"Working!$U18","v":"$10.00"},null,null,{"$f":"Working!$U24","v":"$9.04"}]
[]
[{"$f":"CONCATENATE(Working!A7,\")\")","v":"5)"},{"$f":"Working!$Q7","v":"$0.07"},"+",{"$f":"CONCATENATE(Working!A13,\")\")","v":"11)"},{"$f":"Working!$Q13","v":"$0.05"},"+",{"$f":"CONCATENATE(Working!A19,\")\")","v":"17)"},{"$f":"Working!$Q19","v":"$0.05"},"+",{"$f":"CONCATENATE(Working!A25,\")\")","v":"23)"},{"$f":"Working!$Q25","v":"$0.04"},"+"]
[null,{"$f":"Working!$R7","v":"$0.05"},null,null,{"$f":"Working!$R13","v":"$6.00"},null,null,{"$f":"Working!$R19","v":"$0.04"},null,null,{"$f":"Working!$R25","v":"$4.00"}]
[null,{"$f":"Working!$S7","v":"$0.02"},null,null,{"$f":"Working!$S13","v":"$0.05"},null,null,{"$f":"Working!$S19","v":"$0.02"},null,null,{"$f":"Working!$S25","v":"$0.07"}]
[null,{"$f":"Working!$T7","v":"$0.05"},null,null,{"$f":"Working!$T13","v":"$0.04"},null,null,{"$f":"Working!$T19","v":"$0.01"},null,null,{"$f":"Working!$T25","v":"$0.04"}]
[null,{"$f":"Working!$U7","v":"$0.19"},null,null,{"$f":"Working!$U13","v":"$6.14"},null,null,{"$f":"Working!$U19","v":"$0.12"},null,null,{"$f":"Working!$U25","v":"$4.15"}]
[]
[{"$f":"CONCATENATE(Working!A8,\")\")","v":"6)"},{"$f":"Working!$Q8","v":"$0.00"},"+",{"$f":"CONCATENATE(Working!A14,\")\")","v":"12)"},{"$f":"Working!$Q14","v":"$0.02"},"+",{"$f":"CONCATENATE(Working!A20,\")\")","v":"18)"},{"$f":"Working!$Q20","v":"$0.08"},"+",{"$f":"CONCATENATE(Working!A26,\")\")","v":"24)"},{"$f":"Working!$Q26","v":"$0.00"},"+"]
[null,{"$f":"Working!$R8","v":"$0.04"},null,null,{"$f":"Working!$R14","v":"$0.04"},null,null,{"$f":"Working!$R20","v":"$0.05"},null,null,{"$f":"Working!$R26","v":"$0.07"}]
[null,{"$f":"Working!$S8","v":"$4.00"},null,null,{"$f":"Working!$S14","v":"$0.00"},null,null,{"$f":"Working!$S20","v":"$2.00"},null,null,{"$f":"Working!$S26","v":"$0.00"}]
[null,{"$f":"Working!$T8","v":"$0.00"},null,null,{"$f":"Working!$T14","v":"$0.00"},null,null,{"$f":"Working!$T20","v":"$0.08"},null,null,{"$f":"Working!$T26","v":"$0.01"}]
[null,{"$f":"Working!$U8","v":"$4.04"},null,null,{"$f":"Working!$U14","v":"$0.06"},null,null,{"$f":"Working!$U20","v":"$2.21"},null,null,{"$f":"Working!$U26","v":"$0.08"}]

{"sheet":"Working","index":4,"n_rows":42,"n_cols":21,"rows_kept":42,"cut":false,"hidden":true,"merged":[]}
[{"$f":"INT(900*RAND()+100)","v":263},"ADB-"]
[null,"1st","2nd","3rd","4th"]
[1,{"$f":"INT(9*(10^((INT((Values!$F$7-1)*RAND()+1))))*RAND())","v":5},{"$f":"INT(9*(10^((INT((Values!$F$7-1)*RAND()+1))))*RAND())","v":7},{"$f":"INT(9*(10^((INT((Values!$F$7-1)*RAND()+1))))*RAND())","v":7},{"$f":"INT(9*(10^((INT((Values!$F$7-1)*RAND()+1))))*RAND())","v":3},null,{"$f":"INT(5*RAND())","v":1},{"$f":"IF(G3=0,B3,B3/100)","v":0.05},{"$f":"INT(5*RAND())","v":3},{"$f":"IF(I3=0,C3,C3/100)","v":7.0000000000000007E-2},{"$f":"INT(5*RAND())","v":0},{"$f":"IF(K3=0,D3,D3/100)","v":7},{"$f":"INT(5*RAND())","v":3},{"$f":"IF(M3=0,E3,E3/100)","v":0.03},{"$f":"INT(5*RAND())","v":1},{"$f":"H3+J3+L3+N3","v":7.15},{"$f":"IF(INT(H3)=H3,CONCATENATE(\"$\",H3,\".00\"),IF(INT(10*H3)=10*H3,CONCATENATE(\"$\",H3,\"0\"),CONCATENATE(\"$\",H3)))","v":"$0.05"},{"$f":"IF(INT(J3)=J3,CONCATENATE(\"$\",J3,\".00\"),IF(INT(10*J3)=10*J3,CONCATENATE(\"$\",J3,\"0\"),CONCATENATE(\"$\",J3)))","v":"$0.07"},{"$f":"IF(INT(L3)=L3,CONCATENATE(\"$\",L3,\".00\"),IF(INT(10*L3)=10*L3,CONCATENATE(\"$\",L3,\"0\"),CONCATENATE(\"$\",L3)))","v":"$7.00"},{"$f":"IF(INT(N3)=N3,CONCATENATE(\"$\",N3,\".00\"),IF(INT(10*N3)=10*N3,CONCATENATE(\"$\",N3,\"0\"),CONCATENATE(\"$\",N3)))","v":"$0.03"},{"$f":"IF(INT(P3)=P3,CONCATENATE(\"$\",P3,\".00\"),IF(INT(10*P3)=10*P3,CONCATENATE(\"$\",P3,\"0\"),CONCATENATE(\"$\",P3)))","v":"$7.15"}]
[2,{"$f":"INT(9*(10^((INT((Values!$F$7-1)*RAND()+1))))*RAND())","v":4},{"$f":"INT(9*(10^((INT((Values!$F$7-1)*RAND()+1))))*RAND())","v":8},{"$f":"INT(9*(10^((INT((Values!$F$7-1)*RAND()+1))))*RAND())","v":6},{"$f":"INT(9*(10^((INT((Values!$F$7-1)*RAND()+1))))*RAND())","v":0},null,{"$f":"INT(5*RAND())","v":0},4,{"$f":"INT(5*RAND())","v":4},0.08,{"$f":"INT(5*RAND())","v":4},0.06,{"$f":"INT(5*RAND())","v":2},0,{"$f":"INT(5*RAND())","v":0},{"$f":"H4+J4+L4+N4","v":4.1399999999999997},{"$f":"IF(INT(H4)=H4,CONCATENATE(\"$\",H4,\".00\"),IF(INT(10*H4)=10*H4,CONCATENATE(\"$\",H4,\"0\"),CONCATENATE(\"$\",H4)))","v":"$4.00"},{"$f":"IF(INT(J4)=J4,CONCATENATE(\"$\",J4,\".00\"),IF(INT(10*J4)=10*J4,CONCATENATE(\"$\",J4,\"0\"),CONCATENATE(\"$\",J4)))","v":"$0.08"},{"$f":"IF(INT(L4)=L4,CONCATENATE(\"$\",L4,\".00\"),IF(INT(10*L4)=10*L4,CONCATENATE(\"$\",L4,\"0\"),CONCATENATE(\"$\",L4)))","v":"$0.06"},{"$f":"IF(INT(N4)=N4,CONCATENATE(\"$\",N4,\".00\"),IF(INT(10*N4)=10*N4,CONCATENATE(\"$\",N4,\"0\"),CONCATENATE(\"$\",N4)))","v":"$0.00"},{"$f":"IF(INT(P4)=P4,CONCATENATE(\"$\",P4,\".00\"),IF(INT(10*P4)=10*P4,CONCATENATE(\"$\",P4,\"0\"),CONCATENATE(\"$\",P4)))","v":"$4.14"}]
[3,{"$f":"INT(9*(10^((INT((Values!$F$7-1)*RAND()+1))))*RAND())","v":2},{"$f":"INT(9*(10^((INT((Values!$F$7-1)*RAND()+1))))*RAND())","v":8},{"$f":"INT(9*(10^((INT((Values!$F$7-1)*RAND()+1))))*RAND())","v":1},{"$f":"INT(9*(10^((INT((Values!$F$7-1)*RAND()+1))))*RAND())","v":4},null,4,0.02,0,8,1,0.01,3,0.04,3,8.0699999999999985,"$0.02","$8.00","$0.01","$0.04","$8.07"]
[4,{"$f":"INT(9*(10^((INT((Values!$F$7-1)*RAND()+1))))*RAND())","v":8},{"$f":"INT(9*(10^((INT((Values!$F$7-1)*RAND()+1))))*RAND())","v":3},{"$f":"INT(9*(10^((INT((Values!$F$7-1)*RAND()+1))))*RAND())","v":7},{"$f":"INT(9*(10^((INT((Values!$F$7-1)*RAND()+1))))*RAND())","v":5},null,3,0.08,3,0.03,3,7.0000000000000007E-2,2,0.05,2,0.22999999999999998,"$0.08","$0.03","$0.07","$0.05","$0.23"]
[5,{"$f":"INT(9*(10^((INT((Values!$F$7-1)*RAND()+1))))*RAND())","v":7},{"$f":"INT(9*(10^((INT((Values!$F$7-1)*RAND()+1))))*RAND())","v":5},{"$f":"INT(9*(10^((INT((Values!$F$7-1)*RAND()+1))))*RAND())","v":2},{"$f":"INT(9*(10^((INT((Values!$F$7-1)*RAND()+1))))*RAND())","v":5},null,2,7.0000000000000007E-2,4,0.05,2,0.02,1,0.05,0,0.19,"$0.07","$0.05","$0.02","$0.05","$0.19"]
[6,{"$f":"INT(9*(10^((INT((Values!$F$7-1)*RAND()+1))))*RAND())","v":0},{"$f":"INT(9*(10^((INT((Values!$F$7-1)*RAND()+1))))*RAND())","v":4},{"$f":"INT(9*(10^((INT((Values!$F$7-1)*RAND()+1))))*RAND())","v":4},{"$f":"INT(9*(10^((INT((Values!$F$7-1)*RAND()+1))))*RAND())","v":0},null,2,0,3,0.04,0,4,0,0,2,4.04,"$0.00","$0.04","$4.00","$0.00","$4.04"]
[7,{"$f":"INT(9*(10^((INT((Values!$F$7-1)*RAND()+1))))*RAND())","v":5},{"$f":"INT(9*(10^((INT((Values!$F$7-1)*RAND()+1))))*RAND())","v":6},{"$f":"INT(9*(10^((INT((Values!$F$7-1)*RAND()+1))))*RAND())","v":6},{"$f":"INT(9*(10^((INT((Values!$F$7-1)*RAND()+1))))*RAND())","v":2},null,4,0.05,2,0.06,3,0.06,2,0.02,4,0.18999999999999997,"$0.05","$0.06","$0.06","$0.02","$0.19"]
[8,{"$f":"INT(9*(10^((INT((Values!$F$7-1)*RAND()+1))))*RAND())","v":0},{"$f":"INT(9*(10^((INT((Values!$F$7-1)*RAND()+1))))*RAND())","v":7},{"$f":"INT(9*(10^((INT((Values!$F$7-1)*RAND()+1))))*RAND())","v":1},{"$f":"INT(9*(10^((INT((Values!$F$7-1)*RAND()+1))))*RAND())","v":8},null,4,0,0,7,4,0.01,0,8,4,15.01,"$0.00","$7.00","$0.01","$8.00","$15.01"]
[9,{"$f":"INT(9*(10^((INT((Values!$F$7-1)*RAND()+1))))*RAND())","v":1},{"$f":"INT(9*(10^((INT((Values!$F$7-1)*RAND()+1))))*RAND())","v":4},{"$f":"INT(9*(10^((INT((Values!$F$7-1)*RAND()+1))))*RAND())","v":5},{"$f":"INT(9*(10^((INT((Values!$F$7-1)*RAND()+1))))*RAND())","v":5},null,2,0.01,3,0.04,1,0.05,2,0.05,1,0.15000000000000002,"$0.01","$0.04","$0.05","$0.05","$0.15"]
[10,{"$f":"INT(9*(10^((INT((Values!$F$7-1)*RAND()+1))))*RAND())","v":3},{"$f":"INT(9*(10^((INT((Values!$F$7-1)*RAND()+1))))*RAND())","v":1},{"$f":"INT(9*(10^((INT((Values!$F$7-1)*RAND()+1))))*RAND())","v":7},{"$f":"INT(9*(10^((INT((Values!$F$7-1)*RAND()+1))))*RAND())","v":5},null,3,0.03,2,0.01,1,7.0000000000000007E-2,0,5,4,5.1100000000000003,"$0.03","$0.01","$0.07","$5.00","$5.11"]
[11,{"$f":"INT(9*(10^((INT((Values!$F$7-1)*RAND()+1))))*RAND())","v":5},{"$f":"INT(9*(10^((INT((Values!$F$7-1)*RAND()+1))))*RAND())","v":6},{"$f":"INT(9*(10^((INT((Values!$F$7-1)*RAND()+1))))*RAND())","v":5},{"$f":"INT(9*(10^((INT((Values!$F$7-1)*RAND()+1))))*RAND())","v":4},null,4,0.05,0,6,4,0.05,2,0.04,4,6.14,"$0.05","$6.00","$0.05","$0.04","$6.14"]
[12,{"$f":"INT(9*(10^((INT((Values!$F$7-1)*RAND()+1))))*RAND())","v":2},{"$f":"INT(9*(10^((INT((Values!$F$7-1)*RAND()+1))))*RAND())","v":4},{"$f":"INT(9*(10^((INT((Values!$F$7-1)*RAND()+1))))*RAND())","v":0},{"$f":"INT(9*(10^((INT((Values!$F$7-1)*RAND()+1))))*RAND())","v":0},null,1,0.02,2,0.04,3,0,1,0,4,0.06,"$0.02","$0.04","$0.00","$0.00","$0.06"]
[13,{"$f":"INT(9*(10^((INT((Values!$F$7-1)*RAND()+1))))*RAND())","v":3},{"$f":"INT(9*(10^((INT((Values!$F$7-1)*RAND()+1))))*RAND())","v":0},{"$f":"INT(9*(10^((INT((Values!$F$7-1)*RAND()+1))))*RAND())","v":0},{"$f":"INT(9*(10^((INT((Values!$F$7-1)*RAND()+1))))*RAND())","v":3},null,1,0.03,1,0,0,0,4,0.03,1,0.06,"$0.03","$0.00","$0.00","$0.03","$0.06"]
[14,{"$f":"INT(9*(10^((INT((Values!$F$7-1)*RAND()+1))))*RAND())","v":5},{"$f":"INT(9*(10^((INT((Values!$F$7-1)*RAND()+1))))*RAND())","v":7},{"$f":"INT(9*(10^((INT((Values!$F$7-1)*RAND()+1))))*RAND())","v":5},{"$f":"INT(9*(10^((INT((Values!$F$7-1)*RAND()+1))))*RAND())","v":5},null,4,0.05,3,7.0000000000000007E-2,0,5,0,5,1,10.120000000000001,"$0.05","$0.07","$5.00","$5.00","$10.12"]
[15,{"$f":"INT(9*(10^((INT((Values!$F$7-1)*RAND()+1))))*RAND())","v":7},{"$f":"INT(9*(10^((INT((Values!$F$7-1)*RAND()+1))))*RAND())","v":8},{"$f":"INT(9*(10^((INT((Values!$F$7-1)*RAND()+1))))*RAND())","v":2},{"$f":"INT(9*(10^((INT((Values!$F$7-1)*RAND()+1))))*RAND())","v":1},null,4,7.0000000000000007E-2,2,0.08,0,2,2,0.01,2,2.1599999999999997,"$0.07","$0.08","$2.00","$0.01","$2.16"]
[16,{"$f":"INT(9*(10^((INT((Values!$F$7-1)*RAND()+1))))*RAND())","v":6},{"$f":"INT(9*(10^((INT((Values!$F$7-1)*RAND()+1))))*RAND())","v":4},{"$f":"INT(9*(10^((INT((Values!$F$7-1)*RAND()+1))))*RAND())","v":0},{"$f":"INT(9*(10^((INT((Values!$F$7-1)*RAND()+1))))*RAND())","v":0},null,0,6,0,4,2,0,3,0,3,10,"$6.00","$4.00","$0.00","$0.00","$10.00"]
[17,{"$f":"INT(9*(10^((INT((Values!$F$7-1)*RAND()+1))))*RAND())","v":5},{"$f":"INT(9*(10^((INT((Values!$F$7-1)*RAND()+1))))*RAND())","v":4},{"$f":"INT(9*(10^((INT((Values!$F$7-1)*RAND()+1))))*RAND())","v":2},{"$f":"INT(9*(10^((INT((Values!$F$7-1)*RAND()+1))))*RAND())","v":1},null,2,0.05,3,0.04,2,0.02,4,0.01,1,0.12,"$0.05","$0.04","$0.02","$0.01","$0.12"]
[18,{"$f":"INT(9*(10^((INT((Values!$F$7-1)*RAND()+1))))*RAND())","v":8},{"$f":"INT(9*(10^((INT((Values!$F$7-1)*RAND()+1))))*RAND())","v":5},{"$f":"INT(9*(10^((INT((Values!$F$7-1)*RAND()+1))))*RAND())","v":2},{"$f":"INT(9*(10^((INT((Values!$F$7-1)*RAND()+1))))*RAND())","v":8},null,1,0.08,4,0.05,0,2,2,0.08,2,2.21,"$0.08","$0.05","$2.00","$0.08","$2.21"]
[19,{"$f":"INT(9*(10^((INT((Values!$F$7-1)*RAND()+1))))*RAND())","v":8},{"$f":"INT(9*(10^((INT((Values!$F$7-1)*RAND()+1))))*RAND())","v":2},{"$f":"INT(9*(10^((INT((Values!$F$7-1)*RAND()+1))))*RAND())","v":3},{"$f":"INT(9*(10^((INT((Values!$F$7-1)*RAND()+1))))*RAND())","v":1},null,0,8,0,2,4,0.03,3,0.01,4,10.039999999999999,"$8.00","$2.00","$0.03","$0.01","$10.04"]
[20,{"$f":"INT(9*(10^((INT((Values!$F$7-1)*RAND()+1))))*RAND())","v":0},{"$f":"INT(9*(10^((INT((Values!$F$7-1)*RAND()+1))))*RAND())","v":1},{"$f":"INT(9*(10^((INT((Values!$F$7-1)*RAND()+1))))*RAND())","v":5},{"$f":"INT(9*(10^((INT((Values!$F$7-1)*RAND()+1))))*RAND())","v":7},null,3,0,0,1,0,5,3,7.0000000000000007E-2,3,6.07,"$0.00","$1.00","$5.00","$0.07","$6.07"]
[21,{"$f":"INT(9*(10^((INT((Values!$F$7-1)*RAND()+1))))*RAND())","v":6},{"$f":"INT(9*(10^((INT((Values!$F$7-1)*RAND()+1))))*RAND())","v":3},{"$f":"INT(9*(10^((INT((Values!$F$7-1)*RAND()+1))))*RAND())","v":3},{"$f":"INT(9*(10^((INT((Values!$F$7-1)*RAND()+1))))*RAND())","v":7},null,2,0.06,3,0.03,4,0.03,1,7.0000000000000007E-2,1,0.19,"$0.06","$0.03","$0.03","$0.07","$0.19"]
[22,{"$f":"INT(9*(10^((INT((Values!$F$7-1)*RAND()+1))))*RAND())","v":1},{"$f":"INT(9*(10^((INT((Values!$F$7-1)*RAND()+1))))*RAND())","v":8},{"$f":"INT(9*(10^((INT((Values!$F$7-1)*RAND()+1))))*RAND())","v":0},{"$f":"INT(9*(10^((INT((Values!$F$7-1)*RAND()+1))))*RAND())","v":4},null,0,1,0,8,3,0,2,0.04,3,9.0399999999999991,"$1.00","$8.00","$0.00","$0.04","$9.04"]
[23,{"$f":"INT(9*(10^((INT((Values!$F$7-1)*RAND()+1))))*RAND())","v":4},{"$f":"INT(9*(10^((INT((Values!$F$7-1)*RAND()+1))))*RAND())","v":4},{"$f":"INT(9*(10^((INT((Values!$F$7-1)*RAND()+1))))*RAND())","v":7},{"$f":"INT(9*(10^((INT((Values!$F$7-1)*RAND()+1))))*RAND())","v":4},null,4,0.04,0,4,2,7.0000000000000007E-2,1,0.04,1,4.1500000000000004,"$0.04","$4.00","$0.07","$0.04","$4.15"]
[24,{"$f":"INT(9*(10^((INT((Values!$F$7-1)*RAND()+1))))*RAND())","v":0},{"$f":"INT(9*(10^((INT((Values!$F$7-1)*RAND()+1))))*RAND())","v":7},{"$f":"INT(9*(10^((INT((Values!$F$7-1)*RAND()+1))))*RAND())","v":0},{"$f":"INT(9*(10^((INT((Values!$F$7-1)*RAND()+1))))*RAND())","v":1},null,3,0,3,7.0000000000000007E-2,1,0,1,0.01,3,0.08,"$0.00","$0.07","$0.00","$0.01","$0.08"]
[25,{"$f":"INT(9*(10^((INT((Values!$F$7-1)*RAND()+1))))*RAND())","v":8},{"$f":"INT(9*(10^((INT((Values!$F$7-1)*RAND()+1))))*RAND())","v":3},{"$f":"INT(9*(10^((INT((Values!$F$7-1)*RAND()+1))))*RAND())","v":1},{"$f":"INT(9*(10^((INT((Values!$F$7-1)*RAND()+1))))*RAND())","v":5},null,4,0.08,0,3,2,0.01,2,0.05,2,3.1399999999999997,"$0.08","$3.00","$0.01","$0.05","$3.14"]
[26,{"$f":"INT(9*(10^((INT((Values!$F$7-1)*RAND()+1))))*RAND())","v":5},{"$f":"INT(9*(10^((INT((Values!$F$7-1)*RAND()+1))))*RAND())","v":2},{"$f":"INT(9*(10^((INT((Values!$F$7-1)*RAND()+1))))*RAND())","v":1},{"$f":"INT(9*(10^((INT((Values!$F$7-1)*RAND()+1))))*RAND())","v":5},null,2,0.05,3,0.02,2,0.01,4,0.05,2,0.13,"$0.05","$0.02","$0.01","$0.05","$0.13"]
[27,{"$f":"INT(9*(10^((INT((Values!$F$7-1)*RAND()+1))))*RAND())","v":2},{"$f":"INT(9*(10^((INT((Values!$F$7-1)*RAND()+1))))*RAND())","v":6},{"$f":"INT(9*(10^((INT((Values!$F$7-1)*RAND()+1))))*RAND())","v":1},{"$f":"INT(9*(10^((INT((Values!$F$7-1)*RAND()+1))))*RAND())","v":4},null,3,0.02,4,0.06,0,1,1,0.04,0,1.1200000000000001,"$0.02","$0.06","$1.00","$0.04","$1.12"]
[28,{"$f":"INT(9*(10^((INT((Values!$F$7-1)*RAND()+1))))*RAND())","v":2},{"$f":"INT(9*(10^((INT((Values!$F$7-1)*RAND()+1))))*RAND())","v":2},{"$f":"INT(9*(10^((INT((Values!$F$7-1)*RAND()+1))))*RAND())","v":6},{"$f":"INT(9*(10^((INT((Values!$F$7-1)*RAND()+1))))*RAND())","v":2},null,4,0.02,3,0.02,4,0.06,4,0.02,3,0.12000000000000001,"$0.02","$0.02","$0.06","$0.02","$0.12"]
[29,{"$f":"INT(9*(10^((INT((Values!$F$7-1)*RAND()+1))))*RAND())","v":2},{"$f":"INT(9*(10^((INT((Values!$F$7-1)*RAND()+1))))*RAND())","v":1},{"$f":"INT(9*(10^((INT((Values!$F$7-1)*RAND()+1))))*RAND())","v":4},{"$f":"INT(9*(10^((INT((Values!$F$7-1)*RAND()+1))))*RAND())","v":0},null,4,0.02,4,0.01,2,0.04,2,0,2,7.0000000000000007E-2,"$0.02","$0.01","$0.04","$0.00","$0.07"]
[30,{"$f":"INT(9*(10^((INT((Values!$F$7-1)*RAND()+1))))*RAND())","v":6},{"$f":"INT(9*(10^((INT((Values!$F$7-1)*RAND()+1))))*RAND())","v":6},{"$f":"INT(9*(10^((INT((Values!$F$7-1)*RAND()+1))))*RAND())","v":7},{"$f":"INT(9*(10^((INT((Values!$F$7-1)*RAND()+1))))*RAND())","v":1},null,4,0.06,0,6,2,7.0000000000000007E-2,1,0.01,0,6.14,"$0.06","$6.00","$0.07","$0.01","$6.14"]
[31,{"$f":"INT(9*(10^((INT((Values!$F$7-1)*RAND()+1))))*RAND())","v":6},{"$f":"INT(9*(10^((INT((Values!$F$7-1)*RAND()+1))))*RAND())","v":2},{"$f":"INT(9*(10^((INT((Values!$F$7-1)*RAND()+1))))*RAND())","v":5},{"$f":"INT(9*(10^((INT((Values!$F$7-1)*RAND()+1))))*RAND())","v":1},null,4,0.06,4,0.02,4,0.05,4,0.01,4,0.14000000000000001,"$0.06","$0.02","$0.05","$0.01","$0.14"]
[32,{"$f":"INT(9*(10^((INT((Values!$F$7-1)*RAND()+1))))*RAND())","v":5},{"$f":"INT(9*(10^((INT((Values!$F$7-1)*RAND()+1))))*RAND())","v":3},{"$f":"INT(9*(10^((INT((Values!$F$7-1)*RAND()+1))))*RAND())","v":7},{"$f":"INT(9*(10^((INT((Values!$F$7-1)*RAND()+1))))*RAND())","v":5},null,4,0.05,0,3,0,7,2,0.05,0,10.100000000000001,"$0.05","$3.00","$7.00","$0.05","$10.10"]
[33,{"$f":"INT(9*(10^((INT((Values!$F$7-1)*RAND()+1))))*RAND())","v":1},{"$f":"INT(9*(10^((INT((Values!$F$7-1)*RAND()+1))))*RAND())","v":3},{"$f":"INT(9*(10^((INT((Values!$F$7-1)*RAND()+1))))*RAND())","v":0},{"$f":"INT(9*(10^((INT((Values!$F$7-1)*RAND()+1))))*RAND())","v":3},null,4,0.01,2,0.03,3,0,0,3,3,3.04,"$0.01","$0.03","$0.00","$3.00","$3.04"]
[34,{"$f":"INT(9*(10^((INT((Values!$F$7-1)*RAND()+1))))*RAND())","v":6},{"$f":"INT(9*(10^((INT((Values!$F$7-1)*RAND()+1))))*RAND())","v":7},{"$f":"INT(9*(10^((INT((Values!$F$7-1)*RAND()+1))))*RAND())","v":1},{"$f":"INT(9*(10^((INT((Values!$F$7-1)*RAND()+1))))*RAND())","v":6},null,4,0.06,3,7.0000000000000007E-2,0,1,4,0.06,2,1.19,"$0.06","$0.07","$1.00","$0.06","$1.19"]
[35,{"$f":"INT(9*(10^((INT((Values!$F$7-1)*RAND()+1))))*RAND())","v":1},{"$f":"INT(9*(10^((INT((Values!$F$7-1)*RAND()+1))))*RAND())","v":3},{"$f":"INT(9*(10^((INT((Values!$F$7-1)*RAND()+1))))*RAND())","v":7},{"$f":"INT(9*(10^((INT((Values!$F$7-1)*RAND()+1))))*RAND())","v":7},null,2,0.01,4,0.03,1,7.0000000000000007E-2,4,7.0000000000000007E-2,4,0.18000000000000002,"$0.01","$0.03","$0.07","$0.07","$0.18"]
[36,{"$f":"INT(9*(10^((INT((Values!$F$7-1)*RAND()+1))))*RAND())","v":4},{"$f":"INT(9*(10^((INT((Values!$F$7-1)*RAND()+1))))*RAND())","v":1},{"$f":"INT(9*(10^((INT((Values!$F$7-1)*RAND()+1))))*RAND())","v":1},{"$f":"INT(9*(10^((INT((Values!$F$7-1)*RAND()+1))))*RAND())","v":2},null,3,0.04,1,0.01,2,0.01,2,0.02,0,0.08,"$0.04","$0.01","$0.01","$0.02","$0.08"]
[37,{"$f":"INT(9*(10^((INT((Values!$F$7-1)*RAND()+1))))*RAND())","v":1},{"$f":"INT(9*(10^((INT((Values!$F$7-1)*RAND()+1))))*RAND())","v":8},{"$f":"INT(9*(10^((INT((Values!$F$7-1)*RAND()+1))))*RAND())","v":1},{"$f":"INT(9*(10^((INT((Values!$F$7-1)*RAND()+1))))*RAND())","v":1},null,0,1,1,0.08,4,0.01,3,0.01,3,1.1000000000000001,"$1.00","$0.08","$0.01","$0.01","$1.10"]
[38,{"$f":"INT(9*(10^((INT((Values!$F$7-1)*RAND()+1))))*RAND())","v":1},{"$f":"INT(9*(10^((INT((Values!$F$7-1)*RAND()+1))))*RAND())","v":7},{"$f":"INT(9*(10^((INT((Values!$F$7-1)*RAND()+1))))*RAND())","v":6},{"$f":"INT(9*(10^((INT((Values!$F$7-1)*RAND()+1))))*RAND())","v":6},null,1,0.01,1,7.0000000000000007E-2,2,0.06,4,0.06,3,0.2,"$0.01","$0.07","$0.06","$0.06","$0.20"]
[39,{"$f":"INT(9*(10^((INT((Values!$F$7-1)*RAND()+1))))*RAND())","v":4},{"$f":"INT(9*(10^((INT((Values!$F$7-1)*RAND()+1))))*RAND())","v":5},{"$f":"INT(9*(10^((INT((Values!$F$7-1)*RAND()+1))))*RAND())","v":2},{"$f":"INT(9*(10^((INT((Values!$F$7-1)*RAND()+1))))*RAND())","v":5},null,2,0.04,3,0.05,3,0.02,1,0.05,0,0.16,"$0.04","$0.05","$0.02","$0.05","$0.16"]
[40,{"$f":"INT(9*(10^((INT((Values!$F$7-1)*RAND()+1))))*RAND())","v":7},{"$f":"INT(9*(10^((INT((Values!$F$7-1)*RAND()+1))))*RAND())","v":1},{"$f":"INT(9*(10^((INT((Values!$F$7-1)*RAND()+1))))*RAND())","v":3},{"$f":"INT(9*(10^((INT((Values!$F$7-1)*RAND()+1))))*RAND())","v":8},null,3,7.0000000000000007E-2,1,0.01,1,0.03,2,0.08,0,0.19,"$0.07","$0.01","$0.03","$0.08","$0.19"]