{"text_format":"1","workbook":"xlsx","n_sheets":6,"sheets":["Values","WorkSheet","Answer Sheet","Answers","Answers 2","Working"],"not_rendered":{"charts":0,"images":0,"macros":1,"external_links":0,"defined_names":0,"comments":0,"pivot_tables":0},"unopened":[],"bounds":{"document_bytes":16777216,"sheet_cells":100000,"rows_first":2000,"rows_last":500,"rows_between":2000,"halvings":0,"cell_chars":16384,"cell_head_chars":4096},"cells_cut":0,"cells_raw":0,"read":"whole","date_system":"1900"}

{"sheet":"Values","index":0,"n_rows":19,"n_cols":9,"rows_kept":19,"cut":false,"hidden":false,"merged":[[8,8,12,9],[10,2,13,7],[1,2,1,6],[8,2,8,6],[3,2,4,8]]}
[null,null,null,null,"MULTIPLICATION OF MONEY"]
[null,null,"INSTRUCTIONS"]
[]
[null,"Step 1","Enter the number to be used for multiplying money in this sheet. (A whole number ≥ 2 and ≤ 10)."]
[]
[]
[null,null,"Maximum multiplier",null,null,null,10,"NOTE: ","Choose 2 to 6 if you want to avoid times tables issues"]
[]
[null,"Step 2","Click on WorkSheet tab below.",null,null,null,null,null,"PRESS F9 for NEW WorkSheet"]
[]
[null,"Note","If you hold down shift then click on the WorkSheet tab and the Answers tab, you will be able to print both the WorkSheet and the solutions."]
[]
[]
[]
[]
[]
[null,null,"NOTES"]
[null,null,"* Questions are asked in linear form and answered"]
[null,null,"   both in linear form and and in vertical algorithms"]

{"sheet":"WorkSheet","index":1,"n_rows":42,"n_cols":5,"rows_kept":42,"cut":false,"hidden":false,"merged":[[0,0,0,5]]}
["MULTIPLICATION OF MONEY"]
[null,null,null,null,{"$f":"CONCATENATE(\"Worksheet \",Working!C1,Working!B1)","v":"Worksheet CLT-325"}]
["Evaluate the following;"]
[{"$f":"CONCATENATE(Working!A3,\")\")","v":"1)"},{"$f":"Working!$M3","v":" What is 11 lots of $267.66"},null,{"$f":"CONCATENATE(Working!A23,\")\")","v":"21)"},{"$f":"Working!$M23","v":" What is 5 lots of $641.91"}]
[]
[{"$f":"CONCATENATE(Working!A4,\")\")","v":"2)"},{"$f":"Working!$M4","v":" What is 11 lots of $203.15"},null,{"$f":"CONCATENATE(Working!A24,\")\")","v":"22)"},{"$f":"Working!$M24","v":" What is 5 lots of $515.47"}]
[]
[{"$f":"CONCATENATE(Working!A5,\")\")","v":"3)"},{"$f":"Working!$M5","v":" What is 10 lots of $337.19"},null,{"$f":"CONCATENATE(Working!A25,\")\")","v":"23)"},{"$f":"Working!$M25","v":" What is 7 lots of $385.77"}]
[]
[{"$f":"CONCATENATE(Working!A6,\")\")","v":"4)"},{"$f":"Working!$M6","v":" What is 2 lots of $984.20"},null,{"$f":"CONCATENATE(Working!A26,\")\")","v":"24)"},{"$f":"Working!$M26","v":" What is 7 lots of $339.86"}]
[]
[{"$f":"CONCATENATE(Working!A7,\")\")","v":"5)"},{"$f":"Working!$M7","v":" What is 10 lots of $50.87"},null,{"$f":"CONCATENATE(Working!A27,\")\")","v":"25)"},{"$f":"Working!$M27","v":" What is 2 lots of $425.11"}]
[]
[{"$f":"CONCATENATE(Working!A8,\")\")","v":"6)"},{"$f":"Working!$M8","v":" What is 6 lots of $286.45"},null,{"$f":"CONCATENATE(Working!A28,\")\")","v":"26)"},{"$f":"Working!$M28","v":" What is 7 lots of $454.43"}]
[]
[{"$f":"CONCATENATE(Working!A9,\")\")","v":"7)"},{"$f":"Working!$M9","v":" What is 7 lots of $9.24"},null,{"$f":"CONCATENATE(Working!A29,\")\")","v":"27)"},{"$f":"Working!$M29","v":" What is 7 lots of $859.98"}]
[]
[{"$f":"CONCATENATE(Working!A10,\")\")","v":"8)"},{"$f":"Working!$M10","v":" What is 7 lots of $824.06"},null,{"$f":"CONCATENATE(Working!A30,\")\")","v":"28)"},{"$f":"Working!$M30","v":" What is 11 lots of $603.46"}]
[]
[{"$f":"CONCATENATE(Working!A11,\")\")","v":"9)"},{"$f":"Working!$M11","v":" What is 8 lots of $839.66"},null,{"$f":"CONCATENATE(Working!A31,\")\")","v":"29)"},{"$f":"Working!$M31","v":" What is 7 lots of $133.46"}]
[]
[{"$f":"CONCATENATE(Working!A12,\")\")","v":"10)"},{"$f":"Working!$M12","v":" What is 10 lots of $887.45"},null,{"$f":"CONCATENATE(Working!A32,\")\")","v":"30)"},{"$f":"Working!$M32","v":" What is 7 lots of $971.23"}]
[]
[{"$f":"CONCATENATE(Working!A13,\")\")","v":"11)"},{"$f":"Working!$M13","v":" What is 5 lots of $424.54"},null,{"$f":"CONCATENATE(Working!A33,\")\")","v":"31)"},{"$f":"Working!$M33","v":" What is 5 lots of $720.06"}]
[]
[{"$f":"CONCATENATE(Working!A14,\")\")","v":"12)"},{"$f":"Working!$M14","v":" What is 5 lots of $134.16"},null,{"$f":"CONCATENATE(Working!A34,\")\")","v":"32)"},{"$f":"Working!$M34","v":" What is 4 lots of $263.91"}]
[]
[{"$f":"CONCATENATE(Working!A15,\")\")","v":"13)"},{"$f":"Working!$M15","v":" What is 10 lots of $353.09"},null,{"$f":"CONCATENATE(Working!A35,\")\")","v":"33)"},{"$f":"Working!$M35","v":" What is 11 lots of $665.80"}]
[]
[{"$f":"CONCATENATE(Working!A16,\")\")","v":"14)"},{"$f":"Working!$M16","v":" What is 6 lots of $765.29"},null,{"$f":"CONCATENATE(Working!A36,\")\")","v":"34)"},{"$f":"Working!$M36","v":" What is 3 lots of $150.92"}]
[]
[{"$f":"CONCATENATE(Working!A17,\")\")","v":"15)"},{"$f":"Working!$M17","v":" What is 8 lots of $640.09"},null,{"$f":"CONCATENATE(Working!A37,\")\")","v":"35)"},{"$f":"Working!$M37","v":" What is 6 lots of $62.13"}]
[]
[{"$f":"CONCATENATE(Working!A18,\")\")","v":"16)"},{"$f":"Working!$M18","v":" What is 7 lots of $863.94"},null,{"$f":"CONCATENATE(Working!A38,\")\")","v":"36)"},{"$f":"Working!$M38","v":" What is 2 lots of $407.25"}]
[]
[{"$f":"CONCATENATE(Working!A19,\")\")","v":"17)"},{"$f":"Working!$M19","v":" What is 2 lots of $853.98"},null,{"$f":"CONCATENATE(Working!A39,\")\")","v":"37)"},{"$f":"Working!$M39","v":" What is 11 lots of $56.29"}]
[]
[{"$f":"CONCATENATE(Working!A20,\")\")","v":"18)"},{"$f":"Working!$M20","v":" What is 8 lots of $276.72"},null,{"$f":"CONCATENATE(Working!A40,\")\")","v":"38)"},{"$f":"Working!$M40","v":" What is 5 lots of $760.55"}]
[]
[{"$f":"CONCATENATE(Working!A21,\")\")","v":"19)"},{"$f":"Working!$M21","v":" What is 11 lots of $135.58"},null,{"$f":"CONCATENATE(Working!A41,\")\")","v":"39)"},{"$f":"Working!$M41","v":" What is 2 lots of $473.23"}]
[]
[{"$f":"CONCATENATE(Working!A22,\")\")","v":"20)"},{"$f":"Working!$M22","v":" What is 5 lots of $533.35"},null,{"$f":"CONCATENATE(Working!A42,\")\")","v":"40)"},{"$f":"Working!$M42","v":" What is 5 lots of $924.97"}]

{"sheet":"Answer Sheet","index":2,"n_rows":41,"n_cols":11,"rows_kept":41,"cut":false,"hidden":false,"merged":[]}
[null,null,null,null,null,null,"MULTIPLICATION OF MONEY"]
[null,null,null,null,null,null,null,null,null,{"$f":"CONCATENATE(\"Worksheet \",Working!C1,Working!B1)","v":"Worksheet CLT-325"}]
["Evaluate the following;"]
[{"$f":"CONCATENATE(Working!A3,\")\")","v":"1)"},{"$f":"Working!$D3","v":"$267.66"},null,{"$f":"CONCATENATE(Working!A13,\")\")","v":"11)"},{"$f":"Working!$K13","v":"$424.54"},null,{"$f":"CONCATENATE(Working!A23,\")\")","v":"21)"},{"$f":"Working!$K23","v":"$641.91"},null,{"$f":"CONCATENATE(Working!A33,\")\")","v":"31)"},{"$f":"Working!$K33","v":"$720.06"}]
[null,{"$f":"Working!$J3","v":"×11"},null,null,{"$f":"Working!$J13","v":"×5"},null,null,{"$f":"Working!$J23","v":"×5"},null,null,{"$f":"Working!$J33","v":"×5"}]
[]
[]
[{"$f":"CONCATENATE(Working!A4,\")\")","v":"2)"},{"$f":"Working!$K4","v":"$203.15"},null,{"$f":"CONCATENATE(Working!A14,\")\")","v":"12)"},{"$f":"Working!$K14","v":"$134.16"},null,{"$f":"CONCATENATE(Working!A24,\")\")","v":"22)"},{"$f":"Working!$K24","v":"$515.47"},null,{"$f":"CONCATENATE(Working!A34,\")\")","v":"32)"},{"$f":"Working!$K34","v":"$263.91"}]
[null,{"$f":"Working!$J4","v":"×11"},null,null,{"$f":"Working!$J14","v":"×5"},null,null,{"$f":"Working!$J24","v":"×5"},null,null,{"$f":"Working!$J34","v":"×4"}]
[]
[]
[{"$f":"CONCATENATE(Working!A5,\")\")","v":"3)"},{"$f":"Working!$K5","v":"$337.19"},null,{"$f":"CONCATENATE(Working!A15,\")\")","v":"13)"},{"$f":"Working!$K15","v":"$353.09"},null,{"$f":"CONCATENATE(Working!A25,\")\")","v":"23)"},{"$f":"Working!$K25","v":"$385.77"},null,{"$f":"CONCATENATE(Working!A35,\")\")","v":"33)"},{"$f":"Working!$K35","v":"$665.80"}]
[null,{"$f":"Working!$J5","v":"×10"},null,null,{"$f":"Working!$J15","v":"×10"},null,null,{"$f":"Working!$J25","v":"×7"},null,null,{"$f":"Working!$J35","v":"×11"}]
[]
[]
[{"$f":"CONCATENATE(Working!A6,\")\")","v":"4)"},{"$f":"Working!$K6","v":"$984.20"},null,{"$f":"CONCATENATE(Working!A16,\")\")","v":"14)"},{"$f":"Working!$K16","v":"$765.29"},null,{"$f":"CONCATENATE(Working!A26,\")\")","v":"24)"},{"$f":"Working!$K26","v":"$339.86"},null,{"$f":"CONCATENATE(Working!A36,\")\")","v":"34)"},{"$f":"Working!$K36","v":"$150.92"}]
[null,{"$f":"Working!$J6","v":"×2"},null,null,{"$f":"Working!$J16","v":"×6"},null,null,{"$f":"Working!$J26","v":"×7"},null,null,{"$f":"Working!$J36","v":"×3"}]
[]
[]
[{"$f":"CONCATENATE(Working!A7,\")\")","v":"5)"},{"$f":"Working!$K7","v":"$50.87"},null,{"$f":"CONCATENATE(Working!A17,\")\")","v":"15)"},{"$f":"Working!$K17","v":"$640.09"},null,{"$f":"CONCATENATE(Working!A27,\")\")","v":"25)"},{"$f":"Working!$K27","v":"$425.11"},null,{"$f":"CONCATENATE(Working!A37,\")\")","v":"35)"},{"$f":"Working!$K37","v":"$62.13"}]
[null,{"$f":"Working!$J7","v":"×10"},null,null,{"$f":"Working!$J17","v":"×8"},null,null,{"$f":"Working!$J27","v":"×2"},null,null,{"$f":"Working!$J37","v":"×6"}]
[]
[]
[{"$f":"CONCATENATE(Working!A8,\")\")","v":"6)"},{"$f":"Working!$K8","v":"$286.45"},null,{"$f":"CONCATENATE(Working!A18,\")\")","v":"16)"},{"$f":"Working!$K18","v":"$863.94"},null,{"$f":"CONCATENATE(Working!A28,\")\")","v":"26)"},{"$f":"Working!$K28","v":"$454.43"},null,{"$f":"CONCATENATE(Working!A38,\")\")","v":"36)"},{"$f":"Working!$K38","v":"$407.25"}]
[null,{"$f":"Working!$J8","v":"×6"},null,null,{"$f":"Working!J18","v":"×7"},null,null,{"$f":"Working!J28","v":"×7"},null,null,{"$f":"Working!J38","v":"×2"}]
[]
[]
[{"$f":"CONCATENATE(Working!A9,\")\")","v":"7)"},{"$f":"Working!$K9","v":"$9.24"},null,{"$f":"CONCATENATE(Working!A19,\")\")","v":"17)"},{"$f":"Working!$K19","v":"$853.98"},null,{"$f":"CONCATENATE(Working!A29,\")\")","v":"27)"},{"$f":"Working!$K29","v":"$859.98"},null,{"$f":"CONCATENATE(Working!A39,\")\")","v":"37)"},{"$f":"Working!$K39","v":"$56.29"}]
[null,{"$f":"Working!J9","v":"×7"},null,null,{"$f":"Working!J19","v":"×2"},null,null,{"$f":"Working!J29","v":"×7"},null,null,{"$f":"Working!J39","v":"×11"}]
[]
[]
[{"$f":"CONCATENATE(Working!A10,\")\")","v":"8)"},{"$f":"Working!$K10","v":"$824.06"},null,{"$f":"CONCATENATE(Working!A20,\")\")","v":"18)"},{"$f":"Working!$K20","v":"$276.72"},null,{"$f":"CONCATENATE(Working!A30,\")\")","v":"28)"},{"$f":"Working!$K30","v":"$603.46"},null,{"$f":"CONCATENATE(Working!A40,\")\")","v":"38)"},{"$f":"Working!$K40","v":"$760.55"}]
[null,{"$f":"Working!J10","v":"×7"},null,null,{"$f":"Working!J20","v":"×8"},null,null,{"$f":"Working!J30","v":"×11"},null,null,{"$f":"Working!J40","v":"×5"}]
[]
[]
[{"$f":"CONCATENATE(Working!A11,\")\")","v":"9)"},{"$f":"Working!$K11","v":"$839.66"},null,{"$f":"CONCATENATE(Working!A21,\")\")","v":"19)"},{"$f":"Working!$K21","v":"$135.58"},null,{"$f":"CONCATENATE(Working!A31,\")\")","v":"29)"},{"$f":"Working!$K31","v":"$133.46"},null,{"$f":"CONCATENATE(Working!A41,\")\")","v":"39)"},{"$f":"Working!$K41","v":"$473.23"}]
[null,{"$f":"Working!J11","v":"×8"},null,null,{"$f":"Working!J21","v":"×11"},null,null,{"$f":"Working!J31","v":"×7"},null,null,{"$f":"Working!J41","v":"×2"}]
[]
[]
[{"$f":"CONCATENATE(Working!A12,\")\")","v":"10)"},{"$f":"Working!$K12","v":"$887.45"},null,{"$f":"CONCATENATE(Working!A22,\")\")","v":"20)"},{"$f":"Working!$K22","v":"$533.35"},null,{"$f":"CONCATENATE(Working!A32,\")\")","v":"30)"},{"$f":"Working!$K32","v":"$971.23"},null,{"$f":"CONCATENATE(Working!A42,\")\")","v":"40)"},{"$f":"Working!$K42","v":"$924.97"}]
[null,{"$f":"Working!J12","v":"×10"},null,null,{"$f":"Working!J22","v":"×5"},null,null,{"$f":"Working!J32","v":"×7"},null,null,{"$f":"Working!J42","v":"×5"}]

{"sheet":"Answers","index":3,"n_rows":42,"n_cols":11,"rows_kept":42,"cut":false,"hidden":false,"merged":[]}
[null,null,null,null,null,null,"MULTIPLICATION OF MONEY"]
[null,null,null,null,null,null,"ANSWERS",null,null,{"$f":"CONCATENATE(\"Worksheet \",Working!C1,Working!B1)","v":"Worksheet CLT-325"}]
["Evaluate the following;"]
[{"$f":"CONCATENATE(Working!A3,\")\")","v":"1)"},{"$f":"Working!$D3","v":"$267.66"},null,{"$f":"CONCATENATE(Working!A13,\")\")","v":"11)"},{"$f":"Working!$K13","v":"$424.54"},null,{"$f":"CONCATENATE(Working!A23,\")\")","v":"21)"},{"$f":"Working!$K23","v":"$641.91"},null,{"$f":"CONCATENATE(Working!A33,\")\")","v":"31)"},{"$f":"Working!$K33","v":"$720.06"}]
[null,{"$f":"Working!$J3","v":"×11"},null,null,{"$f":"Working!$J13","v":"×5"},null,null,{"$f":"Working!$J23","v":"×5"},null,null,{"$f":"Working!$J33","v":"×5"}]
[null,{"$f":"Working!$G3","v":"$2944.26"},null,null,{"$f":"Working!$G13","v":"$2122.70"},null,null,{"$f":"Working!$G23","v":"$3209.55"},null,null,{"$f":"Working!$G33","v":"$3600.30"}]
[]
[{"$f":"CONCATENATE(Working!A4,\")\")","v":"2)"},{"$f":"Working!$K4","v":"$203.15"},null,{"$f":"CONCATENATE(Working!A14,\")\")","v":"12)"},{"$f":"Working!$K14","v":"$134.16"},null,{"$f":"CONCATENATE(Working!A24,\")\")","v":"22)"},{"$f":"Working!$K24","v":"$515.47"},null,{"$f":"CONCATENATE(Working!A34,\")\")","v":"32)"},{"$f":"Working!$K34","v":"$263.91"}]
[null,{"$f":"Working!$J4","v":"×11"},null,null,{"$f":"Working!$J14","v":"×5"},null,null,{"$f":"Working!$J24","v":"×5"},null,null,{"$f":"Working!$J34","v":"×4"}]
[null,{"$f":"Working!$G4","v":"$2234.65"},null,null,{"$f":"Working!$G14","v":"$670.80"},null,null,{"$f":"Working!$G24","v":"$2577.35"},null,null,{"$f":"Working!$G34","v":"$1055.64"}]
[]
[{"$f":"CONCATENATE(Working!A5,\")\")","v":"3)"},{"$f":"Working!$K5","v":"$337.19"},null,{"$f":"CONCATENATE(Working!A15,\")\")","v":"13)"},{"$f":"Working!$K15","v":"$353.09"},null,{"$f":"CONCATENATE(Working!A25,\")\")","v":"23)"},{"$f":"Working!$K25","v":"$385.77"},null,{"$f":"CONCATENATE(Working!A35,\")\")","v":"33)"},{"$f":"Working!$K35","v":"$665.80"}]
[null,{"$f":"Working!$J5","v":"×10"},null,null,{"$f":"Working!$J15","v":"×10"},null,null,{"$f":"Working!$J25","v":"×7"},null,null,{"$f":"Working!$J35","v":"×11"}]
[null,{"$f":"Working!$G5","v":"$3371.90"},null,null,{"$f":"Working!$G15","v":"$3530.90"},null,null,{"$f":"Working!$G25","v":"$2700.39"},null,null,{"$f":"Working!$G35","v":"$7323.80"}]
[]
[{"$f":"CONCATENATE(Working!A6,\")\")","v":"4)"},{"$f":"Working!$K6","v":"$984.20"},null,{"$f":"CONCATENATE(Working!A16,\")\")","v":"14)"},{"$f":"Working!$K16","v":"$765.29"},null,{"$f":"CONCATENATE(Working!A26,\")\")","v":"24)"},{"$f":"Working!$K26","v":"$339.86"},null,{"$f":"CONCATENATE(Working!A36,\")\")","v":"34)"},{"$f":"Working!$K36","v":"$150.92"}]
[null,{"$f":"Working!$J6","v":"×2"},null,null,{"$f":"Working!$J16","v":"×6"},null,null,{"$f":"Working!$J26","v":"×7"},null,null,{"$f":"Working!$J36","v":"×3"}]
[null,{"$f":"Working!$G6","v":"$1968.40"},null,null,{"$f":"Working!$G16","v":"$4591.74"},null,null,{"$f":"Working!$G26","v":"$2379.02"},null,null,{"$f":"Working!$G36","v":"$452.76"}]
[]
[{"$f":"CONCATENATE(Working!A7,\")\")","v":"5)"},{"$f":"Working!$K7","v":"$50.87"},null,{"$f":"CONCATENATE(Working!A17,\")\")","v":"15)"},{"$f":"Working!$K17","v":"$640.09"},null,{"$f":"CONCATENATE(Working!A27,\")\")","v":"25)"},{"$f":"Working!$K27","v":"$425.11"},null,{"$f":"CONCATENATE(Working!A37,\")\")","v":"35)"},{"$f":"Working!$K37","v":"$62.13"}]
[null,{"$f":"Working!$J7","v":"×10"},null,null,{"$f":"Working!$J17","v":"×8"},null,null,{"$f":"Working!$J27","v":"×2"},null,null,{"$f":"Working!$J37","v":"×6"}]
[null,{"$f":"Working!$G7","v":"$508.70"},null,null,{"$f":"Working!$G17","v":"$5120.72"},null,null,{"$f":"Working!$G27","v":"$850.22"},null,null,{"$f":"Working!$G37","v":"$372.78"}]
[]
[{"$f":"CONCATENATE(Working!A8,\")\")","v":"6)"},{"$f":"Working!$K8","v":"$286.45"},null,{"$f":"CONCATENATE(Working!A18,\")\")","v":"16)"},{"$f":"Working!$K18","v":"$863.94"},null,{"$f":"CONCATENATE(Working!A28,\")\")","v":"26)"},{"$f":"Working!$K28","v":"$454.43"},null,{"$f":"CONCATENATE(Working!A38,\")\")","v":"36)"},{"$f":"Working!$K38","v":"$407.25"}]
[null,{"$f":"Working!$J8","v":"×6"},null,null,{"$f":"Working!J18","v":"×7"},null,null,{"$f":"Working!J28","v":"×7"},null,null,{"$f":"Working!J38","v":"×2"}]
[null,{"$f":"Working!$G8","v":"$1718.70"},null,null,{"$f":"Working!G18","v":"$6047.58"},null,null,{"$f":"Working!G28","v":"$3181.01"},null,null,{"$f":"Working!G38","v":"$814.50"}]
[]
[{"$f":"CONCATENATE(Working!A9,\")\")","v":"7)"},{"$f":"Working!$K9","v":"$9.24"},null,{"$f":"CONCATENATE(Working!A19,\")\")","v":"17)"},{"$f":"Working!$K19","v":"$853.98"},null,{"$f":"CONCATENATE(Working!A29,\")\")","v":"27)"},{"$f":"Working!$K29","v":"$859.98"},null,{"$f":"CONCATENATE(Working!A39,\")\")","v":"37)"},{"$f":"Working!$K39","v":"$56.29"}]
[null,{"$f":"Working!J9","v":"×7"},null,null,{"$f":"Working!J19","v":"×2"},null,null,{"$f":"Working!J29","v":"×7"},null,null,{"$f":"Working!J39","v":"×11"}]
[null,{"$f":"Working!G9","v":"$64.68"},null,null,{"$f":"Working!G19","v":"$1707.96"},null,null,{"$f":"Working!G29","v":"$6019.86"},null,null,{"$f":"Working!G39","v":"$619.19"}]
[]
[{"$f":"CONCATENATE(Working!A10,\")\")","v":"8)"},{"$f":"Working!$K10","v":"$824.06"},null,{"$f":"CONCATENATE(Working!A20,\")\")","v":"18)"},{"$f":"Working!$K20","v":"$276.72"},null,{"$f":"CONCATENATE(Working!A30,\")\")","v":"28)"},{"$f":"Working!$K30","v":"$603.46"},null,{"$f":"CONCATENATE(Working!A40,\")\")","v":"38)"},{"$f":"Working!$K40","v":"$760.55"}]
[null,{"$f":"Working!J10","v":"×7"},null,null,{"$f":"Working!J20","v":"×8"},null,null,{"$f":"Working!J30","v":"×11"},null,null,{"$f":"Working!J40","v":"×5"}]
[null,{"$f":"Working!G10","v":"$5768.42"},null,null,{"$f":"Working!G20","v":"$2213.76"},null,null,{"$f":"Working!G30","v":"$6638.06"},null,null,{"$f":"Working!G40","v":"$3802.75"}]
[]
[{"$f":"CONCATENATE(Working!A11,\")\")","v":"9)"},{"$f":"Working!$K11","v":"$839.66"},null,{"$f":"CONCATENATE(Working!A21,\")\")","v":"19)"},{"$f":"Working!$K21","v":"$135.58"},null,{"$f":"CONCATENATE(Working!A31,\")\")","v":"29)"},{"$f":"Working!$K31","v":"$133.46"},null,{"$f":"CONCATENATE(Working!A41,\")\")","v":"39)"},{"$f":"Working!$K41","v":"$473.23"}]
[null,{"$f":"Working!J11","v":"×8"},null,null,{"$f":"Working!J21","v":"×11"},null,null,{"$f":"Working!J31","v":"×7"},null,null,{"$f":"Working!J41","v":"×2"}]
[null,{"$f":"Working!G11","v":"$6717.28"},null,null,{"$f":"Working!G21","v":"$1491.38"},null,null,{"$f":"Working!G31","v":"$934.22"},null,null,{"$f":"Working!G41","v":"$946.46"}]
[]
[{"$f":"CONCATENATE(Working!A12,\")\")","v":"10)"},{"$f":"Working!$K12","v":"$887.45"},null,{"$f":"CONCATENATE(Working!A22,\")\")","v":"20)"},{"$f":"Working!$K22","v":"$533.35"},null,{"$f":"CONCATENATE(Working!A32,\")\")","v":"30)"},{"$f":"Working!$K32","v":"$971.23"},null,{"$f":"CONCATENATE(Working!A42,\")\")","v":"40)"},{"$f":"Working!$K42","v":"$924.97"}]
[null,{"$f":"Working!J12","v":"×10"},null,null,{"$f":"Working!J22","v":"×5"},null,null,{"$f":"Working!J32","v":"×7"},null,null,{"$f":"Working!J42","v":"×5"}]
[null,{"$f":"Working!G12","v":"$8874.50"},null,null,{"$f":"Working!G22","v":"$2666.75"},null,null,{"$f":"Working!G32","v":"$6798.61"},null,null,{"$f":"Working!G42","v":"$4624.85"}]

{"sheet":"Answers 2","index":4,"n_rows":43,"n_cols":5,"rows_kept":43,"cut":false,"hidden":false,"merged":[[0,0,0,5]]}
["MULTIPLICATION OF MONEY"]
[null,null,null,null,{"$f":"CONCATENATE(\"Worksheet \",Working!C1,Working!B1)","v":"Worksheet CLT-325"}]
["Evaluate the following;"]
[{"$f":"CONCATENATE(Working!A3,\")\")","v":"1)"},{"$f":"Working!$M3","v":" What is 11 lots of $267.66"},null,{"$f":"CONCATENATE(Working!A23,\")\")","v":"21)"},{"$f":"Working!$M23","v":" What is 5 lots of $641.91"}]
[null,{"$f":"Working!$N3","v":" = 11 × $267.66 = $2944.26"},null,null,{"$f":"Working!$N23","v":" = 5 × $641.91 = $3209.55"}]
[{"$f":"CONCATENATE(Working!A4,\")\")","v":"2)"},{"$f":"Working!$M4","v":" What is 11 lots of $203.15"},null,{"$f":"CONCATENATE(Working!A24,\")\")","v":"22)"},{"$f":"Working!$M24","v":" What is 5 lots of $515.47"}]
[null,{"$f":"Working!$N4","v":" = 11 × $203.15 = $2234.65"},null,null,{"$f":"Working!$N24","v":" = 5 × $515.47 = $2577.35"}]
[{"$f":"CONCATENATE(Working!A5,\")\")","v":"3)"},{"$f":"Working!$M5","v":" What is 10 lots of $337.19"},null,{"$f":"CONCATENATE(Working!A25,\")\")","v":"23)"},{"$f":"Working!$M25","v":" What is 7 lots of $385.77"}]
[null,{"$f":"Working!$N5","v":" = 10 × $337.19 = $3371.90"},null,null,{"$f":"Working!$N25","v":" = 7 × $385.77 = $2700.39"}]
[{"$f":"CONCATENATE(Working!A6,\")\")","v":"4)"},{"$f":"Working!$M6","v":" What is 2 lots of $984.20"},null,{"$f":"CONCATENATE(Working!A26,\")\")","v":"24)"},{"$f":"Working!$M26","v":" What is 7 lots of $339.86"}]
[null,{"$f":"Working!$N6","v":" = 2 × $984.20 = $1968.40"},null,null,{"$f":"Working!$N26","v":" = 7 × $339.86 = $2379.02"}]
[{"$f":"CONCATENATE(Working!A7,\")\")","v":"5)"},{"$f":"Working!$M7","v":" What is 10 lots of $50.87"},null,{"$f":"CONCATENATE(Working!A27,\")\")","v":"25)"},{"$f":"Working!$M27","v":" What is 2 lots of $425.11"}]
[null,{"$f":"Working!$N7","v":" = 10 × $50.87 = $508.70"},null,null,{"$f":"Working!$N27","v":" = 2 × $425.11 = $850.22"}]
[{"$f":"CONCATENATE(Working!A8,\")\")","v":"6)"},{"$f":"Working!$M8","v":" What is 6 lots of $286.45"},null,{"$f":"CONCATENATE(Working!A28,\")\")","v":"26)"},{"$f":"Working!$M28","v":" What is 7 lots of $454.43"}]
[null,{"$f":"Working!$N8","v":" = 6 × $286.45 = $1718.70"},null,null,{"$f":"Working!$N28","v":" = 7 × $454.43 = $3181.01"}]
[{"$f":"CONCATENATE(Working!A9,\")\")","v":"7)"},{"$f":"Working!$M9","v":" What is 7 lots of $9.24"},null,{"$f":"CONCATENATE(Working!A29,\")\")","v":"27)"},{"$f":"Working!$M29","v":" What is 7 lots of $859.98"}]
[null,{"$f":"Working!$N9","v":" = 7 × $9.24 = $64.68"},null,null,{"$f":"Working!$N29","v":" = 7 × $859.98 = $6019.86"}]
[{"$f":"CONCATENATE(Working!A10,\")\")","v":"8)"},{"$f":"Working!$M10","v":" What is 7 lots of $824.06"},null,{"$f":"CONCATENATE(Working!A30,\")\")","v":"28)"},{"$f":"Working!$M30","v":" What is 11 lots of $603.46"}]
[null,{"$f":"Working!$N10","v":" = 7 × $824.06 = $5768.42"},null,null,{"$f":"Working!$N30","v":" = 11 × $603.46 = $6638.06"}]
[{"$f":"CONCATENATE(Working!A11,\")\")","v":"9)"},{"$f":"Working!$M11","v":" What is 8 lots of $839.66"},null,{"$f":"CONCATENATE(Working!A31,\")\")","v":"29)"},{"$f":"Working!$M31","v":" What is 7 lots of $133.46"}]
[null,{"$f":"Working!$N11","v":" = 8 × $839.66 = $6717.28"},null,null,{"$f":"Working!$N31","v":" = 7 × $133.46 = $934.22"}]
[{"$f":"CONCATENATE(Working!A12,\")\")","v":"10)"},{"$f":"Working!$M12","v":" What is 10 lots of $887.45"},null,{"$f":"CONCATENATE(Working!A32,\")\")","v":"30)"},{"$f":"Working!$M32","v":" What is 7 lots of $971.23"}]
[null,{"$f":"Working!$N12","v":" = 10 × $887.45 = $8874.50"},null,null,{"$f":"Working!$N32","v":" = 7 × $971.23 = $6798.61"}]
[{"$f":"CONCATENATE(Working!A13,\")\")","v":"11)"},{"$f":"Working!$M13","v":" What is 5 lots of $424.54"},null,{"$f":"CONCATENATE(Working!A33,\")\")","v":"31)"},{"$f":"Working!$M33","v":" What is 5 lots of $720.06"}]
[null,{"$f":"Working!$N13","v":" = 5 × $424.54 = $2122.70"},null,null,{"$f":"Working!$N33","v":" = 5 × $720.06 = $3600.30"}]
[{"$f":"CONCATENATE(Working!A14,\")\")","v":"12)"},{"$f":"Working!$M14","v":" What is 5 lots of $134.16"},null,{"$f":"CONCATENATE(Working!A34,\")\")","v":"32)"},{"$f":"Working!$M34","v":" What is 4 lots of $263.91"}]
[null,{"$f":"Working!$N14","v":" = 5 × $134.16 = $670.80"},null,null,{"$f":"Working!$N34","v":" = 4 × $263.91 = $1055.64"}]
[{"$f":"CONCATENATE(Working!A15,\")\")","v":"13)"},{"$f":"Working!$M15","v":" What is 10 lots of $353.09"},null,{"$f":"CONCATENATE(Working!A35,\")\")","v":"33)"},{"$f":"Working!$M35","v":" What is 11 lots of $665.80"}]
[null,{"$f":"Working!$N15","v":" = 10 × $353.09 = $3530.90"},null,null,{"$f":"Working!$N35","v":" = 11 × $665.80 = $7323.80"}]
[{"$f":"CONCATENATE(Working!A16,\")\")","v":"14)"},{"$f":"Working!$M16","v":" What is 6 lots of $765.29"},null,{"$f":"CONCATENATE(Working!A36,\")\")","v":"34)"},{"$f":"Working!$M36","v":" What is 3 lots of $150.92"}]
[null,{"$f":"Working!$N16","v":" = 6 × $765.29 = $4591.74"},null,null,{"$f":"Working!$N36","v":" = 3 × $150.92 = $452.76"}]
[{"$f":"CONCATENATE(Working!A17,\")\")","v":"15)"},{"$f":"Working!$M17","v":" What is 8 lots of $640.09"},null,{"$f":"CONCATENATE(Working!A37,\")\")","v":"35)"},{"$f":"Working!$M37","v":" What is 6 lots of $62.13"}]
[null,{"$f":"Working!$N17","v":" = 8 × $640.09 = $5120.72"},null,null,{"$f":"Working!$N37","v":" = 6 × $62.13 = $372.78"}]
[{"$f":"CONCATENATE(Working!A18,\")\")","v":"16)"},{"$f":"Working!$M18","v":" What is 7 lots of $863.94"},null,{"$f":"CONCATENATE(Working!A38,\")\")","v":"36)"},{"$f":"Working!$M38","v":" What is 2 lots of $407.25"}]
[null,{"$f":"Working!$N18","v":" = 7 × $863.94 = $6047.58"},null,null,{"$f":"Working!$N38","v":" = 2 × $407.25 = $814.50"}]
[{"$f":"CONCATENATE(Working!A19,\")\")","v":"17)"},{"$f":"Working!$M19","v":" What is 2 lots of $853.98"},null,{"$f":"CONCATENATE(Working!A39,\")\")","v":"37)"},{"$f":"Working!$M39","v":" What is 11 lots of $56.29"}]
[null,{"$f":"Working!$N19","v":" = 2 × $853.98 = $1707.96"},null,null,{"$f":"Working!$N39","v":" = 11 × $56.29 = $619.19"}]
[{"$f":"CONCATENATE(Working!A20,\")\")","v":"18)"},{"$f":"Working!$M20","v":" What is 8 lots of $276.72"},null,{"$f":"CONCATENATE(Working!A40,\")\")","v":"38)"},{"$f":"Working!$M40","v":" What is 5 lots of $760.55"}]
[null,{"$f":"Working!$N20","v":" = 8 × $276.72 = $2213.76"},null,null,{"$f":"Working!$N40","v":" = 5 × $760.55 = $3802.75"}]
[{"$f":"CONCATENATE(Working!A21,\")\")","v":"19)"},{"$f":"Working!$M21","v":" What is 11 lots of $135.58"},null,{"$f":"CONCATENATE(Working!A41,\")\")","v":"39)"},{"$f":"Working!$M41","v":" What is 2 lots of $473.23"}]
[null,{"$f":"Working!$N21","v":" = 11 × $135.58 = $1491.38"},null,null,{"$f":"Working!$N41","v":" = 2 × $473.23 = $946.46"}]
[{"$f":"CONCATENATE(Working!A22,\")\")","v":"20)"},{"$f":"Working!$M22","v":" What is 5 lots of $533.35"},null,{"$f":"CONCATENATE(Working!A42,\")\")","v":"40)"},{"$f":"Working!$M42","v":" What is 5 lots of $924.97"}]
[null,{"$f":"Working!$N22","v":" = 5 × $533.35 = $2666.75"},null,null,{"$f":"Working!$N42","v":" = 5 × $924.97 = $4624.85"}]

{"sheet":"Working","index":5,"n_rows":42,"n_cols":14,"rows_kept":42,"cut":false,"hidden":true,"merged":[]}
[{"$f":"INT(900*RAND()+100)","v":325},{"$f":"TEXT(1,A1)","v":"325"},"CLT-",{"$f":"\" What is \"","v":" What is "},{"$f":"\" lots of \"","v":" lots of "},null,"Type","×"]
[null,null,"Amount",null,"Multiplier",null,null,"Type",null,null,null,null,"Question"]
[1,null,{"$f":"RANDBETWEEN(20,99999)/100","v":267.66000000000003},{"$f":"IF(INT(C3)=C3,CONCATENATE(\"$\",C3,\".00\"),IF(INT(10*C3)=10*C3,CONCATENATE(\"$\",C3,\"0\"),CONCATENATE(\"$\",C3)))","v":"$267.66"},{"$f":"INT(Values!$G$7*RAND()+2)","v":11},{"$f":"C3*E3","v":2944.26},{"$f":"IF(INT(F3)=F3,CONCATENATE(\"$\",F3,\".00\"),IF(INT(10*F3)=10*F3,CONCATENATE(\"$\",F3,\"0\"),CONCATENATE(\"$\",F3)))","v":"$2944.26"},{"$f":"$H$1","v":"×"},{"$f":"CONCATENATE(\" \",H3,\" \")","v":" × "},{"$f":"CONCATENATE(H3,E3)","v":"×11"},{"$f":"D3","v":"$267.66"},null,{"$f":"CONCATENATE($D$1,E3,$E$1,D3)","v":" What is 11 lots of $267.66"},{"$f":"CONCATENATE(\" = \",E3,I3,D3,\" = \",G3)","v":" = 11 × $267.66 = $2944.26"}]
[2,null,{"$f":"RANDBETWEEN(20,99999)/100","v":203.15},{"$f":"IF(INT(C4)=C4,CONCATENATE(\"$\",C4,\".00\"),IF(INT(10*C4)=10*C4,CONCATENATE(\"$\",C4,\"0\"),CONCATENATE(\"$\",C4)))","v":"$203.15"},{"$f":"INT(Values!$G$7*RAND()+2)","v":11},{"$f":"C4*E4","v":2234.65},{"$f":"IF(INT(F4)=F4,CONCATENATE(\"$\",F4,\".00\"),IF(INT(10*F4)=10*F4,CONCATENATE(\"$\",F4,\"0\"),CONCATENATE(\"$\",F4)))","v":"$2234.65"},"×",{"$f":"CONCATENATE(\" \",H4,\" \")","v":" × "},{"$f":"CONCATENATE(H4,E4)","v":"×11"},{"$f":"D4","v":"$203.15"},null,{"$f":"CONCATENATE($D$1,E4,$E$1,D4)","v":" What is 11 lots of $203.15"},{"$f":"CONCATENATE(\" = \",E4,I4,D4,\" = \",G4)","v":" = 11 × $203.15 = $2234.65"}]
[3,null,337.19,{"$f":"IF(INT(C5)=C5,CONCATENATE(\"$\",C5,\".00\"),IF(INT(10*C5)=10*C5,CONCATENATE(\"$\",C5,\"0\"),CONCATENATE(\"$\",C5)))","v":"$337.19"},{"$f":"INT(Values!$G$7*RAND()+2)","v":10},{"$f":"C5*E5","v":3371.9},"$3371.90","×"," × ","×10","$337.19",null," What is 10 lots of $337.19"," = 10 × $337.19 = $3371.90"]
[4,null,984.2,{"$f":"IF(INT(C6)=C6,CONCATENATE(\"$\",C6,\".00\"),IF(INT(10*C6)=10*C6,CONCATENATE(\"$\",C6,\"0\"),CONCATENATE(\"$\",C6)))","v":"$984.20"},{"$f":"INT(Values!$G$7*RAND()+2)","v":2},{"$f":"C6*E6","v":1968.4},"$1968.40","×"," × ","×2","$984.20",null," What is 2 lots of $984.20"," = 2 × $984.20 = $1968.40"]
[5,null,50.87,{"$f":"IF(INT(C7)=C7,CONCATENATE(\"$\",C7,\".00\"),IF(INT(10*C7)=10*C7,CONCATENATE(\"$\",C7,\"0\"),CONCATENATE(\"$\",C7)))","v":"$50.87"},{"$f":"INT(Values!$G$7*RAND()+2)","v":10},{"$f":"C7*E7","v":508.7},"$508.70","×"," × ","×10","$50.87",null," What is 10 lots of $50.87"," = 10 × $50.87 = $508.70"]
[6,null,286.45,{"$f":"IF(INT(C8)=C8,CONCATENATE(\"$\",C8,\".00\"),IF(INT(10*C8)=10*C8,CONCATENATE(\"$\",C8,\"0\"),CONCATENATE(\"$\",C8)))","v":"$286.45"},{"$f":"INT(Values!$G$7*RAND()+2)","v":6},{"$f":"C8*E8","v":1718.6999999999998},"$1718.70","×"," × ","×6","$286.45",null," What is 6 lots of $286.45"," = 6 × $286.45 = $1718.70"]
[7,null,9.24,{"$f":"IF(INT(C9)=C9,CONCATENATE(\"$\",C9,\".00\"),IF(INT(10*C9)=10*C9,CONCATENATE(\"$\",C9,\"0\"),CONCATENATE(\"$\",C9)))","v":"$9.24"},{"$f":"INT(Values!$G$7*RAND()+2)","v":7},{"$f":"C9*E9","v":64.680000000000007},"$64.68","×"," × ","×7","$9.24",null," What is 7 lots of $9.24"," = 7 × $9.24 = $64.68"]
[8,null,824.06,{"$f":"IF(INT(C10)=C10,CONCATENATE(\"$\",C10,\".00\"),IF(INT(10*C10)=10*C10,CONCATENATE(\"$\",C10,\"0\"),CONCATENATE(\"$\",C10)))","v":"$824.06"},{"$f":"INT(Values!$G$7*RAND()+2)","v":7},{"$f":"C10*E10","v":5768.42},"$5768.42","×"," × ","×7","$824.06",null," What is 7 lots of $824.06"," = 7 × $824.06 = $5768.42"]
[9,null,839.66,{"$f":"IF(INT(C11)=C11,CONCATENATE(\"$\",C11,\".00\"),IF(INT(10*C11)=10*C11,CONCATENATE(\"$\",C11,\"0\"),CONCATENATE(\"$\",C11)))","v":"$839.66"},{"$f":"INT(Values!$G$7*RAND()+2)","v":8},{"$f":"C11*E11","v":6717.28},"$6717.28","×"," × ","×8","$839.66",null," What is 8 lots of $839.66"," = 8 × $839.66 = $6717.28"]
[10,null,887.45,{"$f":"IF(INT(C12)=C12,CONCATENATE(\"$\",C12,\".00\"),IF(INT(10*C12)=10*C12,CONCATENATE(\"$\",C12,\"0\"),CONCATENATE(\"$\",C12)))","v":"$887.45"},{"$f":"INT(Values!$G$7*RAND()+2)","v":10},{"$f":"C12*E12","v":8874.5},"$8874.50","×"," × ","×10","$887.45",null," What is 10 lots of $887.45"," = 10 × $887.45 = $8874.50"]
[11,null,424.54,{"$f":"IF(INT(C13)=C13,CONCATENATE(\"$\",C13,\".00\"),IF(INT(10*C13)=10*C13,CONCATENATE(\"$\",C13,\"0\"),CONCATENATE(\"$\",C13)))","v":"$424.54"},{"$f":"INT(Values!$G$7*RAND()+2)","v":5},{"$f":"C13*E13","v":2122.7000000000003},"$2122.70","×"," × ","×5","$424.54",null," What is 5 lots of $424.54"," = 5 × $424.54 = $2122.70"]
[12,null,134.16,{"$f":"IF(INT(C14)=C14,CONCATENATE(\"$\",C14,\".00\"),IF(INT(10*C14)=10*C14,CONCATENATE(\"$\",C14,\"0\"),CONCATENATE(\"$\",C14)))","v":"$134.16"},{"$f":"INT(Values!$G$7*RAND()+2)","v":5},{"$f":"C14*E14","v":670.8},"$670.80","×"," × ","×5","$134.16",null," What is 5 lots of $134.16"," = 5 × $134.16 = $670.80"]
[13,null,353.09,{"$f":"IF(INT(C15)=C15,CONCATENATE(\"$\",C15,\".00\"),IF(INT(10*C15)=10*C15,CONCATENATE(\"$\",C15,\"0\"),CONCATENATE(\"$\",C15)))","v":"$353.09"},{"$f":"INT(Values!$G$7*RAND()+2)","v":10},{"$f":"C15*E15","v":3530.8999999999996},"$3530.90","×"," × ","×10","$353.09",null," What is 10 lots of $353.09"," = 10 × $353.09 = $3530.90"]
[14,null,765.29,{"$f":"IF(INT(C16)=C16,CONCATENATE(\"$\",C16,\".00\"),IF(INT(10*C16)=10*C16,CONCATENATE(\"$\",C16,\"0\"),CONCATENATE(\"$\",C16)))","v":"$765.29"},{"$f":"INT(Values!$G$7*RAND()+2)","v":6},{"$f":"C16*E16","v":4591.74},"$4591.74","×"," × ","×6","$765.29",null," What is 6 lots of $765.29"," = 6 × $765.29 = $4591.74"]
[15,null,640.09,{"$f":"IF(INT(C17)=C17,CONCATENATE(\"$\",C17,\".00\"),IF(INT(10*C17)=10*C17,CONCATENATE(\"$\",C17,\"0\"),CONCATENATE(\"$\",C17)))","v":"$640.09"},{"$f":"INT(Values!$G$7*RAND()+2)","v":8},{"$f":"C17*E17","v":5120.72},"$5120.72","×"," × ","×8","$640.09",null," What is 8 lots of $640.09"," = 8 × $640.09 = $5120.72"]
[16,null,863.94,{"$f":"IF(INT(C18)=C18,CONCATENATE(\"$\",C18,\".00\"),IF(INT(10*C18)=10*C18,CONCATENATE(\"$\",C18,\"0\"),CONCATENATE(\"$\",C18)))","v":"$863.94"},{"$f":"INT(Values!$G$7*RAND()+2)","v":7},{"$f":"C18*E18","v":6047.58},"$6047.58","×"," × ","×7","$863.94",null," What is 7 lots of $863.94"," = 7 × $863.94 = $6047.58"]
[17,null,853.98,{"$f":"IF(INT(C19)=C19,CONCATENATE(\"$\",C19,\".00\"),IF(INT(10*C19)=10*C19,CONCATENATE(\"$\",C19,\"0\"),CONCATENATE(\"$\",C19)))","v":"$853.98"},{"$f":"INT(Values!$G$7*RAND()+2)","v":2},{"$f":"C19*E19","v":1707.96},"$1707.96","×"," × ","×2","$853.98",null," What is 2 lots of $853.98"," = 2 × $853.98 = $1707.96"]
[18,null,276.72000000000003,{"$f":"IF(INT(C20)=C20,CONCATENATE(\"$\",C20,\".00\"),IF(INT(10*C20)=10*C20,CONCATENATE(\"$\",C20,\"0\"),CONCATENATE(\"$\",C20)))","v":"$276.72"},{"$f":"INT(Values!$G$7*RAND()+2)","v":8},{"$f":"C20*E20","v":2213.7600000000002},"$2213.76","×"," × ","×8","$276.72",null," What is 8 lots of $276.72"," = 8 × $276.72 = $2213.76"]
[19,null,135.58000000000001,{"$f":"IF(INT(C21)=C21,CONCATENATE(\"$\",C21,\".00\"),IF(INT(10*C21)=10*C21,CONCATENATE(\"$\",C21,\"0\"),CONCATENATE(\"$\",C21)))","v":"$135.58"},{"$f":"INT(Values!$G$7*RAND()+2)","v":11},{"$f":"C21*E21","v":1491.38},"$1491.38","×"," × ","×11","$135.58",null," What is 11 lots of $135.58"," = 11 × $135.58 = $1491.38"]
[20,null,533.35,{"$f":"IF(INT(C22)=C22,CONCATENATE(\"$\",C22,\".00\"),IF(INT(10*C22)=10*C22,CONCATENATE(\"$\",C22,\"0\"),CONCATENATE(\"$\",C22)))","v":"$533.35"},{"$f":"INT(Values!$G$7*RAND()+2)","v":5},{"$f":"C22*E22","v":2666.75},"$2666.75","×"," × ","×5","$533.35",null," What is 5 lots of $533.35"," = 5 × $533.35 = $2666.75"]
[21,null,641.91,{"$f":"IF(INT(C23)=C23,CONCATENATE(\"$\",C23,\".00\"),IF(INT(10*C23)=10*C23,CONCATENATE(\"$\",C23,\"0\"),CONCATENATE(\"$\",C23)))","v":"$641.91"},{"$f":"INT(Values!$G$7*RAND()+2)","v":5},{"$f":"C23*E23","v":3209.5499999999997},"$3209.55","×"," × ","×5","$641.91",null," What is 5 lots of $641.91"," = 5 × $641.91 = $3209.55"]
[22,null,515.47,{"$f":"IF(INT(C24)=C24,CONCATENATE(\"$\",C24,\".00\"),IF(INT(10*C24)=10*C24,CONCATENATE(\"$\",C24,\"0\"),CONCATENATE(\"$\",C24)))","v":"$515.47"},{"$f":"INT(Values!$G$7*RAND()+2)","v":5},{"$f":"C24*E24","v":2577.3500000000004},"$2577.35","×"," × ","×5","$515.47",null," What is 5 lots of $515.47"," = 5 × $515.47 = $2577.35"]
[23,null,385.77,{"$f":"IF(INT(C25)=C25,CONCATENATE(\"$\",C25,\".00\"),IF(INT(10*C25)=10*C25,CONCATENATE(\"$\",C25,\"0\"),CONCATENATE(\"$\",C25)))","v":"$385.77"},{"$f":"INT(Values!$G$7*RAND()+2)","v":7},{"$f":"C25*E25","v":2700.39},"$2700.39","×"," × ","×7","$385.77",null," What is 7 lots of $385.77"," = 7 × $385.77 = $2700.39"]
[24,null,339.86,{"$f":"IF(INT(C26)=C26,CONCATENATE(\"$\",C26,\".00\"),IF(INT(10*C26)=10*C26,CONCATENATE(\"$\",C26,\"0\"),CONCATENATE(\"$\",C26)))","v":"$339.86"},{"$f":"INT(Values!$G$7*RAND()+2)","v":7},{"$f":"C26*E26","v":2379.02},"$2379.02","×"," × ","×7","$339.86",null," What is 7 lots of $339.86"," = 7 × $339.86 = $2379.02"]
[25,null,425.11,{"$f":"IF(INT(C27)=C27,CONCATENATE(\"$\",C27,\".00\"),IF(INT(10*C27)=10*C27,CONCATENATE(\"$\",C27,\"0\"),CONCATENATE(\"$\",C27)))","v":"$425.11"},{"$f":"INT(Values!$G$7*RAND()+2)","v":2},{"$f":"C27*E27","v":850.22},"$850.22","×"," × ","×2","$425.11",null," What is 2 lots of $425.11"," = 2 × $425.11 = $850.22"]
[26,null,454.43,{"$f":"IF(INT(C28)=C28,CONCATENATE(\"$\",C28,\".00\"),IF(INT(10*C28)=10*C28,CONCATENATE(\"$\",C28,\"0\"),CONCATENATE(\"$\",C28)))","v":"$454.43"},{"$f":"INT(Values!$G$7*RAND()+2)","v":7},{"$f":"C28*E28","v":3181.01},"$3181.01","×"," × ","×7","$454.43",null," What is 7 lots of $454.43"," = 7 × $454.43 = $3181.01"]
[27,null,859.98,{"$f":"IF(INT(C29)=C29,CONCATENATE(\"$\",C29,\".00\"),IF(INT(10*C29)=10*C29,CONCATENATE(\"$\",C29,\"0\"),CONCATENATE(\"$\",C29)))","v":"$859.98"},{"$f":"INT(Values!$G$7*RAND()+2)","v":7},{"$f":"C29*E29","v":6019.8600000000006},"$6019.86","×"," × ","×7","$859.98",null," What is 7 lots of $859.98"," = 7 × $859.98 = $6019.86"]
[28,null,603.46,{"$f":"IF(INT(C30)=C30,CONCATENATE(\"$\",C30,\".00\"),IF(INT(10*C30)=10*C30,CONCATENATE(\"$\",C30,\"0\"),CONCATENATE(\"$\",C30)))","v":"$603.46"},{"$f":"INT(Values!$G$7*RAND()+2)","v":11},{"$f":"C30*E30","v":6638.06},"$6638.06","×"," × ","×11","$603.46",null," What is 11 lots of $603.46"," = 11 × $603.46 = $6638.06"]
[29,null,133.46,{"$f":"IF(INT(C31)=C31,CONCATENATE(\"$\",C31,\".00\"),IF(INT(10*C31)=10*C31,CONCATENATE(\"$\",C31,\"0\"),CONCATENATE(\"$\",C31)))","v":"$133.46"},{"$f":"INT(Values!$G$7*RAND()+2)","v":7},{"$f":"C31*E31","v":934.22},"$934.22","×"," × ","×7","$133.46",null," What is 7 lots of $133.46"," = 7 × $133.46 = $934.22"]
[30,null,971.23,{"$f":"IF(INT(C32)=C32,CONCATENATE(\"$\",C32,\".00\"),IF(INT(10*C32)=10*C32,CONCATENATE(\"$\",C32,\"0\"),CONCATENATE(\"$\",C32)))","v":"$971.23"},{"$f":"INT(Values!$G$7*RAND()+2)","v":7},{"$f":"C32*E32","v":6798.6100000000006},"$6798.61","×"," × ","×7","$971.23",null," What is 7 lots of $971.23"," = 7 × $971.23 = $6798.61"]
[31,null,720.06,{"$f":"IF(INT(C33)=C33,CONCATENATE(\"$\",C33,\".00\"),IF(INT(10*C33)=10*C33,CONCATENATE(\"$\",C33,\"0\"),CONCATENATE(\"$\",C33)))","v":"$720.06"},{"$f":"INT(Values!$G$7*RAND()+2)","v":5},{"$f":"C33*E33","v":3600.2999999999997},"$3600.30","×"," × ","×5","$720.06",null," What is 5 lots of $720.06"," = 5 × $720.06 = $3600.30"]
[32,null,263.91000000000003,{"$f":"IF(INT(C34)=C34,CONCATENATE(\"$\",C34,\".00\"),IF(INT(10*C34)=10*C34,CONCATENATE(\"$\",C34,\"0\"),CONCATENATE(\"$\",C34)))","v":"$263.91"},{"$f":"INT(Values!$G$7*RAND()+2)","v":4},{"$f":"C34*E34","v":1055.6400000000001},"$1055.64","×"," × ","×4","$263.91",null," What is 4 lots of $263.91"," = 4 × $263.91 = $1055.64"]
[33,null,665.8,{"$f":"IF(INT(C35)=C35,CONCATENATE(\"$\",C35,\".00\"),IF(INT(10*C35)=10*C35,CONCATENATE(\"$\",C35,\"0\"),CONCATENATE(\"$\",C35)))","v":"$665.80"},{"$f":"INT(Values!$G$7*RAND()+2)","v":11},{"$f":"C35*E35","v":7323.7999999999993},"$7323.80","×"," × ","×11","$665.80",null," What is 11 lots of $665.80"," = 11 × $665.80 = $7323.80"]
[34,null,150.91999999999999,{"$f":"IF(INT(C36)=C36,CONCATENATE(\"$\",C36,\".00\"),IF(INT(10*C36)=10*C36,CONCATENATE(\"$\",C36,\"0\"),CONCATENATE(\"$\",C36)))","v":"$150.92"},{"$f":"INT(Values!$G$7*RAND()+2)","v":3},{"$f":"C36*E36","v":452.76},"$452.76","×"," × ","×3","$150.92",null," What is 3 lots of $150.92"," = 3 × $150.92 = $452.76"]
[35,null,62.13,{"$f":"IF(INT(C37)=C37,CONCATENATE(\"$\",C37,\".00\"),IF(INT(10*C37)=10*C37,CONCATENATE(\"$\",C37,\"0\"),CONCATENATE(\"$\",C37)))","v":"$62.13"},{"$f":"INT(Values!$G$7*RAND()+2)","v":6},{"$f":"C37*E37","v":372.78000000000003},"$372.78","×"," × ","×6","$62.13",null," What is 6 lots of $62.13"," = 6 × $62.13 = $372.78"]
[36,null,407.25,{"$f":"IF(INT(C38)=C38,CONCATENATE(\"$\",C38,\".00\"),IF(INT(10*C38)=10*C38,CONCATENATE(\"$\",C38,\"0\"),CONCATENATE(\"$\",C38)))","v":"$407.25"},{"$f":"INT(Values!$G$7*RAND()+2)","v":2},{"$f":"C38*E38","v":814.5},"$814.50","×"," × ","×2","$407.25",null," What is 2 lots of $407.25"," = 2 × $407.25 = $814.50"]
[37,null,56.29,{"$f":"IF(INT(C39)=C39,CONCATENATE(\"$\",C39,\".00\"),IF(INT(10*C39)=10*C39,CONCATENATE(\"$\",C39,\"0\"),CONCATENATE(\"$\",C39)))","v":"$56.29"},{"$f":"INT(Values!$G$7*RAND()+2)","v":11},{"$f":"C39*E39","v":619.18999999999994},"$619.19","×"," × ","×11","$56.29",null," What is 11 lots of $56.29"," = 11 × $56.29 = $619.19"]
[38,null,760.55,{"$f":"IF(INT(C40)=C40,CONCATENATE(\"$\",C40,\".00\"),IF(INT(10*C40)=10*C40,CONCATENATE(\"$\",C40,\"0\"),CONCATENATE(\"$\",C40)))","v":"$760.55"},{"$f":"INT(Values!$G$7*RAND()+2)","v":5},{"$f":"C40*E40","v":3802.75},"$3802.75","×"," × ","×5","$760.55",null," What is 5 lots of $760.55"," = 5 × $760.55 = $3802.75"]
[39,null,473.23,{"$f":"IF(INT(C41)=C41,CONCATENATE(\"$\",C41,\".00\"),IF(INT(10*C41)=10*C41,CONCATENATE(\"$\",C41,\"0\"),CONCATENATE(\"$\",C41)))","v":"$473.23"},{"$f":"INT(Values!$G$7*RAND()+2)","v":2},{"$f":"C41*E41","v":946.46},"$946.46","×"," × ","×2","$473.23",null," What is 2 lots of $473.23"," = 2 × $473.23 = $946.46"]
[40,null,924.97,{"$f":"IF(INT(C42)=C42,CONCATENATE(\"$\",C42,\".00\"),IF(INT(10*C42)=10*C42,CONCATENATE(\"$\",C42,\"0\"),CONCATENATE(\"$\",C42)))","v":"$924.97"},{"$f":"INT(Values!$G$7*RAND()+2)","v":5},{"$f":"C42*E42","v":4624.8500000000004},"$4624.85","×"," × ","×5","$924.97",null," What is 5 lots of $924.97"," = 5 × $924.97 = $4624.85"]