{"text_format":"1","workbook":"xlsx","n_sheets":4,"sheets":["Values","WorkSheet","Answers","Working"],"not_rendered":{"charts":0,"images":0,"macros":1,"external_links":0,"defined_names":0,"comments":0,"pivot_tables":0},"unopened":[],"bounds":{"document_bytes":16777216,"sheet_cells":100000,"rows_first":2000,"rows_last":500,"rows_between":2000,"halvings":0,"cell_chars":16384,"cell_head_chars":4096},"cells_cut":0,"cells_raw":0,"read":"whole","date_system":"1900"}

{"sheet":"Values","index":0,"n_rows":21,"n_cols":9,"rows_kept":21,"cut":false,"hidden":false,"merged":[[16,2,16,4],[18,2,18,6],[18,8,22,9],[20,2,23,7],[1,2,1,6],[3,2,4,7],[5,2,5,4],[13,2,14,7],[11,2,11,4],[7,2,9,7]]}
[null,null,null,null,"MULTIPLICATION"]
[null,null,"INSTRUCTIONS"]
[]
[null,"Step 1","The number digits to be used in the multiplier for this sheet is 2."]
[]
[null,null,"Digits in Multiplier",null,null,2]
[]
[null,"Step 2","Enter the maximum number to be used in the digits of the multiplier, a number from 2 to 9. This avoids issues with times tables."]
[]
[]
[]
[null,null,"Maximum Multiplier"]
[]
[null,"Step 3","Enter the number digits to be used in the multiplicand for this sheet. (A whole number >1 and ≤6)"]
[]
[]
[null,null,"Digits in Multiplicand",null,null,null,"  (May be increased or decreased by 1 due to the nature of random calculations)"]
[]
[null,"Step 4","Click on WorkSheet tab below.",null,null,null,null,null,"PRESS F9 for NEW WorkSheet"]
[]
[null,"Note","If you hold down shift then click on the WorkSheet tab and the Answers tab, you will be able to print both the WorkSheet and the solutions."]

{"sheet":"WorkSheet","index":1,"n_rows":29,"n_cols":12,"rows_kept":29,"cut":false,"hidden":false,"merged":[]}
[null,null,null,null,null,"MULTIPLICATION"]
[null,null,null,null,null,null,null,null,null,{"$f":"CONCATENATE(\"Worksheet \",Working!C1,Working!B1)","v":"Worksheet LMA-196"}]
["Evaluate the following;"]
[{"$f":"Working!C4","v":"1)"},{"$f":"Working!G4","v":0},"×",{"$f":"Working!$C9","v":"6)"},{"$f":"Working!$G9","v":0},"×",{"$f":"Working!$C14","v":"11)"},{"$f":"Working!$G14","v":0},"×",{"$f":"Working!$C19","v":"16)"},{"$f":"Working!$G19","v":0},"×"]
[null,{"$f":"Working!F4","v":11},null,null,{"$f":"Working!$F9","v":11},null,null,{"$f":"Working!$F14","v":11},null,null,{"$f":"Working!$F19","v":11}]
[]
[]
[]
[]
[{"$f":"Working!C5","v":"2)"},{"$f":"Working!G5","v":0},"×",{"$f":"Working!$C10","v":"7)"},{"$f":"Working!$G10","v":0},"×",{"$f":"Working!$C15","v":"12)"},{"$f":"Working!$G15","v":0},"×",{"$f":"Working!$C20","v":"17)"},{"$f":"Working!$G20","v":0},"×"]
[null,{"$f":"Working!F5","v":11},null,null,{"$f":"Working!$F10","v":11},null,null,{"$f":"Working!$F15","v":11},null,null,{"$f":"Working!$F20","v":11}]
[]
[]
[]
[]
[{"$f":"Working!C6","v":"3)"},{"$f":"Working!G6","v":0},"×",{"$f":"Working!$C11","v":"8)"},{"$f":"Working!$G11","v":0},"×",{"$f":"Working!$C16","v":"13)"},{"$f":"Working!$G16","v":0},"×",{"$f":"Working!$C21","v":"18)"},{"$f":"Working!$G21","v":0},"×"]
[null,{"$f":"Working!F6","v":11},null,null,{"$f":"Working!$F11","v":11},null,null,{"$f":"Working!$F16","v":11},null,null,{"$f":"Working!$F21","v":11}]
[]
[]
[]
[]
[{"$f":"Working!C7","v":"4)"},{"$f":"Working!G7","v":0},"×",{"$f":"Working!$C12","v":"9)"},{"$f":"Working!$G12","v":0},"×",{"$f":"Working!$C17","v":"14)"},{"$f":"Working!$G17","v":0},"×",{"$f":"Working!$C22","v":"19)"},{"$f":"Working!$G22","v":0},"×"]
[null,{"$f":"Working!F7","v":11},null,null,{"$f":"Working!$F12","v":11},null,null,{"$f":"Working!$F17","v":11},null,null,{"$f":"Working!$F22","v":11}]
[]
[]
[]
[]
[{"$f":"Working!C8","v":"5)"},{"$f":"Working!G8","v":0},"×",{"$f":"Working!$C13","v":"10)"},{"$f":"Working!$G13","v":0},"×",{"$f":"Working!$C18","v":"15)"},{"$f":"Working!$G18","v":0},"×",{"$f":"Working!$C23","v":"20)"},{"$f":"Working!$G23","v":0},"×"]
[null,{"$f":"Working!F8","v":11},null,null,{"$f":"Working!$F13","v":11},null,null,{"$f":"Working!$F18","v":11},null,null,{"$f":"Working!$F23","v":11}]

{"sheet":"Answers","index":2,"n_rows":32,"n_cols":12,"rows_kept":32,"cut":false,"hidden":false,"merged":[]}
[null,null,null,null,null,"MULTIPLICATION"]
[null,null,null,null,null,"ANSWERS",null,null,null,{"$f":"CONCATENATE(\"Worksheet \",Working!C1,Working!B1)","v":"Worksheet LMA-196"}]
["Evaluate the following;"]
[{"$f":"Working!C4","v":"1)"},{"$f":"Working!G4","v":0},"×",{"$f":"Working!$C9","v":"6)"},{"$f":"Working!$G9","v":0},"×",{"$f":"Working!$C14","v":"11)"},{"$f":"Working!$G14","v":0},"×",{"$f":"Working!$C19","v":"16)"},{"$f":"Working!$G19","v":0},"×"]
[null,{"$f":"Working!F4","v":11},null,null,{"$f":"Working!$F9","v":11},null,null,{"$f":"Working!$F14","v":11},null,null,{"$f":"Working!$F19","v":11}]
[null,{"$f":"Working!$K4","v":""},null,null,{"$f":"Working!$K9","v":""},null,null,{"$f":"Working!$K14","v":""},null,null,{"$f":"Working!$K19","v":""}]
[null,{"$f":"Working!$L4","v":0},null,null,{"$f":"Working!$L9","v":0},null,null,{"$f":"Working!$L14","v":0},null,null,{"$f":"Working!$L19","v":0}]
[null,{"$f":"Working!$M4","v":0},null,null,{"$f":"Working!$M9","v":0},null,null,{"$f":"Working!$M14","v":0},null,null,{"$f":"Working!$M19","v":0}]
[]
[{"$f":"Working!C5","v":"2)"},{"$f":"Working!G5","v":0},"×",{"$f":"Working!$C10","v":"7)"},{"$f":"Working!$G10","v":0},"×",{"$f":"Working!$C15","v":"12)"},{"$f":"Working!$G15","v":0},"×",{"$f":"Working!$C20","v":"17)"},{"$f":"Working!$G20","v":0},"×"]
[null,{"$f":"Working!F5","v":11},null,null,{"$f":"Working!$F10","v":11},null,null,{"$f":"Working!$F15","v":11},null,null,{"$f":"Working!$F20","v":11}]
[null,{"$f":"Working!$K5","v":""},null,null,{"$f":"Working!$K10","v":""},null,null,{"$f":"Working!$K15","v":""},null,null,{"$f":"Working!$K20","v":""}]
[null,{"$f":"Working!$L5","v":0},null,null,{"$f":"Working!$L10","v":0},null,null,{"$f":"Working!$L15","v":0},null,null,{"$f":"Working!$L20","v":0}]
[null,{"$f":"Working!$M5","v":0},null,null,{"$f":"Working!$M10","v":0},null,null,{"$f":"Working!$M15","v":0},null,null,{"$f":"Working!$M20","v":0}]
[]
[{"$f":"Working!C6","v":"3)"},{"$f":"Working!G6","v":0},"×",{"$f":"Working!$C11","v":"8)"},{"$f":"Working!$G11","v":0},"×",{"$f":"Working!$C16","v":"13)"},{"$f":"Working!$G16","v":0},"×",{"$f":"Working!$C21","v":"18)"},{"$f":"Working!$G21","v":0},"×"]
[null,{"$f":"Working!F6","v":11},null,null,{"$f":"Working!$F11","v":11},null,null,{"$f":"Working!$F16","v":11},null,null,{"$f":"Working!$F21","v":11}]
[null,{"$f":"Working!$K6","v":""},null,null,{"$f":"Working!$K11","v":""},null,null,{"$f":"Working!$K16","v":""},null,null,{"$f":"Working!$K21","v":""}]
[null,{"$f":"Working!$L6","v":0},null,null,{"$f":"Working!$L11","v":0},null,null,{"$f":"Working!$L16","v":0},null,null,{"$f":"Working!$L21","v":0}]
[null,{"$f":"Working!$M6","v":0},null,null,{"$f":"Working!$M11","v":0},null,null,{"$f":"Working!$M16","v":0},null,null,{"$f":"Working!$M21","v":0}]
[]
[{"$f":"Working!C7","v":"4)"},{"$f":"Working!G7","v":0},"×",{"$f":"Working!$C12","v":"9)"},{"$f":"Working!$G12","v":0},"×",{"$f":"Working!$C17","v":"14)"},{"$f":"Working!$G17","v":0},"×",{"$f":"Working!$C22","v":"19)"},{"$f":"Working!$G22","v":0},"×"]
[null,{"$f":"Working!F7","v":11},null,null,{"$f":"Working!$F12","v":11},null,null,{"$f":"Working!$F17","v":11},null,null,{"$f":"Working!$F22","v":11}]
[null,{"$f":"Working!$K7","v":""},null,null,{"$f":"Working!$K12","v":""},null,null,{"$f":"Working!$K17","v":""},null,null,{"$f":"Working!$K22","v":""}]
[null,{"$f":"Working!$L7","v":0},null,null,{"$f":"Working!$L12","v":0},null,null,{"$f":"Working!$L17","v":0},null,null,{"$f":"Working!$L22","v":0}]
[null,{"$f":"Working!$M7","v":0},null,null,{"$f":"Working!$M12","v":0},null,null,{"$f":"Working!$M17","v":0},null,null,{"$f":"Working!$M22","v":0}]
[]
[{"$f":"Working!C8","v":"5)"},{"$f":"Working!G8","v":0},"×",{"$f":"Working!$C13","v":"10)"},{"$f":"Working!$G13","v":0},"×",{"$f":"Working!$C18","v":"15)"},{"$f":"Working!$G18","v":0},"×",{"$f":"Working!$C23","v":"20)"},{"$f":"Working!$G23","v":0},"×"]
[null,{"$f":"Working!F8","v":11},null,null,{"$f":"Working!$F13","v":11},null,null,{"$f":"Working!$F18","v":11},null,null,{"$f":"Working!$F23","v":11}]
[null,{"$f":"Working!$K8","v":""},null,null,{"$f":"Working!$K13","v":""},null,null,{"$f":"Working!$K18","v":""},null,null,{"$f":"Working!$K23","v":""}]
[null,{"$f":"Working!$L8","v":0},null,null,{"$f":"Working!$L13","v":0},null,null,{"$f":"Working!$L18","v":0},null,null,{"$f":"Working!$L23","v":0}]
[null,{"$f":"Working!$M8","v":0},null,null,{"$f":"Working!$M13","v":0},null,null,{"$f":"Working!$M18","v":0},null,null,{"$f":"Working!$M23","v":0}]

{"sheet":"Working","index":3,"n_rows":103,"n_cols":13,"rows_kept":103,"cut":false,"hidden":true,"merged":[[1,6,1,12]]}
[{"$f":"INT(900*RAND()+100)","v":196},{"$f":"TEXT(1,A1)","v":"196"},"LMA-"]
[null,null,null,null,null,null,"Numbers"]
[null,null,null,null,null,"Multiplier","Multiplicand",null,null,null,null,null,"Product"]
[1,")",{"$f":"CONCATENATE(A4,B4)","v":"1)"},{"$f":"INT((Values!$F$12*RAND()+1))","v":1},{"$f":"INT((Values!$F$12*RAND()+1))","v":1},{"$f":"10*D4+E4","v":11},{"$f":"INT((10^(Values!$F$17)-10^(Values!$F$17-1))*RAND()+(10^(Values!$F$17-1)))","v":0},{"$f":"RIGHT(F4,1)","v":"1"},{"$f":"10*LEFT(F4,1)","v":10},{"$f":"G4*H4","v":0},{"$f":"IF(J4=0,\"\",J4)","v":""},{"$f":"G4*I4","v":0},{"$f":"F4*G4","v":0}]
[2,")",{"$f":"CONCATENATE(A5,B5)","v":"2)"},{"$f":"INT((Values!$F$12*RAND()+1))","v":1},{"$f":"INT((Values!$F$12*RAND()+1))","v":1},{"$f":"10*D5+E5","v":11},{"$f":"INT((10^(Values!$F$17)-10^(Values!$F$17-1))*RAND()+(10^(Values!$F$17-1)))","v":0},{"$f":"RIGHT(F5,1)","v":"1"},{"$f":"10*LEFT(F5,1)","v":10},{"$f":"G5*H5","v":0},{"$f":"IF(J5=0,\"\",J5)","v":""},{"$f":"G5*I5","v":0},{"$f":"F5*G5","v":0}]
[3,")","3)",{"$f":"INT((Values!$F$12*RAND()+1))","v":1},{"$f":"INT((Values!$F$12*RAND()+1))","v":1},11,{"$f":"INT((10^(Values!$F$17)-10^(Values!$F$17-1))*RAND()+(10^(Values!$F$17-1)))","v":0},"1",10,0,"",0,0]
[4,")","4)",{"$f":"INT((Values!$F$12*RAND()+1))","v":1},{"$f":"INT((Values!$F$12*RAND()+1))","v":1},11,{"$f":"INT((10^(Values!$F$17)-10^(Values!$F$17-1))*RAND()+(10^(Values!$F$17-1)))","v":0},"1",10,0,"",0,0]
[5,")","5)",{"$f":"INT((Values!$F$12*RAND()+1))","v":1},{"$f":"INT((Values!$F$12*RAND()+1))","v":1},11,{"$f":"INT((10^(Values!$F$17)-10^(Values!$F$17-1))*RAND()+(10^(Values!$F$17-1)))","v":0},"1",10,0,"",0,0]
[6,")","6)",{"$f":"INT((Values!$F$12*RAND()+1))","v":1},{"$f":"INT((Values!$F$12*RAND()+1))","v":1},11,{"$f":"INT((10^(Values!$F$17)-10^(Values!$F$17-1))*RAND()+(10^(Values!$F$17-1)))","v":0},"1",10,0,"",0,0]
[7,")","7)",{"$f":"INT((Values!$F$12*RAND()+1))","v":1},{"$f":"INT((Values!$F$12*RAND()+1))","v":1},11,{"$f":"INT((10^(Values!$F$17)-10^(Values!$F$17-1))*RAND()+(10^(Values!$F$17-1)))","v":0},"1",10,0,"",0,0]
[8,")","8)",{"$f":"INT((Values!$F$12*RAND()+1))","v":1},{"$f":"INT((Values!$F$12*RAND()+1))","v":1},11,{"$f":"INT((10^(Values!$F$17)-10^(Values!$F$17-1))*RAND()+(10^(Values!$F$17-1)))","v":0},"1",10,0,"",0,0]
[9,")","9)",{"$f":"INT((Values!$F$12*RAND()+1))","v":1},{"$f":"INT((Values!$F$12*RAND()+1))","v":1},11,{"$f":"INT((10^(Values!$F$17)-10^(Values!$F$17-1))*RAND()+(10^(Values!$F$17-1)))","v":0},"1",10,0,"",0,0]
[10,")","10)",{"$f":"INT((Values!$F$12*RAND()+1))","v":1},{"$f":"INT((Values!$F$12*RAND()+1))","v":1},11,{"$f":"INT((10^(Values!$F$17)-10^(Values!$F$17-1))*RAND()+(10^(Values!$F$17-1)))","v":0},"1",10,0,"",0,0]
[11,")","11)",{"$f":"INT((Values!$F$12*RAND()+1))","v":1},{"$f":"INT((Values!$F$12*RAND()+1))","v":1},11,{"$f":"INT((10^(Values!$F$17)-10^(Values!$F$17-1))*RAND()+(10^(Values!$F$17-1)))","v":0},"1",10,0,"",0,0]
[12,")","12)",{"$f":"INT((Values!$F$12*RAND()+1))","v":1},{"$f":"INT((Values!$F$12*RAND()+1))","v":1},11,{"$f":"INT((10^(Values!$F$17)-10^(Values!$F$17-1))*RAND()+(10^(Values!$F$17-1)))","v":0},"1",10,0,"",0,0]
[13,")","13)",{"$f":"INT((Values!$F$12*RAND()+1))","v":1},{"$f":"INT((Values!$F$12*RAND()+1))","v":1},11,{"$f":"INT((10^(Values!$F$17)-10^(Values!$F$17-1))*RAND()+(10^(Values!$F$17-1)))","v":0},"1",10,0,"",0,0]
[14,")","14)",{"$f":"INT((Values!$F$12*RAND()+1))","v":1},{"$f":"INT((Values!$F$12*RAND()+1))","v":1},11,{"$f":"INT((10^(Values!$F$17)-10^(Values!$F$17-1))*RAND()+(10^(Values!$F$17-1)))","v":0},"1",10,0,"",0,0]
[15,")","15)",{"$f":"INT((Values!$F$12*RAND()+1))","v":1},{"$f":"INT((Values!$F$12*RAND()+1))","v":1},11,{"$f":"INT((10^(Values!$F$17)-10^(Values!$F$17-1))*RAND()+(10^(Values!$F$17-1)))","v":0},"1",10,0,"",0,0]
[16,")","16)",{"$f":"INT((Values!$F$12*RAND()+1))","v":1},{"$f":"INT((Values!$F$12*RAND()+1))","v":1},11,{"$f":"INT((10^(Values!$F$17)-10^(Values!$F$17-1))*RAND()+(10^(Values!$F$17-1)))","v":0},"1",10,0,"",0,0]
[17,")","17)",{"$f":"INT((Values!$F$12*RAND()+1))","v":1},{"$f":"INT((Values!$F$12*RAND()+1))","v":1},11,{"$f":"INT((10^(Values!$F$17)-10^(Values!$F$17-1))*RAND()+(10^(Values!$F$17-1)))","v":0},"1",10,0,"",0,0]
[18,")","18)",{"$f":"INT((Values!$F$12*RAND()+1))","v":1},{"$f":"INT((Values!$F$12*RAND()+1))","v":1},11,{"$f":"INT((10^(Values!$F$17)-10^(Values!$F$17-1))*RAND()+(10^(Values!$F$17-1)))","v":0},"1",10,0,"",0,0]
[19,")","19)",{"$f":"INT((Values!$F$12*RAND()+1))","v":1},{"$f":"INT((Values!$F$12*RAND()+1))","v":1},11,{"$f":"INT((10^(Values!$F$17)-10^(Values!$F$17-1))*RAND()+(10^(Values!$F$17-1)))","v":0},"1",10,0,"",0,0]
[20,")","20)",{"$f":"INT((Values!$F$12*RAND()+1))","v":1},{"$f":"INT((Values!$F$12*RAND()+1))","v":1},11,{"$f":"INT((10^(Values!$F$17)-10^(Values!$F$17-1))*RAND()+(10^(Values!$F$17-1)))","v":0},"1",10,0,"",0,0]
[21,")","21)",{"$f":"INT((Values!$F$12*RAND()+1))","v":1},{"$f":"INT((Values!$F$12*RAND()+1))","v":1},11,{"$f":"INT((10^(Values!$F$17)-10^(Values!$F$17-1))*RAND()+(10^(Values!$F$17-1)))","v":0},"1",10,0,"",0,0]
[22,")","22)",{"$f":"INT((Values!$F$12*RAND()+1))","v":1},{"$f":"INT((Values!$F$12*RAND()+1))","v":1},11,{"$f":"INT((10^(Values!$F$17)-10^(Values!$F$17-1))*RAND()+(10^(Values!$F$17-1)))","v":0},"1",10,0,"",0,0]
[23,")","23)",{"$f":"INT((Values!$F$12*RAND()+1))","v":1},{"$f":"INT((Values!$F$12*RAND()+1))","v":1},11,{"$f":"INT((10^(Values!$F$17)-10^(Values!$F$17-1))*RAND()+(10^(Values!$F$17-1)))","v":0},"1",10,0,"",0,0]
[24,")","24)",{"$f":"INT((Values!$F$12*RAND()+1))","v":1},{"$f":"INT((Values!$F$12*RAND()+1))","v":1},11,{"$f":"INT((10^(Values!$F$17)-10^(Values!$F$17-1))*RAND()+(10^(Values!$F$17-1)))","v":0},"1",10,0,"",0,0]
[25,")","25)",{"$f":"INT((Values!$F$12*RAND()+1))","v":1},{"$f":"INT((Values!$F$12*RAND()+1))","v":1},11,{"$f":"INT((10^(Values!$F$17)-10^(Values!$F$17-1))*RAND()+(10^(Values!$F$17-1)))","v":0},"1",10,0,"",0,0]
[26,")","26)",{"$f":"INT((Values!$F$12*RAND()+1))","v":1},{"$f":"INT((Values!$F$12*RAND()+1))","v":1},11,{"$f":"INT((10^(Values!$F$17)-10^(Values!$F$17-1))*RAND()+(10^(Values!$F$17-1)))","v":0},"1",10,0,"",0,0]
[27,")","27)",{"$f":"INT((Values!$F$12*RAND()+1))","v":1},{"$f":"INT((Values!$F$12*RAND()+1))","v":1},11,{"$f":"INT((10^(Values!$F$17)-10^(Values!$F$17-1))*RAND()+(10^(Values!$F$17-1)))","v":0},"1",10,0,"",0,0]
[28,")","28)",{"$f":"INT((Values!$F$12*RAND()+1))","v":1},{"$f":"INT((Values!$F$12*RAND()+1))","v":1},11,{"$f":"INT((10^(Values!$F$17)-10^(Values!$F$17-1))*RAND()+(10^(Values!$F$17-1)))","v":0},"1",10,0,"",0,0]
[29,")","29)",{"$f":"INT((Values!$F$12*RAND()+1))","v":1},{"$f":"INT((Values!$F$12*RAND()+1))","v":1},11,{"$f":"INT((10^(Values!$F$17)-10^(Values!$F$17-1))*RAND()+(10^(Values!$F$17-1)))","v":0},"1",10,0,"",0,0]
[30,")","30)",{"$f":"INT((Values!$F$12*RAND()+1))","v":1},{"$f":"INT((Values!$F$12*RAND()+1))","v":1},11,{"$f":"INT((10^(Values!$F$17)-10^(Values!$F$17-1))*RAND()+(10^(Values!$F$17-1)))","v":0},"1",10,0,"",0,0]
[31,")","31)",{"$f":"INT((Values!$F$12*RAND()+1))","v":1},{"$f":"INT((Values!$F$12*RAND()+1))","v":1},11,{"$f":"INT((10^(Values!$F$17)-10^(Values!$F$17-1))*RAND()+(10^(Values!$F$17-1)))","v":0},"1",10,0,"",0,0]
[32,")","32)",{"$f":"INT((Values!$F$12*RAND()+1))","v":1},{"$f":"INT((Values!$F$12*RAND()+1))","v":1},11,{"$f":"INT((10^(Values!$F$17)-10^(Values!$F$17-1))*RAND()+(10^(Values!$F$17-1)))","v":0},"1",10,0,"",0,0]
[33,")","33)",{"$f":"INT((Values!$F$12*RAND()+1))","v":1},{"$f":"INT((Values!$F$12*RAND()+1))","v":1},11,{"$f":"INT((10^(Values!$F$17)-10^(Values!$F$17-1))*RAND()+(10^(Values!$F$17-1)))","v":0},"1",10,0,"",0,0]
[34,")","34)",{"$f":"INT((Values!$F$12*RAND()+1))","v":1},{"$f":"INT((Values!$F$12*RAND()+1))","v":1},11,{"$f":"INT((10^(Values!$F$17)-10^(Values!$F$17-1))*RAND()+(10^(Values!$F$17-1)))","v":0},"1",10,0,"",0,0]
[35,")","35)",{"$f":"INT((Values!$F$12*RAND()+1))","v":1},{"$f":"INT((Values!$F$12*RAND()+1))","v":1},11,{"$f":"INT((10^(Values!$F$17)-10^(Values!$F$17-1))*RAND()+(10^(Values!$F$17-1)))","v":0},"1",10,0,"",0,0]
[36,")","36)",{"$f":"INT((Values!$F$12*RAND()+1))","v":1},{"$f":"INT((Values!$F$12*RAND()+1))","v":1},11,{"$f":"INT((10^(Values!$F$17)-10^(Values!$F$17-1))*RAND()+(10^(Values!$F$17-1)))","v":0},"1",10,0,"",0,0]
[37,")","37)",{"$f":"INT((Values!$F$12*RAND()+1))","v":1},{"$f":"INT((Values!$F$12*RAND()+1))","v":1},11,{"$f":"INT((10^(Values!$F$17)-10^(Values!$F$17-1))*RAND()+(10^(Values!$F$17-1)))","v":0},"1",10,0,"",0,0]
[38,")","38)",{"$f":"INT((Values!$F$12*RAND()+1))","v":1},{"$f":"INT((Values!$F$12*RAND()+1))","v":1},11,{"$f":"INT((10^(Values!$F$17)-10^(Values!$F$17-1))*RAND()+(10^(Values!$F$17-1)))","v":0},"1",10,0,"",0,0]
[39,")","39)",{"$f":"INT((Values!$F$12*RAND()+1))","v":1},{"$f":"INT((Values!$F$12*RAND()+1))","v":1},11,{"$f":"INT((10^(Values!$F$17)-10^(Values!$F$17-1))*RAND()+(10^(Values!$F$17-1)))","v":0},"1",10,0,"",0,0]
[40,")","40)",{"$f":"INT((Values!$F$12*RAND()+1))","v":1},{"$f":"INT((Values!$F$12*RAND()+1))","v":1},11,{"$f":"INT((10^(Values!$F$17)-10^(Values!$F$17-1))*RAND()+(10^(Values!$F$17-1)))","v":0},"1",10,0,"",0,0]
[41,")","41)",{"$f":"INT((Values!$F$12*RAND()+1))","v":1},{"$f":"INT((Values!$F$12*RAND()+1))","v":1},11,{"$f":"INT((10^(Values!$F$17)-10^(Values!$F$17-1))*RAND()+(10^(Values!$F$17-1)))","v":0},"1",10,0,"",0,0]
[42,")","42)",{"$f":"INT((Values!$F$12*RAND()+1))","v":1},{"$f":"INT((Values!$F$12*RAND()+1))","v":1},11,{"$f":"INT((10^(Values!$F$17)-10^(Values!$F$17-1))*RAND()+(10^(Values!$F$17-1)))","v":0},"1",10,0,"",0,0]
[43,")","43)",{"$f":"INT((Values!$F$12*RAND()+1))","v":1},{"$f":"INT((Values!$F$12*RAND()+1))","v":1},11,{"$f":"INT((10^(Values!$F$17)-10^(Values!$F$17-1))*RAND()+(10^(Values!$F$17-1)))","v":0},"1",10,0,"",0,0]
[44,")","44)",{"$f":"INT((Values!$F$12*RAND()+1))","v":1},{"$f":"INT((Values!$F$12*RAND()+1))","v":1},11,{"$f":"INT((10^(Values!$F$17)-10^(Values!$F$17-1))*RAND()+(10^(Values!$F$17-1)))","v":0},"1",10,0,"",0,0]
[45,")","45)",{"$f":"INT((Values!$F$12*RAND()+1))","v":1},{"$f":"INT((Values!$F$12*RAND()+1))","v":1},11,{"$f":"INT((10^(Values!$F$17)-10^(Values!$F$17-1))*RAND()+(10^(Values!$F$17-1)))","v":0},"1",10,0,"",0,0]
[46,")","46)",{"$f":"INT((Values!$F$12*RAND()+1))","v":1},{"$f":"INT((Values!$F$12*RAND()+1))","v":1},11,{"$f":"INT((10^(Values!$F$17)-10^(Values!$F$17-1))*RAND()+(10^(Values!$F$17-1)))","v":0},"1",10,0,"",0,0]
[47,")","47)",{"$f":"INT((Values!$F$12*RAND()+1))","v":1},{"$f":"INT((Values!$F$12*RAND()+1))","v":1},11,{"$f":"INT((10^(Values!$F$17)-10^(Values!$F$17-1))*RAND()+(10^(Values!$F$17-1)))","v":0},"1",10,0,"",0,0]
[48,")","48)",{"$f":"INT((Values!$F$12*RAND()+1))","v":1},{"$f":"INT((Values!$F$12*RAND()+1))","v":1},11,{"$f":"INT((10^(Values!$F$17)-10^(Values!$F$17-1))*RAND()+(10^(Values!$F$17-1)))","v":0},"1",10,0,"",0,0]
[49,")","49)",{"$f":"INT((Values!$F$12*RAND()+1))","v":1},{"$f":"INT((Values!$F$12*RAND()+1))","v":1},11,{"$f":"INT((10^(Values!$F$17)-10^(Values!$F$17-1))*RAND()+(10^(Values!$F$17-1)))","v":0},"1",10,0,"",0,0]
[50,")","50)",{"$f":"INT((Values!$F$12*RAND()+1))","v":1},{"$f":"INT((Values!$F$12*RAND()+1))","v":1},11,{"$f":"INT((10^(Values!$F$17)-10^(Values!$F$17-1))*RAND()+(10^(Values!$F$17-1)))","v":0},"1",10,0,"",0,0]
[51,")","51)",{"$f":"INT((Values!$F$12*RAND()+1))","v":1},{"$f":"INT((Values!$F$12*RAND()+1))","v":1},11,{"$f":"INT((10^(Values!$F$17)-10^(Values!$F$17-1))*RAND()+(10^(Values!$F$17-1)))","v":0},"1",10,0,"",0,0]
[52,")","52)",{"$f":"INT((Values!$F$12*RAND()+1))","v":1},{"$f":"INT((Values!$F$12*RAND()+1))","v":1},11,{"$f":"INT((10^(Values!$F$17)-10^(Values!$F$17-1))*RAND()+(10^(Values!$F$17-1)))","v":0},"1",10,0,"",0,0]
[53,")","53)",{"$f":"INT((Values!$F$12*RAND()+1))","v":1},{"$f":"INT((Values!$F$12*RAND()+1))","v":1},11,{"$f":"INT((10^(Values!$F$17)-10^(Values!$F$17-1))*RAND()+(10^(Values!$F$17-1)))","v":0},"1",10,0,"",0,0]
[54,")","54)",{"$f":"INT((Values!$F$12*RAND()+1))","v":1},{"$f":"INT((Values!$F$12*RAND()+1))","v":1},11,{"$f":"INT((10^(Values!$F$17)-10^(Values!$F$17-1))*RAND()+(10^(Values!$F$17-1)))","v":0},"1",10,0,"",0,0]
[55,")","55)",{"$f":"INT((Values!$F$12*RAND()+1))","v":1},{"$f":"INT((Values!$F$12*RAND()+1))","v":1},11,{"$f":"INT((10^(Values!$F$17)-10^(Values!$F$17-1))*RAND()+(10^(Values!$F$17-1)))","v":0},"1",10,0,"",0,0]
[56,")","56)",{"$f":"INT((Values!$F$12*RAND()+1))","v":1},{"$f":"INT((Values!$F$12*RAND()+1))","v":1},11,{"$f":"INT((10^(Values!$F$17)-10^(Values!$F$17-1))*RAND()+(10^(Values!$F$17-1)))","v":0},"1",10,0,"",0,0]
[57,")","57)",{"$f":"INT((Values!$F$12*RAND()+1))","v":1},{"$f":"INT((Values!$F$12*RAND()+1))","v":1},11,{"$f":"INT((10^(Values!$F$17)-10^(Values!$F$17-1))*RAND()+(10^(Values!$F$17-1)))","v":0},"1",10,0,"",0,0]
[58,")","58)",{"$f":"INT((Values!$F$12*RAND()+1))","v":1},{"$f":"INT((Values!$F$12*RAND()+1))","v":1},11,{"$f":"INT((10^(Values!$F$17)-10^(Values!$F$17-1))*RAND()+(10^(Values!$F$17-1)))","v":0},"1",10,0,"",0,0]
[59,")","59)",{"$f":"INT((Values!$F$12*RAND()+1))","v":1},{"$f":"INT((Values!$F$12*RAND()+1))","v":1},11,{"$f":"INT((10^(Values!$F$17)-10^(Values!$F$17-1))*RAND()+(10^(Values!$F$17-1)))","v":0},"1",10,0,"",0,0]
[60,")","60)",{"$f":"INT((Values!$F$12*RAND()+1))","v":1},{"$f":"INT((Values!$F$12*RAND()+1))","v":1},11,{"$f":"INT((10^(Values!$F$17)-10^(Values!$F$17-1))*RAND()+(10^(Values!$F$17-1)))","v":0},"1",10,0,"",0,0]
[61,")","61)",{"$f":"INT((Values!$F$12*RAND()+1))","v":1},{"$f":"INT((Values!$F$12*RAND()+1))","v":1},11,{"$f":"INT((10^(Values!$F$17)-10^(Values!$F$17-1))*RAND()+(10^(Values!$F$17-1)))","v":0},"1",10,0,"",0,0]
[62,")","62)",{"$f":"INT((Values!$F$12*RAND()+1))","v":1},{"$f":"INT((Values!$F$12*RAND()+1))","v":1},11,{"$f":"INT((10^(Values!$F$17)-10^(Values!$F$17-1))*RAND()+(10^(Values!$F$17-1)))","v":0},"1",10,0,"",0,0]
[63,")","63)",{"$f":"INT((Values!$F$12*RAND()+1))","v":1},{"$f":"INT((Values!$F$12*RAND()+1))","v":1},11,{"$f":"INT((10^(Values!$F$17)-10^(Values!$F$17-1))*RAND()+(10^(Values!$F$17-1)))","v":0},"1",10,0,"",0,0]
[64,")","64)",{"$f":"INT((Values!$F$12*RAND()+1))","v":1},{"$f":"INT((Values!$F$12*RAND()+1))","v":1},11,{"$f":"INT((10^(Values!$F$17)-10^(Values!$F$17-1))*RAND()+(10^(Values!$F$17-1)))","v":0},"1",10,0,"",0,0]
[65,")","65)",{"$f":"INT((Values!$F$12*RAND()+1))","v":1},{"$f":"INT((Values!$F$12*RAND()+1))","v":1},11,{"$f":"INT((10^(Values!$F$17)-10^(Values!$F$17-1))*RAND()+(10^(Values!$F$17-1)))","v":0},"1",10,0,"",0,0]
[66,")",{"$f":"CONCATENATE(A69,B69)","v":"66)"},{"$f":"INT((Values!$F$12*RAND()+1))","v":1},{"$f":"INT((Values!$F$12*RAND()+1))","v":1},{"$f":"10*D69+E69","v":11},{"$f":"INT((10^(Values!$F$17)-10^(Values!$F$17-1))*RAND()+(10^(Values!$F$17-1)))","v":0},{"$f":"RIGHT(F69,1)","v":"1"},{"$f":"10*LEFT(F69,1)","v":10},{"$f":"G69*H69","v":0},{"$f":"IF(J69=0,\"\",J69)","v":""},{"$f":"G69*I69","v":0},{"$f":"F69*G69","v":0}]
[67,")","67)",{"$f":"INT((Values!$F$12*RAND()+1))","v":1},{"$f":"INT((Values!$F$12*RAND()+1))","v":1},11,{"$f":"INT((10^(Values!$F$17)-10^(Values!$F$17-1))*RAND()+(10^(Values!$F$17-1)))","v":0},"1",10,0,"",0,0]
[68,")","68)",{"$f":"INT((Values!$F$12*RAND()+1))","v":1},{"$f":"INT((Values!$F$12*RAND()+1))","v":1},11,{"$f":"INT((10^(Values!$F$17)-10^(Values!$F$17-1))*RAND()+(10^(Values!$F$17-1)))","v":0},"1",10,0,"",0,0]
[69,")","69)",{"$f":"INT((Values!$F$12*RAND()+1))","v":1},{"$f":"INT((Values!$F$12*RAND()+1))","v":1},11,{"$f":"INT((10^(Values!$F$17)-10^(Values!$F$17-1))*RAND()+(10^(Values!$F$17-1)))","v":0},"1",10,0,"",0,0]
[70,")","70)",{"$f":"INT((Values!$F$12*RAND()+1))","v":1},{"$f":"INT((Values!$F$12*RAND()+1))","v":1},11,{"$f":"INT((10^(Values!$F$17)-10^(Values!$F$17-1))*RAND()+(10^(Values!$F$17-1)))","v":0},"1",10,0,"",0,0]
[71,")","71)",{"$f":"INT((Values!$F$12*RAND()+1))","v":1},{"$f":"INT((Values!$F$12*RAND()+1))","v":1},11,{"$f":"INT((10^(Values!$F$17)-10^(Values!$F$17-1))*RAND()+(10^(Values!$F$17-1)))","v":0},"1",10,0,"",0,0]
[72,")","72)",{"$f":"INT((Values!$F$12*RAND()+1))","v":1},{"$f":"INT((Values!$F$12*RAND()+1))","v":1},11,{"$f":"INT((10^(Values!$F$17)-10^(Values!$F$17-1))*RAND()+(10^(Values!$F$17-1)))","v":0},"1",10,0,"",0,0]
[73,")","73)",{"$f":"INT((Values!$F$12*RAND()+1))","v":1},{"$f":"INT((Values!$F$12*RAND()+1))","v":1},11,{"$f":"INT((10^(Values!$F$17)-10^(Values!$F$17-1))*RAND()+(10^(Values!$F$17-1)))","v":0},"1",10,0,"",0,0]
[74,")","74)",{"$f":"INT((Values!$F$12*RAND()+1))","v":1},{"$f":"INT((Values!$F$12*RAND()+1))","v":1},11,{"$f":"INT((10^(Values!$F$17)-10^(Values!$F$17-1))*RAND()+(10^(Values!$F$17-1)))","v":0},"1",10,0,"",0,0]
[75,")","75)",{"$f":"INT((Values!$F$12*RAND()+1))","v":1},{"$f":"INT((Values!$F$12*RAND()+1))","v":1},11,{"$f":"INT((10^(Values!$F$17)-10^(Values!$F$17-1))*RAND()+(10^(Values!$F$17-1)))","v":0},"1",10,0,"",0,0]
[76,")","76)",{"$f":"INT((Values!$F$12*RAND()+1))","v":1},{"$f":"INT((Values!$F$12*RAND()+1))","v":1},11,{"$f":"INT((10^(Values!$F$17)-10^(Values!$F$17-1))*RAND()+(10^(Values!$F$17-1)))","v":0},"1",10,0,"",0,0]
[77,")","77)",{"$f":"INT((Values!$F$12*RAND()+1))","v":1},{"$f":"INT((Values!$F$12*RAND()+1))","v":1},11,{"$f":"INT((10^(Values!$F$17)-10^(Values!$F$17-1))*RAND()+(10^(Values!$F$17-1)))","v":0},"1",10,0,"",0,0]
[78,")","78)",{"$f":"INT((Values!$F$12*RAND()+1))","v":1},{"$f":"INT((Values!$F$12*RAND()+1))","v":1},11,{"$f":"INT((10^(Values!$F$17)-10^(Values!$F$17-1))*RAND()+(10^(Values!$F$17-1)))","v":0},"1",10,0,"",0,0]
[79,")","79)",{"$f":"INT((Values!$F$12*RAND()+1))","v":1},{"$f":"INT((Values!$F$12*RAND()+1))","v":1},11,{"$f":"INT((10^(Values!$F$17)-10^(Values!$F$17-1))*RAND()+(10^(Values!$F$17-1)))","v":0},"1",10,0,"",0,0]
[80,")","80)",{"$f":"INT((Values!$F$12*RAND()+1))","v":1},{"$f":"INT((Values!$F$12*RAND()+1))","v":1},11,{"$f":"INT((10^(Values!$F$17)-10^(Values!$F$17-1))*RAND()+(10^(Values!$F$17-1)))","v":0},"1",10,0,"",0,0]
[81,")","81)",{"$f":"INT((Values!$F$12*RAND()+1))","v":1},{"$f":"INT((Values!$F$12*RAND()+1))","v":1},11,{"$f":"INT((10^(Values!$F$17)-10^(Values!$F$17-1))*RAND()+(10^(Values!$F$17-1)))","v":0},"1",10,0,"",0,0]
[82,")","82)",{"$f":"INT((Values!$F$12*RAND()+1))","v":1},{"$f":"INT((Values!$F$12*RAND()+1))","v":1},11,{"$f":"INT((10^(Values!$F$17)-10^(Values!$F$17-1))*RAND()+(10^(Values!$F$17-1)))","v":0},"1",10,0,"",0,0]
[83,")","83)",{"$f":"INT((Values!$F$12*RAND()+1))","v":1},{"$f":"INT((Values!$F$12*RAND()+1))","v":1},11,{"$f":"INT((10^(Values!$F$17)-10^(Values!$F$17-1))*RAND()+(10^(Values!$F$17-1)))","v":0},"1",10,0,"",0,0]
[84,")","84)",{"$f":"INT((Values!$F$12*RAND()+1))","v":1},{"$f":"INT((Values!$F$12*RAND()+1))","v":1},11,{"$f":"INT((10^(Values!$F$17)-10^(Values!$F$17-1))*RAND()+(10^(Values!$F$17-1)))","v":0},"1",10,0,"",0,0]
[85,")","85)",{"$f":"INT((Values!$F$12*RAND()+1))","v":1},{"$f":"INT((Values!$F$12*RAND()+1))","v":1},11,{"$f":"INT((10^(Values!$F$17)-10^(Values!$F$17-1))*RAND()+(10^(Values!$F$17-1)))","v":0},"1",10,0,"",0,0]
[86,")","86)",{"$f":"INT((Values!$F$12*RAND()+1))","v":1},{"$f":"INT((Values!$F$12*RAND()+1))","v":1},11,{"$f":"INT((10^(Values!$F$17)-10^(Values!$F$17-1))*RAND()+(10^(Values!$F$17-1)))","v":0},"1",10,0,"",0,0]
[87,")","87)",{"$f":"INT((Values!$F$12*RAND()+1))","v":1},{"$f":"INT((Values!$F$12*RAND()+1))","v":1},11,{"$f":"INT((10^(Values!$F$17)-10^(Values!$F$17-1))*RAND()+(10^(Values!$F$17-1)))","v":0},"1",10,0,"",0,0]
[88,")","88)",{"$f":"INT((Values!$F$12*RAND()+1))","v":1},{"$f":"INT((Values!$F$12*RAND()+1))","v":1},11,{"$f":"INT((10^(Values!$F$17)-10^(Values!$F$17-1))*RAND()+(10^(Values!$F$17-1)))","v":0},"1",10,0,"",0,0]
[89,")","89)",{"$f":"INT((Values!$F$12*RAND()+1))","v":1},{"$f":"INT((Values!$F$12*RAND()+1))","v":1},11,{"$f":"INT((10^(Values!$F$17)-10^(Values!$F$17-1))*RAND()+(10^(Values!$F$17-1)))","v":0},"1",10,0,"",0,0]
[90,")","90)",{"$f":"INT((Values!$F$12*RAND()+1))","v":1},{"$f":"INT((Values!$F$12*RAND()+1))","v":1},11,{"$f":"INT((10^(Values!$F$17)-10^(Values!$F$17-1))*RAND()+(10^(Values!$F$17-1)))","v":0},"1",10,0,"",0,0]
[91,")","91)",{"$f":"INT((Values!$F$12*RAND()+1))","v":1},{"$f":"INT((Values!$F$12*RAND()+1))","v":1},11,{"$f":"INT((10^(Values!$F$17)-10^(Values!$F$17-1))*RAND()+(10^(Values!$F$17-1)))","v":0},"1",10,0,"",0,0]
[92,")","92)",{"$f":"INT((Values!$F$12*RAND()+1))","v":1},{"$f":"INT((Values!$F$12*RAND()+1))","v":1},11,{"$f":"INT((10^(Values!$F$17)-10^(Values!$F$17-1))*RAND()+(10^(Values!$F$17-1)))","v":0},"1",10,0,"",0,0]
[93,")","93)",{"$f":"INT((Values!$F$12*RAND()+1))","v":1},{"$f":"INT((Values!$F$12*RAND()+1))","v":1},11,{"$f":"INT((10^(Values!$F$17)-10^(Values!$F$17-1))*RAND()+(10^(Values!$F$17-1)))","v":0},"1",10,0,"",0,0]
[94,")","94)",{"$f":"INT((Values!$F$12*RAND()+1))","v":1},{"$f":"INT((Values!$F$12*RAND()+1))","v":1},11,{"$f":"INT((10^(Values!$F$17)-10^(Values!$F$17-1))*RAND()+(10^(Values!$F$17-1)))","v":0},"1",10,0,"",0,0]
[95,")","95)",{"$f":"INT((Values!$F$12*RAND()+1))","v":1},{"$f":"INT((Values!$F$12*RAND()+1))","v":1},11,{"$f":"INT((10^(Values!$F$17)-10^(Values!$F$17-1))*RAND()+(10^(Values!$F$17-1)))","v":0},"1",10,0,"",0,0]
[96,")","96)",{"$f":"INT((Values!$F$12*RAND()+1))","v":1},{"$f":"INT((Values!$F$12*RAND()+1))","v":1},11,{"$f":"INT((10^(Values!$F$17)-10^(Values!$F$17-1))*RAND()+(10^(Values!$F$17-1)))","v":0},"1",10,0,"",0,0]
[97,")","97)",{"$f":"INT((Values!$F$12*RAND()+1))","v":1},{"$f":"INT((Values!$F$12*RAND()+1))","v":1},11,{"$f":"INT((10^(Values!$F$17)-10^(Values!$F$17-1))*RAND()+(10^(Values!$F$17-1)))","v":0},"1",10,0,"",0,0]
[98,")","98)",{"$f":"INT((Values!$F$12*RAND()+1))","v":1},{"$f":"INT((Values!$F$12*RAND()+1))","v":1},11,{"$f":"INT((10^(Values!$F$17)-10^(Values!$F$17-1))*RAND()+(10^(Values!$F$17-1)))","v":0},"1",10,0,"",0,0]
[99,")","99)",{"$f":"INT((Values!$F$12*RAND()+1))","v":1},{"$f":"INT((Values!$F$12*RAND()+1))","v":1},11,{"$f":"INT((10^(Values!$F$17)-10^(Values!$F$17-1))*RAND()+(10^(Values!$F$17-1)))","v":0},"1",10,0,"",0,0]
[100,")","100)",{"$f":"INT((Values!$F$12*RAND()+1))","v":1},{"$f":"INT((Values!$F$12*RAND()+1))","v":1},11,{"$f":"INT((10^(Values!$F$17)-10^(Values!$F$17-1))*RAND()+(10^(Values!$F$17-1)))","v":0},"1",10,0,"",0,0]