{"text_format":"1","workbook":"xlsx","n_sheets":4,"sheets":["Values","WorkSheet","Answers","Working"],"not_rendered":{"charts":0,"images":0,"macros":1,"external_links":0,"defined_names":0,"comments":0,"pivot_tables":0},"unopened":[],"bounds":{"document_bytes":16777216,"sheet_cells":100000,"rows_first":2000,"rows_last":500,"rows_between":2000,"halvings":0,"cell_chars":16384,"cell_head_chars":4096},"cells_cut":0,"cells_raw":0,"read":"whole","date_system":"1900"}

{"sheet":"Values","index":0,"n_rows":20,"n_cols":9,"rows_kept":20,"cut":false,"hidden":false,"merged":[[15,2,15,4],[17,2,17,6],[17,8,21,9],[19,2,22,7],[1,2,1,6],[3,2,4,7],[5,2,5,4],[12,2,13,7],[7,2,8,7],[10,2,10,4]]}
[null,null,null,null,"MULTIPLICATION BY MULTIPLES OF 10"]
[null,null,"INSTRUCTIONS"]
[]
[null,"Step 1","Enter the maximum number digits to be used in the multiplier for this sheet(2 or 3, use 1 for mixed)"]
[]
[null,null,"Digits in Multiplier"]
[]
[null,"Step 2","Enter the maximum multiplier, a number from 2 to 9. This avoids issues with times tables."]
[]
[]
[null,null,"Maximum Multiplier"]
[]
[null,"Step 3","Enter the number digits to be used in the multiplicand for this sheet. (A whole number >1 and ≤4)"]
[]
[]
[null,null,"Digits in Multiplicand"]
[]
[null,"Step 3","Click on WorkSheet tab below.",null,null,null,null,null,"PRESS F9 for NEW WorkSheet"]
[]
[null,"Note","If you hold down shift then click on the WorkSheet tab and the Answers tab, you will be able to print both the WorkSheet and the solutions."]

{"sheet":"WorkSheet","index":1,"n_rows":33,"n_cols":12,"rows_kept":33,"cut":false,"hidden":false,"merged":[]}
[null,null,null,null,null,"MULTIPLICATION"]
[null,null,null,null,null,null,null,null,null,{"$f":"CONCATENATE(\"Worksheet \",Working!C1,Working!B1)","v":"Worksheet LMA-701"}]
["Evaluate the following;"]
[{"$f":"Working!C4","v":"1)"},{"$f":"Working!F4","v":0},"×",{"$f":"Working!$C12","v":"9)"},{"$f":"Working!$F12","v":0},"×",{"$f":"Working!$C20","v":"17)"},{"$f":"Working!$F20","v":0},"×",{"$f":"Working!$C28","v":"25)"},{"$f":"Working!$F28","v":0},"×"]
[null,{"$f":"Working!E4","v":10},null,null,{"$f":"Working!$E12","v":10},null,null,{"$f":"Working!$E20","v":10},null,null,{"$f":"Working!$E28","v":100}]
[]
[]
[{"$f":"Working!C5","v":"2)"},{"$f":"Working!F5","v":0},"×",{"$f":"Working!$C13","v":"10)"},{"$f":"Working!$F13","v":0},"×",{"$f":"Working!$C21","v":"18)"},{"$f":"Working!$F21","v":0},"×",{"$f":"Working!$C29","v":"26)"},{"$f":"Working!$F29","v":0},"×"]
[null,{"$f":"Working!E5","v":100},null,null,{"$f":"Working!$E13","v":100},null,null,{"$f":"Working!$E21","v":100},null,null,{"$f":"Working!$E29","v":10}]
[]
[]
[{"$f":"Working!C6","v":"3)"},{"$f":"Working!F6","v":0},"×",{"$f":"Working!$C14","v":"11)"},{"$f":"Working!$F14","v":0},"×",{"$f":"Working!$C22","v":"19)"},{"$f":"Working!$F22","v":0},"×",{"$f":"Working!$C30","v":"27)"},{"$f":"Working!$F30","v":0},"×"]
[null,{"$f":"Working!E6","v":100},null,null,{"$f":"Working!$E14","v":100},null,null,{"$f":"Working!$E22","v":100},null,null,{"$f":"Working!$E30","v":10}]
[]
[]
[{"$f":"Working!C7","v":"4)"},{"$f":"Working!F7","v":0},"×",{"$f":"Working!$C15","v":"12)"},{"$f":"Working!$F15","v":0},"×",{"$f":"Working!$C23","v":"20)"},{"$f":"Working!$F23","v":0},"×",{"$f":"Working!$C31","v":"28)"},{"$f":"Working!$F31","v":0},"×"]
[null,{"$f":"Working!E7","v":100},null,null,{"$f":"Working!$E15","v":10},null,null,{"$f":"Working!$E23","v":10},null,null,{"$f":"Working!$E31","v":100}]
[]
[]
[{"$f":"Working!C8","v":"5)"},{"$f":"Working!F8","v":0},"×",{"$f":"Working!$C16","v":"13)"},{"$f":"Working!$F16","v":0},"×",{"$f":"Working!$C24","v":"21)"},{"$f":"Working!$F24","v":0},"×",{"$f":"Working!$C32","v":"29)"},{"$f":"Working!$F32","v":0},"×"]
[null,{"$f":"Working!E8","v":100},null,null,{"$f":"Working!$E16","v":100},null,null,{"$f":"Working!$E24","v":10},null,null,{"$f":"Working!$E32","v":100}]
[]
[]
[{"$f":"Working!C9","v":"6)"},{"$f":"Working!F9","v":0},"×",{"$f":"Working!$C17","v":"14)"},{"$f":"Working!$F17","v":0},"×",{"$f":"Working!$C25","v":"22)"},{"$f":"Working!$F25","v":0},"×",{"$f":"Working!$C33","v":"30)"},{"$f":"Working!$F33","v":0},"×"]
[null,{"$f":"Working!E9","v":100},null,null,{"$f":"Working!$E17","v":100},null,null,{"$f":"Working!$E25","v":10},null,null,{"$f":"Working!$E33","v":100}]
[]
[]
[{"$f":"Working!C10","v":"7)"},{"$f":"Working!F10","v":0},"×",{"$f":"Working!$C18","v":"15)"},{"$f":"Working!$F18","v":0},"×",{"$f":"Working!$C26","v":"23)"},{"$f":"Working!$F26","v":0},"×"]
[null,{"$f":"Working!E10","v":100},null,null,{"$f":"Working!$E18","v":100},null,null,{"$f":"Working!$E26","v":10}]
[]
[]
[{"$f":"Working!C11","v":"8)"},{"$f":"Working!F11","v":0},"×",{"$f":"Working!$C19","v":"16)"},{"$f":"Working!$F19","v":0},"×",{"$f":"Working!$C27","v":"24)"},{"$f":"Working!$F27","v":0},"×"]
[null,{"$f":"Working!E11","v":100},null,null,{"$f":"Working!$E19","v":10},null,null,{"$f":"Working!$E27","v":10}]

{"sheet":"Answers","index":2,"n_rows":34,"n_cols":12,"rows_kept":34,"cut":false,"hidden":false,"merged":[]}
[null,null,null,null,null,"MULTIPLICATION"]
[null,null,null,null,null,"ANSWERS",null,null,null,{"$f":"CONCATENATE(\"Worksheet \",Working!C1,Working!B1)","v":"Worksheet LMA-701"}]
["Evaluate the following;"]
[{"$f":"Working!C4","v":"1)"},{"$f":"Working!F4","v":0},"×",{"$f":"Working!$C12","v":"9)"},{"$f":"Working!$F12","v":0},"×",{"$f":"Working!$C20","v":"17)"},{"$f":"Working!$F20","v":0},"×",{"$f":"Working!$C28","v":"25)"},{"$f":"Working!$F28","v":0},"×"]
[null,{"$f":"Working!E4","v":10},null,null,{"$f":"Working!$E12","v":10},null,null,{"$f":"Working!$E20","v":10},null,null,{"$f":"Working!$E28","v":100}]
[null,{"$f":"Working!G4","v":0},null,null,{"$f":"Working!$G12","v":0},null,null,{"$f":"Working!$G20","v":0},null,null,{"$f":"Working!$G28","v":0}]
[]
[{"$f":"Working!C5","v":"2)"},{"$f":"Working!F5","v":0},"×",{"$f":"Working!$C13","v":"10)"},{"$f":"Working!$F13","v":0},"×",{"$f":"Working!$C21","v":"18)"},{"$f":"Working!$F21","v":0},"×",{"$f":"Working!$C29","v":"26)"},{"$f":"Working!$F29","v":0},"×"]
[null,{"$f":"Working!E5","v":100},null,null,{"$f":"Working!$E13","v":100},null,null,{"$f":"Working!$E21","v":100},null,null,{"$f":"Working!$E29","v":10}]
[null,{"$f":"Working!G5","v":0},null,null,{"$f":"Working!$G13","v":0},null,null,{"$f":"Working!$G21","v":0},null,null,{"$f":"Working!$G29","v":0}]
[]
[{"$f":"Working!C6","v":"3)"},{"$f":"Working!F6","v":0},"×",{"$f":"Working!$C14","v":"11)"},{"$f":"Working!$F14","v":0},"×",{"$f":"Working!$C22","v":"19)"},{"$f":"Working!$F22","v":0},"×",{"$f":"Working!$C30","v":"27)"},{"$f":"Working!$F30","v":0},"×"]
[null,{"$f":"Working!E6","v":100},null,null,{"$f":"Working!$E14","v":100},null,null,{"$f":"Working!$E22","v":100},null,null,{"$f":"Working!$E30","v":10}]
[null,{"$f":"Working!G6","v":0},null,null,{"$f":"Working!$G14","v":0},null,null,{"$f":"Working!$G22","v":0},null,null,{"$f":"Working!$G30","v":0}]
[]
[{"$f":"Working!C7","v":"4)"},{"$f":"Working!F7","v":0},"×",{"$f":"Working!$C15","v":"12)"},{"$f":"Working!$F15","v":0},"×",{"$f":"Working!$C23","v":"20)"},{"$f":"Working!$F23","v":0},"×",{"$f":"Working!$C31","v":"28)"},{"$f":"Working!$F31","v":0},"×"]
[null,{"$f":"Working!E7","v":100},null,null,{"$f":"Working!$E15","v":10},null,null,{"$f":"Working!$E23","v":10},null,null,{"$f":"Working!$E31","v":100}]
[null,{"$f":"Working!G7","v":0},null,null,{"$f":"Working!$G15","v":0},null,null,{"$f":"Working!$G23","v":0},null,null,{"$f":"Working!$G31","v":0}]
[]
[{"$f":"Working!C8","v":"5)"},{"$f":"Working!F8","v":0},"×",{"$f":"Working!$C16","v":"13)"},{"$f":"Working!$F16","v":0},"×",{"$f":"Working!$C24","v":"21)"},{"$f":"Working!$F24","v":0},"×",{"$f":"Working!$C32","v":"29)"},{"$f":"Working!$F32","v":0},"×"]
[null,{"$f":"Working!E8","v":100},null,null,{"$f":"Working!$E16","v":100},null,null,{"$f":"Working!$E24","v":10},null,null,{"$f":"Working!$E32","v":100}]
[null,{"$f":"Working!G8","v":0},null,null,{"$f":"Working!$G16","v":0},null,null,{"$f":"Working!$G24","v":0},null,null,{"$f":"Working!$G32","v":0}]
[]
[{"$f":"Working!C9","v":"6)"},{"$f":"Working!F9","v":0},"×",{"$f":"Working!$C17","v":"14)"},{"$f":"Working!$F17","v":0},"×",{"$f":"Working!$C25","v":"22)"},{"$f":"Working!$F25","v":0},"×",{"$f":"Working!$C33","v":"30)"},{"$f":"Working!$F33","v":0},"×"]
[null,{"$f":"Working!E9","v":100},null,null,{"$f":"Working!$E17","v":100},null,null,{"$f":"Working!$E25","v":10},null,null,{"$f":"Working!$E33","v":100}]
[null,{"$f":"Working!G9","v":0},null,null,{"$f":"Working!$G17","v":0},null,null,{"$f":"Working!$G25","v":0},null,null,{"$f":"Working!$G33","v":0}]
[]
[{"$f":"Working!C10","v":"7)"},{"$f":"Working!F10","v":0},"×",{"$f":"Working!$C18","v":"15)"},{"$f":"Working!$F18","v":0},"×",{"$f":"Working!$C26","v":"23)"},{"$f":"Working!$F26","v":0},"×"]
[null,{"$f":"Working!E10","v":100},null,null,{"$f":"Working!$E18","v":100},null,null,{"$f":"Working!$E26","v":10}]
[null,{"$f":"Working!G10","v":0},null,null,{"$f":"Working!$G18","v":0},null,null,{"$f":"Working!$G26","v":0}]
[]
[{"$f":"Working!C11","v":"8)"},{"$f":"Working!F11","v":0},"×",{"$f":"Working!$C19","v":"16)"},{"$f":"Working!$F19","v":0},"×",{"$f":"Working!$C27","v":"24)"},{"$f":"Working!$F27","v":0},"×"]
[null,{"$f":"Working!E11","v":100},null,null,{"$f":"Working!$E19","v":10},null,null,{"$f":"Working!$E27","v":10}]
[null,{"$f":"Working!G11","v":0},null,null,{"$f":"Working!$G19","v":0},null,null,{"$f":"Working!$G27","v":0}]

{"sheet":"Working","index":3,"n_rows":103,"n_cols":8,"rows_kept":103,"cut":false,"hidden":true,"merged":[[1,5,1,6],[1,7,1,13]]}
[{"$f":"INT(900*RAND()+100)","v":700},{"$f":"TEXT(1,A1)","v":"701"},"LMA-"]
[null,null,null,null,null,"Numbers",null,"Text"]
[null,null,null,null,"Multiplier","Multiplicand","Product"]
[1,")",{"$f":"CONCATENATE(A4,B4)","v":"1)"},{"$f":"IF(Values!$F$6=2,1,IF(Values!$F$6=3,2,INT(2*RAND()+1)))","v":1},{"$f":"INT(((Values!$F$11-1)*RAND()+2))*10^D4","v":10},{"$f":"INT((10^(Values!$F$16)-10^(Values!$F$16-1))*RAND()+(10^(Values!$F$16-1)))","v":0},{"$f":"E4*F4","v":0}]
[2,")",{"$f":"CONCATENATE(A5,B5)","v":"2)"},{"$f":"IF(Values!$F$6=2,1,IF(Values!$F$6=3,2,INT(2*RAND()+1)))","v":2},{"$f":"INT(((Values!$F$11-1)*RAND()+2))*10^D5","v":100},{"$f":"INT((10^(Values!$F$16)-10^(Values!$F$16-1))*RAND()+(10^(Values!$F$16-1)))","v":0},{"$f":"E5*F5","v":0}]
[3,")","3)",{"$f":"IF(Values!$F$6=2,1,IF(Values!$F$6=3,2,INT(2*RAND()+1)))","v":2},{"$f":"INT(((Values!$F$11-1)*RAND()+2))*10^D6","v":100},{"$f":"INT((10^(Values!$F$16)-10^(Values!$F$16-1))*RAND()+(10^(Values!$F$16-1)))","v":0},0]
[4,")","4)",{"$f":"IF(Values!$F$6=2,1,IF(Values!$F$6=3,2,INT(2*RAND()+1)))","v":2},{"$f":"INT(((Values!$F$11-1)*RAND()+2))*10^D7","v":100},{"$f":"INT((10^(Values!$F$16)-10^(Values!$F$16-1))*RAND()+(10^(Values!$F$16-1)))","v":0},0]
[5,")","5)",{"$f":"IF(Values!$F$6=2,1,IF(Values!$F$6=3,2,INT(2*RAND()+1)))","v":2},{"$f":"INT(((Values!$F$11-1)*RAND()+2))*10^D8","v":100},{"$f":"INT((10^(Values!$F$16)-10^(Values!$F$16-1))*RAND()+(10^(Values!$F$16-1)))","v":0},0]
[6,")","6)",{"$f":"IF(Values!$F$6=2,1,IF(Values!$F$6=3,2,INT(2*RAND()+1)))","v":2},{"$f":"INT(((Values!$F$11-1)*RAND()+2))*10^D9","v":100},{"$f":"INT((10^(Values!$F$16)-10^(Values!$F$16-1))*RAND()+(10^(Values!$F$16-1)))","v":0},0]
[7,")","7)",{"$f":"IF(Values!$F$6=2,1,IF(Values!$F$6=3,2,INT(2*RAND()+1)))","v":2},{"$f":"INT(((Values!$F$11-1)*RAND()+2))*10^D10","v":100},{"$f":"INT((10^(Values!$F$16)-10^(Values!$F$16-1))*RAND()+(10^(Values!$F$16-1)))","v":0},0]
[8,")","8)",{"$f":"IF(Values!$F$6=2,1,IF(Values!$F$6=3,2,INT(2*RAND()+1)))","v":2},{"$f":"INT(((Values!$F$11-1)*RAND()+2))*10^D11","v":100},{"$f":"INT((10^(Values!$F$16)-10^(Values!$F$16-1))*RAND()+(10^(Values!$F$16-1)))","v":0},0]
[9,")","9)",{"$f":"IF(Values!$F$6=2,1,IF(Values!$F$6=3,2,INT(2*RAND()+1)))","v":1},{"$f":"INT(((Values!$F$11-1)*RAND()+2))*10^D12","v":10},{"$f":"INT((10^(Values!$F$16)-10^(Values!$F$16-1))*RAND()+(10^(Values!$F$16-1)))","v":0},0]
[10,")","10)",{"$f":"IF(Values!$F$6=2,1,IF(Values!$F$6=3,2,INT(2*RAND()+1)))","v":2},{"$f":"INT(((Values!$F$11-1)*RAND()+2))*10^D13","v":100},{"$f":"INT((10^(Values!$F$16)-10^(Values!$F$16-1))*RAND()+(10^(Values!$F$16-1)))","v":0},0]
[11,")","11)",{"$f":"IF(Values!$F$6=2,1,IF(Values!$F$6=3,2,INT(2*RAND()+1)))","v":2},{"$f":"INT(((Values!$F$11-1)*RAND()+2))*10^D14","v":100},{"$f":"INT((10^(Values!$F$16)-10^(Values!$F$16-1))*RAND()+(10^(Values!$F$16-1)))","v":0},0]
[12,")","12)",{"$f":"IF(Values!$F$6=2,1,IF(Values!$F$6=3,2,INT(2*RAND()+1)))","v":1},{"$f":"INT(((Values!$F$11-1)*RAND()+2))*10^D15","v":10},{"$f":"INT((10^(Values!$F$16)-10^(Values!$F$16-1))*RAND()+(10^(Values!$F$16-1)))","v":0},0]
[13,")","13)",{"$f":"IF(Values!$F$6=2,1,IF(Values!$F$6=3,2,INT(2*RAND()+1)))","v":2},{"$f":"INT(((Values!$F$11-1)*RAND()+2))*10^D16","v":100},{"$f":"INT((10^(Values!$F$16)-10^(Values!$F$16-1))*RAND()+(10^(Values!$F$16-1)))","v":0},0]
[14,")","14)",{"$f":"IF(Values!$F$6=2,1,IF(Values!$F$6=3,2,INT(2*RAND()+1)))","v":2},{"$f":"INT(((Values!$F$11-1)*RAND()+2))*10^D17","v":100},{"$f":"INT((10^(Values!$F$16)-10^(Values!$F$16-1))*RAND()+(10^(Values!$F$16-1)))","v":0},0]
[15,")","15)",{"$f":"IF(Values!$F$6=2,1,IF(Values!$F$6=3,2,INT(2*RAND()+1)))","v":2},{"$f":"INT(((Values!$F$11-1)*RAND()+2))*10^D18","v":100},{"$f":"INT((10^(Values!$F$16)-10^(Values!$F$16-1))*RAND()+(10^(Values!$F$16-1)))","v":0},0]
[16,")","16)",{"$f":"IF(Values!$F$6=2,1,IF(Values!$F$6=3,2,INT(2*RAND()+1)))","v":1},{"$f":"INT(((Values!$F$11-1)*RAND()+2))*10^D19","v":10},{"$f":"INT((10^(Values!$F$16)-10^(Values!$F$16-1))*RAND()+(10^(Values!$F$16-1)))","v":0},0]
[17,")","17)",{"$f":"IF(Values!$F$6=2,1,IF(Values!$F$6=3,2,INT(2*RAND()+1)))","v":1},{"$f":"INT(((Values!$F$11-1)*RAND()+2))*10^D20","v":10},{"$f":"INT((10^(Values!$F$16)-10^(Values!$F$16-1))*RAND()+(10^(Values!$F$16-1)))","v":0},0]
[18,")","18)",{"$f":"IF(Values!$F$6=2,1,IF(Values!$F$6=3,2,INT(2*RAND()+1)))","v":2},{"$f":"INT(((Values!$F$11-1)*RAND()+2))*10^D21","v":100},{"$f":"INT((10^(Values!$F$16)-10^(Values!$F$16-1))*RAND()+(10^(Values!$F$16-1)))","v":0},0]
[19,")","19)",{"$f":"IF(Values!$F$6=2,1,IF(Values!$F$6=3,2,INT(2*RAND()+1)))","v":2},{"$f":"INT(((Values!$F$11-1)*RAND()+2))*10^D22","v":100},{"$f":"INT((10^(Values!$F$16)-10^(Values!$F$16-1))*RAND()+(10^(Values!$F$16-1)))","v":0},0]
[20,")","20)",{"$f":"IF(Values!$F$6=2,1,IF(Values!$F$6=3,2,INT(2*RAND()+1)))","v":1},{"$f":"INT(((Values!$F$11-1)*RAND()+2))*10^D23","v":10},{"$f":"INT((10^(Values!$F$16)-10^(Values!$F$16-1))*RAND()+(10^(Values!$F$16-1)))","v":0},0]
[21,")","21)",{"$f":"IF(Values!$F$6=2,1,IF(Values!$F$6=3,2,INT(2*RAND()+1)))","v":1},{"$f":"INT(((Values!$F$11-1)*RAND()+2))*10^D24","v":10},{"$f":"INT((10^(Values!$F$16)-10^(Values!$F$16-1))*RAND()+(10^(Values!$F$16-1)))","v":0},0]
[22,")","22)",{"$f":"IF(Values!$F$6=2,1,IF(Values!$F$6=3,2,INT(2*RAND()+1)))","v":1},{"$f":"INT(((Values!$F$11-1)*RAND()+2))*10^D25","v":10},{"$f":"INT((10^(Values!$F$16)-10^(Values!$F$16-1))*RAND()+(10^(Values!$F$16-1)))","v":0},0]
[23,")","23)",{"$f":"IF(Values!$F$6=2,1,IF(Values!$F$6=3,2,INT(2*RAND()+1)))","v":1},{"$f":"INT(((Values!$F$11-1)*RAND()+2))*10^D26","v":10},{"$f":"INT((10^(Values!$F$16)-10^(Values!$F$16-1))*RAND()+(10^(Values!$F$16-1)))","v":0},0]
[24,")","24)",{"$f":"IF(Values!$F$6=2,1,IF(Values!$F$6=3,2,INT(2*RAND()+1)))","v":1},{"$f":"INT(((Values!$F$11-1)*RAND()+2))*10^D27","v":10},{"$f":"INT((10^(Values!$F$16)-10^(Values!$F$16-1))*RAND()+(10^(Values!$F$16-1)))","v":0},0]
[25,")","25)",{"$f":"IF(Values!$F$6=2,1,IF(Values!$F$6=3,2,INT(2*RAND()+1)))","v":2},{"$f":"INT(((Values!$F$11-1)*RAND()+2))*10^D28","v":100},{"$f":"INT((10^(Values!$F$16)-10^(Values!$F$16-1))*RAND()+(10^(Values!$F$16-1)))","v":0},0]
[26,")","26)",{"$f":"IF(Values!$F$6=2,1,IF(Values!$F$6=3,2,INT(2*RAND()+1)))","v":1},{"$f":"INT(((Values!$F$11-1)*RAND()+2))*10^D29","v":10},{"$f":"INT((10^(Values!$F$16)-10^(Values!$F$16-1))*RAND()+(10^(Values!$F$16-1)))","v":0},0]
[27,")","27)",{"$f":"IF(Values!$F$6=2,1,IF(Values!$F$6=3,2,INT(2*RAND()+1)))","v":1},{"$f":"INT(((Values!$F$11-1)*RAND()+2))*10^D30","v":10},{"$f":"INT((10^(Values!$F$16)-10^(Values!$F$16-1))*RAND()+(10^(Values!$F$16-1)))","v":0},0]
[28,")","28)",{"$f":"IF(Values!$F$6=2,1,IF(Values!$F$6=3,2,INT(2*RAND()+1)))","v":2},{"$f":"INT(((Values!$F$11-1)*RAND()+2))*10^D31","v":100},{"$f":"INT((10^(Values!$F$16)-10^(Values!$F$16-1))*RAND()+(10^(Values!$F$16-1)))","v":0},0]
[29,")","29)",{"$f":"IF(Values!$F$6=2,1,IF(Values!$F$6=3,2,INT(2*RAND()+1)))","v":2},{"$f":"INT(((Values!$F$11-1)*RAND()+2))*10^D32","v":100},{"$f":"INT((10^(Values!$F$16)-10^(Values!$F$16-1))*RAND()+(10^(Values!$F$16-1)))","v":0},0]
[30,")","30)",{"$f":"IF(Values!$F$6=2,1,IF(Values!$F$6=3,2,INT(2*RAND()+1)))","v":2},{"$f":"INT(((Values!$F$11-1)*RAND()+2))*10^D33","v":100},{"$f":"INT((10^(Values!$F$16)-10^(Values!$F$16-1))*RAND()+(10^(Values!$F$16-1)))","v":0},0]
[31,")","31)",{"$f":"IF(Values!$F$6=2,1,IF(Values!$F$6=3,2,INT(2*RAND()+1)))","v":2},{"$f":"INT(((Values!$F$11-1)*RAND()+2))*10^D34","v":100},{"$f":"INT((10^(Values!$F$16)-10^(Values!$F$16-1))*RAND()+(10^(Values!$F$16-1)))","v":0},0]
[32,")","32)",{"$f":"IF(Values!$F$6=2,1,IF(Values!$F$6=3,2,INT(2*RAND()+1)))","v":2},{"$f":"INT(((Values!$F$11-1)*RAND()+2))*10^D35","v":100},{"$f":"INT((10^(Values!$F$16)-10^(Values!$F$16-1))*RAND()+(10^(Values!$F$16-1)))","v":0},0]
[33,")","33)",{"$f":"IF(Values!$F$6=2,1,IF(Values!$F$6=3,2,INT(2*RAND()+1)))","v":2},{"$f":"INT(((Values!$F$11-1)*RAND()+2))*10^D36","v":100},{"$f":"INT((10^(Values!$F$16)-10^(Values!$F$16-1))*RAND()+(10^(Values!$F$16-1)))","v":0},0]
[34,")","34)",{"$f":"IF(Values!$F$6=2,1,IF(Values!$F$6=3,2,INT(2*RAND()+1)))","v":1},{"$f":"INT(((Values!$F$11-1)*RAND()+2))*10^D37","v":10},{"$f":"INT((10^(Values!$F$16)-10^(Values!$F$16-1))*RAND()+(10^(Values!$F$16-1)))","v":0},0]
[35,")","35)",{"$f":"IF(Values!$F$6=2,1,IF(Values!$F$6=3,2,INT(2*RAND()+1)))","v":1},{"$f":"INT(((Values!$F$11-1)*RAND()+2))*10^D38","v":10},{"$f":"INT((10^(Values!$F$16)-10^(Values!$F$16-1))*RAND()+(10^(Values!$F$16-1)))","v":0},0]
[36,")","36)",{"$f":"IF(Values!$F$6=2,1,IF(Values!$F$6=3,2,INT(2*RAND()+1)))","v":2},{"$f":"INT(((Values!$F$11-1)*RAND()+2))*10^D39","v":100},{"$f":"INT((10^(Values!$F$16)-10^(Values!$F$16-1))*RAND()+(10^(Values!$F$16-1)))","v":0},0]
[37,")","37)",{"$f":"IF(Values!$F$6=2,1,IF(Values!$F$6=3,2,INT(2*RAND()+1)))","v":1},{"$f":"INT(((Values!$F$11-1)*RAND()+2))*10^D40","v":10},{"$f":"INT((10^(Values!$F$16)-10^(Values!$F$16-1))*RAND()+(10^(Values!$F$16-1)))","v":0},0]
[38,")","38)",{"$f":"IF(Values!$F$6=2,1,IF(Values!$F$6=3,2,INT(2*RAND()+1)))","v":2},{"$f":"INT(((Values!$F$11-1)*RAND()+2))*10^D41","v":100},{"$f":"INT((10^(Values!$F$16)-10^(Values!$F$16-1))*RAND()+(10^(Values!$F$16-1)))","v":0},0]
[39,")","39)",{"$f":"IF(Values!$F$6=2,1,IF(Values!$F$6=3,2,INT(2*RAND()+1)))","v":1},{"$f":"INT(((Values!$F$11-1)*RAND()+2))*10^D42","v":10},{"$f":"INT((10^(Values!$F$16)-10^(Values!$F$16-1))*RAND()+(10^(Values!$F$16-1)))","v":0},0]
[40,")","40)",{"$f":"IF(Values!$F$6=2,1,IF(Values!$F$6=3,2,INT(2*RAND()+1)))","v":2},{"$f":"INT(((Values!$F$11-1)*RAND()+2))*10^D43","v":100},{"$f":"INT((10^(Values!$F$16)-10^(Values!$F$16-1))*RAND()+(10^(Values!$F$16-1)))","v":0},0]
[41,")","41)",{"$f":"IF(Values!$F$6=2,1,IF(Values!$F$6=3,2,INT(2*RAND()+1)))","v":1},{"$f":"INT(((Values!$F$11-1)*RAND()+2))*10^D44","v":10},{"$f":"INT((10^(Values!$F$16)-10^(Values!$F$16-1))*RAND()+(10^(Values!$F$16-1)))","v":0},0]
[42,")","42)",{"$f":"IF(Values!$F$6=2,1,IF(Values!$F$6=3,2,INT(2*RAND()+1)))","v":2},{"$f":"INT(((Values!$F$11-1)*RAND()+2))*10^D45","v":100},{"$f":"INT((10^(Values!$F$16)-10^(Values!$F$16-1))*RAND()+(10^(Values!$F$16-1)))","v":0},0]
[43,")","43)",{"$f":"IF(Values!$F$6=2,1,IF(Values!$F$6=3,2,INT(2*RAND()+1)))","v":1},{"$f":"INT(((Values!$F$11-1)*RAND()+2))*10^D46","v":10},{"$f":"INT((10^(Values!$F$16)-10^(Values!$F$16-1))*RAND()+(10^(Values!$F$16-1)))","v":0},0]
[44,")","44)",{"$f":"IF(Values!$F$6=2,1,IF(Values!$F$6=3,2,INT(2*RAND()+1)))","v":2},{"$f":"INT(((Values!$F$11-1)*RAND()+2))*10^D47","v":100},{"$f":"INT((10^(Values!$F$16)-10^(Values!$F$16-1))*RAND()+(10^(Values!$F$16-1)))","v":0},0]
[45,")","45)",{"$f":"IF(Values!$F$6=2,1,IF(Values!$F$6=3,2,INT(2*RAND()+1)))","v":1},{"$f":"INT(((Values!$F$11-1)*RAND()+2))*10^D48","v":10},{"$f":"INT((10^(Values!$F$16)-10^(Values!$F$16-1))*RAND()+(10^(Values!$F$16-1)))","v":0},0]
[46,")","46)",{"$f":"IF(Values!$F$6=2,1,IF(Values!$F$6=3,2,INT(2*RAND()+1)))","v":2},{"$f":"INT(((Values!$F$11-1)*RAND()+2))*10^D49","v":100},{"$f":"INT((10^(Values!$F$16)-10^(Values!$F$16-1))*RAND()+(10^(Values!$F$16-1)))","v":0},0]
[47,")","47)",{"$f":"IF(Values!$F$6=2,1,IF(Values!$F$6=3,2,INT(2*RAND()+1)))","v":2},{"$f":"INT(((Values!$F$11-1)*RAND()+2))*10^D50","v":100},{"$f":"INT((10^(Values!$F$16)-10^(Values!$F$16-1))*RAND()+(10^(Values!$F$16-1)))","v":0},0]
[48,")","48)",{"$f":"IF(Values!$F$6=2,1,IF(Values!$F$6=3,2,INT(2*RAND()+1)))","v":2},{"$f":"INT(((Values!$F$11-1)*RAND()+2))*10^D51","v":100},{"$f":"INT((10^(Values!$F$16)-10^(Values!$F$16-1))*RAND()+(10^(Values!$F$16-1)))","v":0},0]
[49,")","49)",{"$f":"IF(Values!$F$6=2,1,IF(Values!$F$6=3,2,INT(2*RAND()+1)))","v":1},{"$f":"INT(((Values!$F$11-1)*RAND()+2))*10^D52","v":10},{"$f":"INT((10^(Values!$F$16)-10^(Values!$F$16-1))*RAND()+(10^(Values!$F$16-1)))","v":0},0]
[50,")","50)",{"$f":"IF(Values!$F$6=2,1,IF(Values!$F$6=3,2,INT(2*RAND()+1)))","v":1},{"$f":"INT(((Values!$F$11-1)*RAND()+2))*10^D53","v":10},{"$f":"INT((10^(Values!$F$16)-10^(Values!$F$16-1))*RAND()+(10^(Values!$F$16-1)))","v":0},0]
[51,")","51)",{"$f":"IF(Values!$F$6=2,1,IF(Values!$F$6=3,2,INT(2*RAND()+1)))","v":1},{"$f":"INT(((Values!$F$11-1)*RAND()+2))*10^D54","v":10},{"$f":"INT((10^(Values!$F$16)-10^(Values!$F$16-1))*RAND()+(10^(Values!$F$16-1)))","v":0},0]
[52,")","52)",{"$f":"IF(Values!$F$6=2,1,IF(Values!$F$6=3,2,INT(2*RAND()+1)))","v":2},{"$f":"INT(((Values!$F$11-1)*RAND()+2))*10^D55","v":100},{"$f":"INT((10^(Values!$F$16)-10^(Values!$F$16-1))*RAND()+(10^(Values!$F$16-1)))","v":0},0]
[53,")","53)",{"$f":"IF(Values!$F$6=2,1,IF(Values!$F$6=3,2,INT(2*RAND()+1)))","v":2},{"$f":"INT(((Values!$F$11-1)*RAND()+2))*10^D56","v":100},{"$f":"INT((10^(Values!$F$16)-10^(Values!$F$16-1))*RAND()+(10^(Values!$F$16-1)))","v":0},0]
[54,")","54)",{"$f":"IF(Values!$F$6=2,1,IF(Values!$F$6=3,2,INT(2*RAND()+1)))","v":1},{"$f":"INT(((Values!$F$11-1)*RAND()+2))*10^D57","v":10},{"$f":"INT((10^(Values!$F$16)-10^(Values!$F$16-1))*RAND()+(10^(Values!$F$16-1)))","v":0},0]
[55,")","55)",{"$f":"IF(Values!$F$6=2,1,IF(Values!$F$6=3,2,INT(2*RAND()+1)))","v":2},{"$f":"INT(((Values!$F$11-1)*RAND()+2))*10^D58","v":100},{"$f":"INT((10^(Values!$F$16)-10^(Values!$F$16-1))*RAND()+(10^(Values!$F$16-1)))","v":0},0]
[56,")","56)",{"$f":"IF(Values!$F$6=2,1,IF(Values!$F$6=3,2,INT(2*RAND()+1)))","v":1},{"$f":"INT(((Values!$F$11-1)*RAND()+2))*10^D59","v":10},{"$f":"INT((10^(Values!$F$16)-10^(Values!$F$16-1))*RAND()+(10^(Values!$F$16-1)))","v":0},0]
[57,")","57)",{"$f":"IF(Values!$F$6=2,1,IF(Values!$F$6=3,2,INT(2*RAND()+1)))","v":2},{"$f":"INT(((Values!$F$11-1)*RAND()+2))*10^D60","v":100},{"$f":"INT((10^(Values!$F$16)-10^(Values!$F$16-1))*RAND()+(10^(Values!$F$16-1)))","v":0},0]
[58,")","58)",{"$f":"IF(Values!$F$6=2,1,IF(Values!$F$6=3,2,INT(2*RAND()+1)))","v":2},{"$f":"INT(((Values!$F$11-1)*RAND()+2))*10^D61","v":100},{"$f":"INT((10^(Values!$F$16)-10^(Values!$F$16-1))*RAND()+(10^(Values!$F$16-1)))","v":0},0]
[59,")","59)",{"$f":"IF(Values!$F$6=2,1,IF(Values!$F$6=3,2,INT(2*RAND()+1)))","v":1},{"$f":"INT(((Values!$F$11-1)*RAND()+2))*10^D62","v":10},{"$f":"INT((10^(Values!$F$16)-10^(Values!$F$16-1))*RAND()+(10^(Values!$F$16-1)))","v":0},0]
[60,")","60)",{"$f":"IF(Values!$F$6=2,1,IF(Values!$F$6=3,2,INT(2*RAND()+1)))","v":2},{"$f":"INT(((Values!$F$11-1)*RAND()+2))*10^D63","v":100},{"$f":"INT((10^(Values!$F$16)-10^(Values!$F$16-1))*RAND()+(10^(Values!$F$16-1)))","v":0},0]
[61,")","61)",{"$f":"IF(Values!$F$6=2,1,IF(Values!$F$6=3,2,INT(2*RAND()+1)))","v":2},{"$f":"INT(((Values!$F$11-1)*RAND()+2))*10^D64","v":100},{"$f":"INT((10^(Values!$F$16)-10^(Values!$F$16-1))*RAND()+(10^(Values!$F$16-1)))","v":0},0]
[62,")","62)",{"$f":"IF(Values!$F$6=2,1,IF(Values!$F$6=3,2,INT(2*RAND()+1)))","v":1},{"$f":"INT(((Values!$F$11-1)*RAND()+2))*10^D65","v":10},{"$f":"INT((10^(Values!$F$16)-10^(Values!$F$16-1))*RAND()+(10^(Values!$F$16-1)))","v":0},0]
[63,")","63)",{"$f":"IF(Values!$F$6=2,1,IF(Values!$F$6=3,2,INT(2*RAND()+1)))","v":1},{"$f":"INT(((Values!$F$11-1)*RAND()+2))*10^D66","v":10},{"$f":"INT((10^(Values!$F$16)-10^(Values!$F$16-1))*RAND()+(10^(Values!$F$16-1)))","v":0},0]
[64,")","64)",{"$f":"IF(Values!$F$6=2,1,IF(Values!$F$6=3,2,INT(2*RAND()+1)))","v":1},{"$f":"INT(((Values!$F$11-1)*RAND()+2))*10^D67","v":10},{"$f":"INT((10^(Values!$F$16)-10^(Values!$F$16-1))*RAND()+(10^(Values!$F$16-1)))","v":0},0]
[65,")","65)",{"$f":"IF(Values!$F$6=2,1,IF(Values!$F$6=3,2,INT(2*RAND()+1)))","v":1},{"$f":"INT(((Values!$F$11-1)*RAND()+2))*10^D68","v":10},{"$f":"INT((10^(Values!$F$16)-10^(Values!$F$16-1))*RAND()+(10^(Values!$F$16-1)))","v":0},0]
[66,")",{"$f":"CONCATENATE(A69,B69)","v":"66)"},{"$f":"IF(Values!$F$6=2,1,IF(Values!$F$6=3,2,INT(2*RAND()+1)))","v":2},{"$f":"INT(((Values!$F$11-1)*RAND()+2))*10^D69","v":100},{"$f":"INT((10^(Values!$F$16)-10^(Values!$F$16-1))*RAND()+(10^(Values!$F$16-1)))","v":0},{"$f":"E69*F69","v":0}]
[67,")","67)",{"$f":"IF(Values!$F$6=2,1,IF(Values!$F$6=3,2,INT(2*RAND()+1)))","v":1},{"$f":"INT(((Values!$F$11-1)*RAND()+2))*10^D70","v":10},{"$f":"INT((10^(Values!$F$16)-10^(Values!$F$16-1))*RAND()+(10^(Values!$F$16-1)))","v":0},0]
[68,")","68)",{"$f":"IF(Values!$F$6=2,1,IF(Values!$F$6=3,2,INT(2*RAND()+1)))","v":2},{"$f":"INT(((Values!$F$11-1)*RAND()+2))*10^D71","v":100},{"$f":"INT((10^(Values!$F$16)-10^(Values!$F$16-1))*RAND()+(10^(Values!$F$16-1)))","v":0},0]
[69,")","69)",{"$f":"IF(Values!$F$6=2,1,IF(Values!$F$6=3,2,INT(2*RAND()+1)))","v":2},{"$f":"INT(((Values!$F$11-1)*RAND()+2))*10^D72","v":100},{"$f":"INT((10^(Values!$F$16)-10^(Values!$F$16-1))*RAND()+(10^(Values!$F$16-1)))","v":0},0]
[70,")","70)",{"$f":"IF(Values!$F$6=2,1,IF(Values!$F$6=3,2,INT(2*RAND()+1)))","v":1},{"$f":"INT(((Values!$F$11-1)*RAND()+2))*10^D73","v":10},{"$f":"INT((10^(Values!$F$16)-10^(Values!$F$16-1))*RAND()+(10^(Values!$F$16-1)))","v":0},0]
[71,")","71)",{"$f":"IF(Values!$F$6=2,1,IF(Values!$F$6=3,2,INT(2*RAND()+1)))","v":2},{"$f":"INT(((Values!$F$11-1)*RAND()+2))*10^D74","v":100},{"$f":"INT((10^(Values!$F$16)-10^(Values!$F$16-1))*RAND()+(10^(Values!$F$16-1)))","v":0},0]
[72,")","72)",{"$f":"IF(Values!$F$6=2,1,IF(Values!$F$6=3,2,INT(2*RAND()+1)))","v":1},{"$f":"INT(((Values!$F$11-1)*RAND()+2))*10^D75","v":10},{"$f":"INT((10^(Values!$F$16)-10^(Values!$F$16-1))*RAND()+(10^(Values!$F$16-1)))","v":0},0]
[73,")","73)",{"$f":"IF(Values!$F$6=2,1,IF(Values!$F$6=3,2,INT(2*RAND()+1)))","v":2},{"$f":"INT(((Values!$F$11-1)*RAND()+2))*10^D76","v":100},{"$f":"INT((10^(Values!$F$16)-10^(Values!$F$16-1))*RAND()+(10^(Values!$F$16-1)))","v":0},0]
[74,")","74)",{"$f":"IF(Values!$F$6=2,1,IF(Values!$F$6=3,2,INT(2*RAND()+1)))","v":1},{"$f":"INT(((Values!$F$11-1)*RAND()+2))*10^D77","v":10},{"$f":"INT((10^(Values!$F$16)-10^(Values!$F$16-1))*RAND()+(10^(Values!$F$16-1)))","v":0},0]
[75,")","75)",{"$f":"IF(Values!$F$6=2,1,IF(Values!$F$6=3,2,INT(2*RAND()+1)))","v":1},{"$f":"INT(((Values!$F$11-1)*RAND()+2))*10^D78","v":10},{"$f":"INT((10^(Values!$F$16)-10^(Values!$F$16-1))*RAND()+(10^(Values!$F$16-1)))","v":0},0]
[76,")","76)",{"$f":"IF(Values!$F$6=2,1,IF(Values!$F$6=3,2,INT(2*RAND()+1)))","v":1},{"$f":"INT(((Values!$F$11-1)*RAND()+2))*10^D79","v":10},{"$f":"INT((10^(Values!$F$16)-10^(Values!$F$16-1))*RAND()+(10^(Values!$F$16-1)))","v":0},0]
[77,")","77)",{"$f":"IF(Values!$F$6=2,1,IF(Values!$F$6=3,2,INT(2*RAND()+1)))","v":1},{"$f":"INT(((Values!$F$11-1)*RAND()+2))*10^D80","v":10},{"$f":"INT((10^(Values!$F$16)-10^(Values!$F$16-1))*RAND()+(10^(Values!$F$16-1)))","v":0},0]
[78,")","78)",{"$f":"IF(Values!$F$6=2,1,IF(Values!$F$6=3,2,INT(2*RAND()+1)))","v":2},{"$f":"INT(((Values!$F$11-1)*RAND()+2))*10^D81","v":100},{"$f":"INT((10^(Values!$F$16)-10^(Values!$F$16-1))*RAND()+(10^(Values!$F$16-1)))","v":0},0]
[79,")","79)",{"$f":"IF(Values!$F$6=2,1,IF(Values!$F$6=3,2,INT(2*RAND()+1)))","v":2},{"$f":"INT(((Values!$F$11-1)*RAND()+2))*10^D82","v":100},{"$f":"INT((10^(Values!$F$16)-10^(Values!$F$16-1))*RAND()+(10^(Values!$F$16-1)))","v":0},0]
[80,")","80)",{"$f":"IF(Values!$F$6=2,1,IF(Values!$F$6=3,2,INT(2*RAND()+1)))","v":2},{"$f":"INT(((Values!$F$11-1)*RAND()+2))*10^D83","v":100},{"$f":"INT((10^(Values!$F$16)-10^(Values!$F$16-1))*RAND()+(10^(Values!$F$16-1)))","v":0},0]
[81,")","81)",{"$f":"IF(Values!$F$6=2,1,IF(Values!$F$6=3,2,INT(2*RAND()+1)))","v":1},{"$f":"INT(((Values!$F$11-1)*RAND()+2))*10^D84","v":10},{"$f":"INT((10^(Values!$F$16)-10^(Values!$F$16-1))*RAND()+(10^(Values!$F$16-1)))","v":0},0]
[82,")","82)",{"$f":"IF(Values!$F$6=2,1,IF(Values!$F$6=3,2,INT(2*RAND()+1)))","v":1},{"$f":"INT(((Values!$F$11-1)*RAND()+2))*10^D85","v":10},{"$f":"INT((10^(Values!$F$16)-10^(Values!$F$16-1))*RAND()+(10^(Values!$F$16-1)))","v":0},0]
[83,")","83)",{"$f":"IF(Values!$F$6=2,1,IF(Values!$F$6=3,2,INT(2*RAND()+1)))","v":1},{"$f":"INT(((Values!$F$11-1)*RAND()+2))*10^D86","v":10},{"$f":"INT((10^(Values!$F$16)-10^(Values!$F$16-1))*RAND()+(10^(Values!$F$16-1)))","v":0},0]
[84,")","84)",{"$f":"IF(Values!$F$6=2,1,IF(Values!$F$6=3,2,INT(2*RAND()+1)))","v":2},{"$f":"INT(((Values!$F$11-1)*RAND()+2))*10^D87","v":100},{"$f":"INT((10^(Values!$F$16)-10^(Values!$F$16-1))*RAND()+(10^(Values!$F$16-1)))","v":0},0]
[85,")","85)",{"$f":"IF(Values!$F$6=2,1,IF(Values!$F$6=3,2,INT(2*RAND()+1)))","v":2},{"$f":"INT(((Values!$F$11-1)*RAND()+2))*10^D88","v":100},{"$f":"INT((10^(Values!$F$16)-10^(Values!$F$16-1))*RAND()+(10^(Values!$F$16-1)))","v":0},0]
[86,")","86)",{"$f":"IF(Values!$F$6=2,1,IF(Values!$F$6=3,2,INT(2*RAND()+1)))","v":2},{"$f":"INT(((Values!$F$11-1)*RAND()+2))*10^D89","v":100},{"$f":"INT((10^(Values!$F$16)-10^(Values!$F$16-1))*RAND()+(10^(Values!$F$16-1)))","v":0},0]
[87,")","87)",{"$f":"IF(Values!$F$6=2,1,IF(Values!$F$6=3,2,INT(2*RAND()+1)))","v":2},{"$f":"INT(((Values!$F$11-1)*RAND()+2))*10^D90","v":100},{"$f":"INT((10^(Values!$F$16)-10^(Values!$F$16-1))*RAND()+(10^(Values!$F$16-1)))","v":0},0]
[88,")","88)",{"$f":"IF(Values!$F$6=2,1,IF(Values!$F$6=3,2,INT(2*RAND()+1)))","v":1},{"$f":"INT(((Values!$F$11-1)*RAND()+2))*10^D91","v":10},{"$f":"INT((10^(Values!$F$16)-10^(Values!$F$16-1))*RAND()+(10^(Values!$F$16-1)))","v":0},0]
[89,")","89)",{"$f":"IF(Values!$F$6=2,1,IF(Values!$F$6=3,2,INT(2*RAND()+1)))","v":2},{"$f":"INT(((Values!$F$11-1)*RAND()+2))*10^D92","v":100},{"$f":"INT((10^(Values!$F$16)-10^(Values!$F$16-1))*RAND()+(10^(Values!$F$16-1)))","v":0},0]
[90,")","90)",{"$f":"IF(Values!$F$6=2,1,IF(Values!$F$6=3,2,INT(2*RAND()+1)))","v":2},{"$f":"INT(((Values!$F$11-1)*RAND()+2))*10^D93","v":100},{"$f":"INT((10^(Values!$F$16)-10^(Values!$F$16-1))*RAND()+(10^(Values!$F$16-1)))","v":0},0]
[91,")","91)",{"$f":"IF(Values!$F$6=2,1,IF(Values!$F$6=3,2,INT(2*RAND()+1)))","v":2},{"$f":"INT(((Values!$F$11-1)*RAND()+2))*10^D94","v":100},{"$f":"INT((10^(Values!$F$16)-10^(Values!$F$16-1))*RAND()+(10^(Values!$F$16-1)))","v":0},0]
[92,")","92)",{"$f":"IF(Values!$F$6=2,1,IF(Values!$F$6=3,2,INT(2*RAND()+1)))","v":1},{"$f":"INT(((Values!$F$11-1)*RAND()+2))*10^D95","v":10},{"$f":"INT((10^(Values!$F$16)-10^(Values!$F$16-1))*RAND()+(10^(Values!$F$16-1)))","v":0},0]
[93,")","93)",{"$f":"IF(Values!$F$6=2,1,IF(Values!$F$6=3,2,INT(2*RAND()+1)))","v":1},{"$f":"INT(((Values!$F$11-1)*RAND()+2))*10^D96","v":10},{"$f":"INT((10^(Values!$F$16)-10^(Values!$F$16-1))*RAND()+(10^(Values!$F$16-1)))","v":0},0]
[94,")","94)",{"$f":"IF(Values!$F$6=2,1,IF(Values!$F$6=3,2,INT(2*RAND()+1)))","v":2},{"$f":"INT(((Values!$F$11-1)*RAND()+2))*10^D97","v":100},{"$f":"INT((10^(Values!$F$16)-10^(Values!$F$16-1))*RAND()+(10^(Values!$F$16-1)))","v":0},0]
[95,")","95)",{"$f":"IF(Values!$F$6=2,1,IF(Values!$F$6=3,2,INT(2*RAND()+1)))","v":1},{"$f":"INT(((Values!$F$11-1)*RAND()+2))*10^D98","v":10},{"$f":"INT((10^(Values!$F$16)-10^(Values!$F$16-1))*RAND()+(10^(Values!$F$16-1)))","v":0},0]
[96,")","96)",{"$f":"IF(Values!$F$6=2,1,IF(Values!$F$6=3,2,INT(2*RAND()+1)))","v":1},{"$f":"INT(((Values!$F$11-1)*RAND()+2))*10^D99","v":10},{"$f":"INT((10^(Values!$F$16)-10^(Values!$F$16-1))*RAND()+(10^(Values!$F$16-1)))","v":0},0]
[97,")","97)",{"$f":"IF(Values!$F$6=2,1,IF(Values!$F$6=3,2,INT(2*RAND()+1)))","v":1},{"$f":"INT(((Values!$F$11-1)*RAND()+2))*10^D100","v":10},{"$f":"INT((10^(Values!$F$16)-10^(Values!$F$16-1))*RAND()+(10^(Values!$F$16-1)))","v":0},0]
[98,")","98)",{"$f":"IF(Values!$F$6=2,1,IF(Values!$F$6=3,2,INT(2*RAND()+1)))","v":2},{"$f":"INT(((Values!$F$11-1)*RAND()+2))*10^D101","v":100},{"$f":"INT((10^(Values!$F$16)-10^(Values!$F$16-1))*RAND()+(10^(Values!$F$16-1)))","v":0},0]
[99,")","99)",{"$f":"IF(Values!$F$6=2,1,IF(Values!$F$6=3,2,INT(2*RAND()+1)))","v":1},{"$f":"INT(((Values!$F$11-1)*RAND()+2))*10^D102","v":10},{"$f":"INT((10^(Values!$F$16)-10^(Values!$F$16-1))*RAND()+(10^(Values!$F$16-1)))","v":0},0]
[100,")","100)",{"$f":"IF(Values!$F$6=2,1,IF(Values!$F$6=3,2,INT(2*RAND()+1)))","v":2},{"$f":"INT(((Values!$F$11-1)*RAND()+2))*10^D103","v":100},{"$f":"INT((10^(Values!$F$16)-10^(Values!$F$16-1))*RAND()+(10^(Values!$F$16-1)))","v":0},0]