{"text_format":"1","workbook":"xlsx","n_sheets":4,"sheets":["Values","WorkSheet","Answers","Working"],"not_rendered":{"charts":0,"images":0,"macros":1,"external_links":0,"defined_names":0,"comments":0,"pivot_tables":0},"unopened":[],"bounds":{"document_bytes":16777216,"sheet_cells":100000,"rows_first":2000,"rows_last":500,"rows_between":2000,"halvings":0,"cell_chars":16384,"cell_head_chars":4096},"cells_cut":0,"cells_raw":0,"read":"whole","date_system":"1900"}

{"sheet":"Values","index":0,"n_rows":18,"n_cols":9,"rows_kept":18,"cut":false,"hidden":false,"merged":[[13,2,13,4],[15,2,15,6],[15,8,19,9],[17,2,20,7],[3,2,3,6],[5,2,6,7],[8,2,8,4],[10,2,11,7]]}
[null,null,null,null,"MULTIPLICATION"]
[null,null,null,null,"By numbers from 2 to 9"]
[]
[null,null,"INSTRUCTIONS"]
[]
[null,"Step 1","The number digits to be used in the multiplier for this sheet is 1. Enter the maximum multiplier (A whole number ≥ 2 and ≤ 9."]
[]
[]
[null,null,"Maximum Multiplier"]
[]
[null,"Step 2","Enter the number digits to be used in the multiplicand for this sheet. (A whole number >1 and ≤6)"]
[]
[]
[null,null,"Digits in Multiplicand"]
[]
[null,"Step 3","Click on WorkSheet tab below.",null,null,null,null,null,"PRESS F9 for NEW WorkSheet"]
[]
[null,"Note","If you hold down shift then click on the WorkSheet tab and the Answers tab, you will be able to print both the WorkSheet and the solutions."]

{"sheet":"WorkSheet","index":1,"n_rows":33,"n_cols":12,"rows_kept":33,"cut":false,"hidden":false,"merged":[]}
[null,null,null,null,null,"MULTIPLICATION"]
[null,null,null,null,null,null,null,null,null,{"$f":"CONCATENATE(\"Worksheet \",Working!C1,Working!B1)","v":"Worksheet LMA-722"}]
["Evaluate the following;"]
[{"$f":"Working!C4","v":"1)"},{"$f":"Working!E4","v":0},"×",{"$f":"Working!$C12","v":"9)"},{"$f":"Working!$E12","v":0},"×",{"$f":"Working!$C20","v":"17)"},{"$f":"Working!$E20","v":0},"×",{"$f":"Working!$C28","v":"25)"},{"$f":"Working!$E28","v":0},"×"]
[null,{"$f":"Working!D4","v":2},null,null,{"$f":"Working!$D12","v":2},null,null,{"$f":"Working!$D20","v":2},null,null,{"$f":"Working!$D28","v":2}]
[]
[]
[{"$f":"Working!C5","v":"2)"},{"$f":"Working!E5","v":0},"×",{"$f":"Working!$C13","v":"10)"},{"$f":"Working!$E13","v":0},"×",{"$f":"Working!$C21","v":"18)"},{"$f":"Working!$E21","v":0},"×",{"$f":"Working!$C29","v":"26)"},{"$f":"Working!$E29","v":0},"×"]
[null,{"$f":"Working!D5","v":2},null,null,{"$f":"Working!$D13","v":2},null,null,{"$f":"Working!$D21","v":2},null,null,{"$f":"Working!$D29","v":2}]
[]
[]
[{"$f":"Working!C6","v":"3)"},{"$f":"Working!E6","v":0},"×",{"$f":"Working!$C14","v":"11)"},{"$f":"Working!$E14","v":0},"×",{"$f":"Working!$C22","v":"19)"},{"$f":"Working!$E22","v":0},"×",{"$f":"Working!$C30","v":"27)"},{"$f":"Working!$E30","v":0},"×"]
[null,{"$f":"Working!D6","v":2},null,null,{"$f":"Working!$D14","v":2},null,null,{"$f":"Working!$D22","v":2},null,null,{"$f":"Working!$D30","v":2}]
[]
[]
[{"$f":"Working!C7","v":"4)"},{"$f":"Working!E7","v":0},"×",{"$f":"Working!$C15","v":"12)"},{"$f":"Working!$E15","v":0},"×",{"$f":"Working!$C23","v":"20)"},{"$f":"Working!$E23","v":0},"×",{"$f":"Working!$C31","v":"28)"},{"$f":"Working!$E31","v":0},"×"]
[null,{"$f":"Working!D7","v":2},null,null,{"$f":"Working!$D15","v":2},null,null,{"$f":"Working!$D23","v":2},null,null,{"$f":"Working!$D31","v":2}]
[]
[]
[{"$f":"Working!C8","v":"5)"},{"$f":"Working!E8","v":0},"×",{"$f":"Working!$C16","v":"13)"},{"$f":"Working!$E16","v":0},"×",{"$f":"Working!$C24","v":"21)"},{"$f":"Working!$E24","v":0},"×",{"$f":"Working!$C32","v":"29)"},{"$f":"Working!$E32","v":0},"×"]
[null,{"$f":"Working!D8","v":2},null,null,{"$f":"Working!$D16","v":2},null,null,{"$f":"Working!$D24","v":2},null,null,{"$f":"Working!$D32","v":2}]
[]
[]
[{"$f":"Working!C9","v":"6)"},{"$f":"Working!E9","v":0},"×",{"$f":"Working!$C17","v":"14)"},{"$f":"Working!$E17","v":0},"×",{"$f":"Working!$C25","v":"22)"},{"$f":"Working!$E25","v":0},"×",{"$f":"Working!$C33","v":"30)"},{"$f":"Working!$E33","v":0},"×"]
[null,{"$f":"Working!D9","v":2},null,null,{"$f":"Working!$D17","v":2},null,null,{"$f":"Working!$D25","v":2},null,null,{"$f":"Working!$D33","v":2}]
[]
[]
[{"$f":"Working!C10","v":"7)"},{"$f":"Working!E10","v":0},"×",{"$f":"Working!$C18","v":"15)"},{"$f":"Working!$E18","v":0},"×",{"$f":"Working!$C26","v":"23)"},{"$f":"Working!$E26","v":0},"×"]
[null,{"$f":"Working!D10","v":2},null,null,{"$f":"Working!$D18","v":2},null,null,{"$f":"Working!$D26","v":2}]
[]
[]
[{"$f":"Working!C11","v":"8)"},{"$f":"Working!E11","v":0},"×",{"$f":"Working!$C19","v":"16)"},{"$f":"Working!$E19","v":0},"×",{"$f":"Working!$C27","v":"24)"},{"$f":"Working!$E27","v":0},"×"]
[null,{"$f":"Working!D11","v":2},null,null,{"$f":"Working!$D19","v":2},null,null,{"$f":"Working!$D27","v":2}]

{"sheet":"Answers","index":2,"n_rows":34,"n_cols":12,"rows_kept":34,"cut":false,"hidden":false,"merged":[]}
[null,null,null,null,null,"MULTIPLICATION"]
[null,null,null,null,null,"ANSWERS",null,null,null,{"$f":"CONCATENATE(\"Worksheet \",Working!C1,Working!B1)","v":"Worksheet LMA-722"}]
["Evaluate the following;"]
[{"$f":"Working!C4","v":"1)"},{"$f":"Working!E4","v":0},"×",{"$f":"Working!$C12","v":"9)"},{"$f":"Working!$E12","v":0},"×",{"$f":"Working!$C20","v":"17)"},{"$f":"Working!$E20","v":0},"×",{"$f":"Working!$C28","v":"25)"},{"$f":"Working!$E28","v":0},"×"]
[null,{"$f":"Working!D4","v":2},null,null,{"$f":"Working!$D12","v":2},null,null,{"$f":"Working!$D20","v":2},null,null,{"$f":"Working!$D28","v":2}]
[null,{"$f":"Working!F4","v":0},null,null,{"$f":"Working!$F12","v":0},null,null,{"$f":"Working!$F20","v":0},null,null,{"$f":"Working!$F28","v":0}]
[]
[{"$f":"Working!C5","v":"2)"},{"$f":"Working!E5","v":0},"×",{"$f":"Working!$C13","v":"10)"},{"$f":"Working!$E13","v":0},"×",{"$f":"Working!$C21","v":"18)"},{"$f":"Working!$E21","v":0},"×",{"$f":"Working!$C29","v":"26)"},{"$f":"Working!$E29","v":0},"×"]
[null,{"$f":"Working!D5","v":2},null,null,{"$f":"Working!$D13","v":2},null,null,{"$f":"Working!$D21","v":2},null,null,{"$f":"Working!$D29","v":2}]
[null,{"$f":"Working!F5","v":0},null,null,{"$f":"Working!$F13","v":0},null,null,{"$f":"Working!$F21","v":0},null,null,{"$f":"Working!$F29","v":0}]
[]
[{"$f":"Working!C6","v":"3)"},{"$f":"Working!E6","v":0},"×",{"$f":"Working!$C14","v":"11)"},{"$f":"Working!$E14","v":0},"×",{"$f":"Working!$C22","v":"19)"},{"$f":"Working!$E22","v":0},"×",{"$f":"Working!$C30","v":"27)"},{"$f":"Working!$E30","v":0},"×"]
[null,{"$f":"Working!D6","v":2},null,null,{"$f":"Working!$D14","v":2},null,null,{"$f":"Working!$D22","v":2},null,null,{"$f":"Working!$D30","v":2}]
[null,{"$f":"Working!F6","v":0},null,null,{"$f":"Working!$F14","v":0},null,null,{"$f":"Working!$F22","v":0},null,null,{"$f":"Working!$F30","v":0}]
[]
[{"$f":"Working!C7","v":"4)"},{"$f":"Working!E7","v":0},"×",{"$f":"Working!$C15","v":"12)"},{"$f":"Working!$E15","v":0},"×",{"$f":"Working!$C23","v":"20)"},{"$f":"Working!$E23","v":0},"×",{"$f":"Working!$C31","v":"28)"},{"$f":"Working!$E31","v":0},"×"]
[null,{"$f":"Working!D7","v":2},null,null,{"$f":"Working!$D15","v":2},null,null,{"$f":"Working!$D23","v":2},null,null,{"$f":"Working!$D31","v":2}]
[null,{"$f":"Working!F7","v":0},null,null,{"$f":"Working!$F15","v":0},null,null,{"$f":"Working!$F23","v":0},null,null,{"$f":"Working!$F31","v":0}]
[]
[{"$f":"Working!C8","v":"5)"},{"$f":"Working!E8","v":0},"×",{"$f":"Working!$C16","v":"13)"},{"$f":"Working!$E16","v":0},"×",{"$f":"Working!$C24","v":"21)"},{"$f":"Working!$E24","v":0},"×",{"$f":"Working!$C32","v":"29)"},{"$f":"Working!$E32","v":0},"×"]
[null,{"$f":"Working!D8","v":2},null,null,{"$f":"Working!$D16","v":2},null,null,{"$f":"Working!$D24","v":2},null,null,{"$f":"Working!$D32","v":2}]
[null,{"$f":"Working!F8","v":0},null,null,{"$f":"Working!$F16","v":0},null,null,{"$f":"Working!$F24","v":0},null,null,{"$f":"Working!$F32","v":0}]
[]
[{"$f":"Working!C9","v":"6)"},{"$f":"Working!E9","v":0},"×",{"$f":"Working!$C17","v":"14)"},{"$f":"Working!$E17","v":0},"×",{"$f":"Working!$C25","v":"22)"},{"$f":"Working!$E25","v":0},"×",{"$f":"Working!$C33","v":"30)"},{"$f":"Working!$E33","v":0},"×"]
[null,{"$f":"Working!D9","v":2},null,null,{"$f":"Working!$D17","v":2},null,null,{"$f":"Working!$D25","v":2},null,null,{"$f":"Working!$D33","v":2}]
[null,{"$f":"Working!F9","v":0},null,null,{"$f":"Working!$F17","v":0},null,null,{"$f":"Working!$F25","v":0},null,null,{"$f":"Working!$F33","v":0}]
[]
[{"$f":"Working!C10","v":"7)"},{"$f":"Working!E10","v":0},"×",{"$f":"Working!$C18","v":"15)"},{"$f":"Working!$E18","v":0},"×",{"$f":"Working!$C26","v":"23)"},{"$f":"Working!$E26","v":0},"×"]
[null,{"$f":"Working!D10","v":2},null,null,{"$f":"Working!$D18","v":2},null,null,{"$f":"Working!$D26","v":2}]
[null,{"$f":"Working!F10","v":0},null,null,{"$f":"Working!$F18","v":0},null,null,{"$f":"Working!$F26","v":0}]
[]
[{"$f":"Working!C11","v":"8)"},{"$f":"Working!E11","v":0},"×",{"$f":"Working!$C19","v":"16)"},{"$f":"Working!$E19","v":0},"×",{"$f":"Working!$C27","v":"24)"},{"$f":"Working!$E27","v":0},"×"]
[null,{"$f":"Working!D11","v":2},null,null,{"$f":"Working!$D19","v":2},null,null,{"$f":"Working!$D27","v":2}]
[null,{"$f":"Working!F11","v":0},null,null,{"$f":"Working!$F19","v":0},null,null,{"$f":"Working!$F27","v":0}]

{"sheet":"Working","index":3,"n_rows":103,"n_cols":7,"rows_kept":103,"cut":false,"hidden":true,"merged":[[1,4,1,5],[1,6,1,12]]}
[{"$f":"INT(900*RAND()+100)","v":722},{"$f":"TEXT(1,A1)","v":"722"},"LMA-"]
[null,null,null,null,"Numbers",null,"Text"]
[null,null,null,"Multiplier","Multiplicand","Product"]
[1,")",{"$f":"CONCATENATE(A4,B4)","v":"1)"},{"$f":"INT((Values!$F$9*RAND()+2))","v":2},{"$f":"INT((10^(Values!$F$14)-10^(Values!$F$14-1))*RAND()+(10^(Values!$F$14-1)))","v":0},{"$f":"D4*E4","v":0}]
[2,")",{"$f":"CONCATENATE(A5,B5)","v":"2)"},{"$f":"INT((Values!$F$9*RAND()+2))","v":2},{"$f":"INT((10^(Values!$F$14)-10^(Values!$F$14-1))*RAND()+(10^(Values!$F$14-1)))","v":0},0]
[3,")","3)",{"$f":"INT((Values!$F$9*RAND()+2))","v":2},{"$f":"INT((10^(Values!$F$14)-10^(Values!$F$14-1))*RAND()+(10^(Values!$F$14-1)))","v":0},0]
[4,")","4)",{"$f":"INT((Values!$F$9*RAND()+2))","v":2},{"$f":"INT((10^(Values!$F$14)-10^(Values!$F$14-1))*RAND()+(10^(Values!$F$14-1)))","v":0},0]
[5,")","5)",{"$f":"INT((Values!$F$9*RAND()+2))","v":2},{"$f":"INT((10^(Values!$F$14)-10^(Values!$F$14-1))*RAND()+(10^(Values!$F$14-1)))","v":0},0]
[6,")","6)",{"$f":"INT((Values!$F$9*RAND()+2))","v":2},{"$f":"INT((10^(Values!$F$14)-10^(Values!$F$14-1))*RAND()+(10^(Values!$F$14-1)))","v":0},0]
[7,")","7)",{"$f":"INT((Values!$F$9*RAND()+2))","v":2},{"$f":"INT((10^(Values!$F$14)-10^(Values!$F$14-1))*RAND()+(10^(Values!$F$14-1)))","v":0},0]
[8,")","8)",{"$f":"INT((Values!$F$9*RAND()+2))","v":2},{"$f":"INT((10^(Values!$F$14)-10^(Values!$F$14-1))*RAND()+(10^(Values!$F$14-1)))","v":0},0]
[9,")","9)",{"$f":"INT((Values!$F$9*RAND()+2))","v":2},{"$f":"INT((10^(Values!$F$14)-10^(Values!$F$14-1))*RAND()+(10^(Values!$F$14-1)))","v":0},0]
[10,")","10)",{"$f":"INT((Values!$F$9*RAND()+2))","v":2},{"$f":"INT((10^(Values!$F$14)-10^(Values!$F$14-1))*RAND()+(10^(Values!$F$14-1)))","v":0},0]
[11,")","11)",{"$f":"INT((Values!$F$9*RAND()+2))","v":2},{"$f":"INT((10^(Values!$F$14)-10^(Values!$F$14-1))*RAND()+(10^(Values!$F$14-1)))","v":0},0]
[12,")","12)",{"$f":"INT((Values!$F$9*RAND()+2))","v":2},{"$f":"INT((10^(Values!$F$14)-10^(Values!$F$14-1))*RAND()+(10^(Values!$F$14-1)))","v":0},0]
[13,")","13)",{"$f":"INT((Values!$F$9*RAND()+2))","v":2},{"$f":"INT((10^(Values!$F$14)-10^(Values!$F$14-1))*RAND()+(10^(Values!$F$14-1)))","v":0},0]
[14,")","14)",{"$f":"INT((Values!$F$9*RAND()+2))","v":2},{"$f":"INT((10^(Values!$F$14)-10^(Values!$F$14-1))*RAND()+(10^(Values!$F$14-1)))","v":0},0]
[15,")","15)",{"$f":"INT((Values!$F$9*RAND()+2))","v":2},{"$f":"INT((10^(Values!$F$14)-10^(Values!$F$14-1))*RAND()+(10^(Values!$F$14-1)))","v":0},0]
[16,")","16)",{"$f":"INT((Values!$F$9*RAND()+2))","v":2},{"$f":"INT((10^(Values!$F$14)-10^(Values!$F$14-1))*RAND()+(10^(Values!$F$14-1)))","v":0},0]
[17,")","17)",{"$f":"INT((Values!$F$9*RAND()+2))","v":2},{"$f":"INT((10^(Values!$F$14)-10^(Values!$F$14-1))*RAND()+(10^(Values!$F$14-1)))","v":0},0]
[18,")","18)",{"$f":"INT((Values!$F$9*RAND()+2))","v":2},{"$f":"INT((10^(Values!$F$14)-10^(Values!$F$14-1))*RAND()+(10^(Values!$F$14-1)))","v":0},0]
[19,")","19)",{"$f":"INT((Values!$F$9*RAND()+2))","v":2},{"$f":"INT((10^(Values!$F$14)-10^(Values!$F$14-1))*RAND()+(10^(Values!$F$14-1)))","v":0},0]
[20,")","20)",{"$f":"INT((Values!$F$9*RAND()+2))","v":2},{"$f":"INT((10^(Values!$F$14)-10^(Values!$F$14-1))*RAND()+(10^(Values!$F$14-1)))","v":0},0]
[21,")","21)",{"$f":"INT((Values!$F$9*RAND()+2))","v":2},{"$f":"INT((10^(Values!$F$14)-10^(Values!$F$14-1))*RAND()+(10^(Values!$F$14-1)))","v":0},0]
[22,")","22)",{"$f":"INT((Values!$F$9*RAND()+2))","v":2},{"$f":"INT((10^(Values!$F$14)-10^(Values!$F$14-1))*RAND()+(10^(Values!$F$14-1)))","v":0},0]
[23,")","23)",{"$f":"INT((Values!$F$9*RAND()+2))","v":2},{"$f":"INT((10^(Values!$F$14)-10^(Values!$F$14-1))*RAND()+(10^(Values!$F$14-1)))","v":0},0]
[24,")","24)",{"$f":"INT((Values!$F$9*RAND()+2))","v":2},{"$f":"INT((10^(Values!$F$14)-10^(Values!$F$14-1))*RAND()+(10^(Values!$F$14-1)))","v":0},0]
[25,")","25)",{"$f":"INT((Values!$F$9*RAND()+2))","v":2},{"$f":"INT((10^(Values!$F$14)-10^(Values!$F$14-1))*RAND()+(10^(Values!$F$14-1)))","v":0},0]
[26,")","26)",{"$f":"INT((Values!$F$9*RAND()+2))","v":2},{"$f":"INT((10^(Values!$F$14)-10^(Values!$F$14-1))*RAND()+(10^(Values!$F$14-1)))","v":0},0]
[27,")","27)",{"$f":"INT((Values!$F$9*RAND()+2))","v":2},{"$f":"INT((10^(Values!$F$14)-10^(Values!$F$14-1))*RAND()+(10^(Values!$F$14-1)))","v":0},0]
[28,")","28)",{"$f":"INT((Values!$F$9*RAND()+2))","v":2},{"$f":"INT((10^(Values!$F$14)-10^(Values!$F$14-1))*RAND()+(10^(Values!$F$14-1)))","v":0},0]
[29,")","29)",{"$f":"INT((Values!$F$9*RAND()+2))","v":2},{"$f":"INT((10^(Values!$F$14)-10^(Values!$F$14-1))*RAND()+(10^(Values!$F$14-1)))","v":0},0]
[30,")","30)",{"$f":"INT((Values!$F$9*RAND()+2))","v":2},{"$f":"INT((10^(Values!$F$14)-10^(Values!$F$14-1))*RAND()+(10^(Values!$F$14-1)))","v":0},0]
[31,")","31)",{"$f":"INT((Values!$F$9*RAND()+2))","v":2},{"$f":"INT((10^(Values!$F$14)-10^(Values!$F$14-1))*RAND()+(10^(Values!$F$14-1)))","v":0},0]
[32,")","32)",{"$f":"INT((Values!$F$9*RAND()+2))","v":2},{"$f":"INT((10^(Values!$F$14)-10^(Values!$F$14-1))*RAND()+(10^(Values!$F$14-1)))","v":0},0]
[33,")","33)",{"$f":"INT((Values!$F$9*RAND()+2))","v":2},{"$f":"INT((10^(Values!$F$14)-10^(Values!$F$14-1))*RAND()+(10^(Values!$F$14-1)))","v":0},{"$f":"D36*E36","v":0}]
[34,")","34)",{"$f":"INT((Values!$F$9*RAND()+2))","v":2},{"$f":"INT((10^(Values!$F$14)-10^(Values!$F$14-1))*RAND()+(10^(Values!$F$14-1)))","v":0},0]
[35,")","35)",{"$f":"INT((Values!$F$9*RAND()+2))","v":2},{"$f":"INT((10^(Values!$F$14)-10^(Values!$F$14-1))*RAND()+(10^(Values!$F$14-1)))","v":0},0]
[36,")","36)",{"$f":"INT((Values!$F$9*RAND()+2))","v":2},{"$f":"INT((10^(Values!$F$14)-10^(Values!$F$14-1))*RAND()+(10^(Values!$F$14-1)))","v":0},0]
[37,")","37)",{"$f":"INT((Values!$F$9*RAND()+2))","v":2},{"$f":"INT((10^(Values!$F$14)-10^(Values!$F$14-1))*RAND()+(10^(Values!$F$14-1)))","v":0},0]
[38,")","38)",{"$f":"INT((Values!$F$9*RAND()+2))","v":2},{"$f":"INT((10^(Values!$F$14)-10^(Values!$F$14-1))*RAND()+(10^(Values!$F$14-1)))","v":0},0]
[39,")","39)",{"$f":"INT((Values!$F$9*RAND()+2))","v":2},{"$f":"INT((10^(Values!$F$14)-10^(Values!$F$14-1))*RAND()+(10^(Values!$F$14-1)))","v":0},0]
[40,")","40)",{"$f":"INT((Values!$F$9*RAND()+2))","v":2},{"$f":"INT((10^(Values!$F$14)-10^(Values!$F$14-1))*RAND()+(10^(Values!$F$14-1)))","v":0},0]
[41,")","41)",{"$f":"INT((Values!$F$9*RAND()+2))","v":2},{"$f":"INT((10^(Values!$F$14)-10^(Values!$F$14-1))*RAND()+(10^(Values!$F$14-1)))","v":0},0]
[42,")","42)",{"$f":"INT((Values!$F$9*RAND()+2))","v":2},{"$f":"INT((10^(Values!$F$14)-10^(Values!$F$14-1))*RAND()+(10^(Values!$F$14-1)))","v":0},0]
[43,")","43)",{"$f":"INT((Values!$F$9*RAND()+2))","v":2},{"$f":"INT((10^(Values!$F$14)-10^(Values!$F$14-1))*RAND()+(10^(Values!$F$14-1)))","v":0},0]
[44,")","44)",{"$f":"INT((Values!$F$9*RAND()+2))","v":2},{"$f":"INT((10^(Values!$F$14)-10^(Values!$F$14-1))*RAND()+(10^(Values!$F$14-1)))","v":0},0]
[45,")","45)",{"$f":"INT((Values!$F$9*RAND()+2))","v":2},{"$f":"INT((10^(Values!$F$14)-10^(Values!$F$14-1))*RAND()+(10^(Values!$F$14-1)))","v":0},0]
[46,")","46)",{"$f":"INT((Values!$F$9*RAND()+2))","v":2},{"$f":"INT((10^(Values!$F$14)-10^(Values!$F$14-1))*RAND()+(10^(Values!$F$14-1)))","v":0},0]
[47,")","47)",{"$f":"INT((Values!$F$9*RAND()+2))","v":2},{"$f":"INT((10^(Values!$F$14)-10^(Values!$F$14-1))*RAND()+(10^(Values!$F$14-1)))","v":0},0]
[48,")","48)",{"$f":"INT((Values!$F$9*RAND()+2))","v":2},{"$f":"INT((10^(Values!$F$14)-10^(Values!$F$14-1))*RAND()+(10^(Values!$F$14-1)))","v":0},0]
[49,")","49)",{"$f":"INT((Values!$F$9*RAND()+2))","v":2},{"$f":"INT((10^(Values!$F$14)-10^(Values!$F$14-1))*RAND()+(10^(Values!$F$14-1)))","v":0},0]
[50,")","50)",{"$f":"INT((Values!$F$9*RAND()+2))","v":2},{"$f":"INT((10^(Values!$F$14)-10^(Values!$F$14-1))*RAND()+(10^(Values!$F$14-1)))","v":0},0]
[51,")","51)",{"$f":"INT((Values!$F$9*RAND()+2))","v":2},{"$f":"INT((10^(Values!$F$14)-10^(Values!$F$14-1))*RAND()+(10^(Values!$F$14-1)))","v":0},0]
[52,")","52)",{"$f":"INT((Values!$F$9*RAND()+2))","v":2},{"$f":"INT((10^(Values!$F$14)-10^(Values!$F$14-1))*RAND()+(10^(Values!$F$14-1)))","v":0},0]
[53,")","53)",{"$f":"INT((Values!$F$9*RAND()+2))","v":2},{"$f":"INT((10^(Values!$F$14)-10^(Values!$F$14-1))*RAND()+(10^(Values!$F$14-1)))","v":0},0]
[54,")","54)",{"$f":"INT((Values!$F$9*RAND()+2))","v":2},{"$f":"INT((10^(Values!$F$14)-10^(Values!$F$14-1))*RAND()+(10^(Values!$F$14-1)))","v":0},0]
[55,")","55)",{"$f":"INT((Values!$F$9*RAND()+2))","v":2},{"$f":"INT((10^(Values!$F$14)-10^(Values!$F$14-1))*RAND()+(10^(Values!$F$14-1)))","v":0},0]
[56,")","56)",{"$f":"INT((Values!$F$9*RAND()+2))","v":2},{"$f":"INT((10^(Values!$F$14)-10^(Values!$F$14-1))*RAND()+(10^(Values!$F$14-1)))","v":0},0]
[57,")","57)",{"$f":"INT((Values!$F$9*RAND()+2))","v":2},{"$f":"INT((10^(Values!$F$14)-10^(Values!$F$14-1))*RAND()+(10^(Values!$F$14-1)))","v":0},0]
[58,")","58)",{"$f":"INT((Values!$F$9*RAND()+2))","v":2},{"$f":"INT((10^(Values!$F$14)-10^(Values!$F$14-1))*RAND()+(10^(Values!$F$14-1)))","v":0},0]
[59,")","59)",{"$f":"INT((Values!$F$9*RAND()+2))","v":2},{"$f":"INT((10^(Values!$F$14)-10^(Values!$F$14-1))*RAND()+(10^(Values!$F$14-1)))","v":0},0]
[60,")","60)",{"$f":"INT((Values!$F$9*RAND()+2))","v":2},{"$f":"INT((10^(Values!$F$14)-10^(Values!$F$14-1))*RAND()+(10^(Values!$F$14-1)))","v":0},0]
[61,")","61)",{"$f":"INT((Values!$F$9*RAND()+2))","v":2},{"$f":"INT((10^(Values!$F$14)-10^(Values!$F$14-1))*RAND()+(10^(Values!$F$14-1)))","v":0},0]
[62,")","62)",{"$f":"INT((Values!$F$9*RAND()+2))","v":2},{"$f":"INT((10^(Values!$F$14)-10^(Values!$F$14-1))*RAND()+(10^(Values!$F$14-1)))","v":0},0]
[63,")","63)",{"$f":"INT((Values!$F$9*RAND()+2))","v":2},{"$f":"INT((10^(Values!$F$14)-10^(Values!$F$14-1))*RAND()+(10^(Values!$F$14-1)))","v":0},0]
[64,")","64)",{"$f":"INT((Values!$F$9*RAND()+2))","v":2},{"$f":"INT((10^(Values!$F$14)-10^(Values!$F$14-1))*RAND()+(10^(Values!$F$14-1)))","v":0},0]
[65,")","65)",{"$f":"INT((Values!$F$9*RAND()+2))","v":2},{"$f":"INT((10^(Values!$F$14)-10^(Values!$F$14-1))*RAND()+(10^(Values!$F$14-1)))","v":0},{"$f":"D68*E68","v":0}]
[66,")",{"$f":"CONCATENATE(A69,B69)","v":"66)"},{"$f":"INT((Values!$F$9*RAND()+2))","v":2},{"$f":"INT((10^(Values!$F$14)-10^(Values!$F$14-1))*RAND()+(10^(Values!$F$14-1)))","v":0},0]
[67,")","67)",{"$f":"INT((Values!$F$9*RAND()+2))","v":2},{"$f":"INT((10^(Values!$F$14)-10^(Values!$F$14-1))*RAND()+(10^(Values!$F$14-1)))","v":0},0]
[68,")","68)",{"$f":"INT((Values!$F$9*RAND()+2))","v":2},{"$f":"INT((10^(Values!$F$14)-10^(Values!$F$14-1))*RAND()+(10^(Values!$F$14-1)))","v":0},0]
[69,")","69)",{"$f":"INT((Values!$F$9*RAND()+2))","v":2},{"$f":"INT((10^(Values!$F$14)-10^(Values!$F$14-1))*RAND()+(10^(Values!$F$14-1)))","v":0},0]
[70,")","70)",{"$f":"INT((Values!$F$9*RAND()+2))","v":2},{"$f":"INT((10^(Values!$F$14)-10^(Values!$F$14-1))*RAND()+(10^(Values!$F$14-1)))","v":0},0]
[71,")","71)",{"$f":"INT((Values!$F$9*RAND()+2))","v":2},{"$f":"INT((10^(Values!$F$14)-10^(Values!$F$14-1))*RAND()+(10^(Values!$F$14-1)))","v":0},0]
[72,")","72)",{"$f":"INT((Values!$F$9*RAND()+2))","v":2},{"$f":"INT((10^(Values!$F$14)-10^(Values!$F$14-1))*RAND()+(10^(Values!$F$14-1)))","v":0},0]
[73,")","73)",{"$f":"INT((Values!$F$9*RAND()+2))","v":2},{"$f":"INT((10^(Values!$F$14)-10^(Values!$F$14-1))*RAND()+(10^(Values!$F$14-1)))","v":0},0]
[74,")","74)",{"$f":"INT((Values!$F$9*RAND()+2))","v":2},{"$f":"INT((10^(Values!$F$14)-10^(Values!$F$14-1))*RAND()+(10^(Values!$F$14-1)))","v":0},0]
[75,")","75)",{"$f":"INT((Values!$F$9*RAND()+2))","v":2},{"$f":"INT((10^(Values!$F$14)-10^(Values!$F$14-1))*RAND()+(10^(Values!$F$14-1)))","v":0},0]
[76,")","76)",{"$f":"INT((Values!$F$9*RAND()+2))","v":2},{"$f":"INT((10^(Values!$F$14)-10^(Values!$F$14-1))*RAND()+(10^(Values!$F$14-1)))","v":0},0]
[77,")","77)",{"$f":"INT((Values!$F$9*RAND()+2))","v":2},{"$f":"INT((10^(Values!$F$14)-10^(Values!$F$14-1))*RAND()+(10^(Values!$F$14-1)))","v":0},0]
[78,")","78)",{"$f":"INT((Values!$F$9*RAND()+2))","v":2},{"$f":"INT((10^(Values!$F$14)-10^(Values!$F$14-1))*RAND()+(10^(Values!$F$14-1)))","v":0},0]
[79,")","79)",{"$f":"INT((Values!$F$9*RAND()+2))","v":2},{"$f":"INT((10^(Values!$F$14)-10^(Values!$F$14-1))*RAND()+(10^(Values!$F$14-1)))","v":0},0]
[80,")","80)",{"$f":"INT((Values!$F$9*RAND()+2))","v":2},{"$f":"INT((10^(Values!$F$14)-10^(Values!$F$14-1))*RAND()+(10^(Values!$F$14-1)))","v":0},0]
[81,")","81)",{"$f":"INT((Values!$F$9*RAND()+2))","v":2},{"$f":"INT((10^(Values!$F$14)-10^(Values!$F$14-1))*RAND()+(10^(Values!$F$14-1)))","v":0},0]
[82,")","82)",{"$f":"INT((Values!$F$9*RAND()+2))","v":2},{"$f":"INT((10^(Values!$F$14)-10^(Values!$F$14-1))*RAND()+(10^(Values!$F$14-1)))","v":0},0]
[83,")","83)",{"$f":"INT((Values!$F$9*RAND()+2))","v":2},{"$f":"INT((10^(Values!$F$14)-10^(Values!$F$14-1))*RAND()+(10^(Values!$F$14-1)))","v":0},0]
[84,")","84)",{"$f":"INT((Values!$F$9*RAND()+2))","v":2},{"$f":"INT((10^(Values!$F$14)-10^(Values!$F$14-1))*RAND()+(10^(Values!$F$14-1)))","v":0},0]
[85,")","85)",{"$f":"INT((Values!$F$9*RAND()+2))","v":2},{"$f":"INT((10^(Values!$F$14)-10^(Values!$F$14-1))*RAND()+(10^(Values!$F$14-1)))","v":0},0]
[86,")","86)",{"$f":"INT((Values!$F$9*RAND()+2))","v":2},{"$f":"INT((10^(Values!$F$14)-10^(Values!$F$14-1))*RAND()+(10^(Values!$F$14-1)))","v":0},0]
[87,")","87)",{"$f":"INT((Values!$F$9*RAND()+2))","v":2},{"$f":"INT((10^(Values!$F$14)-10^(Values!$F$14-1))*RAND()+(10^(Values!$F$14-1)))","v":0},0]
[88,")","88)",{"$f":"INT((Values!$F$9*RAND()+2))","v":2},{"$f":"INT((10^(Values!$F$14)-10^(Values!$F$14-1))*RAND()+(10^(Values!$F$14-1)))","v":0},0]
[89,")","89)",{"$f":"INT((Values!$F$9*RAND()+2))","v":2},{"$f":"INT((10^(Values!$F$14)-10^(Values!$F$14-1))*RAND()+(10^(Values!$F$14-1)))","v":0},0]
[90,")","90)",{"$f":"INT((Values!$F$9*RAND()+2))","v":2},{"$f":"INT((10^(Values!$F$14)-10^(Values!$F$14-1))*RAND()+(10^(Values!$F$14-1)))","v":0},0]
[91,")","91)",{"$f":"INT((Values!$F$9*RAND()+2))","v":2},{"$f":"INT((10^(Values!$F$14)-10^(Values!$F$14-1))*RAND()+(10^(Values!$F$14-1)))","v":0},0]
[92,")","92)",{"$f":"INT((Values!$F$9*RAND()+2))","v":2},{"$f":"INT((10^(Values!$F$14)-10^(Values!$F$14-1))*RAND()+(10^(Values!$F$14-1)))","v":0},0]
[93,")","93)",{"$f":"INT((Values!$F$9*RAND()+2))","v":2},{"$f":"INT((10^(Values!$F$14)-10^(Values!$F$14-1))*RAND()+(10^(Values!$F$14-1)))","v":0},0]
[94,")","94)",{"$f":"INT((Values!$F$9*RAND()+2))","v":2},{"$f":"INT((10^(Values!$F$14)-10^(Values!$F$14-1))*RAND()+(10^(Values!$F$14-1)))","v":0},0]
[95,")","95)",{"$f":"INT((Values!$F$9*RAND()+2))","v":2},{"$f":"INT((10^(Values!$F$14)-10^(Values!$F$14-1))*RAND()+(10^(Values!$F$14-1)))","v":0},0]
[96,")","96)",{"$f":"INT((Values!$F$9*RAND()+2))","v":2},{"$f":"INT((10^(Values!$F$14)-10^(Values!$F$14-1))*RAND()+(10^(Values!$F$14-1)))","v":0},0]
[97,")","97)",{"$f":"INT((Values!$F$9*RAND()+2))","v":2},{"$f":"INT((10^(Values!$F$14)-10^(Values!$F$14-1))*RAND()+(10^(Values!$F$14-1)))","v":0},{"$f":"D100*E100","v":0}]
[98,")","98)",{"$f":"INT((Values!$F$9*RAND()+2))","v":2},{"$f":"INT((10^(Values!$F$14)-10^(Values!$F$14-1))*RAND()+(10^(Values!$F$14-1)))","v":0},{"$f":"D101*E101","v":0}]
[99,")","99)",{"$f":"INT((Values!$F$9*RAND()+2))","v":2},{"$f":"INT((10^(Values!$F$14)-10^(Values!$F$14-1))*RAND()+(10^(Values!$F$14-1)))","v":0},{"$f":"D102*E102","v":0}]
[100,")","100)",{"$f":"INT((Values!$F$9*RAND()+2))","v":2},{"$f":"INT((10^(Values!$F$14)-10^(Values!$F$14-1))*RAND()+(10^(Values!$F$14-1)))","v":0},{"$f":"D103*E103","v":0}]