{"text_format":"1","workbook":"xlsx","n_sheets":4,"sheets":["Sheet1","Worksheet","Solutions","Working"],"not_rendered":{"charts":0,"images":0,"macros":1,"external_links":0,"defined_names":0,"comments":0,"pivot_tables":0},"unopened":[],"bounds":{"document_bytes":16777216,"sheet_cells":100000,"rows_first":2000,"rows_last":500,"rows_between":2000,"halvings":0,"cell_chars":16384,"cell_head_chars":4096},"cells_cut":0,"cells_raw":0,"read":"whole","date_system":"1900"}

{"sheet":"Sheet1","index":0,"n_rows":6,"n_cols":9,"rows_kept":6,"cut":false,"hidden":false,"merged":[[3,2,3,6],[3,8,7,9],[5,2,8,7],[1,2,1,6]]}
[null,null,null,null,"MULTIPLICATION BY MULTIPLES OF 10"]
[null,null,"INSTRUCTIONS"]
[]
[null,"Step 3","Click on WorkSheet tab below.",null,null,null,null,null,"PRESS F9 for NEW WorkSheet"]
[]
[null,"Note","If you hold down shift then click on the WorkSheet tab and the Answers tab, you will be able to print both the WorkSheet and the solutions."]

{"sheet":"Worksheet","index":1,"n_rows":27,"n_cols":9,"rows_kept":27,"cut":false,"hidden":false,"merged":[]}
[null,null,null,null,null,"MULTIPLICATION OF NUMBERS"]
[null,null,null,null,null,null,null,null,{"$f":"CONCATENATE(\"Worksheet \",Working!D1,Working!B1)","v":"Worksheet CLT-864"}]
["1)",{"$f":"Working!D3","v":72},"x",{"$f":"Working!F3","v":100},null,"26)",{"$f":"Working!D28","v":90.8},"x",{"$f":"Working!F28","v":10000}]
["2)",{"$f":"Working!D4","v":80},"x",{"$f":"Working!F4","v":10000},null,"27)",{"$f":"Working!D29","v":6.7000000000000002E-4},"x",{"$f":"Working!F29","v":1000}]
["3)",{"$f":"Working!D5","v":74},"x",{"$f":"Working!F5","v":100},null,"28)",{"$f":"Working!D30","v":1E-4},"x",{"$f":"Working!F30","v":100000}]
["4)",{"$f":"Working!D6","v":83},"x",{"$f":"Working!F6","v":1000},null,"29)",{"$f":"Working!D31","v":0.01},"x",{"$f":"Working!F31","v":100000}]
["5)",{"$f":"Working!D7","v":8},"x",{"$f":"Working!F7","v":10000},null,"30)",{"$f":"Working!D32","v":1.4E-5},"x",{"$f":"Working!F32","v":10000}]
["6)",{"$f":"Working!D8","v":61},"x",{"$f":"Working!F8","v":1000},null,"31)",{"$f":"Working!D33","v":4.6690000000000002E-2},"x",{"$f":"Working!F33","v":100000}]
["7)",{"$f":"Working!D9","v":7},"x",{"$f":"Working!F9","v":100},null,"32)",{"$f":"Working!D34","v":46.07},"x",{"$f":"Working!F34","v":1000}]
["8)",{"$f":"Working!D10","v":95},"x",{"$f":"Working!F10","v":1000},null,"33)",{"$f":"Working!D35","v":0.01},"x",{"$f":"Working!F35","v":1000000}]
["9)",{"$f":"Working!D11","v":96},"x",{"$f":"Working!F11","v":100000},null,"34)",{"$f":"Working!D36","v":7.9999999999999996E-6},"x",{"$f":"Working!F36","v":100000}]
["10)",{"$f":"Working!D12","v":1},"x",{"$f":"Working!F12","v":10000},null,"35)",{"$f":"Working!D37","v":6.3193000000000001},"x",{"$f":"Working!F37","v":100}]
["11)",{"$f":"Working!D13","v":5},"x",{"$f":"Working!F13","v":10000},null,"36)",{"$f":"Working!D38","v":77.31},"x",{"$f":"Working!F38","v":1000000}]
["12)",{"$f":"Working!D14","v":4},"x",{"$f":"Working!F14","v":1000000},null,"37)",{"$f":"Working!D39","v":9.9999999999999995E-7},"x",{"$f":"Working!F39","v":100}]
["13)",{"$f":"Working!D15","v":39},"x",{"$f":"Working!F15","v":100000},null,"38)",{"$f":"Working!D40","v":4.4560000000000002E-2},"x",{"$f":"Working!F40","v":100}]
["14)",{"$f":"Working!D16","v":4},"x",{"$f":"Working!F16","v":100},null,"39)",{"$f":"Working!D41","v":7.9199999999999995E-4},"x",{"$f":"Working!F41","v":1000000}]
["15)",{"$f":"Working!D17","v":4},"x",{"$f":"Working!F17","v":1000},null,"40)",{"$f":"Working!D42","v":5.0000000000000001E-3},"x",{"$f":"Working!F42","v":100}]
["16)",{"$f":"Working!D18","v":20894},"x",{"$f":"Working!F18","v":100},null,"41)",{"$f":"Working!D43","v":0.85458000000000001},"x",{"$f":"Working!F43","v":1000}]
["17)",{"$f":"Working!D19","v":6},"x",{"$f":"Working!F19","v":1000000},null,"44)",{"$f":"Working!D44","v":0.03},"x",{"$f":"Working!F44","v":1000}]
["18)",{"$f":"Working!D20","v":26},"x",{"$f":"Working!F20","v":1000000},null,"43)",{"$f":"Working!D45","v":0.39},"x",{"$f":"Working!F45","v":10000}]
["19)",{"$f":"Working!D21","v":8},"x",{"$f":"Working!F21","v":100000},null,"44)",{"$f":"Working!D46","v":504.04},"x",{"$f":"Working!F46","v":10000}]
["20)",{"$f":"Working!D22","v":6638},"x",{"$f":"Working!F22","v":10000},null,"45)",{"$f":"Working!D47","v":18.28},"x",{"$f":"Working!F47","v":1000000}]
["21)",{"$f":"Working!D23","v":560},"x",{"$f":"Working!F23","v":1000},null,"46)",{"$f":"Working!D48","v":5.0000000000000002E-5},"x",{"$f":"Working!F48","v":100000}]
["22)",{"$f":"Working!D24","v":1},"x",{"$f":"Working!F24","v":10000},null,"47)",{"$f":"Working!D49","v":7.6E-3},"x",{"$f":"Working!F49","v":10000}]
["23)",{"$f":"Working!D25","v":627},"x",{"$f":"Working!F25","v":100},null,"48)",{"$f":"Working!D50","v":1.0980000000000001},"x",{"$f":"Working!F50","v":10000}]
["24)",{"$f":"Working!D26","v":4},"x",{"$f":"Working!F26","v":100000},null,"49)",{"$f":"Working!D51","v":9.9999999999999995E-7},"x",{"$f":"Working!F51","v":10000}]
["25)",{"$f":"Working!D27","v":27277},"x",{"$f":"Working!F27","v":1000},null,"50)",{"$f":"Working!D52","v":9.6215999999999996E-2},"x",{"$f":"Working!F52","v":1000}]

{"sheet":"Solutions","index":2,"n_rows":27,"n_cols":10,"rows_kept":27,"cut":false,"hidden":false,"merged":[]}
[null,null,null,null,null,"MULTIPLICATION OF NUMBERS"]
[null,null,null,null,null,null,null,null,{"$f":"CONCATENATE(\"Worksheet \",Working!D1,Working!B1)","v":"Worksheet CLT-864"}]
["1)",{"$f":"Working!D3","v":72},"x",{"$f":"Working!F3","v":100},{"$f":"Working!H3","v":7200},"26)",{"$f":"Working!D28","v":90.8},"x",{"$f":"Working!F28","v":10000},{"$f":"Working!H28","v":908000}]
["2)",{"$f":"Working!D4","v":80},"x",{"$f":"Working!F4","v":10000},{"$f":"Working!H4","v":800000},"27)",{"$f":"Working!D29","v":6.7000000000000002E-4},"x",{"$f":"Working!F29","v":1000},{"$f":"Working!H29","v":0.67}]
["3)",{"$f":"Working!D5","v":74},"x",{"$f":"Working!F5","v":100},{"$f":"Working!H5","v":7400},"28)",{"$f":"Working!D30","v":1E-4},"x",{"$f":"Working!F30","v":100000},{"$f":"Working!H30","v":10}]
["4)",{"$f":"Working!D6","v":83},"x",{"$f":"Working!F6","v":1000},{"$f":"Working!H6","v":83000},"29)",{"$f":"Working!D31","v":0.01},"x",{"$f":"Working!F31","v":100000},{"$f":"Working!H31","v":1000}]
["5)",{"$f":"Working!D7","v":8},"x",{"$f":"Working!F7","v":10000},{"$f":"Working!H7","v":80000},"30)",{"$f":"Working!D32","v":1.4E-5},"x",{"$f":"Working!F32","v":10000},{"$f":"Working!H32","v":0.13999999999999999}]
["6)",{"$f":"Working!D8","v":61},"x",{"$f":"Working!F8","v":1000},{"$f":"Working!H8","v":61000},"31)",{"$f":"Working!D33","v":4.6690000000000002E-2},"x",{"$f":"Working!F33","v":100000},{"$f":"Working!H33","v":4669}]
["7)",{"$f":"Working!D9","v":7},"x",{"$f":"Working!F9","v":100},{"$f":"Working!H9","v":700},"32)",{"$f":"Working!D34","v":46.07},"x",{"$f":"Working!F34","v":1000},{"$f":"Working!H34","v":46070}]
["8)",{"$f":"Working!D10","v":95},"x",{"$f":"Working!F10","v":1000},{"$f":"Working!H10","v":95000},"33)",{"$f":"Working!D35","v":0.01},"x",{"$f":"Working!F35","v":1000000},{"$f":"Working!H35","v":10000}]
["9)",{"$f":"Working!D11","v":96},"x",{"$f":"Working!F11","v":100000},{"$f":"Working!H11","v":9600000},"34)",{"$f":"Working!D36","v":7.9999999999999996E-6},"x",{"$f":"Working!F36","v":100000},{"$f":"Working!H36","v":0.79999999999999993}]
["10)",{"$f":"Working!D12","v":1},"x",{"$f":"Working!F12","v":10000},{"$f":"Working!H12","v":10000},"35)",{"$f":"Working!D37","v":6.3193000000000001},"x",{"$f":"Working!F37","v":100},{"$f":"Working!H37","v":631.93000000000006}]
["11)",{"$f":"Working!D13","v":5},"x",{"$f":"Working!F13","v":10000},{"$f":"Working!H13","v":50000},"36)",{"$f":"Working!D38","v":77.31},"x",{"$f":"Working!F38","v":1000000},{"$f":"Working!H38","v":77310000}]
["12)",{"$f":"Working!D14","v":4},"x",{"$f":"Working!F14","v":1000000},{"$f":"Working!H14","v":4000000},"37)",{"$f":"Working!D39","v":9.9999999999999995E-7},"x",{"$f":"Working!F39","v":100},{"$f":"Working!H39","v":9.9999999999999991E-5}]
["13)",{"$f":"Working!D15","v":39},"x",{"$f":"Working!F15","v":100000},{"$f":"Working!H15","v":3900000},"38)",{"$f":"Working!D40","v":4.4560000000000002E-2},"x",{"$f":"Working!F40","v":100},{"$f":"Working!H40","v":4.4560000000000004}]
["14)",{"$f":"Working!D16","v":4},"x",{"$f":"Working!F16","v":100},{"$f":"Working!H16","v":400},"39)",{"$f":"Working!D41","v":7.9199999999999995E-4},"x",{"$f":"Working!F41","v":1000000},{"$f":"Working!H41","v":792}]
["15)",{"$f":"Working!D17","v":4},"x",{"$f":"Working!F17","v":1000},{"$f":"Working!H17","v":4000},"40)",{"$f":"Working!D42","v":5.0000000000000001E-3},"x",{"$f":"Working!F42","v":100},{"$f":"Working!H42","v":0.5}]
["16)",{"$f":"Working!D18","v":20894},"x",{"$f":"Working!F18","v":100},{"$f":"Working!H18","v":2089400},"41)",{"$f":"Working!D43","v":0.85458000000000001},"x",{"$f":"Working!F43","v":1000},{"$f":"Working!H43","v":854.58}]
["17)",{"$f":"Working!D19","v":6},"x",{"$f":"Working!F19","v":1000000},{"$f":"Working!H19","v":6000000},"44)",{"$f":"Working!D44","v":0.03},"x",{"$f":"Working!F44","v":1000},{"$f":"Working!H44","v":30}]
["18)",{"$f":"Working!D20","v":26},"x",{"$f":"Working!F20","v":1000000},{"$f":"Working!H20","v":26000000},"43)",{"$f":"Working!D45","v":0.39},"x",{"$f":"Working!F45","v":10000},{"$f":"Working!H45","v":3900}]
["19)",{"$f":"Working!D21","v":8},"x",{"$f":"Working!F21","v":100000},{"$f":"Working!H21","v":800000},"44)",{"$f":"Working!D46","v":504.04},"x",{"$f":"Working!F46","v":10000},{"$f":"Working!H46","v":5040400}]
["20)",{"$f":"Working!D22","v":6638},"x",{"$f":"Working!F22","v":10000},{"$f":"Working!H22","v":66380000},"45)",{"$f":"Working!D47","v":18.28},"x",{"$f":"Working!F47","v":1000000},{"$f":"Working!H47","v":18280000}]
["21)",{"$f":"Working!D23","v":560},"x",{"$f":"Working!F23","v":1000},{"$f":"Working!H23","v":560000},"46)",{"$f":"Working!D48","v":5.0000000000000002E-5},"x",{"$f":"Working!F48","v":100000},{"$f":"Working!H48","v":5}]
["22)",{"$f":"Working!D24","v":1},"x",{"$f":"Working!F24","v":10000},{"$f":"Working!H24","v":10000},"47)",{"$f":"Working!D49","v":7.6E-3},"x",{"$f":"Working!F49","v":10000},{"$f":"Working!H49","v":76}]
["23)",{"$f":"Working!D25","v":627},"x",{"$f":"Working!F25","v":100},{"$f":"Working!H25","v":62700},"48)",{"$f":"Working!D50","v":1.0980000000000001},"x",{"$f":"Working!F50","v":10000},{"$f":"Working!H50","v":10980}]
["24)",{"$f":"Working!D26","v":4},"x",{"$f":"Working!F26","v":100000},{"$f":"Working!H26","v":400000},"49)",{"$f":"Working!D51","v":9.9999999999999995E-7},"x",{"$f":"Working!F51","v":10000},{"$f":"Working!H51","v":0.01}]
["25)",{"$f":"Working!D27","v":27277},"x",{"$f":"Working!F27","v":1000},{"$f":"Working!H27","v":27277000},"50)",{"$f":"Working!D52","v":9.6215999999999996E-2},"x",{"$f":"Working!F52","v":1000},{"$f":"Working!H52","v":96.215999999999994}]

{"sheet":"Working","index":3,"n_rows":77,"n_cols":8,"rows_kept":77,"cut":false,"hidden":true,"merged":[]}
[{"$f":"INT(900*RAND()+100)","v":864},{"$f":"TEXT(1,A1)","v":"864"},null,"CLT-"]
[null,null,null,null,null,null,null,"Solution"]
[1,{"$f":"INT(2*RAND()+1)","v":2},{"$f":"INT(5*RAND()+2)","v":2},{"$f":"INT(10^B3*RAND()+1)","v":72},{"$f":"INT(5*RAND()+2)","v":2},{"$f":"10^E3","v":100},{"$f":"INT(2*RAND())","v":1},{"$f":"D3*F3","v":7200}]
[2,{"$f":"INT(2*RAND()+1)","v":2},5,80,{"$f":"INT(5*RAND()+2)","v":4},{"$f":"10^E4","v":10000},{"$f":"INT(2*RAND())","v":0},{"$f":"D4*F4","v":800000}]
[3,2,4,74,2,100,0,7400]
[4,2,3,83,3,1000,1,83000]
[5,1,6,8,4,10000,1,80000]
[6,2,5,61,3,1000,0,61000]
[7,1,2,7,2,100,0,700]
[8,2,3,95,3,1000,0,95000]
[9,2,6,96,5,100000,0,9600000]
[10,1,4,1,4,10000,0,10000]
[11,1,2,5,4,10000,1,50000]
[12,1,6,4,6,1000000,0,4000000]
[13,2,5,39,5,100000,0,3900000]
[14,{"$f":"INT(5*RAND()+1)","v":1},6,4,2,100,1,400]
[15,1,3,4,3,1000,0,4000]
[16,5,5,20894,2,100,0,2089400]
[17,1,2,6,6,1000000,0,6000000]
[18,2,2,26,6,1000000,0,26000000]
[19,2,2,8,5,100000,1,800000]
[20,4,3,6638,4,10000,1,66380000]
[21,3,5,560,3,1000,0,560000]
[22,1,4,1,4,10000,0,10000]
[23,3,3,627,2,100,1,62700]
[24,2,6,4,5,100000,1,400000]
[25,5,6,27277,3,1000,0,27277000]
[26,4,{"$f":"INT(5*RAND())","v":2},{"$f":"INT(10^B28*RAND()+1)/10^C3","v":90.8},4,10000,0,908000]
[27,2,{"$f":"INT(5*RAND())","v":4},{"$f":"INT(10^B29*RAND()+1)/10^C4","v":6.7000000000000002E-4},3,1000,0,0.67]
[28,1,4,1E-4,5,100000,0,10]
[29,1,3,0.01,5,100000,1,1000]
[30,2,2,1.4E-5,4,10000,0,0.13999999999999999]
[31,4,0,4.6690000000000002E-2,5,100000,0,4669]
[32,4,2,46.07,3,1000,0,46070]
[33,1,2,0.01,6,1000000,1,10000]
[34,1,3,7.9999999999999996E-6,5,100000,0,0.79999999999999993]
[35,5,0,6.3193000000000001,2,100,1,631.93000000000006]
[36,4,1,77.31,6,1000000,0,77310000]
[37,1,1,9.9999999999999995E-7,2,100,1,9.9999999999999991E-5]
[38,4,3,4.4560000000000002E-2,2,100,1,4.4560000000000004]
[39,4,2,7.9199999999999995E-4,6,1000000,0,792]
[40,1,1,5.0000000000000001E-3,2,100,1,0.5]
[41,5,1,0.85458000000000001,3,1000,1,854.58]
[42,1,3,0.03,3,1000,1,30]
[43,2,1,0.39,4,10000,0,3900]
[44,5,1,504.04,4,10000,0,5040400]
[45,5,2,18.28,6,1000000,0,18280000]
[46,2,1,5.0000000000000002E-5,5,100000,1,5]
[47,2,2,7.6E-3,4,10000,0,76]
[48,4,2,1.0980000000000001,4,10000,1,10980]
[49,1,2,9.9999999999999995E-7,4,10000,0,0.01]
[50,5,0,9.6215999999999996E-2,3,1000,1,96.215999999999994]
[51,3,1,1.65,4,10000,1,16500]
[52,2,4,5.1999999999999998E-3,2,100,0,0.52]
[53,3,3,9.4999999999999998E-3,3,1000,0,9.5]
[54,5,1,86.387,3,1000,0,86387]
[55,4,0,32.58,5,100000,1,3258000]
[56,2,0,97,6,1000000,1,97000000]
[57,5,2,120.16,2,100,1,12016]
[58,3,2,0.68,6,1000000,0,680000]
[59,5,1,84.792000000000002,5,100000,0,8479200]
[60,1,0,6,3,1000,0,6000]
[61,2,1,2.7,6,1000000,0,2700000]
[62,5,1,1714.1,2,100,0,171410]
[63,5,0,79.491,3,1000,0,79491]
[64,2,4,0.76,4,10000,1,7600]
[65,3,1,79.3,4,10000,0,793000]
[66,{"$f":"INT(5*RAND()+1)","v":3},4,95.7,{"$f":"INT(5*RAND()+2)","v":6},{"$f":"10^E68","v":1000000},{"$f":"INT(2*RAND())","v":1},{"$f":"D68*F68","v":95700000}]
[67,2,1,2.3E-2,2,100,1,2.2999999999999998]
[68,1,3,0.5,2,100,1,50]
[69,1,3,0.3,5,100000,0,30000]
[70,3,3,4.1900000000000004,6,1000000,0,4190000.0000000005]
[71,4,4,253.4,3,1000,0,253400]
[72,5,2,866.01,4,10000,1,8660100]
[73,5,4,13.92,5,100000,1,1392000]
[74,3,4,0.03,3,1000,1,30]
[75,3,2,661,6,1000000,1,661000000]