{"text_format":"1","workbook":"xlsx","n_sheets":4,"sheets":["Values","WorkSheet","Working","Answers"],"not_rendered":{"charts":0,"images":0,"macros":1,"external_links":0,"defined_names":0,"comments":0,"pivot_tables":0},"unopened":[],"bounds":{"document_bytes":16777216,"sheet_cells":100000,"rows_first":2000,"rows_last":500,"rows_between":2000,"halvings":0,"cell_chars":16384,"cell_head_chars":4096},"cells_cut":0,"cells_raw":0,"read":"whole","date_system":"1900"}

{"sheet":"Values","index":0,"n_rows":13,"n_cols":9,"rows_kept":13,"cut":false,"hidden":false,"merged":[[3,2,3,6],[3,8,7,9],[5,2,8,7],[1,2,1,6]]}
[null,null,null,null,"NUMBER PATERNS"]
[null,null,"INSTRUCTIONS"]
[]
[null,"Step 1","Click on WorkSheet tab below.",null,null,null,null,null,"PRESS F9 for NEW WorkSheet"]
[]
[null,"Note","If you hold down shift then click on the WorkSheet tab and the Answers tab, you will be able to print both the WorkSheet and the solutions."]
[]
[]
[]
[]
[]
[null,null,"NOTES:"]
[null,null,"* The number patterns have common differences and multipliers"]

{"sheet":"WorkSheet","index":1,"n_rows":29,"n_cols":6,"rows_kept":29,"cut":false,"hidden":false,"merged":[]}
[null,null,null,"NUMBER PATTERNS"]
[]
[]
["Find the next three (3) numbers in each of the following number patterns,"]
[{"$f":"Working!C4","v":"1)"},{"$f":"Working!P4","v":"3, 8, 13, ..."},null,null,{"$f":"Working!C29","v":"26)"},{"$f":"Working!P29","v":"6250, 1250, 250, ..."}]
[{"$f":"Working!C5","v":"2)"},{"$f":"Working!P5","v":"3, 8, 13, ..."},null,null,{"$f":"Working!C30","v":"27)"},{"$f":"Working!P30","v":"3, 9, 27, ..."}]
[{"$f":"Working!C6","v":"3)"},{"$f":"Working!P6","v":"3, 7, 11, ..."},null,null,{"$f":"Working!C31","v":"28)"},{"$f":"Working!P31","v":"12500, 2500, 500, ..."}]
[{"$f":"Working!C7","v":"4)"},{"$f":"Working!P7","v":"1, 6, 11, ..."},null,null,{"$f":"Working!C32","v":"29)"},{"$f":"Working!P32","v":"4, 6, 8, ..."}]
[{"$f":"Working!C8","v":"5)"},{"$f":"Working!P8","v":"3, 8, 13, ..."},null,null,{"$f":"Working!C33","v":"30)"},{"$f":"Working!P33","v":"3, 7, 11, ..."}]
[{"$f":"Working!C9","v":"6)"},{"$f":"Working!P9","v":"80, 76, 72, ..."},null,null,{"$f":"Working!C34","v":"31)"},{"$f":"Working!P34","v":"10, 8, 6, ..."}]
[{"$f":"Working!C10","v":"7)"},{"$f":"Working!P10","v":"75, 72, 69, ..."},null,null,{"$f":"Working!C35","v":"32)"},{"$f":"Working!P35","v":"1024, 256, 64, ..."}]
[{"$f":"Working!C11","v":"8)"},{"$f":"Working!P11","v":"45, 42, 39, ..."},null,null,{"$f":"Working!C36","v":"33)"},{"$f":"Working!P36","v":"50, 45, 40, ..."}]
[{"$f":"Working!C12","v":"9)"},{"$f":"Working!P12","v":"30, 27, 24, ..."},null,null,{"$f":"Working!C37","v":"34)"},{"$f":"Working!P37","v":"32, 16, 8, ..."}]
[{"$f":"Working!C13","v":"10)"},{"$f":"Working!P13","v":"45, 42, 39, ..."},null,null,{"$f":"Working!C38","v":"35)"},{"$f":"Working!P38","v":"1, 6, 11, ..."}]
[{"$f":"Working!C14","v":"11)"},{"$f":"Working!P14","v":"1, 5, 25, ..."},null,null,{"$f":"Working!C39","v":"36)"},{"$f":"Working!P39","v":"2, 5, 8, ..."}]
[{"$f":"Working!C15","v":"12)"},{"$f":"Working!P15","v":"3, 9, 27, ..."},null,null,{"$f":"Working!C40","v":"37)"},{"$f":"Working!P40","v":"60, 57, 54, ..."}]
[{"$f":"Working!C16","v":"13)"},{"$f":"Working!P16","v":"5, 15, 45, ..."},null,null,{"$f":"Working!C41","v":"38)"},{"$f":"Working!P41","v":"3072, 768, 192, ..."}]
[{"$f":"Working!C17","v":"14)"},{"$f":"Working!P17","v":"3, 9, 27, ..."},null,null,{"$f":"Working!C42","v":"39)"},{"$f":"Working!P42","v":"4, 6, 8, ..."}]
[{"$f":"Working!C18","v":"15)"},{"$f":"Working!P18","v":"3, 15, 75, ..."},null,null,{"$f":"Working!C43","v":"40)"},{"$f":"Working!P43","v":"50, 48, 46, ..."}]
[{"$f":"Working!C19","v":"16)"},{"$f":"Working!P19","v":"3072, 768, 192, ..."},null,null,{"$f":"Working!C44","v":"41)"},{"$f":"Working!P44","v":"3072, 768, 192, ..."}]
[{"$f":"Working!C20","v":"17)"},{"$f":"Working!P20","v":"32, 16, 8, ..."},null,null,{"$f":"Working!C45","v":"42)"},{"$f":"Working!P45","v":"5, 25, 125, ..."}]
[{"$f":"Working!C21","v":"18)"},{"$f":"Working!P21","v":"32, 16, 8, ..."},null,null,{"$f":"Working!C46","v":"43)"},{"$f":"Working!P46","v":"80, 76, 72, ..."}]
[{"$f":"Working!C22","v":"19)"},{"$f":"Working!P22","v":"9375, 1875, 375, ..."},null,null,{"$f":"Working!C47","v":"44)"},{"$f":"Working!P47","v":"5, 10, 20, ..."}]
[{"$f":"Working!C23","v":"20)"},{"$f":"Working!P23","v":"128, 64, 32, ..."},null,null,{"$f":"Working!C48","v":"45)"},{"$f":"Working!P48","v":"1, 3, 5, ..."}]
[{"$f":"Working!C24","v":"21)"},{"$f":"Working!P24","v":"3, 5, 7, ..."},null,null,{"$f":"Working!C49","v":"46)"},{"$f":"Working!P49","v":"64, 32, 16, ..."}]
[{"$f":"Working!C25","v":"22)"},{"$f":"Working!P25","v":"972, 324, 108, ..."},null,null,{"$f":"Working!C50","v":"47)"},{"$f":"Working!P50","v":"1, 5, 25, ..."}]
[{"$f":"Working!C26","v":"23)"},{"$f":"Working!P26","v":"3, 7, 11, ..."},null,null,{"$f":"Working!C51","v":"48)"},{"$f":"Working!P51","v":"2, 4, 6, ..."}]
[{"$f":"Working!C27","v":"24)"},{"$f":"Working!P27","v":"4, 9, 14, ..."},null,null,{"$f":"Working!C52","v":"49)"},{"$f":"Working!P52","v":"4, 9, 14, ..."}]
[{"$f":"Working!C28","v":"25)"},{"$f":"Working!P28","v":"4, 12, 36, ..."},null,null,{"$f":"Working!C53","v":"50)"},{"$f":"Working!P53","v":"4, 8, 16, ..."}]

{"sheet":"Working","index":2,"n_rows":103,"n_cols":17,"rows_kept":103,"cut":false,"hidden":true,"merged":[]}
[]
[]
[null,null,null,"Opertion",null,"d/r","a",null,"T2","T3","T4","T5","T6","T7",null,"Question","Answer"]
[1,")",{"$f":"CONCATENATE(A4,B4)","v":"1)"},1,{"$f":"IF(D4=1,\"+\",(IF(D4=2,\"-\",(IF(D4=3,\"x\",\"÷\")))))","v":"+"},{"$f":"INT(4*RAND()+2)","v":5},{"$f":"INT(5*RAND()+1)","v":3},null,{"$f":"IF(D4=1,G4,(IF(D4=2,5*F4*G4,(IF(D4=3,G4,F4^5*G4)))))","v":3},{"$f":"IF($D4=1,I4+$F4,(IF($D4=2,I4-$F4,(IF($D4=3,I4*$F4,I4/$F4)))))","v":8},{"$f":"IF($D4=1,J4+$F4,(IF($D4=2,J4-$F4,(IF($D4=3,J4*$F4,J4/$F4)))))","v":13},{"$f":"IF($D4=1,K4+$F4,(IF($D4=2,K4-$F4,(IF($D4=3,K4*$F4,K4/$F4)))))","v":18},{"$f":"IF($D4=1,L4+$F4,(IF($D4=2,L4-$F4,(IF($D4=3,L4*$F4,L4/$F4)))))","v":23},{"$f":"IF($D4=1,M4+$F4,(IF($D4=2,M4-$F4,(IF($D4=3,M4*$F4,M4/$F4)))))","v":28},null,{"$f":"CONCATENATE(I4,\", \",J4,\", \",K4,\", ...\")","v":"3, 8, 13, ..."},{"$f":"CONCATENATE(L4,\", \",M4,\", \",N4,\", ...\")","v":"18, 23, 28, ..."}]
[2,")",{"$f":"CONCATENATE(A5,B5)","v":"2)"},1,{"$f":"IF(D5=1,\"+\",(IF(D5=2,\"-\",(IF(D5=3,\"x\",\"÷\")))))","v":"+"},{"$f":"INT(4*RAND()+2)","v":5},{"$f":"INT(5*RAND()+1)","v":3},null,{"$f":"IF(D5=1,G5,(IF(D5=2,5*F5*G5,(IF(D5=3,G5,F5^5*G5)))))","v":3},8,{"$f":"IF($D5=1,J5+$F5,(IF($D5=2,J5-$F5,(IF($D5=3,J5*$F5,J5/$F5)))))","v":13},18,23,28,null,{"$f":"CONCATENATE(I5,\", \",J5,\", \",K5,\", ...\")","v":"3, 8, 13, ..."},{"$f":"CONCATENATE(L5,\", \",M5,\", \",N5,\", ...\")","v":"18, 23, 28, ..."}]
[3,")","3)",1,"+",4,3,null,3,7,11,15,19,23,null,"3, 7, 11, ...","15, 19, 23, ..."]
[4,")","4)",1,"+",5,1,null,1,6,11,16,21,26,null,"1, 6, 11, ...","16, 21, 26, ..."]
[5,")","5)",1,"+",5,3,null,3,8,13,18,23,28,null,"3, 8, 13, ...","18, 23, 28, ..."]
[6,")","6)",2,"-",4,4,null,80,76,72,68,64,60,null,"80, 76, 72, ...","68, 64, 60, ..."]
[7,")","7)",2,"-",3,5,null,75,72,69,66,63,60,null,"75, 72, 69, ...","66, 63, 60, ..."]
[8,")","8)",2,"-",3,3,null,45,42,39,36,33,30,null,"45, 42, 39, ...","36, 33, 30, ..."]
[9,")","9)",2,"-",3,2,null,30,27,24,21,18,15,null,"30, 27, 24, ...","21, 18, 15, ..."]
[10,")","10)",2,"-",3,3,null,45,42,39,36,33,30,null,"45, 42, 39, ...","36, 33, 30, ..."]
[11,")","11)",3,"x",5,1,null,1,5,25,125,625,3125,null,"1, 5, 25, ...","125, 625, 3125, ..."]
[12,")","12)",3,"x",3,3,null,3,9,27,81,243,729,null,"3, 9, 27, ...","81, 243, 729, ..."]
[13,")","13)",3,"x",3,5,null,5,15,45,135,405,1215,null,"5, 15, 45, ...","135, 405, 1215, ..."]
[14,")","14)",3,"x",3,3,null,3,9,27,81,243,729,null,"3, 9, 27, ...","81, 243, 729, ..."]
[15,")","15)",3,"x",5,3,null,3,15,75,375,1875,9375,null,"3, 15, 75, ...","375, 1875, 9375, ..."]
[16,")","16)",4,"÷",4,3,null,3072,768,192,48,12,3,null,"3072, 768, 192, ...","48, 12, 3, ..."]
[17,")","17)",4,"÷",2,1,null,32,16,8,4,2,1,null,"32, 16, 8, ...","4, 2, 1, ..."]
[18,")","18)",4,"÷",2,1,null,32,16,8,4,2,1,null,"32, 16, 8, ...","4, 2, 1, ..."]
[19,")","19)",4,"÷",5,3,null,9375,1875,375,75,15,3,null,"9375, 1875, 375, ...","75, 15, 3, ..."]
[20,")","20)",4,"÷",2,4,null,128,64,32,16,8,4,null,"128, 64, 32, ...","16, 8, 4, ..."]
[21,")","21)",{"$f":"INT(4*RAND()+1)","v":1},"+",2,3,null,3,5,7,9,11,13,null,"3, 5, 7, ...","9, 11, 13, ..."]
[22,")","22)",4,"÷",3,4,null,972,324,{"$f":"IF($D25=1,J25+$F25,(IF($D25=2,J25-$F25,(IF($D25=3,J25*$F25,J25/$F25)))))","v":108},36,12,4,null,"972, 324, 108, ...","36, 12, 4, ..."]
[23,")","23)",1,"+",4,3,null,3,7,11,15,19,23,null,"3, 7, 11, ...","15, 19, 23, ..."]
[24,")","24)",1,"+",5,4,null,4,9,14,19,24,29,null,"4, 9, 14, ...","19, 24, 29, ..."]
[25,")","25)",3,"x",3,4,null,4,12,36,108,324,972,null,"4, 12, 36, ...","108, 324, 972, ..."]
[26,")","26)",4,"÷",5,2,null,6250,1250,250,50,10,2,null,"6250, 1250, 250, ...","50, 10, 2, ..."]
[27,")","27)",3,"x",3,3,null,3,9,27,81,243,729,null,"3, 9, 27, ...","81, 243, 729, ..."]
[28,")","28)",4,"÷",5,4,null,12500,2500,500,100,20,4,null,"12500, 2500, 500, ...","100, 20, 4, ..."]
[29,")","29)",1,"+",2,4,null,4,6,8,10,12,14,null,"4, 6, 8, ...","10, 12, 14, ..."]
[30,")","30)",1,"+",4,3,null,3,7,11,15,19,23,null,"3, 7, 11, ...","15, 19, 23, ..."]
[31,")","31)",2,"-",2,1,null,10,8,6,4,2,0,null,"10, 8, 6, ...","4, 2, 0, ..."]
[32,")","32)",4,"÷",4,1,null,1024,256,64,16,4,1,null,"1024, 256, 64, ...","16, 4, 1, ..."]
[33,")","33)",2,"-",5,2,null,50,{"$f":"IF($D36=1,I36+$F36,(IF($D36=2,I36-$F36,(IF($D36=3,I36*$F36,I36/$F36)))))","v":45},40,35,30,25,null,"50, 45, 40, ...","35, 30, 25, ..."]
[34,")","34)",4,"÷",2,1,null,32,16,8,4,2,1,null,"32, 16, 8, ...","4, 2, 1, ..."]
[35,")","35)",1,"+",5,1,null,1,6,11,16,21,26,null,"1, 6, 11, ...","16, 21, 26, ..."]
[36,")","36)",1,"+",3,2,null,2,5,8,11,14,17,null,"2, 5, 8, ...","11, 14, 17, ..."]
[37,")","37)",2,"-",3,4,null,60,57,54,51,48,45,null,"60, 57, 54, ...","51, 48, 45, ..."]
[38,")","38)",4,"÷",4,3,null,3072,768,192,48,12,3,null,"3072, 768, 192, ...","48, 12, 3, ..."]
[39,")","39)",1,"+",2,4,null,4,6,8,10,12,14,null,"4, 6, 8, ...","10, 12, 14, ..."]
[40,")","40)",2,"-",2,5,null,50,48,46,44,42,40,null,"50, 48, 46, ...","44, 42, 40, ..."]
[41,")","41)",4,"÷",4,3,null,3072,768,192,48,12,3,null,"3072, 768, 192, ...","48, 12, 3, ..."]
[42,")","42)",3,"x",5,5,null,5,25,{"$f":"IF($D45=1,J45+$F45,(IF($D45=2,J45-$F45,(IF($D45=3,J45*$F45,J45/$F45)))))","v":125},625,3125,15625,null,"5, 25, 125, ...","625, 3125, 15625, ..."]
[43,")","43)",2,"-",4,4,null,80,76,72,68,64,60,null,"80, 76, 72, ...","68, 64, 60, ..."]
[44,")","44)",3,"x",2,5,null,5,10,20,40,80,160,null,"5, 10, 20, ...","40, 80, 160, ..."]
[45,")","45)",1,"+",2,1,null,1,3,5,7,9,11,null,"1, 3, 5, ...","7, 9, 11, ..."]
[46,")","46)",4,"÷",2,2,null,64,32,16,8,4,2,null,"64, 32, 16, ...","8, 4, 2, ..."]
[47,")","47)",3,"x",5,1,null,1,5,25,125,625,3125,null,"1, 5, 25, ...","125, 625, 3125, ..."]
[48,")","48)",1,"+",2,2,null,2,4,6,8,10,12,null,"2, 4, 6, ...","8, 10, 12, ..."]
[49,")","49)",1,"+",5,4,null,4,9,14,19,24,29,null,"4, 9, 14, ...","19, 24, 29, ..."]
[50,")","50)",3,"x",2,4,null,4,8,16,32,64,128,null,"4, 8, 16, ...","32, 64, 128, ..."]
[51,")","51)",2,"-",4,4,null,80,76,72,68,64,60,null,"80, 76, 72, ...","68, 64, 60, ..."]
[52,")","52)",3,"x",3,4,null,4,12,36,108,324,972,null,"4, 12, 36, ...","108, 324, 972, ..."]
[53,")","53)",1,"+",5,1,null,1,6,11,16,21,26,null,"1, 6, 11, ...","16, 21, 26, ..."]
[54,")","54)",4,"÷",5,4,null,12500,2500,500,100,20,4,null,"12500, 2500, 500, ...","100, 20, 4, ..."]
[55,")","55)",1,"+",4,5,null,5,9,13,17,21,25,null,"5, 9, 13, ...","17, 21, 25, ..."]
[56,")","56)",1,"+",5,3,null,3,8,13,18,23,28,null,"3, 8, 13, ...","18, 23, 28, ..."]
[57,")","57)",3,"x",2,5,null,5,10,20,40,80,160,null,"5, 10, 20, ...","40, 80, 160, ..."]
[58,")","58)",4,"÷",2,4,null,128,64,32,16,8,4,null,"128, 64, 32, ...","16, 8, 4, ..."]
[59,")","59)",2,"-",5,5,null,125,120,115,110,105,100,null,"125, 120, 115, ...","110, 105, 100, ..."]
[60,")","60)",4,"÷",3,1,null,243,81,27,9,3,1,null,"243, 81, 27, ...","9, 3, 1, ..."]
[61,")","61)",1,"+",5,5,null,5,10,15,20,25,30,null,"5, 10, 15, ...","20, 25, 30, ..."]
[62,")","62)",4,"÷",2,2,null,64,32,{"$f":"IF($D65=1,J65+$F65,(IF($D65=2,J65-$F65,(IF($D65=3,J65*$F65,J65/$F65)))))","v":16},8,4,2,null,"64, 32, 16, ...","8, 4, 2, ..."]
[63,")","63)",1,"+",2,1,null,1,3,5,7,9,11,null,"1, 3, 5, ...","7, 9, 11, ..."]
[64,")","64)",1,"+",5,3,null,3,8,13,18,23,28,null,"3, 8, 13, ...","18, 23, 28, ..."]
[65,")","65)",3,"x",2,3,null,3,{"$f":"IF($D68=1,I68+$F68,(IF($D68=2,I68-$F68,(IF($D68=3,I68*$F68,I68/$F68)))))","v":6},12,24,48,96,null,"3, 6, 12, ...","24, 48, 96, ..."]
[66,")",{"$f":"CONCATENATE(A69,B69)","v":"66)"},{"$f":"INT(4*RAND()+1)","v":1},{"$f":"IF(D69=1,\"+\",(IF(D69=2,\"-\",(IF(D69=3,\"x\",\"÷\")))))","v":"+"},{"$f":"INT(4*RAND()+2)","v":3},{"$f":"INT(5*RAND()+1)","v":4},null,{"$f":"IF(D69=1,G69,(IF(D69=2,5*F69*G69,(IF(D69=3,G69,F69^5*G69)))))","v":4},7,10,13,16,19,null,{"$f":"CONCATENATE(I69,\", \",J69,\", \",K69,\", ...\")","v":"4, 7, 10, ..."},{"$f":"CONCATENATE(L69,\", \",M69,\", \",N69,\", ...\")","v":"13, 16, 19, ..."}]
[67,")","67)",1,"+",4,1,null,1,5,9,13,17,21,null,"1, 5, 9, ...","13, 17, 21, ..."]
[68,")","68)",3,"x",3,3,null,3,9,27,81,243,729,null,"3, 9, 27, ...","81, 243, 729, ..."]
[69,")","69)",1,"+",3,3,null,3,6,9,12,15,18,null,"3, 6, 9, ...","12, 15, 18, ..."]
[70,")","70)",2,"-",4,4,null,80,76,72,68,64,60,null,"80, 76, 72, ...","68, 64, 60, ..."]
[71,")","71)",2,"-",5,5,null,125,120,115,110,105,100,null,"125, 120, 115, ...","110, 105, 100, ..."]
[72,")","72)",3,"x",5,5,null,5,25,125,625,3125,15625,null,"5, 25, 125, ...","625, 3125, 15625, ..."]
[73,")","73)",3,"x",2,5,null,5,10,20,40,80,160,null,"5, 10, 20, ...","40, 80, 160, ..."]
[74,")","74)",1,"+",4,4,null,4,8,12,16,20,24,null,"4, 8, 12, ...","16, 20, 24, ..."]
[75,")","75)",1,"+",4,5,null,5,9,13,17,21,25,null,"5, 9, 13, ...","17, 21, 25, ..."]
[76,")","76)",1,"+",4,2,null,2,6,10,14,18,22,null,"2, 6, 10, ...","14, 18, 22, ..."]
[77,")","77)",2,"-",2,4,null,40,38,36,34,32,30,null,"40, 38, 36, ...","34, 32, 30, ..."]
[78,")","78)",3,"x",2,1,null,1,2,4,8,16,32,null,"1, 2, 4, ...","8, 16, 32, ..."]
[79,")","79)",3,"x",2,5,null,5,10,20,40,80,160,null,"5, 10, 20, ...","40, 80, 160, ..."]
[80,")","80)",4,"÷",2,2,null,64,32,16,8,4,2,null,"64, 32, 16, ...","8, 4, 2, ..."]
[81,")","81)",3,"x",4,2,null,2,8,32,128,512,2048,null,"2, 8, 32, ...","128, 512, 2048, ..."]
[82,")","82)",1,"+",4,4,null,4,8,{"$f":"IF($D85=1,J85+$F85,(IF($D85=2,J85-$F85,(IF($D85=3,J85*$F85,J85/$F85)))))","v":12},16,20,24,null,"4, 8, 12, ...","16, 20, 24, ..."]
[83,")","83)",1,"+",5,1,null,1,6,11,16,21,26,null,"1, 6, 11, ...","16, 21, 26, ..."]
[84,")","84)",4,"÷",3,3,null,729,243,81,27,9,3,null,"729, 243, 81, ...","27, 9, 3, ..."]
[85,")","85)",2,"-",3,3,null,45,42,39,36,33,30,null,"45, 42, 39, ...","36, 33, 30, ..."]
[86,")","86)",1,"+",2,2,null,2,4,6,8,10,12,null,"2, 4, 6, ...","8, 10, 12, ..."]
[87,")","87)",4,"÷",2,2,null,64,32,16,8,4,2,null,"64, 32, 16, ...","8, 4, 2, ..."]
[88,")","88)",4,"÷",4,4,null,4096,1024,256,64,16,4,null,"4096, 1024, 256, ...","64, 16, 4, ..."]
[89,")","89)",2,"-",5,1,null,25,20,15,10,5,0,null,"25, 20, 15, ...","10, 5, 0, ..."]
[90,")","90)",1,"+",5,2,null,2,7,12,17,22,27,null,"2, 7, 12, ...","17, 22, 27, ..."]
[91,")","91)",3,"x",5,5,null,5,25,125,625,3125,15625,null,"5, 25, 125, ...","625, 3125, 15625, ..."]
[92,")","92)",4,"÷",2,1,null,32,16,8,4,2,1,null,"32, 16, 8, ...","4, 2, 1, ..."]
[93,")","93)",3,"x",4,4,null,4,16,64,256,1024,4096,null,"4, 16, 64, ...","256, 1024, 4096, ..."]
[94,")","94)",1,"+",4,3,null,3,7,11,15,19,23,null,"3, 7, 11, ...","15, 19, 23, ..."]
[95,")","95)",3,"x",3,5,null,5,15,45,135,405,1215,null,"5, 15, 45, ...","135, 405, 1215, ..."]
[96,")","96)",3,"x",3,1,null,1,3,9,27,81,243,null,"1, 3, 9, ...","27, 81, 243, ..."]
[97,")","97)",3,"x",5,3,null,3,{"$f":"IF($D100=1,I100+$F100,(IF($D100=2,I100-$F100,(IF($D100=3,I100*$F100,I100/$F100)))))","v":15},75,375,1875,9375,null,"3, 15, 75, ...","375, 1875, 9375, ..."]
[98,")","98)",4,"÷",3,3,null,729,{"$f":"IF($D101=1,I101+$F101,(IF($D101=2,I101-$F101,(IF($D101=3,I101*$F101,I101/$F101)))))","v":243},81,27,9,3,null,"729, 243, 81, ...","27, 9, 3, ..."]
[99,")","99)",2,"-",3,5,null,75,{"$f":"IF($D102=1,I102+$F102,(IF($D102=2,I102-$F102,(IF($D102=3,I102*$F102,I102/$F102)))))","v":72},69,66,63,60,null,"75, 72, 69, ...","66, 63, 60, ..."]
[100,")","100)",3,"x",5,1,null,1,{"$f":"IF($D103=1,I103+$F103,(IF($D103=2,I103-$F103,(IF($D103=3,I103*$F103,I103/$F103)))))","v":5},{"$f":"IF($D103=1,J103+$F103,(IF($D103=2,J103-$F103,(IF($D103=3,J103*$F103,J103/$F103)))))","v":25},{"$f":"IF($D103=1,K103+$F103,(IF($D103=2,K103-$F103,(IF($D103=3,K103*$F103,K103/$F103)))))","v":125},{"$f":"IF($D103=1,L103+$F103,(IF($D103=2,L103-$F103,(IF($D103=3,L103*$F103,L103/$F103)))))","v":625},{"$f":"IF($D103=1,M103+$F103,(IF($D103=2,M103-$F103,(IF($D103=3,M103*$F103,M103/$F103)))))","v":3125},null,"1, 5, 25, ...","125, 625, 3125, ..."]

{"sheet":"Answers","index":3,"n_rows":29,"n_cols":7,"rows_kept":29,"cut":false,"hidden":false,"merged":[]}
[null,null,null,"NUMBER PATTERNS"]
[null,null,null,"ANSWERS"]
[]
["Find the nest three (3) numbers in each of the following number patterns,"]
[{"$f":"Working!C4","v":"1)"},{"$f":"Working!P4","v":"3, 8, 13, ..."},{"$f":"Working!Q4","v":"18, 23, 28, ..."},null,{"$f":"Working!C29","v":"26)"},{"$f":"Working!P29","v":"6250, 1250, 250, ..."},{"$f":"Working!Q29","v":"50, 10, 2, ..."}]
[{"$f":"Working!C5","v":"2)"},{"$f":"Working!P5","v":"3, 8, 13, ..."},{"$f":"Working!Q5","v":"18, 23, 28, ..."},null,{"$f":"Working!C30","v":"27)"},{"$f":"Working!P30","v":"3, 9, 27, ..."},{"$f":"Working!Q30","v":"81, 243, 729, ..."}]
[{"$f":"Working!C6","v":"3)"},{"$f":"Working!P6","v":"3, 7, 11, ..."},{"$f":"Working!Q6","v":"15, 19, 23, ..."},null,{"$f":"Working!C31","v":"28)"},{"$f":"Working!P31","v":"12500, 2500, 500, ..."},{"$f":"Working!Q31","v":"100, 20, 4, ..."}]
[{"$f":"Working!C7","v":"4)"},{"$f":"Working!P7","v":"1, 6, 11, ..."},{"$f":"Working!Q7","v":"16, 21, 26, ..."},null,{"$f":"Working!C32","v":"29)"},{"$f":"Working!P32","v":"4, 6, 8, ..."},{"$f":"Working!Q32","v":"10, 12, 14, ..."}]
[{"$f":"Working!C8","v":"5)"},{"$f":"Working!P8","v":"3, 8, 13, ..."},{"$f":"Working!Q8","v":"18, 23, 28, ..."},null,{"$f":"Working!C33","v":"30)"},{"$f":"Working!P33","v":"3, 7, 11, ..."},{"$f":"Working!Q33","v":"15, 19, 23, ..."}]
[{"$f":"Working!C9","v":"6)"},{"$f":"Working!P9","v":"80, 76, 72, ..."},{"$f":"Working!Q9","v":"68, 64, 60, ..."},null,{"$f":"Working!C34","v":"31)"},{"$f":"Working!P34","v":"10, 8, 6, ..."},{"$f":"Working!Q34","v":"4, 2, 0, ..."}]
[{"$f":"Working!C10","v":"7)"},{"$f":"Working!P10","v":"75, 72, 69, ..."},{"$f":"Working!Q10","v":"66, 63, 60, ..."},null,{"$f":"Working!C35","v":"32)"},{"$f":"Working!P35","v":"1024, 256, 64, ..."},{"$f":"Working!Q35","v":"16, 4, 1, ..."}]
[{"$f":"Working!C11","v":"8)"},{"$f":"Working!P11","v":"45, 42, 39, ..."},{"$f":"Working!Q11","v":"36, 33, 30, ..."},null,{"$f":"Working!C36","v":"33)"},{"$f":"Working!P36","v":"50, 45, 40, ..."},{"$f":"Working!Q36","v":"35, 30, 25, ..."}]
[{"$f":"Working!C12","v":"9)"},{"$f":"Working!P12","v":"30, 27, 24, ..."},{"$f":"Working!Q12","v":"21, 18, 15, ..."},null,{"$f":"Working!C37","v":"34)"},{"$f":"Working!P37","v":"32, 16, 8, ..."},{"$f":"Working!Q37","v":"4, 2, 1, ..."}]
[{"$f":"Working!C13","v":"10)"},{"$f":"Working!P13","v":"45, 42, 39, ..."},{"$f":"Working!Q13","v":"36, 33, 30, ..."},null,{"$f":"Working!C38","v":"35)"},{"$f":"Working!P38","v":"1, 6, 11, ..."},{"$f":"Working!Q38","v":"16, 21, 26, ..."}]
[{"$f":"Working!C14","v":"11)"},{"$f":"Working!P14","v":"1, 5, 25, ..."},{"$f":"Working!Q14","v":"125, 625, 3125, ..."},null,{"$f":"Working!C39","v":"36)"},{"$f":"Working!P39","v":"2, 5, 8, ..."},{"$f":"Working!Q39","v":"11, 14, 17, ..."}]
[{"$f":"Working!C15","v":"12)"},{"$f":"Working!P15","v":"3, 9, 27, ..."},{"$f":"Working!Q15","v":"81, 243, 729, ..."},null,{"$f":"Working!C40","v":"37)"},{"$f":"Working!P40","v":"60, 57, 54, ..."},{"$f":"Working!Q40","v":"51, 48, 45, ..."}]
[{"$f":"Working!C16","v":"13)"},{"$f":"Working!P16","v":"5, 15, 45, ..."},{"$f":"Working!Q16","v":"135, 405, 1215, ..."},null,{"$f":"Working!C41","v":"38)"},{"$f":"Working!P41","v":"3072, 768, 192, ..."},{"$f":"Working!Q41","v":"48, 12, 3, ..."}]
[{"$f":"Working!C17","v":"14)"},{"$f":"Working!P17","v":"3, 9, 27, ..."},{"$f":"Working!Q17","v":"81, 243, 729, ..."},null,{"$f":"Working!C42","v":"39)"},{"$f":"Working!P42","v":"4, 6, 8, ..."},{"$f":"Working!Q42","v":"10, 12, 14, ..."}]
[{"$f":"Working!C18","v":"15)"},{"$f":"Working!P18","v":"3, 15, 75, ..."},{"$f":"Working!Q18","v":"375, 1875, 9375, ..."},null,{"$f":"Working!C43","v":"40)"},{"$f":"Working!P43","v":"50, 48, 46, ..."},{"$f":"Working!Q43","v":"44, 42, 40, ..."}]
[{"$f":"Working!C19","v":"16)"},{"$f":"Working!P19","v":"3072, 768, 192, ..."},{"$f":"Working!Q19","v":"48, 12, 3, ..."},null,{"$f":"Working!C44","v":"41)"},{"$f":"Working!P44","v":"3072, 768, 192, ..."},{"$f":"Working!Q44","v":"48, 12, 3, ..."}]
[{"$f":"Working!C20","v":"17)"},{"$f":"Working!P20","v":"32, 16, 8, ..."},{"$f":"Working!Q20","v":"4, 2, 1, ..."},null,{"$f":"Working!C45","v":"42)"},{"$f":"Working!P45","v":"5, 25, 125, ..."},{"$f":"Working!Q45","v":"625, 3125, 15625, ..."}]
[{"$f":"Working!C21","v":"18)"},{"$f":"Working!P21","v":"32, 16, 8, ..."},{"$f":"Working!Q21","v":"4, 2, 1, ..."},null,{"$f":"Working!C46","v":"43)"},{"$f":"Working!P46","v":"80, 76, 72, ..."},{"$f":"Working!Q46","v":"68, 64, 60, ..."}]
[{"$f":"Working!C22","v":"19)"},{"$f":"Working!P22","v":"9375, 1875, 375, ..."},{"$f":"Working!Q22","v":"75, 15, 3, ..."},null,{"$f":"Working!C47","v":"44)"},{"$f":"Working!P47","v":"5, 10, 20, ..."},{"$f":"Working!Q47","v":"40, 80, 160, ..."}]
[{"$f":"Working!C23","v":"20)"},{"$f":"Working!P23","v":"128, 64, 32, ..."},{"$f":"Working!Q23","v":"16, 8, 4, ..."},null,{"$f":"Working!C48","v":"45)"},{"$f":"Working!P48","v":"1, 3, 5, ..."},{"$f":"Working!Q48","v":"7, 9, 11, ..."}]
[{"$f":"Working!C24","v":"21)"},{"$f":"Working!P24","v":"3, 5, 7, ..."},{"$f":"Working!Q24","v":"9, 11, 13, ..."},null,{"$f":"Working!C49","v":"46)"},{"$f":"Working!P49","v":"64, 32, 16, ..."},{"$f":"Working!Q49","v":"8, 4, 2, ..."}]
[{"$f":"Working!C25","v":"22)"},{"$f":"Working!P25","v":"972, 324, 108, ..."},{"$f":"Working!Q25","v":"36, 12, 4, ..."},null,{"$f":"Working!C50","v":"47)"},{"$f":"Working!P50","v":"1, 5, 25, ..."},{"$f":"Working!Q50","v":"125, 625, 3125, ..."}]
[{"$f":"Working!C26","v":"23)"},{"$f":"Working!P26","v":"3, 7, 11, ..."},{"$f":"Working!Q26","v":"15, 19, 23, ..."},null,{"$f":"Working!C51","v":"48)"},{"$f":"Working!P51","v":"2, 4, 6, ..."},{"$f":"Working!Q51","v":"8, 10, 12, ..."}]
[{"$f":"Working!C27","v":"24)"},{"$f":"Working!P27","v":"4, 9, 14, ..."},{"$f":"Working!Q27","v":"19, 24, 29, ..."},null,{"$f":"Working!C52","v":"49)"},{"$f":"Working!P52","v":"4, 9, 14, ..."},{"$f":"Working!Q52","v":"19, 24, 29, ..."}]
[{"$f":"Working!C28","v":"25)"},{"$f":"Working!P28","v":"4, 12, 36, ..."},{"$f":"Working!Q28","v":"108, 324, 972, ..."},null,{"$f":"Working!C53","v":"50)"},{"$f":"Working!P53","v":"4, 8, 16, ..."},{"$f":"Working!Q53","v":"32, 64, 128, ..."}]