{"text_format":"1","workbook":"xlsx","n_sheets":4,"sheets":["Sheet1","Questions","Answers","Working"],"not_rendered":{"charts":0,"images":0,"macros":1,"external_links":0,"defined_names":0,"comments":0,"pivot_tables":0},"unopened":[],"bounds":{"document_bytes":16777216,"sheet_cells":100000,"rows_first":2000,"rows_last":500,"rows_between":2000,"halvings":0,"cell_chars":16384,"cell_head_chars":4096},"cells_cut":0,"cells_raw":0,"read":"whole","date_system":"1900"}

{"sheet":"Sheet1","index":0,"n_rows":12,"n_cols":9,"rows_kept":12,"cut":false,"hidden":false,"merged":[[1,2,1,6],[3,2,3,6],[3,8,7,9],[5,2,8,7]]}
[null,null,null,null,"NUMBER SENTENCES"]
[null,null,"INSTRUCTIONS"]
[]
[null,"Step 1","Click on WorkSheet tab below.",null,null,null,null,null,"PRESS F9 for NEW WorkSheet"]
[]
[null,"Note","If you hold down shift then click on the WorkSheet tab and the Answers tab, you will be able to print both the WorkSheet and the solutions."]
[]
[]
[]
[]
[null,null,"NOTES:"]
[null,null,"* The object is to insert operators between numbers to get the answer."]

{"sheet":"Questions","index":1,"n_rows":53,"n_cols":21,"rows_kept":53,"cut":false,"hidden":false,"merged":[]}
[null,null,null,null,null,null,null,null,null,null,"NUMBER SENTENCES"]
[null,null,null,null,null,null,null,null,null,null,null,null,null,"Worksheet ",null,null,null,null,{"$f":"CONCATENATE(Working!A1,Working!C1)","v":"BNS-420"}]
["Insert mathematical operation symbols (+, -, x, ÷) to make each number sentence true;"]
[]
[{"$f":"Working!C25","v":"1)"},{"$f":"Working!P25","v":1},null,{"$f":"Working!Q25","v":4},null,{"$f":"Working!R25","v":7},null,{"$f":"Working!S25","v":7},"=",{"$f":"Working!O25","v":19},null,{"$f":"Working!C50","v":"26)"},{"$f":"Working!P50","v":10},null,{"$f":"Working!Q50","v":6},null,{"$f":"Working!R50","v":3},null,{"$f":"Working!S50","v":2},"=",{"$f":"Working!O50","v":59}]
[]
[{"$f":"Working!C26","v":"2)"},{"$f":"Working!P26","v":6},null,{"$f":"Working!Q26","v":5},null,{"$f":"Working!R26","v":5},null,{"$f":"Working!S26","v":1},"=",{"$f":"Working!O26","v":7},null,{"$f":"Working!C51","v":"27)"},{"$f":"Working!P51","v":11},null,{"$f":"Working!Q51","v":4},null,{"$f":"Working!R51","v":3},null,{"$f":"Working!S51","v":9},"=",{"$f":"Working!O51","v":21}]
[]
[{"$f":"Working!C27","v":"3)"},{"$f":"Working!P27","v":9},null,{"$f":"Working!Q27","v":5},null,{"$f":"Working!R27","v":7},null,{"$f":"Working!S27","v":5},"=",{"$f":"Working!O27","v":16},null,{"$f":"Working!C52","v":"28)"},{"$f":"Working!P52","v":32},null,{"$f":"Working!Q52","v":6},null,{"$f":"Working!R52","v":3},null,{"$f":"Working!S52","v":4},"=",{"$f":"Working!O52","v":144}]
[]
[{"$f":"Working!C28","v":"4)"},{"$f":"Working!P28","v":4},null,{"$f":"Working!Q28","v":2},null,{"$f":"Working!R28","v":2},null,{"$f":"Working!S28","v":4},"=",{"$f":"Working!O28","v":64},null,{"$f":"Working!C53","v":"29)"},{"$f":"Working!P53","v":11},null,{"$f":"Working!Q53","v":5},null,{"$f":"Working!R53","v":5},null,{"$f":"Working!S53","v":5},"=",{"$f":"Working!O53","v":55}]
[]
[{"$f":"Working!C29","v":"5)"},{"$f":"Working!P29","v":3},null,{"$f":"Working!Q29","v":1},null,{"$f":"Working!R29","v":5},null,{"$f":"Working!S29","v":3},"=",{"$f":"Working!O29","v":11},null,{"$f":"Working!C54","v":"30)"},{"$f":"Working!P54","v":28},null,{"$f":"Working!Q54","v":5},null,{"$f":"Working!R54","v":4},null,{"$f":"Working!S54","v":2},"=",{"$f":"Working!O54","v":70}]
[]
[{"$f":"Working!C30","v":"6)"},{"$f":"Working!P30","v":3},null,{"$f":"Working!Q30","v":9},null,{"$f":"Working!R30","v":9},null,{"$f":"Working!S30","v":5},"=",{"$f":"Working!O30","v":72},null,{"$f":"Working!C55","v":"31)"},{"$f":"Working!P55","v":1},null,{"$f":"Working!Q55","v":2},null,{"$f":"Working!R55","v":3},null,{"$f":"Working!S55","v":8},"=",{"$f":"Working!O55","v":14}]
[]
[{"$f":"Working!C31","v":"7)"},{"$f":"Working!P31","v":9},null,{"$f":"Working!Q31","v":9},null,{"$f":"Working!R31","v":8},null,{"$f":"Working!S31","v":7},"=",{"$f":"Working!O31","v":96},null,{"$f":"Working!C56","v":"32)"},{"$f":"Working!P56","v":7},null,{"$f":"Working!Q56","v":8},null,{"$f":"Working!R56","v":8},null,{"$f":"Working!S56","v":1},"=",{"$f":"Working!O56","v":65}]
[]
[{"$f":"Working!C32","v":"8)"},{"$f":"Working!P32","v":3},null,{"$f":"Working!Q32","v":6},null,{"$f":"Working!R32","v":1},null,{"$f":"Working!S32","v":5},"=",{"$f":"Working!O32","v":14},null,{"$f":"Working!C57","v":"33)"},{"$f":"Working!P57","v":6},null,{"$f":"Working!Q57","v":7},null,{"$f":"Working!R57","v":6},null,{"$f":"Working!S57","v":3},"=",{"$f":"Working!O57","v":51}]
[]
[{"$f":"Working!C33","v":"9)"},{"$f":"Working!P33","v":7},null,{"$f":"Working!Q33","v":9},null,{"$f":"Working!R33","v":3},null,{"$f":"Working!S33","v":9},"=",{"$f":"Working!O33","v":69},null,{"$f":"Working!C58","v":"34)"},{"$f":"Working!P58","v":4},null,{"$f":"Working!Q58","v":6},null,{"$f":"Working!R58","v":8},null,{"$f":"Working!S58","v":2},"=",{"$f":"Working!O58","v":40}]
[]
[{"$f":"Working!C34","v":"10)"},{"$f":"Working!P34","v":13},null,{"$f":"Working!Q34","v":6},null,{"$f":"Working!R34","v":4},null,{"$f":"Working!S34","v":8},"=",{"$f":"Working!O34","v":29},null,{"$f":"Working!C59","v":"35)"},{"$f":"Working!P59","v":3},null,{"$f":"Working!Q59","v":3},null,{"$f":"Working!R59","v":2},null,{"$f":"Working!S59","v":5},"=",{"$f":"Working!O59","v":90}]
[]
[{"$f":"Working!C35","v":"11)"},{"$f":"Working!P35","v":2},null,{"$f":"Working!Q35","v":7},null,{"$f":"Working!R35","v":4},null,{"$f":"Working!S35","v":1},"=",{"$f":"Working!O35","v":10},null,{"$f":"Working!C60","v":"36)"},{"$f":"Working!P60","v":12},null,{"$f":"Working!Q60","v":6},null,{"$f":"Working!R60","v":8},null,{"$f":"Working!S60","v":7},"=",{"$f":"Working!O60","v":53}]
[]
[{"$f":"Working!C36","v":"12)"},{"$f":"Working!P36","v":40},null,{"$f":"Working!Q36","v":2},null,{"$f":"Working!R36","v":8},null,{"$f":"Working!S36","v":4},"=",{"$f":"Working!O36","v":40},null,{"$f":"Working!C61","v":"37)"},{"$f":"Working!P61","v":15},null,{"$f":"Working!Q61","v":2},null,{"$f":"Working!R61","v":4},null,{"$f":"Working!S61","v":7},"=",{"$f":"Working!O61","v":2}]
[]
[{"$f":"Working!C37","v":"13)"},{"$f":"Working!P37","v":8},null,{"$f":"Working!Q37","v":5},null,{"$f":"Working!R37","v":5},null,{"$f":"Working!S37","v":1},"=",{"$f":"Working!O37","v":200},null,{"$f":"Working!C62","v":"38)"},{"$f":"Working!P62","v":4},null,{"$f":"Working!Q62","v":3},null,{"$f":"Working!R62","v":2},null,{"$f":"Working!S62","v":2},"=",{"$f":"Working!O62","v":7}]
[]
[{"$f":"Working!C38","v":"14)"},{"$f":"Working!P38","v":9},null,{"$f":"Working!Q38","v":6},null,{"$f":"Working!R38","v":3},null,{"$f":"Working!S38","v":4},"=",{"$f":"Working!O38","v":14},null,{"$f":"Working!C63","v":"39)"},{"$f":"Working!P63","v":6},null,{"$f":"Working!Q63","v":4},null,{"$f":"Working!R63","v":2},null,{"$f":"Working!S63","v":4},"=",{"$f":"Working!O63","v":18}]
[]
[{"$f":"Working!C39","v":"15)"},{"$f":"Working!P39","v":4},null,{"$f":"Working!Q39","v":2},null,{"$f":"Working!R39","v":1},null,{"$f":"Working!S39","v":1},"=",{"$f":"Working!O39","v":8},null,{"$f":"Working!C64","v":"40)"},{"$f":"Working!P64","v":1},null,{"$f":"Working!Q64","v":3},null,{"$f":"Working!R64","v":8},null,{"$f":"Working!S64","v":5},"=",{"$f":"Working!O64","v":43}]
[]
[{"$f":"Working!C40","v":"16)"},{"$f":"Working!P40","v":12},null,{"$f":"Working!Q40","v":3},null,{"$f":"Working!R40","v":8},null,{"$f":"Working!S40","v":4},"=",{"$f":"Working!O40","v":4},null,{"$f":"Working!C65","v":"41)"},{"$f":"Working!P65","v":4},null,{"$f":"Working!Q65","v":8},null,{"$f":"Working!R65","v":8},null,{"$f":"Working!S65","v":8},"=",{"$f":"Working!O65","v":76}]
[]
[{"$f":"Working!C41","v":"17)"},{"$f":"Working!P41","v":12},null,{"$f":"Working!Q41","v":8},null,{"$f":"Working!R41","v":6},null,{"$f":"Working!S41","v":5},"=",{"$f":"Working!O41","v":55},null,{"$f":"Working!C66","v":"42)"},{"$f":"Working!P66","v":2},null,{"$f":"Working!Q66","v":7},null,{"$f":"Working!R66","v":3},null,{"$f":"Working!S66","v":1},"=",{"$f":"Working!O66","v":42}]
[]
[{"$f":"Working!C42","v":"18)"},{"$f":"Working!P42","v":10},null,{"$f":"Working!Q42","v":6},null,{"$f":"Working!R42","v":2},null,{"$f":"Working!S42","v":7},"=",{"$f":"Working!O42","v":21},null,{"$f":"Working!C67","v":"43)"},{"$f":"Working!P67","v":5},null,{"$f":"Working!Q67","v":1},null,{"$f":"Working!R67","v":4},null,{"$f":"Working!S67","v":5},"=",{"$f":"Working!O67","v":6}]
[]
[{"$f":"Working!C43","v":"19)"},{"$f":"Working!P43","v":4},null,{"$f":"Working!Q43","v":8},null,{"$f":"Working!R43","v":3},null,{"$f":"Working!S43","v":2},"=",{"$f":"Working!O43","v":18},null,{"$f":"Working!C68","v":"44)"},{"$f":"Working!P68","v":7},null,{"$f":"Working!Q68","v":1},null,{"$f":"Working!R68","v":8},null,{"$f":"Working!S68","v":9},"=",{"$f":"Working!O68","v":24}]
[]
[{"$f":"Working!C44","v":"20)"},{"$f":"Working!P44","v":10},null,{"$f":"Working!Q44","v":1},null,{"$f":"Working!R44","v":2},null,{"$f":"Working!S44","v":5},"=",{"$f":"Working!O44","v":4},null,{"$f":"Working!C69","v":"45)"},{"$f":"Working!P69","v":1},null,{"$f":"Working!Q69","v":1},null,{"$f":"Working!R69","v":1},null,{"$f":"Working!S69","v":4},"=",{"$f":"Working!O69","v":4}]
[]
[{"$f":"Working!C45","v":"21)"},{"$f":"Working!P45","v":4},null,{"$f":"Working!Q45","v":7},null,{"$f":"Working!R45","v":7},null,{"$f":"Working!S45","v":9},"=",{"$f":"Working!O45","v":27},null,{"$f":"Working!C70","v":"46)"},{"$f":"Working!P70","v":8},null,{"$f":"Working!Q70","v":3},null,{"$f":"Working!R70","v":6},null,{"$f":"Working!S70","v":5},"=",{"$f":"Working!O70","v":35}]
[]
[{"$f":"Working!C46","v":"22)"},{"$f":"Working!P46","v":1},null,{"$f":"Working!Q46","v":2},null,{"$f":"Working!R46","v":2},null,{"$f":"Working!S46","v":2},"=",{"$f":"Working!O46","v":7},null,{"$f":"Working!C71","v":"47)"},{"$f":"Working!P71","v":3},null,{"$f":"Working!Q71","v":6},null,{"$f":"Working!R71","v":2},null,{"$f":"Working!S71","v":9},"=",{"$f":"Working!O71","v":16}]
[]
[{"$f":"Working!C47","v":"23)"},{"$f":"Working!P47","v":8},null,{"$f":"Working!Q47","v":2},null,{"$f":"Working!R47","v":2},null,{"$f":"Working!S47","v":8},"=",{"$f":"Working!O47","v":32},null,{"$f":"Working!C72","v":"48)"},{"$f":"Working!P72","v":2},null,{"$f":"Working!Q72","v":4},null,{"$f":"Working!R72","v":2},null,{"$f":"Working!S72","v":2},"=",{"$f":"Working!O72","v":4}]
[]
[{"$f":"Working!C48","v":"24)"},{"$f":"Working!P48","v":9},null,{"$f":"Working!Q48","v":2},null,{"$f":"Working!R48","v":4},null,{"$f":"Working!S48","v":8},"=",{"$f":"Working!O48","v":30},null,{"$f":"Working!C73","v":"49)"},{"$f":"Working!P73","v":6},null,{"$f":"Working!Q73","v":4},null,{"$f":"Working!R73","v":8},null,{"$f":"Working!S73","v":3},"=",{"$f":"Working!O73","v":15}]
[]
[{"$f":"Working!C49","v":"25)"},{"$f":"Working!P49","v":8},null,{"$f":"Working!Q49","v":7},null,{"$f":"Working!R49","v":1},null,{"$f":"Working!S49","v":1},"=",{"$f":"Working!O49","v":56},null,{"$f":"Working!C74","v":"50)"},{"$f":"Working!P74","v":3},null,{"$f":"Working!Q74","v":1},null,{"$f":"Working!R74","v":8},null,{"$f":"Working!S74","v":1},"=",{"$f":"Working!O74","v":13}]

{"sheet":"Answers","index":2,"n_rows":53,"n_cols":21,"rows_kept":53,"cut":false,"hidden":false,"merged":[]}
[null,null,null,null,null,null,null,null,null,null,"NUMBER SENTENCES"]
[null,null,null,null,null,null,null,null,null,null,"Answers",null,null,"Worksheet ",null,null,null,null,{"$f":"CONCATENATE(Working!A1,Working!C1)","v":"BNS-420"}]
["Insert mathematical operation symbols (+, -, x, ÷) to make each number sentence true;"]
[]
[{"$f":"Working!C25","v":"1)"},{"$f":"Working!P25","v":1},{"$f":"Working!D25","v":"+"},{"$f":"Working!Q25","v":4},{"$f":"Working!E25","v":"+"},{"$f":"Working!R25","v":7},{"$f":"Working!F25","v":"+"},{"$f":"Working!S25","v":7},"=",{"$f":"Working!O25","v":19},null,{"$f":"Working!C50","v":"26)"},{"$f":"Working!P50","v":10},{"$f":"Working!D50","v":"×"},{"$f":"Working!Q50","v":6},{"$f":"Working!E50","v":"-"},{"$f":"Working!R50","v":3},{"$f":"Working!F50","v":"+"},{"$f":"Working!S50","v":2},"=",{"$f":"Working!O50","v":59}]
[]
[{"$f":"Working!C26","v":"2)"},{"$f":"Working!P26","v":6},{"$f":"Working!D26","v":"+"},{"$f":"Working!Q26","v":5},{"$f":"Working!E26","v":"-"},{"$f":"Working!R26","v":5},{"$f":"Working!F26","v":"+"},{"$f":"Working!S26","v":1},"=",{"$f":"Working!O26","v":7},null,{"$f":"Working!C51","v":"27)"},{"$f":"Working!P51","v":11},{"$f":"Working!D51","v":"+"},{"$f":"Working!Q51","v":4},{"$f":"Working!E51","v":"-"},{"$f":"Working!R51","v":3},{"$f":"Working!F51","v":"+"},{"$f":"Working!S51","v":9},"=",{"$f":"Working!O51","v":21}]
[]
[{"$f":"Working!C27","v":"3)"},{"$f":"Working!P27","v":9},{"$f":"Working!D27","v":"+"},{"$f":"Working!Q27","v":5},{"$f":"Working!E27","v":"+"},{"$f":"Working!R27","v":7},{"$f":"Working!F27","v":"-"},{"$f":"Working!S27","v":5},"=",{"$f":"Working!O27","v":16},null,{"$f":"Working!C52","v":"28)"},{"$f":"Working!P52","v":32},{"$f":"Working!D52","v":"×"},{"$f":"Working!Q52","v":6},{"$f":"Working!E52","v":"×"},{"$f":"Working!R52","v":3},{"$f":"Working!F52","v":"÷"},{"$f":"Working!S52","v":4},"=",{"$f":"Working!O52","v":144}]
[]
[{"$f":"Working!C28","v":"4)"},{"$f":"Working!P28","v":4},{"$f":"Working!D28","v":"×"},{"$f":"Working!Q28","v":2},{"$f":"Working!E28","v":"×"},{"$f":"Working!R28","v":2},{"$f":"Working!F28","v":"×"},{"$f":"Working!S28","v":4},"=",{"$f":"Working!O28","v":64},null,{"$f":"Working!C53","v":"29)"},{"$f":"Working!P53","v":11},{"$f":"Working!D53","v":"×"},{"$f":"Working!Q53","v":5},{"$f":"Working!E53","v":"-"},{"$f":"Working!R53","v":5},{"$f":"Working!F53","v":"+"},{"$f":"Working!S53","v":5},"=",{"$f":"Working!O53","v":55}]
[]
[{"$f":"Working!C29","v":"5)"},{"$f":"Working!P29","v":3},{"$f":"Working!D29","v":"+"},{"$f":"Working!Q29","v":1},{"$f":"Working!E29","v":"×"},{"$f":"Working!R29","v":5},{"$f":"Working!F29","v":"+"},{"$f":"Working!S29","v":3},"=",{"$f":"Working!O29","v":11},null,{"$f":"Working!C54","v":"30)"},{"$f":"Working!P54","v":28},{"$f":"Working!D54","v":"×"},{"$f":"Working!Q54","v":5},{"$f":"Working!E54","v":"÷"},{"$f":"Working!R54","v":4},{"$f":"Working!F54","v":"×"},{"$f":"Working!S54","v":2},"=",{"$f":"Working!O54","v":70}]
[]
[{"$f":"Working!C30","v":"6)"},{"$f":"Working!P30","v":3},{"$f":"Working!D30","v":"×"},{"$f":"Working!Q30","v":9},{"$f":"Working!E30","v":"+"},{"$f":"Working!R30","v":9},{"$f":"Working!F30","v":"×"},{"$f":"Working!S30","v":5},"=",{"$f":"Working!O30","v":72},null,{"$f":"Working!C55","v":"31)"},{"$f":"Working!P55","v":1},{"$f":"Working!D55","v":"+"},{"$f":"Working!Q55","v":2},{"$f":"Working!E55","v":"+"},{"$f":"Working!R55","v":3},{"$f":"Working!F55","v":"+"},{"$f":"Working!S55","v":8},"=",{"$f":"Working!O55","v":14}]
[]
[{"$f":"Working!C31","v":"7)"},{"$f":"Working!P31","v":9},{"$f":"Working!D31","v":"×"},{"$f":"Working!Q31","v":9},{"$f":"Working!E31","v":"+"},{"$f":"Working!R31","v":8},{"$f":"Working!F31","v":"+"},{"$f":"Working!S31","v":7},"=",{"$f":"Working!O31","v":96},null,{"$f":"Working!C56","v":"32)"},{"$f":"Working!P56","v":7},{"$f":"Working!D56","v":"×"},{"$f":"Working!Q56","v":8},{"$f":"Working!E56","v":"+"},{"$f":"Working!R56","v":8},{"$f":"Working!F56","v":"+"},{"$f":"Working!S56","v":1},"=",{"$f":"Working!O56","v":65}]
[]
[{"$f":"Working!C32","v":"8)"},{"$f":"Working!P32","v":3},{"$f":"Working!D32","v":"+"},{"$f":"Working!Q32","v":6},{"$f":"Working!E32","v":"+"},{"$f":"Working!R32","v":1},{"$f":"Working!F32","v":"×"},{"$f":"Working!S32","v":5},"=",{"$f":"Working!O32","v":14},null,{"$f":"Working!C57","v":"33)"},{"$f":"Working!P57","v":6},{"$f":"Working!D57","v":"+"},{"$f":"Working!Q57","v":7},{"$f":"Working!E57","v":"×"},{"$f":"Working!R57","v":6},{"$f":"Working!F57","v":"+"},{"$f":"Working!S57","v":3},"=",{"$f":"Working!O57","v":51}]
[]
[{"$f":"Working!C33","v":"9)"},{"$f":"Working!P33","v":7},{"$f":"Working!D33","v":"×"},{"$f":"Working!Q33","v":9},{"$f":"Working!E33","v":"-"},{"$f":"Working!R33","v":3},{"$f":"Working!F33","v":"+"},{"$f":"Working!S33","v":9},"=",{"$f":"Working!O33","v":69},null,{"$f":"Working!C58","v":"34)"},{"$f":"Working!P58","v":4},{"$f":"Working!D58","v":"×"},{"$f":"Working!Q58","v":6},{"$f":"Working!E58","v":"+"},{"$f":"Working!R58","v":8},{"$f":"Working!F58","v":"×"},{"$f":"Working!S58","v":2},"=",{"$f":"Working!O58","v":40}]
[]
[{"$f":"Working!C34","v":"10)"},{"$f":"Working!P34","v":13},{"$f":"Working!D34","v":"+"},{"$f":"Working!Q34","v":6},{"$f":"Working!E34","v":"×"},{"$f":"Working!R34","v":4},{"$f":"Working!F34","v":"-"},{"$f":"Working!S34","v":8},"=",{"$f":"Working!O34","v":29},null,{"$f":"Working!C59","v":"35)"},{"$f":"Working!P59","v":3},{"$f":"Working!D59","v":"×"},{"$f":"Working!Q59","v":3},{"$f":"Working!E59","v":"×"},{"$f":"Working!R59","v":2},{"$f":"Working!F59","v":"×"},{"$f":"Working!S59","v":5},"=",{"$f":"Working!O59","v":90}]
[]
[{"$f":"Working!C35","v":"11)"},{"$f":"Working!P35","v":2},{"$f":"Working!D35","v":"+"},{"$f":"Working!Q35","v":7},{"$f":"Working!E35","v":"-"},{"$f":"Working!R35","v":4},{"$f":"Working!F35","v":"×"},{"$f":"Working!S35","v":1},"=",{"$f":"Working!O35","v":10},null,{"$f":"Working!C60","v":"36)"},{"$f":"Working!P60","v":12},{"$f":"Working!D60","v":"+"},{"$f":"Working!Q60","v":6},{"$f":"Working!E60","v":"×"},{"$f":"Working!R60","v":8},{"$f":"Working!F60","v":"-"},{"$f":"Working!S60","v":7},"=",{"$f":"Working!O60","v":53}]
[]
[{"$f":"Working!C36","v":"12)"},{"$f":"Working!P36","v":40},{"$f":"Working!D36","v":"×"},{"$f":"Working!Q36","v":2},{"$f":"Working!E36","v":"÷"},{"$f":"Working!R36","v":8},{"$f":"Working!F36","v":"×"},{"$f":"Working!S36","v":4},"=",{"$f":"Working!O36","v":40},null,{"$f":"Working!C61","v":"37)"},{"$f":"Working!P61","v":15},{"$f":"Working!D61","v":"+"},{"$f":"Working!Q61","v":2},{"$f":"Working!E61","v":"-"},{"$f":"Working!R61","v":4},{"$f":"Working!F61","v":"×"},{"$f":"Working!S61","v":7},"=",{"$f":"Working!O61","v":2}]
[]
[{"$f":"Working!C37","v":"13)"},{"$f":"Working!P37","v":8},{"$f":"Working!D37","v":"×"},{"$f":"Working!Q37","v":5},{"$f":"Working!E37","v":"×"},{"$f":"Working!R37","v":5},{"$f":"Working!F37","v":"÷"},{"$f":"Working!S37","v":1},"=",{"$f":"Working!O37","v":200},null,{"$f":"Working!C62","v":"38)"},{"$f":"Working!P62","v":4},{"$f":"Working!D62","v":"+"},{"$f":"Working!Q62","v":3},{"$f":"Working!E62","v":"+"},{"$f":"Working!R62","v":2},{"$f":"Working!F62","v":"-"},{"$f":"Working!S62","v":2},"=",{"$f":"Working!O62","v":7}]
[]
[{"$f":"Working!C38","v":"14)"},{"$f":"Working!P38","v":9},{"$f":"Working!D38","v":"+"},{"$f":"Working!Q38","v":6},{"$f":"Working!E38","v":"+"},{"$f":"Working!R38","v":3},{"$f":"Working!F38","v":"-"},{"$f":"Working!S38","v":4},"=",{"$f":"Working!O38","v":14},null,{"$f":"Working!C63","v":"39)"},{"$f":"Working!P63","v":6},{"$f":"Working!D63","v":"+"},{"$f":"Working!Q63","v":4},{"$f":"Working!E63","v":"+"},{"$f":"Working!R63","v":2},{"$f":"Working!F63","v":"×"},{"$f":"Working!S63","v":4},"=",{"$f":"Working!O63","v":18}]
[]
[{"$f":"Working!C39","v":"15)"},{"$f":"Working!P39","v":4},{"$f":"Working!D39","v":"×"},{"$f":"Working!Q39","v":2},{"$f":"Working!E39","v":"×"},{"$f":"Working!R39","v":1},{"$f":"Working!F39","v":"×"},{"$f":"Working!S39","v":1},"=",{"$f":"Working!O39","v":8},null,{"$f":"Working!C64","v":"40)"},{"$f":"Working!P64","v":1},{"$f":"Working!D64","v":"×"},{"$f":"Working!Q64","v":3},{"$f":"Working!E64","v":"+"},{"$f":"Working!R64","v":8},{"$f":"Working!F64","v":"×"},{"$f":"Working!S64","v":5},"=",{"$f":"Working!O64","v":43}]
[]
[{"$f":"Working!C40","v":"16)"},{"$f":"Working!P40","v":12},{"$f":"Working!D40","v":"+"},{"$f":"Working!Q40","v":3},{"$f":"Working!E40","v":"-"},{"$f":"Working!R40","v":8},{"$f":"Working!F40","v":"×"},{"$f":"Working!S40","v":4},"=",{"$f":"Working!O40","v":4},null,{"$f":"Working!C65","v":"41)"},{"$f":"Working!P65","v":4},{"$f":"Working!D65","v":"+"},{"$f":"Working!Q65","v":8},{"$f":"Working!E65","v":"+"},{"$f":"Working!R65","v":8},{"$f":"Working!F65","v":"×"},{"$f":"Working!S65","v":8},"=",{"$f":"Working!O65","v":76}]
[]
[{"$f":"Working!C41","v":"17)"},{"$f":"Working!P41","v":12},{"$f":"Working!D41","v":"+"},{"$f":"Working!Q41","v":8},{"$f":"Working!E41","v":"×"},{"$f":"Working!R41","v":6},{"$f":"Working!F41","v":"-"},{"$f":"Working!S41","v":5},"=",{"$f":"Working!O41","v":55},null,{"$f":"Working!C66","v":"42)"},{"$f":"Working!P66","v":2},{"$f":"Working!D66","v":"×"},{"$f":"Working!Q66","v":7},{"$f":"Working!E66","v":"×"},{"$f":"Working!R66","v":3},{"$f":"Working!F66","v":"÷"},{"$f":"Working!S66","v":1},"=",{"$f":"Working!O66","v":42}]
[]
[{"$f":"Working!C42","v":"18)"},{"$f":"Working!P42","v":10},{"$f":"Working!D42","v":"+"},{"$f":"Working!Q42","v":6},{"$f":"Working!E42","v":"-"},{"$f":"Working!R42","v":2},{"$f":"Working!F42","v":"+"},{"$f":"Working!S42","v":7},"=",{"$f":"Working!O42","v":21},null,{"$f":"Working!C67","v":"43)"},{"$f":"Working!P67","v":5},{"$f":"Working!D67","v":"×"},{"$f":"Working!Q67","v":1},{"$f":"Working!E67","v":"-"},{"$f":"Working!R67","v":4},{"$f":"Working!F67","v":"+"},{"$f":"Working!S67","v":5},"=",{"$f":"Working!O67","v":6}]
[]
[{"$f":"Working!C43","v":"19)"},{"$f":"Working!P43","v":4},{"$f":"Working!D43","v":"+"},{"$f":"Working!Q43","v":8},{"$f":"Working!E43","v":"+"},{"$f":"Working!R43","v":3},{"$f":"Working!F43","v":"×"},{"$f":"Working!S43","v":2},"=",{"$f":"Working!O43","v":18},null,{"$f":"Working!C68","v":"44)"},{"$f":"Working!P68","v":7},{"$f":"Working!D68","v":"+"},{"$f":"Working!Q68","v":1},{"$f":"Working!E68","v":"×"},{"$f":"Working!R68","v":8},{"$f":"Working!F68","v":"+"},{"$f":"Working!S68","v":9},"=",{"$f":"Working!O68","v":24}]
[]
[{"$f":"Working!C44","v":"20)"},{"$f":"Working!P44","v":10},{"$f":"Working!D44","v":"×"},{"$f":"Working!Q44","v":1},{"$f":"Working!E44","v":"×"},{"$f":"Working!R44","v":2},{"$f":"Working!F44","v":"÷"},{"$f":"Working!S44","v":5},"=",{"$f":"Working!O44","v":4},null,{"$f":"Working!C69","v":"45)"},{"$f":"Working!P69","v":1},{"$f":"Working!D69","v":"×"},{"$f":"Working!Q69","v":1},{"$f":"Working!E69","v":"×"},{"$f":"Working!R69","v":1},{"$f":"Working!F69","v":"×"},{"$f":"Working!S69","v":4},"=",{"$f":"Working!O69","v":4}]
[]
[{"$f":"Working!C45","v":"21)"},{"$f":"Working!P45","v":4},{"$f":"Working!D45","v":"+"},{"$f":"Working!Q45","v":7},{"$f":"Working!E45","v":"+"},{"$f":"Working!R45","v":7},{"$f":"Working!F45","v":"+"},{"$f":"Working!S45","v":9},"=",{"$f":"Working!O45","v":27},null,{"$f":"Working!C70","v":"46)"},{"$f":"Working!P70","v":8},{"$f":"Working!D70","v":"×"},{"$f":"Working!Q70","v":3},{"$f":"Working!E70","v":"+"},{"$f":"Working!R70","v":6},{"$f":"Working!F70","v":"+"},{"$f":"Working!S70","v":5},"=",{"$f":"Working!O70","v":35}]
[]
[{"$f":"Working!C46","v":"22)"},{"$f":"Working!P46","v":1},{"$f":"Working!D46","v":"+"},{"$f":"Working!Q46","v":2},{"$f":"Working!E46","v":"×"},{"$f":"Working!R46","v":2},{"$f":"Working!F46","v":"+"},{"$f":"Working!S46","v":2},"=",{"$f":"Working!O46","v":7},null,{"$f":"Working!C71","v":"47)"},{"$f":"Working!P71","v":3},{"$f":"Working!D71","v":"+"},{"$f":"Working!Q71","v":6},{"$f":"Working!E71","v":"-"},{"$f":"Working!R71","v":2},{"$f":"Working!F71","v":"+"},{"$f":"Working!S71","v":9},"=",{"$f":"Working!O71","v":16}]
[]
[{"$f":"Working!C47","v":"23)"},{"$f":"Working!P47","v":8},{"$f":"Working!D47","v":"×"},{"$f":"Working!Q47","v":2},{"$f":"Working!E47","v":"+"},{"$f":"Working!R47","v":2},{"$f":"Working!F47","v":"×"},{"$f":"Working!S47","v":8},"=",{"$f":"Working!O47","v":32},null,{"$f":"Working!C72","v":"48)"},{"$f":"Working!P72","v":2},{"$f":"Working!D72","v":"+"},{"$f":"Working!Q72","v":4},{"$f":"Working!E72","v":"-"},{"$f":"Working!R72","v":2},{"$f":"Working!F72","v":"×"},{"$f":"Working!S72","v":2},"=",{"$f":"Working!O72","v":4}]
[]
[{"$f":"Working!C48","v":"24)"},{"$f":"Working!P48","v":9},{"$f":"Working!D48","v":"×"},{"$f":"Working!Q48","v":2},{"$f":"Working!E48","v":"+"},{"$f":"Working!R48","v":4},{"$f":"Working!F48","v":"+"},{"$f":"Working!S48","v":8},"=",{"$f":"Working!O48","v":30},null,{"$f":"Working!C73","v":"49)"},{"$f":"Working!P73","v":6},{"$f":"Working!D73","v":"+"},{"$f":"Working!Q73","v":4},{"$f":"Working!E73","v":"+"},{"$f":"Working!R73","v":8},{"$f":"Working!F73","v":"-"},{"$f":"Working!S73","v":3},"=",{"$f":"Working!O73","v":15}]
[]
[{"$f":"Working!C49","v":"25)"},{"$f":"Working!P49","v":8},{"$f":"Working!D49","v":"×"},{"$f":"Working!Q49","v":7},{"$f":"Working!E49","v":"÷"},{"$f":"Working!R49","v":1},{"$f":"Working!F49","v":"×"},{"$f":"Working!S49","v":1},"=",{"$f":"Working!O49","v":56},null,{"$f":"Working!C74","v":"50)"},{"$f":"Working!P74","v":3},{"$f":"Working!D74","v":"+"},{"$f":"Working!Q74","v":1},{"$f":"Working!E74","v":"+"},{"$f":"Working!R74","v":8},{"$f":"Working!F74","v":"+"},{"$f":"Working!S74","v":1},"=",{"$f":"Working!O74","v":13}]

{"sheet":"Working","index":3,"n_rows":124,"n_cols":27,"rows_kept":124,"cut":false,"hidden":true,"merged":[]}
["BNS-",null,{"$f":"INT(999*RAND()+1)","v":420}]
[]
[]
[]
[]
[]
[null,null,null,null,null,null,null,null,null,null,null,null,null,null,"T1","T1a","T2","T2a","T3","T3a","T4","T4a"]
["Types:",null,null,1,"1 + 2 + 3 + 4 = 10",null,null,null,null,null,{"$f":"INT(9*RAND()+1)","v":4},"+","*","-",{"$f":"INT(9*RAND()+1)","v":5},null,{"$f":"INT(9*RAND()+1)","v":6},null,{"$f":"INT(9*RAND()+1)","v":2},null,{"$f":"INT(9*RAND()+1)","v":9},{"$f":"Q8+U8-1","v":14},{"$f":"V8+Q8*S8-U8","v":17},{"$f":"V8","v":14},{"$f":"Q8","v":6},{"$f":"S8","v":2},{"$f":"U8","v":9}]
[null,null,null,2,"1 + 2 - 3 + 4 = 4",null,null,null,null,null,8,"+","+","*",{"$f":"INT(9*RAND()+1)","v":2},null,{"$f":"INT(9*RAND()+1)","v":9},null,{"$f":"INT(9*RAND()+1)","v":8},null,{"$f":"INT(9*RAND()+1)","v":6},null,{"$f":"O9+Q9+S9*U9","v":59},{"$f":"O9","v":2},9,8,6]
[null,null,null,3,"1 + 2 + 3 - 4 = 2",null,null,null,null,null,4,"*","+","*",{"$f":"INT(9*RAND()+1)","v":3},null,{"$f":"INT(9*RAND()+1)","v":6},null,{"$f":"INT(9*RAND()+1)","v":6},null,{"$f":"INT(9*RAND()+1)","v":9},null,{"$f":"O10*Q10+S10*U10","v":72},{"$f":"O10","v":3},6,6,9]
[null,null,null,4,"1 x 2 x 3 x 4 = 24",null,null,null,null,null,7,"*","*","/",{"$f":"INT(9*RAND()+1)","v":9},null,{"$f":"INT(9*RAND()+1)","v":2},null,{"$f":"INT(9*RAND()+1)","v":1},null,{"$f":"INT(9*RAND()+1)","v":4},{"$f":"O11*U11","v":36},{"$f":"V11*Q11*S11/U11","v":18},{"$f":"V11","v":36},2,1,4]
[null,null,null,5,"1 + 2 x 3 + 4 = 11",null,null,null,null,null,7,"+","*","+",{"$f":"INT(9*RAND()+1)","v":9},null,{"$f":"INT(9*RAND()+1)","v":1},null,{"$f":"INT(9*RAND()+1)","v":1},null,{"$f":"INT(9*RAND()+1)","v":9},null,{"$f":"O12+Q12*S12+U12","v":19},{"$f":"O12","v":9},1,1,9]
[null,null,null,6,"1 x 2 + 3 x 4 = 14",null,null,null,null,null,7,"*","*","*",{"$f":"INT(4*RAND()+1)","v":3},null,{"$f":"INT(5*RAND()+1)","v":2},null,{"$f":"INT(3*RAND()+1)","v":3},null,{"$f":"INT(5*RAND()+1)","v":4},null,{"$f":"O13*Q13*S13*U13","v":72},{"$f":"O13","v":3},2,3,4]
[null,null,null,7,"1 x 2 + 3 + 4 = 9",null,null,null,null,null,2,"+","+","+",{"$f":"INT(9*RAND()+1)","v":4},null,{"$f":"INT(9*RAND()+1)","v":4},null,{"$f":"INT(9*RAND()+1)","v":2},null,{"$f":"INT(9*RAND()+1)","v":4},null,{"$f":"O14+Q14+S14+U14","v":14},{"$f":"O14","v":4},4,2,4]
[null,null,null,8,"1 + 2 + 3 x 4 = 15",null,null,null,null,null,8,"*","/","*",7,null,4,null,4,{"$f":"O15*S15","v":28},1,null,{"$f":"T15*Q15/S15*U15","v":28},{"$f":"T15","v":28},4,4,1]
[null,null,null,9,"1 x 2 - 3 + 4 = 3",null,null,null,null,null,3,"+","-","*",3,null,2,null,7,null,1,{"$f":"ROUNDUP(S16*U16/Q16+1,0)","v":5},{"$f":"V16*Q16-S16*U16","v":3},{"$f":"V16","v":5},2,7,1]
[null,null,null,10,"1 + 2 x 3 - 4 = 3",null,null,null,null,null,7,"+","-","+",8,null,3,null,4,{"$f":"O17+S17-1","v":11},5,null,{"$f":"T17+Q17-S17+U17","v":15},{"$f":"T17","v":11},3,4,5]
[null,null,null,11,"1 x 2 - 3 x 4 = -10",null,null,null,null,null,2,"+","+","-",2,null,9,null,6,null,6,{"$f":"Q18+U18-1","v":14},{"$f":"V18+Q18+S18-U18","v":23},{"$f":"V18","v":14},9,6,6]
[null,null,null,12,"1 x 3 ÷ 2 x 4 = 6",null,null,null,null,null,6,"*","+","+",1,null,9,null,6,null,8,null,{"$f":"O19*Q19+S19+U19","v":23},{"$f":"O19","v":1},9,6,8]
[null,null,null,13,"1 x 4 x 3 ÷ 2 = 6",null,null,null,null,null,3,"*","-","+",3,null,4,null,7,{"$f":"O20+S20-1","v":9},2,null,{"$f":"T20*Q20-S20+U20","v":31},{"$f":"T20","v":9},4,7,2]
[]
[]
[]
[]
[1,")",{"$f":"CONCATENATE(A25,B25)","v":"1)"},"+","+","+",{"$f":"INT(9*RAND()+1)","v":1},null,{"$f":"INT(9*RAND()+1)","v":4},null,7,null,7,null,{"$f":"G25+I25+K25+M25","v":19},{"$f":"G25","v":1},{"$f":"I25","v":4},{"$f":"K25","v":7},{"$f":"M25","v":7}]
[2,")",{"$f":"CONCATENATE(A26,B26)","v":"2)"},"+","-","+",2,null,5,null,5,{"$f":"G26+K26-1","v":6},1,null,{"$f":"L26+I26-K26+M26","v":7},{"$f":"L26","v":6},{"$f":"I26","v":5},{"$f":"K26","v":5},{"$f":"M26","v":1}]
[3,")","3)","+","+","-",9,null,5,null,7,null,5,{"$f":"I27+M27-1","v":9},{"$f":"N27+I27+K27-M27","v":16},{"$f":"N27","v":9},5,7,5]
[4,")","4)","×","×","×",{"$f":"INT(4*RAND()+1)","v":4},null,{"$f":"INT(5*RAND()+1)","v":2},null,{"$f":"INT(3*RAND()+1)","v":2},null,{"$f":"INT(5*RAND()+1)","v":4},null,{"$f":"G28*I28*K28*M28","v":64},{"$f":"G28","v":4},2,2,4]
[5,")","5)","+","×","+",3,null,1,null,5,null,3,null,{"$f":"G29+I29*K29+M29","v":11},{"$f":"G29","v":3},1,5,3]
[6,")","6)","×","+","×",3,null,9,null,9,null,5,null,{"$f":"G30*I30+K30*M30","v":72},{"$f":"G30","v":3},9,9,5]
[7,")","7)","×","+","+",9,null,9,null,8,null,7,null,{"$f":"G31*I31+K31+M31","v":96},{"$f":"G31","v":9},9,8,7]
[8,")","8)","+","+","×",3,null,6,null,1,null,5,null,{"$f":"G32+I32+K32*M32","v":14},{"$f":"G32","v":3},6,1,5]
[9,")","9)","×","-","+",5,null,9,null,3,{"$f":"G33+K33-1","v":7},9,null,{"$f":"L33*I33-K33+M33","v":69},{"$f":"L33","v":7},9,3,9]
[10,")","10)","+","×","-",7,null,6,null,4,null,8,{"$f":"I34+M34-1","v":13},{"$f":"N34+I34*K34-M34","v":29},{"$f":"N34","v":13},6,4,8]
[11,")","11)","+","-","×",3,null,7,null,4,null,1,{"$f":"ROUNDUP(K35*M35/I35+1,0)","v":2},{"$f":"N35*I35-K35*M35","v":10},{"$f":"N35","v":2},7,4,1]
[12,")","12)","×","÷","×",5,null,2,null,8,{"$f":"G36*K36","v":40},4,null,{"$f":"L36*I36/K36*M36","v":40},{"$f":"L36","v":40},2,8,4]
[13,")","13)","×","×","÷",8,null,5,null,5,null,1,{"$f":"G37*M37","v":8},{"$f":"N37*I37*K37/M37","v":200},{"$f":"N37","v":8},5,5,1]
[14,")","14)","+","+","-",{"$f":"INT(9*RAND()+1)","v":7},null,{"$f":"INT(9*RAND()+1)","v":6},null,{"$f":"INT(9*RAND()+1)","v":3},null,{"$f":"INT(9*RAND()+1)","v":4},{"$f":"I38+M38-1","v":9},{"$f":"N38+I38+K38-M38","v":14},{"$f":"N38","v":9},{"$f":"I38","v":6},{"$f":"K38","v":3},{"$f":"M38","v":4}]
[15,")","15)","×","×","×",{"$f":"INT(4*RAND()+1)","v":4},null,{"$f":"INT(5*RAND()+1)","v":2},null,{"$f":"INT(3*RAND()+1)","v":1},null,{"$f":"INT(5*RAND()+1)","v":1},null,{"$f":"G39*I39*K39*M39","v":8},{"$f":"G39","v":4},2,1,1]
[16,")","16)","+","-","×",{"$f":"INT(9*RAND()+1)","v":2},null,{"$f":"INT(9*RAND()+1)","v":3},null,{"$f":"INT(9*RAND()+1)","v":8},null,{"$f":"INT(9*RAND()+1)","v":4},{"$f":"ROUNDUP(K40*M40/I40+1,0)","v":12},{"$f":"N40*I40-K40*M40","v":4},{"$f":"N40","v":12},3,8,4]
[17,")","17)","+","×","-",9,null,8,null,6,null,5,{"$f":"I41+M41-1","v":12},{"$f":"N41+I41*K41-M41","v":55},{"$f":"N41","v":12},8,6,5]
[18,")","18)","+","-","+",9,null,6,null,2,{"$f":"G42+K42-1","v":10},7,null,{"$f":"L42+I42-K42+M42","v":21},{"$f":"L42","v":10},6,2,7]
[19,")","19)","+","+","×",4,null,8,null,3,null,2,null,{"$f":"G43+I43+K43*M43","v":18},{"$f":"G43","v":4},8,3,2]
[20,")","20)","×","×","÷",2,null,1,null,2,null,5,{"$f":"G44*M44","v":10},{"$f":"N44*I44*K44/M44","v":4},{"$f":"N44","v":10},1,2,5]
[21,")","21)","+","+","+",4,null,7,null,7,null,9,null,{"$f":"G45+I45+K45+M45","v":27},{"$f":"G45","v":4},7,7,9]
[22,")","22)","+","×","+",1,null,2,null,2,null,2,null,{"$f":"G46+I46*K46+M46","v":7},{"$f":"G46","v":1},2,2,2]
[23,")","23)","×","+","×",8,null,2,null,2,null,8,null,{"$f":"G47*I47+K47*M47","v":32},{"$f":"G47","v":8},2,2,8]
[24,")","24)","×","+","+",9,null,2,null,4,null,8,null,{"$f":"G48*I48+K48+M48","v":30},{"$f":"G48","v":9},2,4,8]
[25,")","25)","×","÷","×",8,null,7,null,1,{"$f":"G49*K49","v":8},1,null,{"$f":"L49*I49/K49*M49","v":56},{"$f":"L49","v":8},7,1,1]
[26,")","26)","×","-","+",8,null,6,null,3,{"$f":"G50+K50-1","v":10},2,null,{"$f":"L50*I50-K50+M50","v":59},{"$f":"L50","v":10},6,3,2]
[27,")","27)","+","-","+",9,null,4,null,3,{"$f":"G51+K51-1","v":11},9,null,{"$f":"L51+I51-K51+M51","v":21},{"$f":"L51","v":11},4,3,9]
[28,")","28)","×","×","÷",8,null,6,null,3,null,4,{"$f":"G52*M52","v":32},{"$f":"N52*I52*K52/M52","v":144},{"$f":"N52","v":32},6,3,4]
[29,")","29)","×","-","+",7,null,5,null,5,{"$f":"G53+K53-1","v":11},5,null,{"$f":"L53*I53-K53+M53","v":55},{"$f":"L53","v":11},5,5,5]
[30,")","30)","×","÷","×",7,null,5,null,4,{"$f":"G54*K54","v":28},2,null,{"$f":"L54*I54/K54*M54","v":70},{"$f":"L54","v":28},5,4,2]
[31,")","31)","+","+","+",1,null,2,null,3,null,8,null,{"$f":"G55+I55+K55+M55","v":14},{"$f":"G55","v":1},2,3,8]
[32,")","32)","×","+","+",7,null,8,null,8,null,1,null,{"$f":"G56*I56+K56+M56","v":65},{"$f":"G56","v":7},8,8,1]
[33,")","33)","+","×","+",6,null,7,null,6,null,3,null,{"$f":"G57+I57*K57+M57","v":51},{"$f":"G57","v":6},7,6,3]
[34,")","34)","×","+","×",4,null,6,null,8,null,2,null,{"$f":"G58*I58+K58*M58","v":40},{"$f":"G58","v":4},6,8,2]
[35,")","35)","×","×","×",{"$f":"INT(4*RAND()+1)","v":3},null,{"$f":"INT(5*RAND()+1)","v":3},null,{"$f":"INT(3*RAND()+1)","v":2},null,{"$f":"INT(5*RAND()+1)","v":5},null,{"$f":"G59*I59*K59*M59","v":90},{"$f":"G59","v":3},3,2,5]
[36,")","36)","+","×","-",{"$f":"INT(9*RAND()+1)","v":4},null,{"$f":"INT(9*RAND()+1)","v":6},null,{"$f":"INT(9*RAND()+1)","v":8},null,{"$f":"INT(9*RAND()+1)","v":7},{"$f":"I60+M60-1","v":12},{"$f":"N60+I60*K60-M60","v":53},{"$f":"N60","v":12},6,8,7]
[37,")","37)","+","-","×",1,null,2,null,4,null,7,{"$f":"ROUNDUP(K61*M61/I61+1,0)","v":15},{"$f":"N61*I61-K61*M61","v":2},{"$f":"N61","v":15},2,4,7]
[38,")","38)","+","+","-",8,null,3,null,2,null,2,{"$f":"I62+M62-1","v":4},{"$f":"N62+I62+K62-M62","v":7},{"$f":"N62","v":4},3,2,2]
[39,")","39)","+","+","×",6,null,4,null,2,null,4,null,{"$f":"G63+I63+K63*M63","v":18},{"$f":"G63","v":6},4,2,4]
[40,")","40)","×","+","×",1,null,3,null,8,null,5,null,{"$f":"G64*I64+K64*M64","v":43},{"$f":"G64","v":1},3,8,5]
[41,")","41)","+","+","×",4,null,8,null,8,null,8,null,{"$f":"G65+I65+K65*M65","v":76},{"$f":"G65","v":4},8,8,8]
[42,")","42)","×","×","÷",2,null,7,null,3,null,1,{"$f":"G66*M66","v":2},{"$f":"N66*I66*K66/M66","v":42},{"$f":"N66","v":2},7,3,1]
[43,")","43)","×","-","+",2,null,1,null,4,{"$f":"G67+K67-1","v":5},5,null,{"$f":"L67*I67-K67+M67","v":6},{"$f":"L67","v":5},1,4,5]
[44,")","44)","+","×","+",7,null,1,null,8,null,9,null,{"$f":"G68+I68*K68+M68","v":24},{"$f":"G68","v":7},1,8,9]
[45,")","45)","×","×","×",{"$f":"INT(4*RAND()+1)","v":1},null,{"$f":"INT(5*RAND()+1)","v":1},null,{"$f":"INT(3*RAND()+1)","v":1},null,{"$f":"INT(5*RAND()+1)","v":4},null,{"$f":"G69*I69*K69*M69","v":4},{"$f":"G69","v":1},1,1,4]
[46,")","46)","×","+","+",{"$f":"INT(9*RAND()+1)","v":8},null,{"$f":"INT(9*RAND()+1)","v":3},null,{"$f":"INT(9*RAND()+1)","v":6},null,{"$f":"INT(9*RAND()+1)","v":5},null,{"$f":"G70*I70+K70+M70","v":35},{"$f":"G70","v":8},{"$f":"I70","v":3},{"$f":"K70","v":6},{"$f":"M70","v":5}]
[47,")","47)","+","-","+",2,null,6,null,2,{"$f":"G71+K71-1","v":3},9,null,{"$f":"L71+I71-K71+M71","v":16},{"$f":"L71","v":3},6,2,9]
[48,")","48)","+","-","×",2,null,4,null,2,null,2,{"$f":"ROUNDUP(K72*M72/I72+1,0)","v":2},{"$f":"N72*I72-K72*M72","v":4},{"$f":"N72","v":2},4,2,2]
[49,")","49)","+","+","-",7,null,4,null,8,null,3,{"$f":"I73+M73-1","v":6},{"$f":"N73+I73+K73-M73","v":15},{"$f":"N73","v":6},4,8,3]
[50,")","50)","+","+","+",3,null,1,null,8,null,1,null,{"$f":"G74+I74+K74+M74","v":13},{"$f":"G74","v":3},1,8,1]
[51,")","51)","+","×","-",2,null,5,null,1,null,8,{"$f":"I75+M75-1","v":12},{"$f":"N75+I75*K75-M75","v":9},{"$f":"N75","v":12},5,1,8]
[52,")","52)","×","÷","×",3,null,7,null,5,{"$f":"G76*K76","v":15},9,null,{"$f":"L76*I76/K76*M76","v":189},{"$f":"L76","v":15},7,5,9]
[53,")","53)","×","-","+",7,null,3,null,1,{"$f":"G77+K77-1","v":7},9,null,{"$f":"L77*I77-K77+M77","v":29},{"$f":"L77","v":7},3,1,9]
[54,")","54)","+","-","×",1,null,8,null,5,null,8,{"$f":"ROUNDUP(K78*M78/I78+1,0)","v":6},{"$f":"N78*I78-K78*M78","v":8},{"$f":"N78","v":6},8,5,8]
[55,")","55)","+","×","-",4,null,3,null,4,null,7,{"$f":"I79+M79-1","v":9},{"$f":"N79+I79*K79-M79","v":14},{"$f":"N79","v":9},3,4,7]
[56,")","56)","+","×","+",4,null,9,null,1,null,8,null,{"$f":"G80+I80*K80+M80","v":21},{"$f":"G80","v":4},9,1,8]
[57,")","57)","+","+","×",2,null,5,null,8,null,4,null,{"$f":"G81+I81+K81*M81","v":39},{"$f":"G81","v":2},5,8,4]
[58,")","58)","×","+","+",8,null,6,null,9,null,3,null,{"$f":"G82*I82+K82+M82","v":60},{"$f":"G82","v":8},6,9,3]
[59,")","59)","+","+","+",2,null,5,null,6,null,4,null,{"$f":"G83+I83+K83+M83","v":17},{"$f":"G83","v":2},5,6,4]
[60,")","60)","×","+","×",9,null,9,null,8,null,2,null,{"$f":"G84*I84+K84*M84","v":97},{"$f":"G84","v":9},9,8,2]
[61,")","61)","+","-","+",9,null,2,null,6,{"$f":"G85+K85-1","v":14},4,null,{"$f":"L85+I85-K85+M85","v":14},{"$f":"L85","v":14},2,6,4]
[62,")","62)","×","×","÷",9,null,9,null,9,null,1,{"$f":"G86*M86","v":9},{"$f":"N86*I86*K86/M86","v":729},{"$f":"N86","v":9},9,9,1]
[63,")","63)","×","×","×",{"$f":"INT(4*RAND()+1)","v":3},null,{"$f":"INT(5*RAND()+1)","v":3},null,{"$f":"INT(3*RAND()+1)","v":1},null,{"$f":"INT(5*RAND()+1)","v":3},null,{"$f":"G87*I87*K87*M87","v":27},{"$f":"G87","v":3},3,1,3]
[64,")","64)","×","÷","×",{"$f":"INT(9*RAND()+1)","v":2},null,{"$f":"INT(9*RAND()+1)","v":8},null,{"$f":"INT(9*RAND()+1)","v":2},{"$f":"G88*K88","v":4},{"$f":"INT(9*RAND()+1)","v":9},null,{"$f":"L88*I88/K88*M88","v":144},{"$f":"L88","v":4},8,2,9]
[65,")","65)","+","+","-",1,null,2,null,4,null,7,{"$f":"I89+M89-1","v":8},{"$f":"N89+I89+K89-M89","v":7},{"$f":"N89","v":8},2,4,7]
[66,")",{"$f":"CONCATENATE(A90,B90)","v":"66)"},"×","-","+",1,null,1,null,8,{"$f":"G90+K90-1","v":8},2,null,{"$f":"L90*I90-K90+M90","v":2},{"$f":"L90","v":8},1,8,2]
[67,")","67)","+","×","-",5,null,4,null,5,null,7,{"$f":"I91+M91-1","v":10},{"$f":"N91+I91*K91-M91","v":23},{"$f":"N91","v":10},4,5,7]
[68,")","68)","+","+","×",1,null,5,null,1,null,8,null,{"$f":"G92+I92+K92*M92","v":14},{"$f":"G92","v":1},5,1,8]
[69,")","69)","×","+","+",9,null,7,null,6,null,6,null,{"$f":"G93*I93+K93+M93","v":75},{"$f":"G93","v":9},7,6,6]
[70,")","70)","×","÷","×",9,null,7,null,7,{"$f":"G94*K94","v":63},2,null,{"$f":"L94*I94/K94*M94","v":126},{"$f":"L94","v":63},7,7,2]
[71,")","71)","+","×","+",1,null,8,null,5,null,9,null,{"$f":"G95+I95*K95+M95","v":50},{"$f":"G95","v":1},8,5,9]
[72,")","72)","×","×","×",{"$f":"INT(4*RAND()+1)","v":1},null,{"$f":"INT(5*RAND()+1)","v":3},null,{"$f":"INT(3*RAND()+1)","v":1},null,{"$f":"INT(5*RAND()+1)","v":3},null,{"$f":"G96*I96*K96*M96","v":9},{"$f":"G96","v":1},3,1,3]
[73,")","73)","×","+","×",{"$f":"INT(9*RAND()+1)","v":2},null,{"$f":"INT(9*RAND()+1)","v":9},null,{"$f":"INT(9*RAND()+1)","v":8},null,{"$f":"INT(9*RAND()+1)","v":8},null,{"$f":"G97*I97+K97*M97","v":82},{"$f":"G97","v":2},9,8,8]
[74,")","74)","+","-","+",7,null,1,null,9,{"$f":"G98+K98-1","v":15},3,null,{"$f":"L98+I98-K98+M98","v":10},{"$f":"L98","v":15},1,9,3]
[75,")","75)","+","+","+",3,null,7,null,2,null,8,null,{"$f":"G99+I99+K99+M99","v":20},{"$f":"G99","v":3},7,2,8]
[76,")","76)","+","+","-",6,null,4,null,8,null,7,{"$f":"I100+M100-1","v":10},{"$f":"N100+I100+K100-M100","v":15},{"$f":"N100","v":10},4,8,7]
[77,")","77)","×","×","÷",3,null,3,null,9,null,5,{"$f":"G101*M101","v":15},{"$f":"N101*I101*K101/M101","v":81},{"$f":"N101","v":15},3,9,5]
[78,")","78)","+","-","×",2,null,7,null,3,null,4,{"$f":"ROUNDUP(K102*M102/I102+1,0)","v":3},{"$f":"N102*I102-K102*M102","v":9},{"$f":"N102","v":3},{"$f":"I102","v":7},{"$f":"K102","v":3},{"$f":"M102","v":4}]
[79,")","79)","+","×","-",5,null,8,null,7,null,5,{"$f":"I103+M103-1","v":12},{"$f":"N103+I103*K103-M103","v":63},{"$f":"N103","v":12},8,7,5]
[80,")","80)","+","+","×",1,null,3,null,3,null,5,null,{"$f":"G104+I104+K104*M104","v":19},{"$f":"G104","v":1},3,3,5]
[81,")","81)","×","×","÷",9,null,4,null,5,null,2,{"$f":"G105*M105","v":18},{"$f":"N105*I105*K105/M105","v":180},{"$f":"N105","v":18},4,5,2]
[82,")","82)","+","×","+",4,null,9,null,5,null,9,null,{"$f":"G106+I106*K106+M106","v":58},{"$f":"G106","v":4},9,5,9]
[83,")","83)","×","×","×",{"$f":"INT(4*RAND()+1)","v":3},null,{"$f":"INT(5*RAND()+1)","v":5},null,{"$f":"INT(3*RAND()+1)","v":3},null,{"$f":"INT(5*RAND()+1)","v":5},null,{"$f":"G107*I107*K107*M107","v":225},{"$f":"G107","v":3},5,3,5]
[84,")","84)","+","+","-",{"$f":"INT(9*RAND()+1)","v":3},null,{"$f":"INT(9*RAND()+1)","v":1},null,{"$f":"INT(9*RAND()+1)","v":2},null,{"$f":"INT(9*RAND()+1)","v":2},{"$f":"I108+M108-1","v":2},{"$f":"N108+I108+K108-M108","v":3},{"$f":"N108","v":2},1,2,2]
[85,")","85)","+","-","+",2,null,6,null,7,{"$f":"G109+K109-1","v":8},7,null,{"$f":"L109+I109-K109+M109","v":14},{"$f":"L109","v":8},6,7,7]
[86,")","86)","×","-","+",6,null,1,null,1,{"$f":"G110+K110-1","v":6},6,null,{"$f":"L110*I110-K110+M110","v":11},{"$f":"L110","v":6},1,1,6]
[87,")","87)","×","+","+",8,null,6,null,2,null,3,null,{"$f":"G111*I111+K111+M111","v":53},{"$f":"G111","v":8},6,2,3]
[88,")","88)","×","÷","×",7,null,6,null,8,{"$f":"G112*K112","v":56},9,null,{"$f":"L112*I112/K112*M112","v":378},{"$f":"L112","v":56},6,8,9]
[89,")","89)","×","+","×",7,null,5,null,8,null,7,null,{"$f":"G113*I113+K113*M113","v":91},{"$f":"G113","v":7},5,8,7]
[90,")","90)","+","+","+",1,null,4,null,6,null,7,null,{"$f":"G114+I114+K114+M114","v":18},{"$f":"G114","v":1},4,6,7]
[91,")","91)","+","-","×",4,null,1,null,2,null,9,{"$f":"ROUNDUP(K115*M115/I115+1,0)","v":19},{"$f":"N115*I115-K115*M115","v":1},{"$f":"N115","v":19},1,2,9]
[92,")","92)","+","×","-",7,null,5,null,6,null,2,{"$f":"I116+M116-1","v":6},{"$f":"N116+I116*K116-M116","v":34},{"$f":"N116","v":6},5,6,2]
[93,")","93)","+","+","×",9,null,7,null,8,null,7,null,{"$f":"G117+I117+K117*M117","v":72},{"$f":"G117","v":9},7,8,7]
[94,")","94)","×","+","×",1,null,1,null,1,null,2,null,{"$f":"G118*I118+K118*M118","v":3},{"$f":"G118","v":1},1,1,2]
[95,")","95)","×","×","÷",7,null,4,null,3,null,4,{"$f":"G119*M119","v":28},{"$f":"N119*I119*K119/M119","v":84},{"$f":"N119","v":28},4,3,4]
[96,")","96)","+","×","+",2,null,5,null,3,null,2,null,{"$f":"G120+I120*K120+M120","v":19},{"$f":"G120","v":2},5,3,2]
[97,")","97)","×","×","×",{"$f":"INT(4*RAND()+1)","v":3},null,{"$f":"INT(5*RAND()+1)","v":3},null,{"$f":"INT(3*RAND()+1)","v":3},null,{"$f":"INT(5*RAND()+1)","v":2},null,{"$f":"G121*I121*K121*M121","v":54},{"$f":"G121","v":3},3,3,2]
[98,")","98)","+","+","+",{"$f":"INT(9*RAND()+1)","v":1},null,{"$f":"INT(9*RAND()+1)","v":4},null,{"$f":"INT(9*RAND()+1)","v":1},null,{"$f":"INT(9*RAND()+1)","v":5},null,{"$f":"G122+I122+K122+M122","v":11},{"$f":"G122","v":1},4,1,5]
[99,")","99)","×","÷","×",{"$f":"INT(9*RAND()+1)","v":2},null,{"$f":"INT(9*RAND()+1)","v":5},null,{"$f":"INT(9*RAND()+1)","v":4},{"$f":"G123*K123","v":8},{"$f":"INT(9*RAND()+1)","v":4},null,{"$f":"L123*I123/K123*M123","v":40},{"$f":"L123","v":8},5,4,4]
[100,")","100)","+","-","×",{"$f":"INT(9*RAND()+1)","v":1},null,{"$f":"INT(9*RAND()+1)","v":7},null,{"$f":"INT(9*RAND()+1)","v":8},null,{"$f":"INT(9*RAND()+1)","v":9},{"$f":"ROUNDUP(K124*M124/I124+1,0)","v":12},{"$f":"N124*I124-K124*M124","v":12},{"$f":"N124","v":12},7,8,9]