{"text_format":"1","workbook":"xlsx","n_sheets":4,"sheets":["Type","Working","WorkSheet","Solutions"],"not_rendered":{"charts":0,"images":5,"macros":1,"external_links":0,"defined_names":0,"comments":0,"pivot_tables":0},"unopened":[],"bounds":{"document_bytes":16777216,"sheet_cells":100000,"rows_first":2000,"rows_last":500,"rows_between":2000,"halvings":0,"cell_chars":16384,"cell_head_chars":4096},"cells_cut":0,"cells_raw":0,"read":"whole","date_system":"1900"}

{"sheet":"Type","index":0,"n_rows":12,"n_cols":8,"rows_kept":12,"cut":false,"hidden":false,"merged":[[0,0,0,8],[10,2,10,6],[11,2,14,7],[1,2,1,6],[2,2,2,7],[4,2,4,4],[4,7,7,8]]}
["FOUR OPERATIONS FOR CARDINAL NUMBERS"]
[null,null,"INSTRUCTIONS"]
[null,"Step 1","Select desired operation with integers"]
[]
[null,null,null,null,null,null,null,"PRESS F9 for NEW WorkSheet"]
[]
[]
[]
[]
[]
[null,"Step 2","Click on Select tab below to choose different WorkSheet."]
[null,"Note","If you click on the WorkSheet tab then hold down shift and click on the Solutions tab, you will be able to print both the WorkSheet and the solutions."]

{"sheet":"Working","index":1,"n_rows":102,"n_cols":8,"rows_kept":102,"cut":false,"hidden":true,"merged":[]}
[{"$f":"INT(900*RAND()+100)","v":197},{"$f":"TEXT(A1,0)","v":"197"},"AI-"]
[null,null,null,null,"2nd",null,"1st","Solution"]
[1,2,{"$f":"INT(10*RAND())","v":2},{"$f":"IF(B3=0,\"+\",IF(B3=1,\"-\",IF(B3=2,CHAR(180),CHAR(184))))","v":"´"},{"$f":"INT(10*RAND()+1)","v":2},{"$f":"IF(B3=0,C3+E3,IF(B3=1,C3+E3,IF(B3=2,C3*E3,C3*E3)))","v":4},{"$f":"IF(B3=0,C3,IF(B3=1,F3,IF(B3=2,C3,F3)))","v":2},{"$f":"IF(B3=0,C3+E3,IF(B3=1,C3,IF(B3=2,C3*E3,C3)))","v":4}]
[2,2,{"$f":"INT(10*RAND())","v":6},{"$f":"IF(B4=0,\"+\",IF(B4=1,\"-\",IF(B4=2,CHAR(180),CHAR(184))))","v":"´"},{"$f":"INT(10*RAND()+1)","v":6},{"$f":"IF(B4=0,C4+E4,IF(B4=1,C4+E4,IF(B4=2,C4*E4,C4*E4)))","v":36},{"$f":"IF(B4=0,C4,IF(B4=1,F4,IF(B4=2,C4,F4)))","v":6},{"$f":"IF(B4=0,C4+E4,IF(B4=1,C4,IF(B4=2,C4*E4,C4)))","v":36}]
[3,2,4,"´",10,40,4,40]
[4,2,9,"´",5,45,9,45]
[5,2,1,"´",9,9,1,9]
[6,2,9,"´",9,81,9,81]
[7,2,8,"´",5,40,8,40]
[8,2,3,"´",7,21,3,21]
[9,2,1,"´",9,9,1,9]
[10,2,9,"´",7,63,9,63]
[11,2,3,"´",5,15,3,15]
[12,2,5,"´",2,10,5,10]
[13,2,4,"´",8,32,4,32]
[14,2,1,"´",2,2,1,2]
[15,2,2,"´",2,4,2,4]
[16,2,9,"´",7,63,9,63]
[17,2,0,"´",8,0,0,0]
[18,2,7,"´",1,7,7,7]
[19,2,9,"´",1,9,9,9]
[20,2,3,"´",5,15,3,15]
[21,2,6,"´",8,48,6,48]
[22,2,3,"´",9,27,3,27]
[23,2,1,"´",3,3,1,3]
[24,2,7,"´",10,70,7,70]
[25,2,6,"´",2,12,6,12]
[26,2,3,"´",6,18,3,18]
[27,2,6,"´",10,60,6,60]
[28,2,6,"´",9,54,6,54]
[29,2,6,"´",6,36,6,36]
[30,2,1,"´",1,1,1,1]
[31,2,2,"´",4,8,2,8]
[32,2,0,"´",7,0,0,0]
[33,2,6,"´",5,30,6,30]
[34,2,0,"´",3,0,0,0]
[35,2,7,"´",3,21,7,21]
[36,2,4,"´",8,32,4,32]
[37,2,3,"´",2,6,3,6]
[38,2,8,"´",6,48,8,48]
[39,2,4,"´",3,12,4,12]
[40,2,5,"´",9,45,5,45]
[41,2,0,"´",7,0,0,0]
[42,2,8,"´",4,32,8,32]
[43,2,5,"´",9,45,5,45]
[44,2,5,"´",8,40,5,40]
[45,2,4,"´",4,16,4,16]
[46,2,5,"´",10,50,5,50]
[47,2,5,"´",6,30,5,30]
[48,2,8,"´",6,48,8,48]
[49,2,8,"´",5,40,8,40]
[50,2,6,"´",1,6,6,6]
[51,2,7,"´",6,42,7,42]
[52,2,4,"´",1,4,4,4]
[53,2,9,"´",9,81,9,81]
[54,2,3,"´",10,30,3,30]
[55,2,5,"´",3,15,5,15]
[56,2,5,"´",1,5,5,5]
[57,2,3,"´",4,12,3,12]
[58,2,1,"´",1,1,1,1]
[59,2,9,"´",1,9,9,9]
[60,2,0,"´",9,0,0,0]
[61,2,0,"´",3,0,0,0]
[62,2,4,"´",4,16,4,16]
[63,2,2,"´",8,16,2,16]
[64,2,2,"´",1,2,2,2]
[65,2,1,"´",6,6,1,6]
[66,2,{"$f":"INT(10*RAND())","v":7},{"$f":"IF(B68=0,\"+\",IF(B68=1,\"-\",IF(B68=2,CHAR(180),CHAR(184))))","v":"´"},{"$f":"INT(10*RAND()+1)","v":8},{"$f":"IF(B68=0,C68+E68,IF(B68=1,C68+E68,IF(B68=2,C68*E68,C68*E68)))","v":56},{"$f":"IF(B68=0,C68,IF(B68=1,F68,IF(B68=2,C68,F68)))","v":7},{"$f":"IF(B68=0,C68+E68,IF(B68=1,C68,IF(B68=2,C68*E68,C68)))","v":56}]
[67,2,8,"´",9,72,8,72]
[68,2,7,"´",9,63,7,63]
[69,2,9,"´",8,72,9,72]
[70,2,4,"´",5,20,4,20]
[71,2,1,"´",3,3,1,3]
[72,2,5,"´",9,45,5,45]
[73,2,5,"´",8,40,5,40]
[74,2,6,"´",3,18,6,18]
[75,2,2,"´",6,12,2,12]
[76,2,1,"´",7,7,1,7]
[77,2,4,"´",10,40,4,40]
[78,2,6,"´",7,42,6,42]
[79,2,5,"´",8,40,5,40]
[80,2,3,"´",1,3,3,3]
[81,2,1,"´",8,8,1,8]
[82,2,1,"´",3,3,1,3]
[83,2,1,"´",1,1,1,1]
[84,2,8,"´",2,16,8,16]
[85,2,9,"´",5,45,9,45]
[86,2,5,"´",5,25,5,25]
[87,2,4,"´",10,40,4,40]
[88,2,7,"´",2,14,7,14]
[89,2,5,"´",10,50,5,50]
[90,2,3,"´",7,21,3,21]
[91,2,9,"´",1,9,9,9]
[92,2,3,"´",8,24,3,24]
[93,2,8,"´",6,48,8,48]
[94,2,7,"´",4,28,7,28]
[95,2,7,"´",3,21,7,21]
[96,2,3,"´",3,9,3,9]
[97,2,5,"´",8,40,5,40]
[98,2,7,"´",2,14,7,14]
[99,2,7,"´",5,35,{"$f":"IF(B101=0,C101,IF(B101=1,C101,IF(B101=2,C101,F101)))","v":7},35]
[100,2,9,"´",4,36,{"$f":"IF(B102=0,C102,IF(B102=1,C102,IF(B102=2,C102,F102)))","v":9},36]

{"sheet":"WorkSheet","index":2,"n_rows":28,"n_cols":20,"rows_kept":28,"cut":false,"hidden":false,"merged":[]}
[null,null,null,null,null,null,null,null,null,"ADDITION OF NUMBERS"]
[null,null,null,null,null,null,null,null,null,null,null,null,null,null,null,{"$f":"CONCATENATE(\"Worksheet \",Working!C1,Working!B1)","v":"Worksheet AI-197"}]
["Evaluate the following;"]
[{"$f":"CONCATENATE(Working!A3,\")\")","v":"1)"},{"$f":"Working!$G3","v":2},{"$f":"Working!$D3","v":"´"},{"$f":"Working!$E3","v":2},"=",{"$f":"CONCATENATE(Working!A28,\")\")","v":"26)"},{"$f":"Working!$G28","v":3},{"$f":"Working!$D28","v":"´"},{"$f":"Working!$E28","v":6},"=",{"$f":"CONCATENATE(Working!A53,\")\")","v":"51)"},{"$f":"Working!$G53","v":7},{"$f":"Working!$D53","v":"´"},{"$f":"Working!$E53","v":6},"=",{"$f":"CONCATENATE(Working!A78,\")\")","v":"76)"},{"$f":"Working!$G78","v":1},{"$f":"Working!$D78","v":"´"},{"$f":"Working!$E78","v":7},"="]
[{"$f":"CONCATENATE(Working!A4,\")\")","v":"2)"},{"$f":"Working!$G4","v":6},{"$f":"Working!$D4","v":"´"},{"$f":"Working!$E4","v":6},"=",{"$f":"CONCATENATE(Working!A29,\")\")","v":"27)"},{"$f":"Working!$G29","v":6},{"$f":"Working!$D29","v":"´"},{"$f":"Working!$E29","v":10},"=",{"$f":"CONCATENATE(Working!A54,\")\")","v":"52)"},{"$f":"Working!$G54","v":4},{"$f":"Working!$D54","v":"´"},{"$f":"Working!$E54","v":1},"=",{"$f":"CONCATENATE(Working!A79,\")\")","v":"77)"},{"$f":"Working!$G79","v":4},{"$f":"Working!$D79","v":"´"},{"$f":"Working!$E79","v":10},"="]
[{"$f":"CONCATENATE(Working!A5,\")\")","v":"3)"},{"$f":"Working!$G5","v":4},{"$f":"Working!$D5","v":"´"},{"$f":"Working!$E5","v":10},"=",{"$f":"CONCATENATE(Working!A30,\")\")","v":"28)"},{"$f":"Working!$G30","v":6},{"$f":"Working!$D30","v":"´"},{"$f":"Working!$E30","v":9},"=",{"$f":"CONCATENATE(Working!A55,\")\")","v":"53)"},{"$f":"Working!$G55","v":9},{"$f":"Working!$D55","v":"´"},{"$f":"Working!$E55","v":9},"=",{"$f":"CONCATENATE(Working!A80,\")\")","v":"78)"},{"$f":"Working!$G80","v":6},{"$f":"Working!$D80","v":"´"},{"$f":"Working!$E80","v":7},"="]
[{"$f":"CONCATENATE(Working!A6,\")\")","v":"4)"},{"$f":"Working!$G6","v":9},{"$f":"Working!$D6","v":"´"},{"$f":"Working!$E6","v":5},"=",{"$f":"CONCATENATE(Working!A31,\")\")","v":"29)"},{"$f":"Working!$G31","v":6},{"$f":"Working!$D31","v":"´"},{"$f":"Working!$E31","v":6},"=",{"$f":"CONCATENATE(Working!A56,\")\")","v":"54)"},{"$f":"Working!$G56","v":3},{"$f":"Working!$D56","v":"´"},{"$f":"Working!$E56","v":10},"=",{"$f":"CONCATENATE(Working!A81,\")\")","v":"79)"},{"$f":"Working!$G81","v":5},{"$f":"Working!$D81","v":"´"},{"$f":"Working!$E81","v":8},"="]
[{"$f":"CONCATENATE(Working!A7,\")\")","v":"5)"},{"$f":"Working!$G7","v":1},{"$f":"Working!$D7","v":"´"},{"$f":"Working!$E7","v":9},"=",{"$f":"CONCATENATE(Working!A32,\")\")","v":"30)"},{"$f":"Working!$G32","v":1},{"$f":"Working!$D32","v":"´"},{"$f":"Working!$E32","v":1},"=",{"$f":"CONCATENATE(Working!A57,\")\")","v":"55)"},{"$f":"Working!$G57","v":5},{"$f":"Working!$D57","v":"´"},{"$f":"Working!$E57","v":3},"=",{"$f":"CONCATENATE(Working!A82,\")\")","v":"80)"},{"$f":"Working!$G82","v":3},{"$f":"Working!$D82","v":"´"},{"$f":"Working!$E82","v":1},"="]
[{"$f":"CONCATENATE(Working!A8,\")\")","v":"6)"},{"$f":"Working!$G8","v":9},{"$f":"Working!$D8","v":"´"},{"$f":"Working!$E8","v":9},"=",{"$f":"CONCATENATE(Working!A33,\")\")","v":"31)"},{"$f":"Working!$G33","v":2},{"$f":"Working!$D33","v":"´"},{"$f":"Working!$E33","v":4},"=",{"$f":"CONCATENATE(Working!A58,\")\")","v":"56)"},{"$f":"Working!$G58","v":5},{"$f":"Working!$D58","v":"´"},{"$f":"Working!$E58","v":1},"=",{"$f":"CONCATENATE(Working!A83,\")\")","v":"81)"},{"$f":"Working!$G83","v":1},{"$f":"Working!$D83","v":"´"},{"$f":"Working!$E83","v":8},"="]
[{"$f":"CONCATENATE(Working!A9,\")\")","v":"7)"},{"$f":"Working!$G9","v":8},{"$f":"Working!$D9","v":"´"},{"$f":"Working!$E9","v":5},"=",{"$f":"CONCATENATE(Working!A34,\")\")","v":"32)"},{"$f":"Working!$G34","v":0},{"$f":"Working!$D34","v":"´"},{"$f":"Working!$E34","v":7},"=",{"$f":"CONCATENATE(Working!A59,\")\")","v":"57)"},{"$f":"Working!$G59","v":3},{"$f":"Working!$D59","v":"´"},{"$f":"Working!$E59","v":4},"=",{"$f":"CONCATENATE(Working!A84,\")\")","v":"82)"},{"$f":"Working!$G84","v":1},{"$f":"Working!$D84","v":"´"},{"$f":"Working!$E84","v":3},"="]
[{"$f":"CONCATENATE(Working!A10,\")\")","v":"8)"},{"$f":"Working!$G10","v":3},{"$f":"Working!$D10","v":"´"},{"$f":"Working!$E10","v":7},"=",{"$f":"CONCATENATE(Working!A35,\")\")","v":"33)"},{"$f":"Working!$G35","v":6},{"$f":"Working!$D35","v":"´"},{"$f":"Working!$E35","v":5},"=",{"$f":"CONCATENATE(Working!A60,\")\")","v":"58)"},{"$f":"Working!$G60","v":1},{"$f":"Working!$D60","v":"´"},{"$f":"Working!$E60","v":1},"=",{"$f":"CONCATENATE(Working!A85,\")\")","v":"83)"},{"$f":"Working!$G85","v":1},{"$f":"Working!$D85","v":"´"},{"$f":"Working!$E85","v":1},"="]
[{"$f":"CONCATENATE(Working!A11,\")\")","v":"9)"},{"$f":"Working!$G11","v":1},{"$f":"Working!$D11","v":"´"},{"$f":"Working!$E11","v":9},"=",{"$f":"CONCATENATE(Working!A36,\")\")","v":"34)"},{"$f":"Working!$G36","v":0},{"$f":"Working!$D36","v":"´"},{"$f":"Working!$E36","v":3},"=",{"$f":"CONCATENATE(Working!A61,\")\")","v":"59)"},{"$f":"Working!$G61","v":9},{"$f":"Working!$D61","v":"´"},{"$f":"Working!$E61","v":1},"=",{"$f":"CONCATENATE(Working!A86,\")\")","v":"84)"},{"$f":"Working!$G86","v":8},{"$f":"Working!$D86","v":"´"},{"$f":"Working!$E86","v":2},"="]
[{"$f":"CONCATENATE(Working!A12,\")\")","v":"10)"},{"$f":"Working!$G12","v":9},{"$f":"Working!$D12","v":"´"},{"$f":"Working!$E12","v":7},"=",{"$f":"CONCATENATE(Working!A37,\")\")","v":"35)"},{"$f":"Working!$G37","v":7},{"$f":"Working!$D37","v":"´"},{"$f":"Working!$E37","v":3},"=",{"$f":"CONCATENATE(Working!A62,\")\")","v":"60)"},{"$f":"Working!$G62","v":0},{"$f":"Working!$D62","v":"´"},{"$f":"Working!$E62","v":9},"=",{"$f":"CONCATENATE(Working!A87,\")\")","v":"85)"},{"$f":"Working!$G87","v":9},{"$f":"Working!$D87","v":"´"},{"$f":"Working!$E87","v":5},"="]
[{"$f":"CONCATENATE(Working!A13,\")\")","v":"11)"},{"$f":"Working!$G13","v":3},{"$f":"Working!$D13","v":"´"},{"$f":"Working!$E13","v":5},"=",{"$f":"CONCATENATE(Working!A38,\")\")","v":"36)"},{"$f":"Working!$G38","v":4},{"$f":"Working!$D38","v":"´"},{"$f":"Working!$E38","v":8},"=",{"$f":"CONCATENATE(Working!A63,\")\")","v":"61)"},{"$f":"Working!$G63","v":0},{"$f":"Working!$D63","v":"´"},{"$f":"Working!$E63","v":3},"=",{"$f":"CONCATENATE(Working!A88,\")\")","v":"86)"},{"$f":"Working!$G88","v":5},{"$f":"Working!$D88","v":"´"},{"$f":"Working!$E88","v":5},"="]
[{"$f":"CONCATENATE(Working!A14,\")\")","v":"12)"},{"$f":"Working!$G14","v":5},{"$f":"Working!$D14","v":"´"},{"$f":"Working!$E14","v":2},"=",{"$f":"CONCATENATE(Working!A39,\")\")","v":"37)"},{"$f":"Working!$G39","v":3},{"$f":"Working!$D39","v":"´"},{"$f":"Working!$E39","v":2},"=",{"$f":"CONCATENATE(Working!A64,\")\")","v":"62)"},{"$f":"Working!$G64","v":4},{"$f":"Working!$D64","v":"´"},{"$f":"Working!$E64","v":4},"=",{"$f":"CONCATENATE(Working!A89,\")\")","v":"87)"},{"$f":"Working!$G89","v":4},{"$f":"Working!$D89","v":"´"},{"$f":"Working!$E89","v":10},"="]
[{"$f":"CONCATENATE(Working!A15,\")\")","v":"13)"},{"$f":"Working!$G15","v":4},{"$f":"Working!$D15","v":"´"},{"$f":"Working!$E15","v":8},"=",{"$f":"CONCATENATE(Working!A40,\")\")","v":"38)"},{"$f":"Working!$G40","v":8},{"$f":"Working!$D40","v":"´"},{"$f":"Working!$E40","v":6},"=",{"$f":"CONCATENATE(Working!A65,\")\")","v":"63)"},{"$f":"Working!$G65","v":2},{"$f":"Working!$D65","v":"´"},{"$f":"Working!$E65","v":8},"=",{"$f":"CONCATENATE(Working!A90,\")\")","v":"88)"},{"$f":"Working!$G90","v":7},{"$f":"Working!$D90","v":"´"},{"$f":"Working!$E90","v":2},"="]
[{"$f":"CONCATENATE(Working!A16,\")\")","v":"14)"},{"$f":"Working!$G16","v":1},{"$f":"Working!$D16","v":"´"},{"$f":"Working!$E16","v":2},"=",{"$f":"CONCATENATE(Working!A41,\")\")","v":"39)"},{"$f":"Working!$G41","v":4},{"$f":"Working!$D41","v":"´"},{"$f":"Working!$E41","v":3},"=",{"$f":"CONCATENATE(Working!A66,\")\")","v":"64)"},{"$f":"Working!$G66","v":2},{"$f":"Working!$D66","v":"´"},{"$f":"Working!$E66","v":1},"=",{"$f":"CONCATENATE(Working!A91,\")\")","v":"89)"},{"$f":"Working!$G91","v":5},{"$f":"Working!$D91","v":"´"},{"$f":"Working!$E91","v":10},"="]
[{"$f":"CONCATENATE(Working!A17,\")\")","v":"15)"},{"$f":"Working!$G17","v":2},{"$f":"Working!$D17","v":"´"},{"$f":"Working!$E17","v":2},"=",{"$f":"CONCATENATE(Working!A42,\")\")","v":"40)"},{"$f":"Working!$G42","v":5},{"$f":"Working!$D42","v":"´"},{"$f":"Working!$E42","v":9},"=",{"$f":"CONCATENATE(Working!A67,\")\")","v":"65)"},{"$f":"Working!$G67","v":1},{"$f":"Working!$D67","v":"´"},{"$f":"Working!$E67","v":6},"=",{"$f":"CONCATENATE(Working!A92,\")\")","v":"90)"},{"$f":"Working!$G92","v":3},{"$f":"Working!$D92","v":"´"},{"$f":"Working!$E92","v":7},"="]
[{"$f":"CONCATENATE(Working!A18,\")\")","v":"16)"},{"$f":"Working!$G18","v":9},{"$f":"Working!$D18","v":"´"},{"$f":"Working!$E18","v":7},"=",{"$f":"CONCATENATE(Working!A43,\")\")","v":"41)"},{"$f":"Working!$G43","v":0},{"$f":"Working!$D43","v":"´"},{"$f":"Working!$E43","v":7},"=",{"$f":"CONCATENATE(Working!A68,\")\")","v":"66)"},{"$f":"Working!$G68","v":7},{"$f":"Working!$D68","v":"´"},{"$f":"Working!$E68","v":8},"=",{"$f":"CONCATENATE(Working!A93,\")\")","v":"91)"},{"$f":"Working!$G93","v":9},{"$f":"Working!$D93","v":"´"},{"$f":"Working!$E93","v":1},"="]
[{"$f":"CONCATENATE(Working!A19,\")\")","v":"17)"},{"$f":"Working!$G19","v":0},{"$f":"Working!$D19","v":"´"},{"$f":"Working!$E19","v":8},"=",{"$f":"CONCATENATE(Working!A44,\")\")","v":"42)"},{"$f":"Working!$G44","v":8},{"$f":"Working!$D44","v":"´"},{"$f":"Working!$E44","v":4},"=",{"$f":"CONCATENATE(Working!A69,\")\")","v":"67)"},{"$f":"Working!$G69","v":8},{"$f":"Working!$D69","v":"´"},{"$f":"Working!$E69","v":9},"=",{"$f":"CONCATENATE(Working!A94,\")\")","v":"92)"},{"$f":"Working!$G94","v":3},{"$f":"Working!$D94","v":"´"},{"$f":"Working!$E94","v":8},"="]
[{"$f":"CONCATENATE(Working!A20,\")\")","v":"18)"},{"$f":"Working!$G20","v":7},{"$f":"Working!$D20","v":"´"},{"$f":"Working!$E20","v":1},"=",{"$f":"CONCATENATE(Working!A45,\")\")","v":"43)"},{"$f":"Working!$G45","v":5},{"$f":"Working!$D45","v":"´"},{"$f":"Working!$E45","v":9},"=",{"$f":"CONCATENATE(Working!A70,\")\")","v":"68)"},{"$f":"Working!$G70","v":7},{"$f":"Working!$D70","v":"´"},{"$f":"Working!$E70","v":9},"=",{"$f":"CONCATENATE(Working!A95,\")\")","v":"93)"},{"$f":"Working!$G95","v":8},{"$f":"Working!$D95","v":"´"},{"$f":"Working!$E95","v":6},"="]
[{"$f":"CONCATENATE(Working!A21,\")\")","v":"19)"},{"$f":"Working!$G21","v":9},{"$f":"Working!$D21","v":"´"},{"$f":"Working!$E21","v":1},"=",{"$f":"CONCATENATE(Working!A46,\")\")","v":"44)"},{"$f":"Working!$G46","v":5},{"$f":"Working!$D46","v":"´"},{"$f":"Working!$E46","v":8},"=",{"$f":"CONCATENATE(Working!A71,\")\")","v":"69)"},{"$f":"Working!$G71","v":9},{"$f":"Working!$D71","v":"´"},{"$f":"Working!$E71","v":8},"=",{"$f":"CONCATENATE(Working!A96,\")\")","v":"94)"},{"$f":"Working!$G96","v":7},{"$f":"Working!$D96","v":"´"},{"$f":"Working!$E96","v":4},"="]
[{"$f":"CONCATENATE(Working!A22,\")\")","v":"20)"},{"$f":"Working!$G22","v":3},{"$f":"Working!$D22","v":"´"},{"$f":"Working!$E22","v":5},"=",{"$f":"CONCATENATE(Working!A47,\")\")","v":"45)"},{"$f":"Working!$G47","v":4},{"$f":"Working!$D47","v":"´"},{"$f":"Working!$E47","v":4},"=",{"$f":"CONCATENATE(Working!A72,\")\")","v":"70)"},{"$f":"Working!$G72","v":4},{"$f":"Working!$D72","v":"´"},{"$f":"Working!$E72","v":5},"=",{"$f":"CONCATENATE(Working!A97,\")\")","v":"95)"},{"$f":"Working!$G97","v":7},{"$f":"Working!$D97","v":"´"},{"$f":"Working!$E97","v":3},"="]
[{"$f":"CONCATENATE(Working!A23,\")\")","v":"21)"},{"$f":"Working!$G23","v":6},{"$f":"Working!$D23","v":"´"},{"$f":"Working!$E23","v":8},"=",{"$f":"CONCATENATE(Working!A48,\")\")","v":"46)"},{"$f":"Working!$G48","v":5},{"$f":"Working!$D48","v":"´"},{"$f":"Working!$E48","v":10},"=",{"$f":"CONCATENATE(Working!A73,\")\")","v":"71)"},{"$f":"Working!$G73","v":1},{"$f":"Working!$D73","v":"´"},{"$f":"Working!$E73","v":3},"=",{"$f":"CONCATENATE(Working!A98,\")\")","v":"96)"},{"$f":"Working!$G98","v":3},{"$f":"Working!$D98","v":"´"},{"$f":"Working!$E98","v":3},"="]
[{"$f":"CONCATENATE(Working!A24,\")\")","v":"22)"},{"$f":"Working!$G24","v":3},{"$f":"Working!$D24","v":"´"},{"$f":"Working!$E24","v":9},"=",{"$f":"CONCATENATE(Working!A49,\")\")","v":"47)"},{"$f":"Working!$G49","v":5},{"$f":"Working!$D49","v":"´"},{"$f":"Working!$E49","v":6},"=",{"$f":"CONCATENATE(Working!A74,\")\")","v":"72)"},{"$f":"Working!$G74","v":5},{"$f":"Working!$D74","v":"´"},{"$f":"Working!$E74","v":9},"=",{"$f":"CONCATENATE(Working!A99,\")\")","v":"97)"},{"$f":"Working!$G99","v":5},{"$f":"Working!$D99","v":"´"},{"$f":"Working!$E99","v":8},"="]
[{"$f":"CONCATENATE(Working!A25,\")\")","v":"23)"},{"$f":"Working!$G25","v":1},{"$f":"Working!$D25","v":"´"},{"$f":"Working!$E25","v":3},"=",{"$f":"CONCATENATE(Working!A50,\")\")","v":"48)"},{"$f":"Working!$G50","v":8},{"$f":"Working!$D50","v":"´"},{"$f":"Working!$E50","v":6},"=",{"$f":"CONCATENATE(Working!A75,\")\")","v":"73)"},{"$f":"Working!$G75","v":5},{"$f":"Working!$D75","v":"´"},{"$f":"Working!$E75","v":8},"=",{"$f":"CONCATENATE(Working!A100,\")\")","v":"98)"},{"$f":"Working!$G100","v":7},{"$f":"Working!$D100","v":"´"},{"$f":"Working!$E100","v":2},"="]
[{"$f":"CONCATENATE(Working!A26,\")\")","v":"24)"},{"$f":"Working!$G26","v":7},{"$f":"Working!$D26","v":"´"},{"$f":"Working!$E26","v":10},"=",{"$f":"CONCATENATE(Working!A51,\")\")","v":"49)"},{"$f":"Working!$G51","v":8},{"$f":"Working!$D51","v":"´"},{"$f":"Working!$E51","v":5},"=",{"$f":"CONCATENATE(Working!A76,\")\")","v":"74)"},{"$f":"Working!$G76","v":6},{"$f":"Working!$D76","v":"´"},{"$f":"Working!$E76","v":3},"=",{"$f":"CONCATENATE(Working!A101,\")\")","v":"99)"},{"$f":"Working!$G101","v":7},{"$f":"Working!$D101","v":"´"},{"$f":"Working!$E101","v":5},"="]
[{"$f":"CONCATENATE(Working!A27,\")\")","v":"25)"},{"$f":"Working!$G27","v":6},{"$f":"Working!$D27","v":"´"},{"$f":"Working!$E27","v":2},"=",{"$f":"CONCATENATE(Working!A52,\")\")","v":"50)"},{"$f":"Working!$G52","v":6},{"$f":"Working!$D52","v":"´"},{"$f":"Working!$E52","v":1},"=",{"$f":"CONCATENATE(Working!A77,\")\")","v":"75)"},{"$f":"Working!$G77","v":2},{"$f":"Working!$D77","v":"´"},{"$f":"Working!$E77","v":6},"=",{"$f":"CONCATENATE(Working!A102,\")\")","v":"100)"},{"$f":"Working!$G102","v":9},{"$f":"Working!$D102","v":"´"},{"$f":"Working!$E102","v":4},"="]

{"sheet":"Solutions","index":3,"n_rows":28,"n_cols":20,"rows_kept":28,"cut":false,"hidden":false,"merged":[]}
[null,null,null,null,null,null,null,null,null,"ADDITION OF NUMBERS"]
[null,null,null,null,null,null,null,null,null,"SOLUTIONS",null,null,null,null,null,{"$f":"CONCATENATE(\"Worksheet \",Working!C1,Working!B1)","v":"Worksheet AI-197"}]
[]
[{"$f":"CONCATENATE(Working!A3,\")\")","v":"1)"},{"$f":"Working!$G3","v":2},{"$f":"Working!$D3","v":"´"},{"$f":"Working!$E3","v":2},{"$f":"CONCATENATE(\"= \",Working!$H3)","v":"= 4"},{"$f":"CONCATENATE(Working!A28,\")\")","v":"26)"},{"$f":"Working!$G28","v":3},{"$f":"Working!$D28","v":"´"},{"$f":"Working!$E28","v":6},{"$f":"CONCATENATE(\"= \",Working!$H28)","v":"= 18"},{"$f":"CONCATENATE(Working!A53,\")\")","v":"51)"},{"$f":"Working!$G53","v":7},{"$f":"Working!$D53","v":"´"},{"$f":"Working!$E53","v":6},{"$f":"CONCATENATE(\"= \",Working!$H53)","v":"= 42"},{"$f":"CONCATENATE(Working!A78,\")\")","v":"76)"},{"$f":"Working!$G78","v":1},{"$f":"Working!$D78","v":"´"},{"$f":"Working!$E78","v":7},{"$f":"CONCATENATE(\"= \",Working!$H78)","v":"= 7"}]
[{"$f":"CONCATENATE(Working!A4,\")\")","v":"2)"},{"$f":"Working!$G4","v":6},{"$f":"Working!$D4","v":"´"},{"$f":"Working!$E4","v":6},{"$f":"CONCATENATE(\"= \",Working!$H4)","v":"= 36"},{"$f":"CONCATENATE(Working!A29,\")\")","v":"27)"},{"$f":"Working!$G29","v":6},{"$f":"Working!$D29","v":"´"},{"$f":"Working!$E29","v":10},{"$f":"CONCATENATE(\"= \",Working!$H29)","v":"= 60"},{"$f":"CONCATENATE(Working!A54,\")\")","v":"52)"},{"$f":"Working!$G54","v":4},{"$f":"Working!$D54","v":"´"},{"$f":"Working!$E54","v":1},{"$f":"CONCATENATE(\"= \",Working!$H54)","v":"= 4"},{"$f":"CONCATENATE(Working!A79,\")\")","v":"77)"},{"$f":"Working!$G79","v":4},{"$f":"Working!$D79","v":"´"},{"$f":"Working!$E79","v":10},{"$f":"CONCATENATE(\"= \",Working!$H79)","v":"= 40"}]
[{"$f":"CONCATENATE(Working!A5,\")\")","v":"3)"},{"$f":"Working!$G5","v":4},{"$f":"Working!$D5","v":"´"},{"$f":"Working!$E5","v":10},{"$f":"CONCATENATE(\"= \",Working!$H5)","v":"= 40"},{"$f":"CONCATENATE(Working!A30,\")\")","v":"28)"},{"$f":"Working!$G30","v":6},{"$f":"Working!$D30","v":"´"},{"$f":"Working!$E30","v":9},{"$f":"CONCATENATE(\"= \",Working!$H30)","v":"= 54"},{"$f":"CONCATENATE(Working!A55,\")\")","v":"53)"},{"$f":"Working!$G55","v":9},{"$f":"Working!$D55","v":"´"},{"$f":"Working!$E55","v":9},{"$f":"CONCATENATE(\"= \",Working!$H55)","v":"= 81"},{"$f":"CONCATENATE(Working!A80,\")\")","v":"78)"},{"$f":"Working!$G80","v":6},{"$f":"Working!$D80","v":"´"},{"$f":"Working!$E80","v":7},{"$f":"CONCATENATE(\"= \",Working!$H80)","v":"= 42"}]
[{"$f":"CONCATENATE(Working!A6,\")\")","v":"4)"},{"$f":"Working!$G6","v":9},{"$f":"Working!$D6","v":"´"},{"$f":"Working!$E6","v":5},{"$f":"CONCATENATE(\"= \",Working!$H6)","v":"= 45"},{"$f":"CONCATENATE(Working!A31,\")\")","v":"29)"},{"$f":"Working!$G31","v":6},{"$f":"Working!$D31","v":"´"},{"$f":"Working!$E31","v":6},{"$f":"CONCATENATE(\"= \",Working!$H31)","v":"= 36"},{"$f":"CONCATENATE(Working!A56,\")\")","v":"54)"},{"$f":"Working!$G56","v":3},{"$f":"Working!$D56","v":"´"},{"$f":"Working!$E56","v":10},{"$f":"CONCATENATE(\"= \",Working!$H56)","v":"= 30"},{"$f":"CONCATENATE(Working!A81,\")\")","v":"79)"},{"$f":"Working!$G81","v":5},{"$f":"Working!$D81","v":"´"},{"$f":"Working!$E81","v":8},{"$f":"CONCATENATE(\"= \",Working!$H81)","v":"= 40"}]
[{"$f":"CONCATENATE(Working!A7,\")\")","v":"5)"},{"$f":"Working!$G7","v":1},{"$f":"Working!$D7","v":"´"},{"$f":"Working!$E7","v":9},{"$f":"CONCATENATE(\"= \",Working!$H7)","v":"= 9"},{"$f":"CONCATENATE(Working!A32,\")\")","v":"30)"},{"$f":"Working!$G32","v":1},{"$f":"Working!$D32","v":"´"},{"$f":"Working!$E32","v":1},{"$f":"CONCATENATE(\"= \",Working!$H32)","v":"= 1"},{"$f":"CONCATENATE(Working!A57,\")\")","v":"55)"},{"$f":"Working!$G57","v":5},{"$f":"Working!$D57","v":"´"},{"$f":"Working!$E57","v":3},{"$f":"CONCATENATE(\"= \",Working!$H57)","v":"= 15"},{"$f":"CONCATENATE(Working!A82,\")\")","v":"80)"},{"$f":"Working!$G82","v":3},{"$f":"Working!$D82","v":"´"},{"$f":"Working!$E82","v":1},{"$f":"CONCATENATE(\"= \",Working!$H82)","v":"= 3"}]
[{"$f":"CONCATENATE(Working!A8,\")\")","v":"6)"},{"$f":"Working!$G8","v":9},{"$f":"Working!$D8","v":"´"},{"$f":"Working!$E8","v":9},{"$f":"CONCATENATE(\"= \",Working!$H8)","v":"= 81"},{"$f":"CONCATENATE(Working!A33,\")\")","v":"31)"},{"$f":"Working!$G33","v":2},{"$f":"Working!$D33","v":"´"},{"$f":"Working!$E33","v":4},{"$f":"CONCATENATE(\"= \",Working!$H33)","v":"= 8"},{"$f":"CONCATENATE(Working!A58,\")\")","v":"56)"},{"$f":"Working!$G58","v":5},{"$f":"Working!$D58","v":"´"},{"$f":"Working!$E58","v":1},{"$f":"CONCATENATE(\"= \",Working!$H58)","v":"= 5"},{"$f":"CONCATENATE(Working!A83,\")\")","v":"81)"},{"$f":"Working!$G83","v":1},{"$f":"Working!$D83","v":"´"},{"$f":"Working!$E83","v":8},{"$f":"CONCATENATE(\"= \",Working!$H83)","v":"= 8"}]
[{"$f":"CONCATENATE(Working!A9,\")\")","v":"7)"},{"$f":"Working!$G9","v":8},{"$f":"Working!$D9","v":"´"},{"$f":"Working!$E9","v":5},{"$f":"CONCATENATE(\"= \",Working!$H9)","v":"= 40"},{"$f":"CONCATENATE(Working!A34,\")\")","v":"32)"},{"$f":"Working!$G34","v":0},{"$f":"Working!$D34","v":"´"},{"$f":"Working!$E34","v":7},{"$f":"CONCATENATE(\"= \",Working!$H34)","v":"= 0"},{"$f":"CONCATENATE(Working!A59,\")\")","v":"57)"},{"$f":"Working!$G59","v":3},{"$f":"Working!$D59","v":"´"},{"$f":"Working!$E59","v":4},{"$f":"CONCATENATE(\"= \",Working!$H59)","v":"= 12"},{"$f":"CONCATENATE(Working!A84,\")\")","v":"82)"},{"$f":"Working!$G84","v":1},{"$f":"Working!$D84","v":"´"},{"$f":"Working!$E84","v":3},{"$f":"CONCATENATE(\"= \",Working!$H84)","v":"= 3"}]
[{"$f":"CONCATENATE(Working!A10,\")\")","v":"8)"},{"$f":"Working!$G10","v":3},{"$f":"Working!$D10","v":"´"},{"$f":"Working!$E10","v":7},{"$f":"CONCATENATE(\"= \",Working!$H10)","v":"= 21"},{"$f":"CONCATENATE(Working!A35,\")\")","v":"33)"},{"$f":"Working!$G35","v":6},{"$f":"Working!$D35","v":"´"},{"$f":"Working!$E35","v":5},{"$f":"CONCATENATE(\"= \",Working!$H35)","v":"= 30"},{"$f":"CONCATENATE(Working!A60,\")\")","v":"58)"},{"$f":"Working!$G60","v":1},{"$f":"Working!$D60","v":"´"},{"$f":"Working!$E60","v":1},{"$f":"CONCATENATE(\"= \",Working!$H60)","v":"= 1"},{"$f":"CONCATENATE(Working!A85,\")\")","v":"83)"},{"$f":"Working!$G85","v":1},{"$f":"Working!$D85","v":"´"},{"$f":"Working!$E85","v":1},{"$f":"CONCATENATE(\"= \",Working!$H85)","v":"= 1"}]
[{"$f":"CONCATENATE(Working!A11,\")\")","v":"9)"},{"$f":"Working!$G11","v":1},{"$f":"Working!$D11","v":"´"},{"$f":"Working!$E11","v":9},{"$f":"CONCATENATE(\"= \",Working!$H11)","v":"= 9"},{"$f":"CONCATENATE(Working!A36,\")\")","v":"34)"},{"$f":"Working!$G36","v":0},{"$f":"Working!$D36","v":"´"},{"$f":"Working!$E36","v":3},{"$f":"CONCATENATE(\"= \",Working!$H36)","v":"= 0"},{"$f":"CONCATENATE(Working!A61,\")\")","v":"59)"},{"$f":"Working!$G61","v":9},{"$f":"Working!$D61","v":"´"},{"$f":"Working!$E61","v":1},{"$f":"CONCATENATE(\"= \",Working!$H61)","v":"= 9"},{"$f":"CONCATENATE(Working!A86,\")\")","v":"84)"},{"$f":"Working!$G86","v":8},{"$f":"Working!$D86","v":"´"},{"$f":"Working!$E86","v":2},{"$f":"CONCATENATE(\"= \",Working!$H86)","v":"= 16"}]
[{"$f":"CONCATENATE(Working!A12,\")\")","v":"10)"},{"$f":"Working!$G12","v":9},{"$f":"Working!$D12","v":"´"},{"$f":"Working!$E12","v":7},{"$f":"CONCATENATE(\"= \",Working!$H12)","v":"= 63"},{"$f":"CONCATENATE(Working!A37,\")\")","v":"35)"},{"$f":"Working!$G37","v":7},{"$f":"Working!$D37","v":"´"},{"$f":"Working!$E37","v":3},{"$f":"CONCATENATE(\"= \",Working!$H37)","v":"= 21"},{"$f":"CONCATENATE(Working!A62,\")\")","v":"60)"},{"$f":"Working!$G62","v":0},{"$f":"Working!$D62","v":"´"},{"$f":"Working!$E62","v":9},{"$f":"CONCATENATE(\"= \",Working!$H62)","v":"= 0"},{"$f":"CONCATENATE(Working!A87,\")\")","v":"85)"},{"$f":"Working!$G87","v":9},{"$f":"Working!$D87","v":"´"},{"$f":"Working!$E87","v":5},{"$f":"CONCATENATE(\"= \",Working!$H87)","v":"= 45"}]
[{"$f":"CONCATENATE(Working!A13,\")\")","v":"11)"},{"$f":"Working!$G13","v":3},{"$f":"Working!$D13","v":"´"},{"$f":"Working!$E13","v":5},{"$f":"CONCATENATE(\"= \",Working!$H13)","v":"= 15"},{"$f":"CONCATENATE(Working!A38,\")\")","v":"36)"},{"$f":"Working!$G38","v":4},{"$f":"Working!$D38","v":"´"},{"$f":"Working!$E38","v":8},{"$f":"CONCATENATE(\"= \",Working!$H38)","v":"= 32"},{"$f":"CONCATENATE(Working!A63,\")\")","v":"61)"},{"$f":"Working!$G63","v":0},{"$f":"Working!$D63","v":"´"},{"$f":"Working!$E63","v":3},{"$f":"CONCATENATE(\"= \",Working!$H63)","v":"= 0"},{"$f":"CONCATENATE(Working!A88,\")\")","v":"86)"},{"$f":"Working!$G88","v":5},{"$f":"Working!$D88","v":"´"},{"$f":"Working!$E88","v":5},{"$f":"CONCATENATE(\"= \",Working!$H88)","v":"= 25"}]
[{"$f":"CONCATENATE(Working!A14,\")\")","v":"12)"},{"$f":"Working!$G14","v":5},{"$f":"Working!$D14","v":"´"},{"$f":"Working!$E14","v":2},{"$f":"CONCATENATE(\"= \",Working!$H14)","v":"= 10"},{"$f":"CONCATENATE(Working!A39,\")\")","v":"37)"},{"$f":"Working!$G39","v":3},{"$f":"Working!$D39","v":"´"},{"$f":"Working!$E39","v":2},{"$f":"CONCATENATE(\"= \",Working!$H39)","v":"= 6"},{"$f":"CONCATENATE(Working!A64,\")\")","v":"62)"},{"$f":"Working!$G64","v":4},{"$f":"Working!$D64","v":"´"},{"$f":"Working!$E64","v":4},{"$f":"CONCATENATE(\"= \",Working!$H64)","v":"= 16"},{"$f":"CONCATENATE(Working!A89,\")\")","v":"87)"},{"$f":"Working!$G89","v":4},{"$f":"Working!$D89","v":"´"},{"$f":"Working!$E89","v":10},{"$f":"CONCATENATE(\"= \",Working!$H89)","v":"= 40"}]
[{"$f":"CONCATENATE(Working!A15,\")\")","v":"13)"},{"$f":"Working!$G15","v":4},{"$f":"Working!$D15","v":"´"},{"$f":"Working!$E15","v":8},{"$f":"CONCATENATE(\"= \",Working!$H15)","v":"= 32"},{"$f":"CONCATENATE(Working!A40,\")\")","v":"38)"},{"$f":"Working!$G40","v":8},{"$f":"Working!$D40","v":"´"},{"$f":"Working!$E40","v":6},{"$f":"CONCATENATE(\"= \",Working!$H40)","v":"= 48"},{"$f":"CONCATENATE(Working!A65,\")\")","v":"63)"},{"$f":"Working!$G65","v":2},{"$f":"Working!$D65","v":"´"},{"$f":"Working!$E65","v":8},{"$f":"CONCATENATE(\"= \",Working!$H65)","v":"= 16"},{"$f":"CONCATENATE(Working!A90,\")\")","v":"88)"},{"$f":"Working!$G90","v":7},{"$f":"Working!$D90","v":"´"},{"$f":"Working!$E90","v":2},{"$f":"CONCATENATE(\"= \",Working!$H90)","v":"= 14"}]
[{"$f":"CONCATENATE(Working!A16,\")\")","v":"14)"},{"$f":"Working!$G16","v":1},{"$f":"Working!$D16","v":"´"},{"$f":"Working!$E16","v":2},{"$f":"CONCATENATE(\"= \",Working!$H16)","v":"= 2"},{"$f":"CONCATENATE(Working!A41,\")\")","v":"39)"},{"$f":"Working!$G41","v":4},{"$f":"Working!$D41","v":"´"},{"$f":"Working!$E41","v":3},{"$f":"CONCATENATE(\"= \",Working!$H41)","v":"= 12"},{"$f":"CONCATENATE(Working!A66,\")\")","v":"64)"},{"$f":"Working!$G66","v":2},{"$f":"Working!$D66","v":"´"},{"$f":"Working!$E66","v":1},{"$f":"CONCATENATE(\"= \",Working!$H66)","v":"= 2"},{"$f":"CONCATENATE(Working!A91,\")\")","v":"89)"},{"$f":"Working!$G91","v":5},{"$f":"Working!$D91","v":"´"},{"$f":"Working!$E91","v":10},{"$f":"CONCATENATE(\"= \",Working!$H91)","v":"= 50"}]
[{"$f":"CONCATENATE(Working!A17,\")\")","v":"15)"},{"$f":"Working!$G17","v":2},{"$f":"Working!$D17","v":"´"},{"$f":"Working!$E17","v":2},{"$f":"CONCATENATE(\"= \",Working!$H17)","v":"= 4"},{"$f":"CONCATENATE(Working!A42,\")\")","v":"40)"},{"$f":"Working!$G42","v":5},{"$f":"Working!$D42","v":"´"},{"$f":"Working!$E42","v":9},{"$f":"CONCATENATE(\"= \",Working!$H42)","v":"= 45"},{"$f":"CONCATENATE(Working!A67,\")\")","v":"65)"},{"$f":"Working!$G67","v":1},{"$f":"Working!$D67","v":"´"},{"$f":"Working!$E67","v":6},{"$f":"CONCATENATE(\"= \",Working!$H67)","v":"= 6"},{"$f":"CONCATENATE(Working!A92,\")\")","v":"90)"},{"$f":"Working!$G92","v":3},{"$f":"Working!$D92","v":"´"},{"$f":"Working!$E92","v":7},{"$f":"CONCATENATE(\"= \",Working!$H92)","v":"= 21"}]
[{"$f":"CONCATENATE(Working!A18,\")\")","v":"16)"},{"$f":"Working!$G18","v":9},{"$f":"Working!$D18","v":"´"},{"$f":"Working!$E18","v":7},{"$f":"CONCATENATE(\"= \",Working!$H18)","v":"= 63"},{"$f":"CONCATENATE(Working!A43,\")\")","v":"41)"},{"$f":"Working!$G43","v":0},{"$f":"Working!$D43","v":"´"},{"$f":"Working!$E43","v":7},{"$f":"CONCATENATE(\"= \",Working!$H43)","v":"= 0"},{"$f":"CONCATENATE(Working!A68,\")\")","v":"66)"},{"$f":"Working!$G68","v":7},{"$f":"Working!$D68","v":"´"},{"$f":"Working!$E68","v":8},{"$f":"CONCATENATE(\"= \",Working!$H68)","v":"= 56"},{"$f":"CONCATENATE(Working!A93,\")\")","v":"91)"},{"$f":"Working!$G93","v":9},{"$f":"Working!$D93","v":"´"},{"$f":"Working!$E93","v":1},{"$f":"CONCATENATE(\"= \",Working!$H93)","v":"= 9"}]
[{"$f":"CONCATENATE(Working!A19,\")\")","v":"17)"},{"$f":"Working!$G19","v":0},{"$f":"Working!$D19","v":"´"},{"$f":"Working!$E19","v":8},{"$f":"CONCATENATE(\"= \",Working!$H19)","v":"= 0"},{"$f":"CONCATENATE(Working!A44,\")\")","v":"42)"},{"$f":"Working!$G44","v":8},{"$f":"Working!$D44","v":"´"},{"$f":"Working!$E44","v":4},{"$f":"CONCATENATE(\"= \",Working!$H44)","v":"= 32"},{"$f":"CONCATENATE(Working!A69,\")\")","v":"67)"},{"$f":"Working!$G69","v":8},{"$f":"Working!$D69","v":"´"},{"$f":"Working!$E69","v":9},{"$f":"CONCATENATE(\"= \",Working!$H69)","v":"= 72"},{"$f":"CONCATENATE(Working!A94,\")\")","v":"92)"},{"$f":"Working!$G94","v":3},{"$f":"Working!$D94","v":"´"},{"$f":"Working!$E94","v":8},{"$f":"CONCATENATE(\"= \",Working!$H94)","v":"= 24"}]
[{"$f":"CONCATENATE(Working!A20,\")\")","v":"18)"},{"$f":"Working!$G20","v":7},{"$f":"Working!$D20","v":"´"},{"$f":"Working!$E20","v":1},{"$f":"CONCATENATE(\"= \",Working!$H20)","v":"= 7"},{"$f":"CONCATENATE(Working!A45,\")\")","v":"43)"},{"$f":"Working!$G45","v":5},{"$f":"Working!$D45","v":"´"},{"$f":"Working!$E45","v":9},{"$f":"CONCATENATE(\"= \",Working!$H45)","v":"= 45"},{"$f":"CONCATENATE(Working!A70,\")\")","v":"68)"},{"$f":"Working!$G70","v":7},{"$f":"Working!$D70","v":"´"},{"$f":"Working!$E70","v":9},{"$f":"CONCATENATE(\"= \",Working!$H70)","v":"= 63"},{"$f":"CONCATENATE(Working!A95,\")\")","v":"93)"},{"$f":"Working!$G95","v":8},{"$f":"Working!$D95","v":"´"},{"$f":"Working!$E95","v":6},{"$f":"CONCATENATE(\"= \",Working!$H95)","v":"= 48"}]
[{"$f":"CONCATENATE(Working!A21,\")\")","v":"19)"},{"$f":"Working!$G21","v":9},{"$f":"Working!$D21","v":"´"},{"$f":"Working!$E21","v":1},{"$f":"CONCATENATE(\"= \",Working!$H21)","v":"= 9"},{"$f":"CONCATENATE(Working!A46,\")\")","v":"44)"},{"$f":"Working!$G46","v":5},{"$f":"Working!$D46","v":"´"},{"$f":"Working!$E46","v":8},{"$f":"CONCATENATE(\"= \",Working!$H46)","v":"= 40"},{"$f":"CONCATENATE(Working!A71,\")\")","v":"69)"},{"$f":"Working!$G71","v":9},{"$f":"Working!$D71","v":"´"},{"$f":"Working!$E71","v":8},{"$f":"CONCATENATE(\"= \",Working!$H71)","v":"= 72"},{"$f":"CONCATENATE(Working!A96,\")\")","v":"94)"},{"$f":"Working!$G96","v":7},{"$f":"Working!$D96","v":"´"},{"$f":"Working!$E96","v":4},{"$f":"CONCATENATE(\"= \",Working!$H96)","v":"= 28"}]
[{"$f":"CONCATENATE(Working!A22,\")\")","v":"20)"},{"$f":"Working!$G22","v":3},{"$f":"Working!$D22","v":"´"},{"$f":"Working!$E22","v":5},{"$f":"CONCATENATE(\"= \",Working!$H22)","v":"= 15"},{"$f":"CONCATENATE(Working!A47,\")\")","v":"45)"},{"$f":"Working!$G47","v":4},{"$f":"Working!$D47","v":"´"},{"$f":"Working!$E47","v":4},{"$f":"CONCATENATE(\"= \",Working!$H47)","v":"= 16"},{"$f":"CONCATENATE(Working!A72,\")\")","v":"70)"},{"$f":"Working!$G72","v":4},{"$f":"Working!$D72","v":"´"},{"$f":"Working!$E72","v":5},{"$f":"CONCATENATE(\"= \",Working!$H72)","v":"= 20"},{"$f":"CONCATENATE(Working!A97,\")\")","v":"95)"},{"$f":"Working!$G97","v":7},{"$f":"Working!$D97","v":"´"},{"$f":"Working!$E97","v":3},{"$f":"CONCATENATE(\"= \",Working!$H97)","v":"= 21"}]
[{"$f":"CONCATENATE(Working!A23,\")\")","v":"21)"},{"$f":"Working!$G23","v":6},{"$f":"Working!$D23","v":"´"},{"$f":"Working!$E23","v":8},{"$f":"CONCATENATE(\"= \",Working!$H23)","v":"= 48"},{"$f":"CONCATENATE(Working!A48,\")\")","v":"46)"},{"$f":"Working!$G48","v":5},{"$f":"Working!$D48","v":"´"},{"$f":"Working!$E48","v":10},{"$f":"CONCATENATE(\"= \",Working!$H48)","v":"= 50"},{"$f":"CONCATENATE(Working!A73,\")\")","v":"71)"},{"$f":"Working!$G73","v":1},{"$f":"Working!$D73","v":"´"},{"$f":"Working!$E73","v":3},{"$f":"CONCATENATE(\"= \",Working!$H73)","v":"= 3"},{"$f":"CONCATENATE(Working!A98,\")\")","v":"96)"},{"$f":"Working!$G98","v":3},{"$f":"Working!$D98","v":"´"},{"$f":"Working!$E98","v":3},{"$f":"CONCATENATE(\"= \",Working!$H98)","v":"= 9"}]
[{"$f":"CONCATENATE(Working!A24,\")\")","v":"22)"},{"$f":"Working!$G24","v":3},{"$f":"Working!$D24","v":"´"},{"$f":"Working!$E24","v":9},{"$f":"CONCATENATE(\"= \",Working!$H24)","v":"= 27"},{"$f":"CONCATENATE(Working!A49,\")\")","v":"47)"},{"$f":"Working!$G49","v":5},{"$f":"Working!$D49","v":"´"},{"$f":"Working!$E49","v":6},{"$f":"CONCATENATE(\"= \",Working!$H49)","v":"= 30"},{"$f":"CONCATENATE(Working!A74,\")\")","v":"72)"},{"$f":"Working!$G74","v":5},{"$f":"Working!$D74","v":"´"},{"$f":"Working!$E74","v":9},{"$f":"CONCATENATE(\"= \",Working!$H74)","v":"= 45"},{"$f":"CONCATENATE(Working!A99,\")\")","v":"97)"},{"$f":"Working!$G99","v":5},{"$f":"Working!$D99","v":"´"},{"$f":"Working!$E99","v":8},{"$f":"CONCATENATE(\"= \",Working!$H99)","v":"= 40"}]
[{"$f":"CONCATENATE(Working!A25,\")\")","v":"23)"},{"$f":"Working!$G25","v":1},{"$f":"Working!$D25","v":"´"},{"$f":"Working!$E25","v":3},{"$f":"CONCATENATE(\"= \",Working!$H25)","v":"= 3"},{"$f":"CONCATENATE(Working!A50,\")\")","v":"48)"},{"$f":"Working!$G50","v":8},{"$f":"Working!$D50","v":"´"},{"$f":"Working!$E50","v":6},{"$f":"CONCATENATE(\"= \",Working!$H50)","v":"= 48"},{"$f":"CONCATENATE(Working!A75,\")\")","v":"73)"},{"$f":"Working!$G75","v":5},{"$f":"Working!$D75","v":"´"},{"$f":"Working!$E75","v":8},{"$f":"CONCATENATE(\"= \",Working!$H75)","v":"= 40"},{"$f":"CONCATENATE(Working!A100,\")\")","v":"98)"},{"$f":"Working!$G100","v":7},{"$f":"Working!$D100","v":"´"},{"$f":"Working!$E100","v":2},{"$f":"CONCATENATE(\"= \",Working!$H100)","v":"= 14"}]
[{"$f":"CONCATENATE(Working!A26,\")\")","v":"24)"},{"$f":"Working!$G26","v":7},{"$f":"Working!$D26","v":"´"},{"$f":"Working!$E26","v":10},{"$f":"CONCATENATE(\"= \",Working!$H26)","v":"= 70"},{"$f":"CONCATENATE(Working!A51,\")\")","v":"49)"},{"$f":"Working!$G51","v":8},{"$f":"Working!$D51","v":"´"},{"$f":"Working!$E51","v":5},{"$f":"CONCATENATE(\"= \",Working!$H51)","v":"= 40"},{"$f":"CONCATENATE(Working!A76,\")\")","v":"74)"},{"$f":"Working!$G76","v":6},{"$f":"Working!$D76","v":"´"},{"$f":"Working!$E76","v":3},{"$f":"CONCATENATE(\"= \",Working!$H76)","v":"= 18"},{"$f":"CONCATENATE(Working!A101,\")\")","v":"99)"},{"$f":"Working!$G101","v":7},{"$f":"Working!$D101","v":"´"},{"$f":"Working!$E101","v":5},{"$f":"CONCATENATE(\"= \",Working!$H101)","v":"= 35"}]
[{"$f":"CONCATENATE(Working!A27,\")\")","v":"25)"},{"$f":"Working!$G27","v":6},{"$f":"Working!$D27","v":"´"},{"$f":"Working!$E27","v":2},{"$f":"CONCATENATE(\"= \",Working!$H27)","v":"= 12"},{"$f":"CONCATENATE(Working!A52,\")\")","v":"50)"},{"$f":"Working!$G52","v":6},{"$f":"Working!$D52","v":"´"},{"$f":"Working!$E52","v":1},{"$f":"CONCATENATE(\"= \",Working!$H52)","v":"= 6"},{"$f":"CONCATENATE(Working!A77,\")\")","v":"75)"},{"$f":"Working!$G77","v":2},{"$f":"Working!$D77","v":"´"},{"$f":"Working!$E77","v":6},{"$f":"CONCATENATE(\"= \",Working!$H77)","v":"= 12"},{"$f":"CONCATENATE(Working!A102,\")\")","v":"100)"},{"$f":"Working!$G102","v":9},{"$f":"Working!$D102","v":"´"},{"$f":"Working!$E102","v":4},{"$f":"CONCATENATE(\"= \",Working!$H102)","v":"= 36"}]