{"text_format":"1","workbook":"xlsx","n_sheets":4,"sheets":["Info","Worksheet","Answers","Working"],"not_rendered":{"charts":0,"images":0,"macros":1,"external_links":0,"defined_names":0,"comments":0,"pivot_tables":0},"unopened":[],"bounds":{"document_bytes":16777216,"sheet_cells":100000,"rows_first":2000,"rows_last":500,"rows_between":2000,"halvings":0,"cell_chars":16384,"cell_head_chars":4096},"cells_cut":0,"cells_raw":0,"read":"whole","date_system":"1900"}

{"sheet":"Info","index":0,"n_rows":13,"n_cols":9,"rows_kept":13,"cut":false,"hidden":false,"merged":[[1,2,1,6],[3,2,3,6],[3,8,7,9],[5,2,8,7]]}
[null,null,null,null,"SOLVING I STEP EQUATIONS"]
[null,null,"INSTRUCTIONS"]
[]
[null,"Step 3","Click on WorkSheet tab below.",null,null,null,null,null,"PRESS F9 for NEW WorkSheet"]
[]
[null,"Note","If you hold down shift then click on the WorkSheet tab and the Answers tab, you will be able to print both the WorkSheet and the solutions."]
[]
[]
[]
[]
[]
[null,null,"NOTES:"]
[null,null,"* The intention of this WorkSheetis to give practise for showing all steps for solving equations."]

{"sheet":"Worksheet","index":1,"n_rows":34,"n_cols":11,"rows_kept":34,"cut":false,"hidden":false,"merged":[]}
[null,null,null,null,"Solving Equations"]
[null,null,null,null,null,null,{"$f":"CONCATENATE(\"Worksheet \",Working!C1,Working!B1)","v":"Worksheet CLT-312"}]
[]
["Solve the following;"]
[{"$f":"CONCATENATE(Working!A3,\")\")","v":"1)"},{"$f":"CONCATENATE(Working!$B3,\" + \",Working!$E3,\" = \",Working!$G3)","v":"k + 6 = 14"},{"$f":"CONCATENATE(Working!A13,\")\")","v":"11)"},{"$f":"CONCATENATE(Working!$B13,\" - \",Working!$E13,\" = \",Working!$H13)","v":"o - 4 = 7"},{"$f":"CONCATENATE(Working!A23,\")\")","v":"21)"},{"$f":"CONCATENATE(Working!$E23,Working!$B23)","v":"6w"},"=",{"$f":"Working!$H23","v":"54"},{"$f":"CONCATENATE(Working!A33,\")\")","v":"31)"},{"$f":"Working!$B33","v":"w"},{"$f":"CONCATENATE(\"= \",Working!$D33)","v":"= 9"}]
[null,null,null,null,null,null,null,null,null,{"$f":"Working!$E33","v":4}]
[null,{"$f":"CONCATENATE(Working!$B3,\" = \")","v":"k = "},null,{"$f":"CONCATENATE(Working!$B13,\" = \",)","v":"o = "},null,{"$f":"Working!$B23","v":"w"},"=",null,null,{"$f":"Working!$B33","v":"w"},"="]
[{"$f":"CONCATENATE(Working!A4,\")\")","v":"2)"},{"$f":"CONCATENATE(Working!$B4,\" + \",Working!$E4,\" = \",Working!$H4)","v":"p + 4 = 13"},{"$f":"CONCATENATE(Working!A14,\")\")","v":"12)"},{"$f":"CONCATENATE(Working!$B14,\" - \",Working!$E14,\" = \",Working!$H14)","v":"n - 4 = 3"},{"$f":"CONCATENATE(Working!A24,\")\")","v":"22)"},{"$f":"CONCATENATE(Working!$E24,Working!$B24)","v":"4q"},"=",{"$f":"Working!$H24","v":"24"},{"$f":"CONCATENATE(Working!A34,\")\")","v":"32)"},{"$f":"Working!$B34","v":"w"},{"$f":"CONCATENATE(\"= \",Working!$D34)","v":"= 5"}]
[null,null,null,null,null,null,null,null,null,{"$f":"Working!$E34","v":9}]
[null,{"$f":"CONCATENATE(Working!$B4,\" = \")","v":"p = "},null,{"$f":"CONCATENATE(Working!$B14,\" = \")","v":"n = "},null,{"$f":"Working!$B24","v":"q"},"=",null,null,{"$f":"Working!$B34","v":"w"},"="]
[{"$f":"CONCATENATE(Working!A5,\")\")","v":"3)"},{"$f":"CONCATENATE(Working!$B5,\" + \",Working!$E5,\" = \",Working!$H5)","v":"c + 5 = 9"},{"$f":"CONCATENATE(Working!A15,\")\")","v":"13)"},{"$f":"CONCATENATE(Working!$B15,\" - \",Working!$E15,\" = \",Working!$H15)","v":"s - 2 = 6"},{"$f":"CONCATENATE(Working!A25,\")\")","v":"23)"},{"$f":"CONCATENATE(Working!$E25,Working!$B25)","v":"5y"},"=",{"$f":"Working!$H25","v":"35"},{"$f":"CONCATENATE(Working!A35,\")\")","v":"33)"},{"$f":"Working!$B35","v":"r"},{"$f":"CONCATENATE(\"= \",Working!$D35)","v":"= 4"}]
[null,null,null,null,null,null,null,null,null,{"$f":"Working!$E35","v":5}]
[null,{"$f":"CONCATENATE(Working!$B5,\" = \")","v":"c = "},null,{"$f":"CONCATENATE(Working!$B15,\" = \")","v":"s = "},null,{"$f":"Working!$B25","v":"y"},"=",null,null,{"$f":"Working!$B35","v":"r"},"="]
[{"$f":"CONCATENATE(Working!A6,\")\")","v":"4)"},{"$f":"CONCATENATE(Working!$B6,\" + \",Working!$E6,\" = \",Working!$H6)","v":"p + 3 = 5"},{"$f":"CONCATENATE(Working!A16,\")\")","v":"14)"},{"$f":"CONCATENATE(Working!$B16,\" - \",Working!$E16,\" = \",Working!$H16)","v":"m - 2 = 5"},{"$f":"CONCATENATE(Working!A26,\")\")","v":"24)"},{"$f":"CONCATENATE(Working!$E26,Working!$B26)","v":"3h"},"=",{"$f":"Working!$H26","v":"24"},{"$f":"CONCATENATE(Working!A36,\")\")","v":"34)"},{"$f":"Working!$B36","v":"u"},{"$f":"CONCATENATE(\"= \",Working!$D36)","v":"= 4"}]
[null,null,null,null,null,null,null,null,null,{"$f":"Working!$E36","v":5}]
[null,{"$f":"CONCATENATE(Working!$B6,\" =\")","v":"p ="},null,{"$f":"CONCATENATE(Working!$B16,\" = \")","v":"m = "},null,{"$f":"Working!$B26","v":"h"},"=",null,null,{"$f":"Working!$B36","v":"u"},"="]
[{"$f":"CONCATENATE(Working!A7,\")\")","v":"5)"},{"$f":"CONCATENATE(Working!$B7,\" + \",Working!$E7,\" = \",Working!$H7)","v":"k + 8 = 10"},{"$f":"CONCATENATE(Working!A17,\")\")","v":"15)"},{"$f":"CONCATENATE(Working!$B17,\" - \",Working!$E17,\" = \",Working!$H17)","v":"r - 6 = 7"},{"$f":"CONCATENATE(Working!A27,\")\")","v":"25)"},{"$f":"CONCATENATE(Working!$E27,Working!$B27)","v":"8s"},"=",{"$f":"Working!$H27","v":"40"},{"$f":"CONCATENATE(Working!A37,\")\")","v":"35)"},{"$f":"Working!$B37","v":"h"},{"$f":"CONCATENATE(\"= \",Working!$D37)","v":"= 2"}]
[null,null,null,null,null,null,null,null,null,{"$f":"Working!$E37","v":3}]
[null,{"$f":"CONCATENATE(Working!$B7,\" =\")","v":"k ="},null,{"$f":"CONCATENATE(Working!$B17,\" = \")","v":"r = "},null,{"$f":"Working!$B27","v":"s"},"=",null,null,{"$f":"Working!$B37","v":"h"},"="]
[{"$f":"CONCATENATE(Working!A8,\")\")","v":"6)"},{"$f":"CONCATENATE(Working!$B8,\" + \",Working!$E8,\" = \",Working!$H8)","v":"f + 6 = 9"},{"$f":"CONCATENATE(Working!A18,\")\")","v":"16)"},{"$f":"CONCATENATE(Working!$B18,\" - \",Working!$E18,\" = \",Working!$H18)","v":"k - 8 = 6"},{"$f":"CONCATENATE(Working!A28,\")\")","v":"26)"},{"$f":"CONCATENATE(Working!$E28,Working!$B28)","v":"8y"},"=",{"$f":"Working!$H28","v":"40"},{"$f":"CONCATENATE(Working!A38,\")\")","v":"36)"},{"$f":"Working!$B38","v":"l"},{"$f":"CONCATENATE(\"= \",Working!$D38)","v":"= 3"}]
[null,null,null,null,null,null,null,null,null,{"$f":"Working!$E36","v":5}]
[null,{"$f":"CONCATENATE(Working!$B8,\" =\")","v":"f ="},null,{"$f":"CONCATENATE(Working!$B18,\" = \",Working!$C18)","v":"k = 14"},null,{"$f":"Working!$B28","v":"y"},"=",null,null,{"$f":"Working!$B38","v":"l"},"="]
[{"$f":"CONCATENATE(Working!A9,\")\")","v":"7)"},{"$f":"CONCATENATE(Working!$B9,\" + \",Working!$E9,\" = \",Working!$H9)","v":"u + 2 = 8"},{"$f":"CONCATENATE(Working!A19,\")\")","v":"17)"},{"$f":"CONCATENATE(Working!$B19,\" - \",Working!$E19,\" = \",Working!$H19)","v":"b - 3 = 4"},{"$f":"CONCATENATE(Working!A29,\")\")","v":"27)"},{"$f":"CONCATENATE(Working!$E29,Working!$B29)","v":"6p"},"=",{"$f":"Working!$H29","v":"54"},{"$f":"CONCATENATE(Working!A39,\")\")","v":"37)"},{"$f":"Working!$B39","v":"y"},{"$f":"CONCATENATE(\"= \",Working!$D39)","v":"= 9"}]
[null,null,null,null,null,null,null,null,null,{"$f":"Working!$E39","v":8}]
[null,{"$f":"CONCATENATE(Working!$B9,\" =\")","v":"u ="},null,{"$f":"CONCATENATE(Working!$B19,\" = \")","v":"b = "},null,{"$f":"Working!$B29","v":"p"},"=",null,null,{"$f":"Working!$B39","v":"y"},"="]
[{"$f":"CONCATENATE(Working!A10,\")\")","v":"8)"},{"$f":"CONCATENATE(Working!$B10,\" + \",Working!$E10,\" = \",Working!$H10)","v":"r + 4 = 6"},{"$f":"CONCATENATE(Working!A20,\")\")","v":"18)"},{"$f":"CONCATENATE(Working!$B20,\" - \",Working!$E20,\" = \",Working!$H20)","v":"t - 3 = 6"},{"$f":"CONCATENATE(Working!A30,\")\")","v":"28)"},{"$f":"CONCATENATE(Working!$E30,Working!$B30)","v":"5r"},"=",{"$f":"Working!$H30","v":"45"},{"$f":"CONCATENATE(Working!A40,\")\")","v":"38)"},{"$f":"Working!$B40","v":"j"},{"$f":"CONCATENATE(\"= \",Working!$D40)","v":"= 4"}]
[null,null,null,null,null,null,null,null,null,{"$f":"Working!$E40","v":5}]
[null,{"$f":"CONCATENATE(Working!$B10,\" =\")","v":"r ="},null,{"$f":"CONCATENATE(Working!$B20,\" = \")","v":"t = "},null,{"$f":"Working!$B30","v":"r"},"=",null,null,{"$f":"Working!$B10","v":"r"},"="]
[{"$f":"CONCATENATE(Working!A11,\")\")","v":"9)"},{"$f":"CONCATENATE(Working!$B11,\" + \",Working!$E11,\" = \",Working!$H11)","v":"t + 6 = 8"},{"$f":"CONCATENATE(Working!A21,\")\")","v":"19)"},{"$f":"CONCATENATE(Working!$B21,\" - \",Working!$E21,\" = \",Working!$H21)","v":"y - 8 = 3"},{"$f":"CONCATENATE(Working!A31,\")\")","v":"29)"},{"$f":"CONCATENATE(Working!$E31,Working!$B31)","v":"6g"},"=",{"$f":"Working!$H31","v":"42"},{"$f":"CONCATENATE(Working!A41,\")\")","v":"39)"},{"$f":"Working!$B41","v":"d"},{"$f":"CONCATENATE(\"= \",Working!$D41)","v":"= 9"}]
[null,null,null,null,null,null,null,null,null,{"$f":"Working!$E41","v":6}]
[null,{"$f":"CONCATENATE(Working!$B11,\" =\")","v":"t ="},null,{"$f":"CONCATENATE(Working!$B21,\" = \")","v":"y = "},null,{"$f":"Working!$B31","v":"g"},"=",null,null,{"$f":"Working!$B41","v":"d"},"="]
[{"$f":"CONCATENATE(Working!A12,\")\")","v":"10)"},{"$f":"CONCATENATE(Working!$B12,\" + \",Working!$E12,\" = \",Working!$H12)","v":"x + 4 = 13"},{"$f":"CONCATENATE(Working!A22,\")\")","v":"20)"},{"$f":"CONCATENATE(Working!$B22,\" - \",Working!$E22,\" = \",Working!$H22)","v":"z - 4 = 5"},{"$f":"CONCATENATE(Working!A32,\")\")","v":"30)"},{"$f":"CONCATENATE(Working!$E32,Working!$B32)","v":"9w"},"=",{"$f":"Working!$H32","v":"18"},{"$f":"CONCATENATE(Working!A42,\")\")","v":"40)"},{"$f":"Working!$B42","v":"q"},{"$f":"CONCATENATE(\"= \",Working!$D42)","v":"= 3"}]
[null,null,null,null,null,null,null,null,null,{"$f":"Working!$E42","v":8}]
[null,{"$f":"CONCATENATE(Working!$B12,\" =\")","v":"x ="},null,{"$f":"CONCATENATE(Working!$B22,\" = \")","v":"z = "},null,{"$f":"Working!$B32","v":"w"},"=",null,null,{"$f":"Working!$B42","v":"q"},"="]

{"sheet":"Answers","index":2,"n_rows":34,"n_cols":13,"rows_kept":34,"cut":false,"hidden":false,"merged":[]}
[null,null,null,null,"Solving Equations"]
[null,null,null,null,"Solutions"]
[null,null,null,null,null,null,null,null,{"$f":"CONCATENATE(\"Worksheet \",Working!C1,Working!B1)","v":"Worksheet CLT-312"}]
["Solve the following;"]
[{"$f":"CONCATENATE(Working!A3,\")\")","v":"1)"},{"$f":"CONCATENATE(Working!$B3,\" + \",Working!$E3,\" = \",Working!$G3)","v":"k + 6 = 14"},{"$f":"CONCATENATE(Working!A13,\")\")","v":"11)"},{"$f":"CONCATENATE(Working!$B13,\" - \",Working!$E13,\" = \",Working!$H13)","v":"o - 4 = 7"},{"$f":"CONCATENATE(Working!A23,\")\")","v":"21)"},{"$f":"CONCATENATE(Working!$E23,Working!$B23)","v":"6w"},"=",{"$f":"Working!$H23","v":"54"},{"$f":"CONCATENATE(Working!A33,\")\")","v":"31)"},{"$f":"Working!$B33","v":"w"},{"$f":"Working!$O33","v":"ˣ⁴"},{"$f":"CONCATENATE(\"= \",Working!$D33)","v":"= 9"},{"$f":"Working!$O33","v":"ˣ⁴"}]
[null,{"$f":"Working!$P3","v":"k + 6⁻⁶ = 14⁻⁶"},null,{"$f":"Working!$P13","v":"o - 4⁺⁴ = 7⁺⁴"},null,{"$f":"Working!$E23","v":6},null,{"$f":"Working!$E23","v":6},null,{"$f":"Working!$E33","v":4}]
[null,{"$f":"CONCATENATE(Working!$B3,\" = \",Working!$C3 )","v":"k = 8"},null,{"$f":"CONCATENATE(Working!$B13,\" = \",Working!$C13)","v":"o = 11"},null,{"$f":"Working!$B23","v":"w"},"=",{"$f":"Working!$C23","v":9},null,{"$f":"Working!$B33","v":"w"},null,{"$f":"CONCATENATE(\"= \",Working!$H33)","v":"= 36"}]
[{"$f":"CONCATENATE(Working!A4,\")\")","v":"2)"},{"$f":"CONCATENATE(Working!$B4,\" + \",Working!$E4,\" = \",Working!$H4)","v":"p + 4 = 13"},{"$f":"CONCATENATE(Working!A14,\")\")","v":"12)"},{"$f":"CONCATENATE(Working!$B14,\" - \",Working!$E14,\" = \",Working!$H14)","v":"n - 4 = 3"},{"$f":"CONCATENATE(Working!A24,\")\")","v":"22)"},{"$f":"CONCATENATE(Working!$E24,Working!$B24)","v":"4q"},"=",{"$f":"Working!$H24","v":"24"},{"$f":"CONCATENATE(Working!A34,\")\")","v":"32)"},{"$f":"Working!$B34","v":"w"},{"$f":"Working!$O34","v":"ˣ⁹"},{"$f":"CONCATENATE(\"= \",Working!$D34)","v":"= 5"},{"$f":"Working!$O34","v":"ˣ⁹"}]
[null,{"$f":"Working!P4","v":"p + 4⁻⁴ = 13⁻⁴"},null,{"$f":"Working!$P14","v":"n - 4⁺⁴ = 3⁺⁴"},null,{"$f":"Working!$E24","v":4},null,{"$f":"Working!$E24","v":4},null,{"$f":"Working!$E34","v":9}]
[null,{"$f":"CONCATENATE(Working!$B4,\" = \",Working!$C4)","v":"p = 9"},null,{"$f":"CONCATENATE(Working!$B14,\" = \",Working!$C14)","v":"n = 7"},null,{"$f":"Working!$B24","v":"q"},"=",{"$f":"Working!$C24","v":6},null,{"$f":"Working!$B34","v":"w"},null,{"$f":"CONCATENATE(\"= \",Working!$H34)","v":"= 45"}]
[{"$f":"CONCATENATE(Working!A5,\")\")","v":"3)"},{"$f":"CONCATENATE(Working!$B5,\" + \",Working!$E5,\" = \",Working!$H5)","v":"c + 5 = 9"},{"$f":"CONCATENATE(Working!A15,\")\")","v":"13)"},{"$f":"CONCATENATE(Working!$B15,\" - \",Working!$E15,\" = \",Working!$H15)","v":"s - 2 = 6"},{"$f":"CONCATENATE(Working!A25,\")\")","v":"23)"},{"$f":"CONCATENATE(Working!$E25,Working!$B25)","v":"5y"},"=",{"$f":"Working!$H25","v":"35"},{"$f":"CONCATENATE(Working!A35,\")\")","v":"33)"},{"$f":"Working!$B35","v":"r"},{"$f":"Working!$O35","v":"ˣ⁵"},{"$f":"CONCATENATE(\"= \",Working!$D35)","v":"= 4"},{"$f":"Working!$O35","v":"ˣ⁵"}]
[null,{"$f":"Working!P5","v":"c + 5⁻⁵ = 9⁻⁵"},null,{"$f":"Working!$P15","v":"s - 2⁺² = 6⁺²"},null,{"$f":"Working!$E25","v":5},null,{"$f":"Working!$E25","v":5},null,{"$f":"Working!$E35","v":5}]
[null,{"$f":"CONCATENATE(Working!$B5,\" = \",Working!$C5)","v":"c = 4"},null,{"$f":"CONCATENATE(Working!$B15,\" = \",Working!$C15)","v":"s = 8"},null,{"$f":"Working!$B25","v":"y"},"=",{"$f":"Working!$C25","v":7},null,{"$f":"Working!$B35","v":"r"},null,{"$f":"CONCATENATE(\"= \",Working!$H35)","v":"= 20"}]
[{"$f":"CONCATENATE(Working!A6,\")\")","v":"4)"},{"$f":"CONCATENATE(Working!$B6,\" + \",Working!$E6,\" = \",Working!$H6)","v":"p + 3 = 5"},{"$f":"CONCATENATE(Working!A16,\")\")","v":"14)"},{"$f":"CONCATENATE(Working!$B16,\" - \",Working!$E16,\" = \",Working!$H16)","v":"m - 2 = 5"},{"$f":"CONCATENATE(Working!A26,\")\")","v":"24)"},{"$f":"CONCATENATE(Working!$E26,Working!$B26)","v":"3h"},"=",{"$f":"Working!$H26","v":"24"},{"$f":"CONCATENATE(Working!A36,\")\")","v":"34)"},{"$f":"Working!$B36","v":"u"},{"$f":"Working!$O36","v":"ˣ⁵"},{"$f":"CONCATENATE(\"= \",Working!$D36)","v":"= 4"},{"$f":"Working!$O36","v":"ˣ⁵"}]
[null,{"$f":"Working!P6","v":"p + 3⁻³ = 5⁻³"},null,{"$f":"Working!$P16","v":"m - 2⁺² = 5⁺²"},null,{"$f":"Working!$E26","v":3},null,{"$f":"Working!$E26","v":3},null,{"$f":"Working!$E36","v":5}]
[null,{"$f":"CONCATENATE(Working!$B6,\" =\")","v":"p ="},null,{"$f":"CONCATENATE(Working!$B16,\" = \",Working!$C16)","v":"m = 7"},null,{"$f":"Working!$B26","v":"h"},"=",{"$f":"Working!$C26","v":8},null,{"$f":"Working!$B36","v":"u"},null,{"$f":"CONCATENATE(\"= \",Working!$H36)","v":"= 20"}]
[{"$f":"CONCATENATE(Working!A7,\")\")","v":"5)"},{"$f":"CONCATENATE(Working!$B7,\" + \",Working!$E7,\" = \",Working!$H7)","v":"k + 8 = 10"},{"$f":"CONCATENATE(Working!A17,\")\")","v":"15)"},{"$f":"CONCATENATE(Working!$B17,\" - \",Working!$E17,\" = \",Working!$H17)","v":"r - 6 = 7"},{"$f":"CONCATENATE(Working!A27,\")\")","v":"25)"},{"$f":"CONCATENATE(Working!$E27,Working!$B27)","v":"8s"},"=",{"$f":"Working!$H27","v":"40"},{"$f":"CONCATENATE(Working!A37,\")\")","v":"35)"},{"$f":"Working!$B37","v":"h"},{"$f":"Working!$O37","v":"ˣ³"},{"$f":"CONCATENATE(\"= \",Working!$D37)","v":"= 2"},{"$f":"Working!$O37","v":"ˣ³"}]
[null,{"$f":"Working!P7","v":"k + 8⁻⁸ = 10⁻⁸"},null,{"$f":"Working!$P17","v":"r - 6⁺⁶ = 7⁺⁶"},null,{"$f":"Working!$E27","v":8},null,{"$f":"Working!$E27","v":8},null,{"$f":"Working!$E37","v":3}]
[null,{"$f":"CONCATENATE(Working!$B7,\" =\")","v":"k ="},null,{"$f":"CONCATENATE(Working!$B17,\" = \",Working!$C17)","v":"r = 13"},null,{"$f":"Working!$B27","v":"s"},"=",{"$f":"Working!$C27","v":5},null,{"$f":"Working!$B37","v":"h"},null,{"$f":"CONCATENATE(\"= \",Working!$H37)","v":"= 6"}]
[{"$f":"CONCATENATE(Working!A8,\")\")","v":"6)"},{"$f":"CONCATENATE(Working!$B8,\" + \",Working!$E8,\" = \",Working!$H8)","v":"f + 6 = 9"},{"$f":"CONCATENATE(Working!A18,\")\")","v":"16)"},{"$f":"CONCATENATE(Working!$B18,\" - \",Working!$E18,\" = \",Working!$H18)","v":"k - 8 = 6"},{"$f":"CONCATENATE(Working!A28,\")\")","v":"26)"},{"$f":"CONCATENATE(Working!$E28,Working!$B28)","v":"8y"},"=",{"$f":"Working!$H28","v":"40"},{"$f":"CONCATENATE(Working!A38,\")\")","v":"36)"},{"$f":"Working!$B38","v":"l"},{"$f":"Working!$O38","v":"ˣ⁸"},{"$f":"CONCATENATE(\"= \",Working!$D38)","v":"= 3"},{"$f":"Working!$O38","v":"ˣ⁸"}]
[null,{"$f":"Working!P8","v":"f + 6⁻⁶ = 9⁻⁶"},null,{"$f":"Working!$P18","v":"k - 8⁺⁸ = 6⁺⁸"},null,{"$f":"Working!$E28","v":8},null,{"$f":"Working!$E28","v":8},null,{"$f":"Working!$E36","v":5}]
[null,{"$f":"CONCATENATE(Working!$B8,\" =\")","v":"f ="},null,{"$f":"CONCATENATE(Working!$B18,\" = \",Working!$C18)","v":"k = 14"},null,{"$f":"Working!$B28","v":"y"},"=",{"$f":"Working!$C28","v":5},null,{"$f":"Working!$B38","v":"l"},null,{"$f":"CONCATENATE(\"= \",Working!$H38)","v":"= 24"}]
[{"$f":"CONCATENATE(Working!A9,\")\")","v":"7)"},{"$f":"CONCATENATE(Working!$B9,\" + \",Working!$E9,\" = \",Working!$H9)","v":"u + 2 = 8"},{"$f":"CONCATENATE(Working!A19,\")\")","v":"17)"},{"$f":"CONCATENATE(Working!$B19,\" - \",Working!$E19,\" = \",Working!$H19)","v":"b - 3 = 4"},{"$f":"CONCATENATE(Working!A29,\")\")","v":"27)"},{"$f":"CONCATENATE(Working!$E29,Working!$B29)","v":"6p"},"=",{"$f":"Working!$H29","v":"54"},{"$f":"CONCATENATE(Working!A39,\")\")","v":"37)"},{"$f":"Working!$B39","v":"y"},{"$f":"Working!$O39","v":"ˣ⁸"},{"$f":"CONCATENATE(\"= \",Working!$D39)","v":"= 9"},{"$f":"Working!$O39","v":"ˣ⁸"}]
[null,{"$f":"Working!P9","v":"u + 2⁻² = 8⁻²"},null,{"$f":"Working!$P19","v":"b - 3⁺³ = 4⁺³"},null,{"$f":"Working!$E29","v":6},null,{"$f":"Working!$E29","v":6},null,{"$f":"Working!$E39","v":8}]
[null,{"$f":"CONCATENATE(Working!$B9,\" =\")","v":"u ="},null,{"$f":"CONCATENATE(Working!$B19,\" = \",Working!$C19)","v":"b = 7"},null,{"$f":"Working!$B29","v":"p"},"=",{"$f":"Working!$C29","v":9},null,{"$f":"Working!$B39","v":"y"},null,{"$f":"CONCATENATE(\"= \",Working!$H39)","v":"= 72"}]
[{"$f":"CONCATENATE(Working!A10,\")\")","v":"8)"},{"$f":"CONCATENATE(Working!$B10,\" + \",Working!$E10,\" = \",Working!$H10)","v":"r + 4 = 6"},{"$f":"CONCATENATE(Working!A20,\")\")","v":"18)"},{"$f":"CONCATENATE(Working!$B20,\" - \",Working!$E20,\" = \",Working!$H20)","v":"t - 3 = 6"},{"$f":"CONCATENATE(Working!A30,\")\")","v":"28)"},{"$f":"CONCATENATE(Working!$E30,Working!$B30)","v":"5r"},"=",{"$f":"Working!$H30","v":"45"},{"$f":"CONCATENATE(Working!A40,\")\")","v":"38)"},{"$f":"Working!$B40","v":"j"},{"$f":"Working!$O40","v":"ˣ⁵"},{"$f":"CONCATENATE(\"= \",Working!$D40)","v":"= 4"},{"$f":"Working!$O40","v":"ˣ⁵"}]
[null,{"$f":"Working!P10","v":"r + 4⁻⁴ = 6⁻⁴"},null,{"$f":"Working!$P20","v":"t - 3⁺³ = 6⁺³"},null,{"$f":"Working!$E30","v":5},null,{"$f":"Working!$E30","v":5},null,{"$f":"Working!$E40","v":5}]
[null,{"$f":"CONCATENATE(Working!$B10,\" =\")","v":"r ="},null,{"$f":"CONCATENATE(Working!$B20,\" = \",Working!$C20)","v":"t = 9"},null,{"$f":"Working!$B30","v":"r"},"=",{"$f":"Working!$C30","v":9},null,{"$f":"Working!$B10","v":"r"},null,{"$f":"CONCATENATE(\"= \",Working!$H40)","v":"= 20"}]
[{"$f":"CONCATENATE(Working!A11,\")\")","v":"9)"},{"$f":"CONCATENATE(Working!$B11,\" + \",Working!$E11,\" = \",Working!$H11)","v":"t + 6 = 8"},{"$f":"CONCATENATE(Working!A21,\")\")","v":"19)"},{"$f":"CONCATENATE(Working!$B21,\" - \",Working!$E21,\" = \",Working!$H21)","v":"y - 8 = 3"},{"$f":"CONCATENATE(Working!A31,\")\")","v":"29)"},{"$f":"CONCATENATE(Working!$E31,Working!$B31)","v":"6g"},"=",{"$f":"Working!$H31","v":"42"},{"$f":"CONCATENATE(Working!A41,\")\")","v":"39)"},{"$f":"Working!$B41","v":"d"},{"$f":"Working!$O41","v":"ˣ⁶"},{"$f":"CONCATENATE(\"= \",Working!$D41)","v":"= 9"},{"$f":"Working!$O41","v":"ˣ⁶"}]
[null,{"$f":"Working!P11","v":"t + 6⁻⁶ = 8⁻⁶"},null,{"$f":"Working!$P21","v":"y - 8⁺⁸ = 3⁺⁸"},null,{"$f":"Working!$E31","v":6},null,{"$f":"Working!$E31","v":6},null,{"$f":"Working!$E41","v":6}]
[null,{"$f":"CONCATENATE(Working!$B11,\" =\")","v":"t ="},null,{"$f":"CONCATENATE(Working!$B21,\" = \",Working!$C21)","v":"y = 11"},null,{"$f":"Working!$B31","v":"g"},"=",{"$f":"Working!$C31","v":7},null,{"$f":"Working!$B41","v":"d"},null,{"$f":"CONCATENATE(\"= \",Working!$H41)","v":"= 54"}]
[{"$f":"CONCATENATE(Working!A12,\")\")","v":"10)"},{"$f":"CONCATENATE(Working!$B12,\" + \",Working!$E12,\" = \",Working!$H12)","v":"x + 4 = 13"},{"$f":"CONCATENATE(Working!A22,\")\")","v":"20)"},{"$f":"CONCATENATE(Working!$B22,\" - \",Working!$E22,\" = \",Working!$H22)","v":"z - 4 = 5"},{"$f":"CONCATENATE(Working!A32,\")\")","v":"30)"},{"$f":"CONCATENATE(Working!$E32,Working!$B32)","v":"9w"},"=",{"$f":"Working!$H32","v":"18"},{"$f":"CONCATENATE(Working!A42,\")\")","v":"40)"},{"$f":"Working!$B42","v":"q"},{"$f":"Working!$O42","v":"ˣ⁸"},{"$f":"CONCATENATE(\"= \",Working!$D42)","v":"= 3"},{"$f":"Working!$O42","v":"ˣ⁸"}]
[null,{"$f":"Working!P12","v":"x + 4⁻⁴ = 13⁻⁴"},null,{"$f":"Working!$P22","v":"z - 4⁺⁴ = 5⁺⁴"},null,{"$f":"Working!$E32","v":9},null,{"$f":"Working!$E32","v":9},null,{"$f":"Working!$E42","v":8}]
[null,{"$f":"CONCATENATE(Working!$B12,\" =\")","v":"x ="},null,{"$f":"CONCATENATE(Working!$B22,\" = \",Working!$C22)","v":"z = 9"},null,{"$f":"Working!$B32","v":"w"},"=",{"$f":"Working!$C32","v":2},null,{"$f":"Working!$B42","v":"q"},null,{"$f":"CONCATENATE(\"= \",Working!$H42)","v":"= 24"}]

{"sheet":"Working","index":3,"n_rows":47,"n_cols":35,"rows_kept":47,"cut":false,"hidden":false,"merged":[]}
[{"$f":"INT(900*RAND()+100)","v":302},{"$f":"TEXT(1,A1)","v":"312"},"CLT-"]
[null,null,"Solution",null,"Constant",null,"Equals",null,"Type",null,null,null,null,null,null,null,null,1,2,3,4,5,6,7,8,9,10,11,12,13,14,15,16,17,18]
[1,{"$f":"CHAR(INT(26*RAND()+97))","v":"k"},{"$f":"INT(8*RAND()+2)","v":8},{"$f":"IF(C3=1,\"\",FIXED(C3,0,FALSE))","v":"8"},{"$f":"INT(8*RAND()+2)","v":6},{"$f":"IF(E3=1,\"\",FIXED(E3,0,FALSE))","v":"6"},{"$f":"C3+E3","v":14},{"$f":"IF(G3=1,\"\",TEXT(G3,0))","v":"14"},"+",null,{"$f":"CONCATENATE($B3,\" + \",$E3,\" = \",$G3)","v":"k + 6 = 14"},null,null,{"$f":"F3","v":"6"},{"$f":"OFFSET(Q3,0,N3)","v":"⁻⁶"},{"$f":"CONCATENATE($B3,\" + \",$E3,O3,\" = \",$G3,O3)","v":"k + 6⁻⁶ = 14⁻⁶"},null,"⁻¹","⁻²","⁻³","⁻⁴","⁻⁵","⁻⁶","⁻⁷","⁻⁸","⁻⁹","⁺¹","⁺²","⁺³","⁺⁴","⁺⁵","⁺⁶","⁺⁷","⁺⁸","⁺⁹"]
[2,{"$f":"CHAR(INT(26*RAND()+97))","v":"p"},{"$f":"INT(8*RAND()+2)","v":9},"9",{"$f":"INT(8*RAND()+2)","v":4},"4",13,{"$f":"IF(G4=1,\"\",TEXT(G4,0))","v":"13"},"+",null,{"$f":"CONCATENATE($B4,\" + \",$E4,\" = \",$G4)","v":"p + 4 = 13"},null,null,{"$f":"F4","v":"4"},{"$f":"OFFSET(Q4,0,N4)","v":"⁻⁴"},{"$f":"CONCATENATE($B4,\" + \",$E4,O4,\" = \",$G4,O4)","v":"p + 4⁻⁴ = 13⁻⁴"},null,"⁻¹","⁻²","⁻³","⁻⁴","⁻⁵","⁻⁶","⁻⁷","⁻⁸","⁻⁹","⁺¹","⁺²","⁺³","⁺⁴","⁺⁵","⁺⁶","⁺⁷","⁺⁸","⁺⁹"]
[3,"c",4,"4",5,"5",9,"9","+",null,"c + 5 = 9",null,null,"5","⁻⁵","c + 5⁻⁵ = 9⁻⁵",null,"⁻¹","⁻²","⁻³","⁻⁴","⁻⁵","⁻⁶","⁻⁷","⁻⁸","⁻⁹","⁺¹","⁺²","⁺³","⁺⁴","⁺⁵","⁺⁶","⁺⁷","⁺⁸","⁺⁹"]
[4,"p",2,"2",3,"3",5,"5","+",null,"p + 3 = 5",null,null,"3","⁻³","p + 3⁻³ = 5⁻³",null,"⁻¹","⁻²","⁻³","⁻⁴","⁻⁵","⁻⁶","⁻⁷","⁻⁸","⁻⁹","⁺¹","⁺²","⁺³","⁺⁴","⁺⁵","⁺⁶","⁺⁷","⁺⁸","⁺⁹"]
[5,"k",2,"2",8,"8",10,"10","+",null,"k + 8 = 10",null,null,"8","⁻⁸","k + 8⁻⁸ = 10⁻⁸",null,"⁻¹","⁻²","⁻³","⁻⁴","⁻⁵","⁻⁶","⁻⁷","⁻⁸","⁻⁹","⁺¹","⁺²","⁺³","⁺⁴","⁺⁵","⁺⁶","⁺⁷","⁺⁸","⁺⁹"]
[6,"f",3,"3",6,"6",9,"9","+",null,"f + 6 = 9",null,null,"6","⁻⁶","f + 6⁻⁶ = 9⁻⁶",null,"⁻¹","⁻²","⁻³","⁻⁴","⁻⁵","⁻⁶","⁻⁷","⁻⁸","⁻⁹","⁺¹","⁺²","⁺³","⁺⁴","⁺⁵","⁺⁶","⁺⁷","⁺⁸","⁺⁹"]
[7,"u",6,"6",2,"2",8,"8","+",null,"u + 2 = 8",null,null,"2","⁻²","u + 2⁻² = 8⁻²",null,"⁻¹","⁻²","⁻³","⁻⁴","⁻⁵","⁻⁶","⁻⁷","⁻⁸","⁻⁹","⁺¹","⁺²","⁺³","⁺⁴","⁺⁵","⁺⁶","⁺⁷","⁺⁸","⁺⁹"]
[8,"r",2,"2",4,"4",6,"6","+",null,"r + 4 = 6",null,null,"4","⁻⁴","r + 4⁻⁴ = 6⁻⁴",null,"⁻¹","⁻²","⁻³","⁻⁴","⁻⁵","⁻⁶","⁻⁷","⁻⁸","⁻⁹","⁺¹","⁺²","⁺³","⁺⁴","⁺⁵","⁺⁶","⁺⁷","⁺⁸","⁺⁹"]
[9,"t",2,"2",6,"6",8,"8","+",null,"t + 6 = 8",null,null,"6","⁻⁶","t + 6⁻⁶ = 8⁻⁶",null,"⁻¹","⁻²","⁻³","⁻⁴","⁻⁵","⁻⁶","⁻⁷","⁻⁸","⁻⁹","⁺¹","⁺²","⁺³","⁺⁴","⁺⁵","⁺⁶","⁺⁷","⁺⁸","⁺⁹"]
[10,"x",9,"9",4,"4",13,"13","+",null,"x + 4 = 13",null,null,"4","⁻⁴","x + 4⁻⁴ = 13⁻⁴",null,"⁻¹","⁻²","⁻³","⁻⁴","⁻⁵","⁻⁶","⁻⁷","⁻⁸","⁻⁹","⁺¹","⁺²","⁺³","⁺⁴","⁺⁵","⁺⁶","⁺⁷","⁺⁸","⁺⁹"]
[11,"o",{"$f":"F13+H13","v":11},"11",4,"4",{"$f":"INT(8*RAND()+2)","v":7},"7","-",null,{"$f":"CONCATENATE($B13,\" - \",$E13,\" = \",$G13)","v":"o - 4 = 7"},null,null,"4",{"$f":"OFFSET(Q13,0,N13+9)","v":"⁺⁴"},{"$f":"CONCATENATE($B13,\" - \",$E13,O13,\" = \",$G13,O13)","v":"o - 4⁺⁴ = 7⁺⁴"},null,"⁻¹","⁻²","⁻³","⁻⁴","⁻⁵","⁻⁶","⁻⁷","⁻⁸","⁻⁹","⁺¹","⁺²","⁺³","⁺⁴","⁺⁵","⁺⁶","⁺⁷","⁺⁸","⁺⁹"]
[12,"n",{"$f":"F14+H14","v":7},"7",4,"4",{"$f":"INT(8*RAND()+2)","v":3},{"$f":"IF(G14=1,\"\",TEXT(G14,0))","v":"3"},"-",null,{"$f":"CONCATENATE($B14,\" - \",$E14,\" = \",$G14)","v":"n - 4 = 3"},null,null,{"$f":"F14","v":"4"},{"$f":"OFFSET(Q14,0,N14+9)","v":"⁺⁴"},{"$f":"CONCATENATE($B14,\" - \",$E14,O14,\" = \",$G14,O14)","v":"n - 4⁺⁴ = 3⁺⁴"},null,"⁻¹","⁻²","⁻³","⁻⁴","⁻⁵","⁻⁶","⁻⁷","⁻⁸","⁻⁹","⁺¹","⁺²","⁺³","⁺⁴","⁺⁵","⁺⁶","⁺⁷","⁺⁸","⁺⁹"]
[13,"s",8,"8",2,"2",6,"6","-",null,"s - 2 = 6",null,null,"2","⁺²","s - 2⁺² = 6⁺²",null,"⁻¹","⁻²","⁻³","⁻⁴","⁻⁵","⁻⁶","⁻⁷","⁻⁸","⁻⁹","⁺¹","⁺²","⁺³","⁺⁴","⁺⁵","⁺⁶","⁺⁷","⁺⁸","⁺⁹"]
[14,"m",7,"7",2,"2",5,"5","-",null,"m - 2 = 5",null,null,"2","⁺²","m - 2⁺² = 5⁺²",null,"⁻¹","⁻²","⁻³","⁻⁴","⁻⁵","⁻⁶","⁻⁷","⁻⁸","⁻⁹","⁺¹","⁺²","⁺³","⁺⁴","⁺⁵","⁺⁶","⁺⁷","⁺⁸","⁺⁹"]
[15,"r",13,"13",6,"6",7,"7","-",null,"r - 6 = 7",null,null,"6","⁺⁶","r - 6⁺⁶ = 7⁺⁶",null,"⁻¹","⁻²","⁻³","⁻⁴","⁻⁵","⁻⁶","⁻⁷","⁻⁸","⁻⁹","⁺¹","⁺²","⁺³","⁺⁴","⁺⁵","⁺⁶","⁺⁷","⁺⁸","⁺⁹"]
[16,"k",14,"14",8,"8",6,"6","-",null,"k - 8 = 6",null,null,"8","⁺⁸","k - 8⁺⁸ = 6⁺⁸",null,"⁻¹","⁻²","⁻³","⁻⁴","⁻⁵","⁻⁶","⁻⁷","⁻⁸","⁻⁹","⁺¹","⁺²","⁺³","⁺⁴","⁺⁵","⁺⁶","⁺⁷","⁺⁸","⁺⁹"]
[17,"b",7,"7",3,"3",4,"4","-",null,"b - 3 = 4",null,null,"3","⁺³","b - 3⁺³ = 4⁺³",null,"⁻¹","⁻²","⁻³","⁻⁴","⁻⁵","⁻⁶","⁻⁷","⁻⁸","⁻⁹","⁺¹","⁺²","⁺³","⁺⁴","⁺⁵","⁺⁶","⁺⁷","⁺⁸","⁺⁹"]
[18,"t",9,"9",3,"3",6,"6","-",null,"t - 3 = 6",null,null,"3","⁺³","t - 3⁺³ = 6⁺³",null,"⁻¹","⁻²","⁻³","⁻⁴","⁻⁵","⁻⁶","⁻⁷","⁻⁸","⁻⁹","⁺¹","⁺²","⁺³","⁺⁴","⁺⁵","⁺⁶","⁺⁷","⁺⁸","⁺⁹"]
[19,"y",11,"11",8,"8",3,"3","-",null,"y - 8 = 3",null,null,"8","⁺⁸","y - 8⁺⁸ = 3⁺⁸",null,"⁻¹","⁻²","⁻³","⁻⁴","⁻⁵","⁻⁶","⁻⁷","⁻⁸","⁻⁹","⁺¹","⁺²","⁺³","⁺⁴","⁺⁵","⁺⁶","⁺⁷","⁺⁸","⁺⁹"]
[20,"z",9,"9",4,"4",5,"5","-",null,"z - 4 = 5",null,null,{"$f":"F22","v":"4"},"⁺⁴","z - 4⁺⁴ = 5⁺⁴",null,"⁻¹","⁻²","⁻³","⁻⁴","⁻⁵","⁻⁶","⁻⁷","⁻⁸","⁻⁹","⁺¹","⁺²","⁺³","⁺⁴","⁺⁵","⁺⁶","⁺⁷","⁺⁸","⁺⁹"]
[21,"w",9,"9",6,"6",{"$f":"C23*E23","v":54},"54","×",null,{"$f":"CONCATENATE($E23,$B23,\" = \",$G23)","v":"6w = 54"}]
[22,"q",6,"6",4,"4",24,"24","×",null,{"$f":"CONCATENATE($E24,$B24,\" = \",$G24)","v":"4q = 24"}]
[23,"y",7,"7",5,"5",35,"35","×",null,"5y = 35"]
[24,"h",8,"8",3,"3",24,"24","×",null,"3h = 24"]
[25,"s",5,"5",8,"8",40,"40","×",null,"8s = 40"]
[26,"y",5,"5",8,"8",40,"40","×",null,"8y = 40"]
[27,"p",9,"9",6,"6",54,"54","×",null,"6p = 54"]
[28,"r",9,"9",5,"5",45,"45","×",null,"5r = 45"]
[29,"g",7,"7",6,"6",42,"42","×",null,"6g = 42"]
[30,"w",2,"2",9,"9",18,"18","×",null,"9w = 18"]
[31,"w",9,"9",4,"4",36,"36","÷",null,{"$f":"CONCATENATE($B33,\"/\",$E33,\" = \",$G33)","v":"w/4 = 36"},null,null,{"$f":"F33","v":"4"},{"$f":"OFFSET(Q33,0,N33)","v":"ˣ⁴"},{"$f":"CONCATENATE(B33,O33)","v":"wˣ⁴"},{"$f":"CONCATENATE(F33,O33)","v":"4ˣ⁴"},"ˣ¹","ˣ²","ˣ³","ˣ⁴","ˣ⁵","ˣ⁶","ˣ⁷","ˣ⁸","ˣ⁹"]
[32,"w",5,"5",9,"9",45,"45","÷",null,{"$f":"CONCATENATE($B34,\"/\",$E34,\" = \",$G34)","v":"w/9 = 45"},null,null,"9","ˣ⁹",{"$f":"CONCATENATE(B34,O34)","v":"wˣ⁹"},{"$f":"CONCATENATE(F34,O34)","v":"9ˣ⁹"},"ˣ¹","ˣ²","ˣ³","ˣ⁴","ˣ⁵","ˣ⁶","ˣ⁷","ˣ⁸","ˣ⁹"]
[33,"r",4,"4",5,"5",20,"20","÷",null,"r/5 = 20",null,null,"5","ˣ⁵","rˣ⁵","5ˣ⁵","ˣ¹","ˣ²","ˣ³","ˣ⁴","ˣ⁵","ˣ⁶","ˣ⁷","ˣ⁸","ˣ⁹"]
[34,"u",4,"4",5,"5",20,"20","÷",null,"u/5 = 20",null,null,"5","ˣ⁵","uˣ⁵","5ˣ⁵","ˣ¹","ˣ²","ˣ³","ˣ⁴","ˣ⁵","ˣ⁶","ˣ⁷","ˣ⁸","ˣ⁹"]
[35,"h",2,"2",3,"3",6,"6","÷",null,"h/3 = 6",null,null,"3","ˣ³","hˣ³","3ˣ³","ˣ¹","ˣ²","ˣ³","ˣ⁴","ˣ⁵","ˣ⁶","ˣ⁷","ˣ⁸","ˣ⁹"]
[36,"l",3,"3",8,"8",24,"24","÷",null,"l/8 = 24",null,null,"8","ˣ⁸","lˣ⁸","8ˣ⁸","ˣ¹","ˣ²","ˣ³","ˣ⁴","ˣ⁵","ˣ⁶","ˣ⁷","ˣ⁸","ˣ⁹"]
[37,"y",9,"9",8,"8",72,"72","÷",null,"y/8 = 72",null,null,"8","ˣ⁸","yˣ⁸","8ˣ⁸","ˣ¹","ˣ²","ˣ³","ˣ⁴","ˣ⁵","ˣ⁶","ˣ⁷","ˣ⁸","ˣ⁹"]
[38,"j",4,"4",5,"5",20,"20","÷",null,"j/5 = 20",null,null,"5","ˣ⁵","jˣ⁵","5ˣ⁵","ˣ¹","ˣ²","ˣ³","ˣ⁴","ˣ⁵","ˣ⁶","ˣ⁷","ˣ⁸","ˣ⁹"]
[39,"d",9,"9",6,"6",54,"54","÷",null,"d/6 = 54",null,null,"6","ˣ⁶","dˣ⁶","6ˣ⁶","ˣ¹","ˣ²","ˣ³","ˣ⁴","ˣ⁵","ˣ⁶","ˣ⁷","ˣ⁸","ˣ⁹"]
[40,"q",3,"3",8,"8",24,"24","÷",null,"q/8 = 24",null,null,"8","ˣ⁸","qˣ⁸","8ˣ⁸","ˣ¹","ˣ²","ˣ³","ˣ⁴","ˣ⁵","ˣ⁶","ˣ⁷","ˣ⁸","ˣ⁹"]
[]
[]
[]
[]
[null,null,null,null,null,null,null,null,{"$f":"CHAR(111)","v":"o"}]