{"text_format":"1","workbook":"xlsx","n_sheets":4,"sheets":["Select","Working","WorkSheet","Answers"],"not_rendered":{"charts":0,"images":6,"macros":1,"external_links":0,"defined_names":0,"comments":0,"pivot_tables":0},"unopened":[],"bounds":{"document_bytes":16777216,"sheet_cells":100000,"rows_first":2000,"rows_last":500,"rows_between":2000,"halvings":0,"cell_chars":16384,"cell_head_chars":4096},"cells_cut":0,"cells_raw":0,"read":"whole","date_system":"1900"}

{"sheet":"Select","index":0,"n_rows":15,"n_cols":8,"rows_kept":15,"cut":false,"hidden":false,"merged":[[8,2,8,6],[9,2,12,7],[0,2,0,6],[1,2,1,7],[2,2,2,4],[2,7,5,8]]}
[null,null,"INSTRUCTIONS"]
[null,"Step 1","Select Desired type of Solving Equations"]
[null,null,null,null,null,null,null,"PRESS F9 for NEW WorkSheet"]
[]
[]
[]
[]
[]
[null,"Step 2","Click on Select tab below to choose different WorkSheet."]
[null,"Note","If you click on the WorkSheet tab then hold down shift and click on the Solutions tab, you will be able to print both the WorkSheet and the solutions."]
[]
[]
[]
[null,null,"NOTE:"]
[null,null,"* Solutions only, without working, are given."]

{"sheet":"Working","index":1,"n_rows":77,"n_cols":110,"rows_kept":77,"cut":false,"hidden":true,"merged":[]}
[{"$f":"INT(900*RAND()+100)","v":771},{"$f":"TEXT(1,A1)","v":"771"},"SLE-"]
[null,null,"Y","m",null,"c",null,"mc",null,"n","mc/n",null,"a",null,null,null,"b",null,"b",null,null,"d",null,"d",null,null,null,null,null,null,"div 2",null,"div 3",null,"div 5",null,"div 7",null,"div 11",null,"div 13",null,"div 2",null,"div 3",null,null,null,null,null,null,"Solution - x",null,null,null,"Coefficient - c",null,null,"Constant - b",null,null,null,"Coeffic. - Diff",null,null,"Coefficient - a",null,"Equals - d",null,null,null,null,null,"Solution - x",null,null,null,"Coefficient - a",null,null,"Constant - b",null,null,null,"Equals - c",null,null,null,null,"Solution","Constant",null,"Equals",null,null,"Random Question","1 Step",null,null,"2 Step",null,null,"3 STEP",null,null,"Brackets",null,null,null,"SOLVING EQUATIONS WITH BRACKETS"]
[1,{"$f":"INT(24*RAND()+97)","v":112},{"$f":"IF(B3=108,CHAR(B3+1),CHAR(B3))","v":"p"},1,{"$f":"IF(D3=1,\"\",D3)","v":""},0,{"$f":"IF(F3=1,\"\",F3)","v":0},{"$f":"D3*F3","v":0},{"$f":"INT(3*RAND()+2)","v":4},{"$f":"IF(I3=D3,I3+1,I3)","v":4},{"$f":"H3/J3","v":0},{"$f":"ROUNDUP(K3,0)","v":0},{"$f":"L3+INT(2*RAND()+2)","v":3},{"$f":"INT(3*RAND()+1)","v":3},{"$f":"INT(2*RAND())","v":1},{"$f":"D3*J3*(-1)^O3","v":-4},{"$f":"P3/J3","v":-1},{"$f":"IF(Q3=0,\"\",(IF(Q3<0,\" - \",\" + \")))","v":" - "},{"$f":"ABS(Q3)","v":1},{"$f":"P3/D3","v":-4},{"$f":"D3*INT(8*RAND()+3)","v":8},{"$f":"T3+U3","v":4},{"$f":"IF(V3=0,\"\",(IF(V3<0,\" - \",\" + \")))","v":" + "},{"$f":"IF(AND(G3=0,V3=0),0,IF(V3=0,\"\",ABS(V3)))","v":4},{"$f":"(D3*V3-J3*Q3)","v":8},{"$f":"(M3*J3-F3*D3)","v":12},{"$f":"MOD(Y3,Z3)","v":8},{"$f":"Y3-AA3","v":0},{"$f":"AB3/Z3","v":0},{"$f":"IF(AC3=0,\"\",AC3)","v":""},{"$f":"IF($AA3=1,1,(IF(AND(INT($Z3/2)=$Z3/2,INT($AA3/2)=$AA3/2),$AA3/2,$AA3)))","v":4},{"$f":"IF(AND(INT($Z3/2)=$Z3/2,INT($AA3/2)=$AA3/2),$Z3/2,$Z3)","v":6},{"$f":"IF(AF3=1,1,(IF(AND(INT(AE3/3)=AE3/3,INT(AF3/3)=AF3/3),AE3/3,AE3)))","v":4},{"$f":"IF(AND(INT(AF3/3)=AF3/3,INT(AE3/3)=AE3/3),AF3/3,AF3)","v":6},{"$f":"IF(AH3=1,1,(IF(AND(INT(AG3/5)=AG3/5,INT(AH3/5)=AH3/5),AG3/5,AG3)))","v":4},{"$f":"IF(AND(INT(AH3/5)=AH3/5,INT(AG3/5)=AG3/5),AH3/5,AH3)","v":6},{"$f":"IF(AJ3=1,1,(IF(AND(INT(AI3/7)=AI3/7,INT(AJ3/7)=AJ3/7),AI3/7,AI3)))","v":4},{"$f":"IF(AND(INT(AJ3/7)=AJ3/7,INT(AI3/7)=AI3/7),AJ3/7,AJ3)","v":6},{"$f":"IF(AL3=1,1,(IF(AND(INT(AK3/11)=AK3/11,INT(AL3/11)=AL3/11),AK3/11,AK3)))","v":4},{"$f":"IF(AND(INT(AL3/11)=AL3/11,INT(AK3/11)=AK3/11),AL3/11,AL3)","v":6},{"$f":"IF(AN3=1,1,(IF(AND(INT(AM3/13)=AM3/13,INT(AN3/13)=AN3/13),AM3/13,AM3)))","v":4},{"$f":"IF(AND(INT(AN3/13)=AN3/13,INT(AM3/13)=AM3/13),AN3/13,AN3)","v":6},{"$f":"IF(AL3=1,1,(IF(AND(INT(AO3/2)=AO3/2,INT(AP3/2)=AP3/2),AO3/2,AO3)))","v":2},{"$f":"IF(AND(INT(AP3/2)=AP3/2,INT(AO3/2)=AO3/2),AP3/2,AP3)","v":3},{"$f":"IF(AR3=1,1,(IF(AND(INT(AQ3/3)=AQ3/3,INT(AR3/3)=AR3/3),AQ3/3,AQ3)))","v":2},{"$f":"IF(AND(INT(AR3/3)=AR3/3,INT(AQ3/3)=AQ3/3),AR3/3,AR3)","v":3},{"$f":"CONCATENATE(AD3,\" \",AS3,\"/\",AT3)","v":" 2/3"},{"$f":"IF($AA3=0,$AC3,$AU3)","v":" 2/3"},{"$f":"CONCATENATE($J3,\"(\",$M3,$C3,$R3,$S3,\") = \",$X3)","v":"4(3p - 1) = 4"},{"$f":"CONCATENATE($C3,\" = \",$AV3)","v":"p =  2/3"},null,{"$f":"INT(5*RAND()+1)","v":5},0,{"$f":"IF(BA3=0,\"\",\"-\")","v":""},{"$f":"IF(BA3=1,-AZ3,AZ3)","v":5},{"$f":"INT(5*RAND()+1)","v":4},{"$f":"INT(2*RAND())","v":0},{"$f":"IF(BD3=1,\"\",BD3)","v":4},{"$f":"INT(9*RAND()+1)","v":4},0,{"$f":"IF(BH3=0,\" + \",\" - \")","v":" + "},{"$f":"IF(BH3=1,-BG3,BG3)","v":4},{"$f":"INT(5*RAND()+1)","v":1},{"$f":"INT(2*RAND())","v":0},{"$f":"IF(BK3=1,\"\",BK3)","v":""},{"$f":"BD3+BK3","v":5},{"$f":"IF(BN3=1,\"\",BN3)","v":5},{"$f":"BC3*BK3+BJ3","v":9},{"$f":"IF(BP3=0,\"\",(IF(BP3<0,\" - \",\" + \")))","v":" + "},{"$f":"IF(BP3=0,\"\",ABS(BP3))","v":9},{"$f":"CONCATENATE($BO3,$C3,$BI3,$BG3,\" = \",$BF3,$C3,$BQ3,$BR3)","v":"5p + 4 = 4p + 9"},{"$f":"CONCATENATE($C3,\" = \",$BC3)","v":"p = 5"},null,{"$f":"INT(9*RAND()+1)","v":9},0,{"$f":"IF(BW3=0,\"\",\"-\")","v":""},{"$f":"IF(BW3=1,-(FIXED(BV3,0,FALSE)),FIXED(BV3,0,FALSE))","v":"9"},{"$f":"INT(9*RAND()+2)","v":2},{"$f":"INT(2*RAND())","v":1},{"$f":"IF(BZ3=1,\"\",FIXED(BZ3,0,FALSE))","v":"2"},{"$f":"INT(9*RAND()+1)","v":7},0,{"$f":"IF(CD3=0,\" + \",\" - \")","v":" + "},{"$f":"IF(CD3=1,-(FIXED(CC3,0,FALSE)),FIXED(CC3,0,FALSE))","v":"7"},{"$f":"BY3*BZ3+CF3","v":25},{"$f":"FIXED(CG3,0,FALSE)","v":"25"},{"$f":"CONCATENATE($CB3,$C3,$CE3,$CC3,\" = \",$CH3)","v":"2p + 7 = 25"},{"$f":"CONCATENATE($C3,\" = \",$BY3)","v":"p = 9"},null,{"$f":"INT(8*RAND()+2)","v":9},{"$f":"INT(9*RAND()+1)","v":8},{"$f":"IF(CM3=1,\"\",FIXED(CM3,0,FALSE))","v":"8"},{"$f":"CL3+CM3","v":17},{"$f":"CONCATENATE($C3,\" + \",$CM3,\" = \",$CO3)","v":"p + 8 = 17"},{"$f":"CONCATENATE($C3,\" = \",$CL3)","v":"p = 9"},9,{"$f":"$CP3","v":"p + 8 = 17"},{"$f":"$CQ3","v":"p = 9"},null,{"$f":"$CI3","v":"2p + 7 = 25"},{"$f":"$CJ3","v":"p = 9"},null,{"$f":"$BS3","v":"5p + 4 = 4p + 9"},{"$f":"$BT3","v":"p = 5"},null,{"$f":"$AW3","v":"4(3p - 1) = 4"},{"$f":"$AX3","v":"p =  2/3"},null,{"$f":"OFFSET(CT3,0,VALUE(CR3))","v":"p =  2/3"},{"$f":"OFFSET(CS3,0,VALUE(CR3))","v":"4(3p - 1) = 4"}]
[2,{"$f":"INT(24*RAND()+97)","v":101},{"$f":"IF(B4=108,CHAR(B4+1),CHAR(B4))","v":"e"},1,{"$f":"IF(D4=1,\"\",D4)","v":""},0,0,{"$f":"D4*F4","v":0},{"$f":"INT(3*RAND()+2)","v":2},{"$f":"IF(I4=D4,I4+1,I4)","v":2},{"$f":"H4/J4","v":0},{"$f":"ROUNDUP(K4,0)","v":0},{"$f":"L4+INT(2*RAND()+2)","v":3},{"$f":"INT(3*RAND()+1)","v":2},{"$f":"INT(2*RAND())","v":0},{"$f":"D4*J4*(-1)^O4","v":2},{"$f":"P4/J4","v":1},{"$f":"IF(Q4=0,\"\",(IF(Q4<0,\" - \",\" + \")))","v":" + "},{"$f":"ABS(Q4)","v":1},2,5,{"$f":"T4+U4","v":7},{"$f":"IF(V4=0,\"\",(IF(V4<0,\" - \",\" + \")))","v":" + "},{"$f":"IF(AND(G4=0,V4=0),0,IF(V4=0,\"\",ABS(V4)))","v":7},{"$f":"(D4*V4-J4*Q4)","v":5},{"$f":"(M4*J4-F4*D4)","v":6},{"$f":"MOD(Y4,Z4)","v":5},{"$f":"Y4-AA4","v":0},{"$f":"AB4/Z4","v":0},{"$f":"IF(AC4=0,\"\",AC4)","v":""},{"$f":"IF($AA4=1,1,(IF(AND(INT($Z4/2)=$Z4/2,INT($AA4/2)=$AA4/2),$AA4/2,$AA4)))","v":5},{"$f":"IF(AND(INT($Z4/2)=$Z4/2,INT($AA4/2)=$AA4/2),$Z4/2,$Z4)","v":6},{"$f":"IF(AF4=1,1,(IF(AND(INT(AE4/3)=AE4/3,INT(AF4/3)=AF4/3),AE4/3,AE4)))","v":5},{"$f":"IF(AND(INT(AF4/3)=AF4/3,INT(AE4/3)=AE4/3),AF4/3,AF4)","v":6},{"$f":"IF(AH4=1,1,(IF(AND(INT(AG4/5)=AG4/5,INT(AH4/5)=AH4/5),AG4/5,AG4)))","v":5},{"$f":"IF(AND(INT(AH4/5)=AH4/5,INT(AG4/5)=AG4/5),AH4/5,AH4)","v":6},{"$f":"IF(AJ4=1,1,(IF(AND(INT(AI4/7)=AI4/7,INT(AJ4/7)=AJ4/7),AI4/7,AI4)))","v":5},{"$f":"IF(AND(INT(AJ4/7)=AJ4/7,INT(AI4/7)=AI4/7),AJ4/7,AJ4)","v":6},{"$f":"IF(AL4=1,1,(IF(AND(INT(AK4/11)=AK4/11,INT(AL4/11)=AL4/11),AK4/11,AK4)))","v":5},{"$f":"IF(AND(INT(AL4/11)=AL4/11,INT(AK4/11)=AK4/11),AL4/11,AL4)","v":6},{"$f":"IF(AN4=1,1,(IF(AND(INT(AM4/13)=AM4/13,INT(AN4/13)=AN4/13),AM4/13,AM4)))","v":5},{"$f":"IF(AND(INT(AN4/13)=AN4/13,INT(AM4/13)=AM4/13),AN4/13,AN4)","v":6},{"$f":"IF(AL4=1,1,(IF(AND(INT(AO4/2)=AO4/2,INT(AP4/2)=AP4/2),AO4/2,AO4)))","v":5},{"$f":"IF(AND(INT(AP4/2)=AP4/2,INT(AO4/2)=AO4/2),AP4/2,AP4)","v":6},{"$f":"IF(AR4=1,1,(IF(AND(INT(AQ4/3)=AQ4/3,INT(AR4/3)=AR4/3),AQ4/3,AQ4)))","v":5},{"$f":"IF(AND(INT(AR4/3)=AR4/3,INT(AQ4/3)=AQ4/3),AR4/3,AR4)","v":6},{"$f":"CONCATENATE(AD4,\" \",AS4,\"/\",AT4)","v":" 5/6"},{"$f":"IF($AA4=0,$AC4,$AU4)","v":" 5/6"},{"$f":"CONCATENATE($J4,\"(\",$M4,$C4,$R4,$S4,\") = \",$X4)","v":"2(3e + 1) = 7"},{"$f":"CONCATENATE($C4,\" = \",$AV4)","v":"e =  5/6"},null,1,0,{"$f":"IF(BA4=0,\"\",\"-\")","v":""},{"$f":"IF(BA4=1,-AZ4,AZ4)","v":1},{"$f":"INT(5*RAND()+1)","v":4},{"$f":"INT(2*RAND())","v":1},{"$f":"IF(BD4=1,\"\",BD4)","v":4},{"$f":"INT(9*RAND()+1)","v":3},0,{"$f":"IF(BH4=0,\" + \",\" - \")","v":" + "},{"$f":"IF(BH4=1,-BG4,BG4)","v":3},{"$f":"INT(5*RAND()+1)","v":3},{"$f":"INT(2*RAND())","v":0},{"$f":"IF(BK4=1,\"\",BK4)","v":3},{"$f":"BD4+BK4","v":7},{"$f":"IF(BN4=1,\"\",BN4)","v":7},{"$f":"BC4*BK4+BJ4","v":6},{"$f":"IF(BP4=0,\"\",(IF(BP4<0,\" - \",\" + \")))","v":" + "},{"$f":"IF(BP4=0,\"\",ABS(BP4))","v":6},"7e + 3 = 4e + 6",{"$f":"CONCATENATE($C4,\" = \",$BC4)","v":"e = 1"},null,{"$f":"INT(9*RAND()+1)","v":7},0,{"$f":"IF(BW4=0,\"\",\"-\")","v":""},{"$f":"IF(BW4=1,-(FIXED(BV4,0,FALSE)),FIXED(BV4,0,FALSE))","v":"7"},{"$f":"INT(9*RAND()+2)","v":4},{"$f":"INT(2*RAND())","v":0},{"$f":"IF(BZ4=1,\"\",FIXED(BZ4,0,FALSE))","v":"4"},{"$f":"INT(9*RAND()+1)","v":5},0,{"$f":"IF(CD4=0,\" + \",\" - \")","v":" + "},{"$f":"IF(CD4=1,-(FIXED(CC4,0,FALSE)),FIXED(CC4,0,FALSE))","v":"5"},{"$f":"BY4*BZ4+CF4","v":33},{"$f":"FIXED(CG4,0,FALSE)","v":"33"},"4e + 5 = 33","e = 7",null,{"$f":"INT(8*RAND()+2)","v":8},{"$f":"INT(9*RAND()+1)","v":9},{"$f":"IF(CM4=1,\"\",FIXED(CM4,0,FALSE))","v":"9"},17,"e + 9 = 17","e = 8",9,{"$f":"$CP4","v":"e + 9 = 17"},{"$f":"$CQ4","v":"e = 8"},null,{"$f":"$CI4","v":"4e + 5 = 33"},{"$f":"$CJ4","v":"e = 7"},null,{"$f":"$BS4","v":"7e + 3 = 4e + 6"},{"$f":"$BT4","v":"e = 1"},null,{"$f":"$AW4","v":"2(3e + 1) = 7"},{"$f":"$AX4","v":"e =  5/6"},null,"e =  5/6","2(3e + 1) = 7"]
[3,105,"i",1,"",0,0,0,3,3,0,0,{"$f":"L5+INT(2*RAND()+2)","v":3},3,1,-3,-1," - ",1,-3,8,5," + ",{"$f":"IF(AND(G5=0,V5=0),0,IF(V5=0,\"\",ABS(V5)))","v":5},8,9,8,0,0,"",8,9,8,9,8,9,8,9,8,9,8,9,8,9,8,9," 8/9"," 8/9","3(3i - 1) = 5","i =  8/9",null,3,0,"",{"$f":"IF(BA5=1,-AZ5,AZ5)","v":3},{"$f":"INT(5*RAND()+1)","v":1},0,{"$f":"IF(BD5=1,\"\",BD5)","v":""},9,0," + ",9,{"$f":"INT(5*RAND()+1)","v":2},0,{"$f":"IF(BK5=1,\"\",BK5)","v":2},{"$f":"BD5+BK5","v":3},{"$f":"IF(BN5=1,\"\",BN5)","v":3},{"$f":"BC5*BK5+BJ5","v":15},{"$f":"IF(BP5=0,\"\",(IF(BP5<0,\" - \",\" + \")))","v":" + "},{"$f":"IF(BP5=0,\"\",ABS(BP5))","v":15},"3i + 9 = i + 15","i = 3",null,{"$f":"INT(9*RAND()+1)","v":5},0,"",{"$f":"IF(BW5=1,-(FIXED(BV5,0,FALSE)),FIXED(BV5,0,FALSE))","v":"5"},{"$f":"INT(9*RAND()+2)","v":5},0,"5",8,0," + ",{"$f":"IF(CD5=1,-(FIXED(CC5,0,FALSE)),FIXED(CC5,0,FALSE))","v":"8"},{"$f":"BY5*BZ5+CF5","v":33},{"$f":"FIXED(CG5,0,FALSE)","v":"33"},"5i + 8 = 33","i = 5",null,8,6,"6",14,"i + 6 = 14","i = 8",9,"i + 6 = 14","i = 8",null,"5i + 8 = 33","i = 5",null,"3i + 9 = i + 15","i = 3",null,"3(3i - 1) = 5","i =  8/9",null,"i =  8/9","3(3i - 1) = 5"]
[4,109,"m",1,"",0,0,0,4,4,0,0,3,1,1,-4,-1," - ",1,-4,4,0,"",0,4,12,4,0,0,"",2,6,2,6,2,6,2,6,2,6,2,6,1,3,1,3," 1/3"," 1/3","4(3m - 1) = 0","m =  1/3",null,5,0,"",5,5,0,5,7,0," + ",7,3,1,3,8,8,22," + ",22,"8m + 7 = 5m + 22","m = 5",null,6,0,"","6",2,1,"2",5,0," + ","5",17,"17","2m + 5 = 17","m = 6",null,8,8,"8",16,"m + 8 = 16","m = 8",9,"m + 8 = 16","m = 8",null,"2m + 5 = 17","m = 6",null,"8m + 7 = 5m + 22","m = 5",null,"4(3m - 1) = 0","m =  1/3",null,"m =  1/3","4(3m - 1) = 0"]
[5,103,"g",1,"",0,0,0,2,2,0,0,2,2,1,-2,-1," - ",1,-2,5,3," + ",3,5,4,1,4,1,1,1,4,1,4,1,4,1,4,1,4,1,4,1,4,1,4,"1 1/4","1 1/4","2(2g - 1) = 3","g = 1 1/4",null,4,0,"",4,3,0,3,9,0," + ",9,5,0,5,8,8,29," + ",29,"8g + 9 = 3g + 29","g = 4",null,8,0,"","8",6,1,"6",5,0," + ","5",53,"53","6g + 5 = 53","g = 8",null,6,9,"9",15,"g + 9 = 15","g = 6",9,"g + 9 = 15","g = 6",null,"6g + 5 = 53","g = 8",null,"8g + 9 = 3g + 29","g = 4",null,"2(2g - 1) = 3","g = 1 1/4",null,"g = 1 1/4","2(2g - 1) = 3"]
[6,97,"a",1,"",0,0,0,2,2,0,0,3,3,0,2,1," + ",1,2,6,8," + ",8,6,6,0,6,1,1,0,3,0,1,1,1,1,1,1,1,1,1,1,1,1,1,"1 1/1",1,"2(3a + 1) = 8","a = 1",null,4,0,"",4,2,0,2,9,0," + ",9,1,1,"",3,3,13," + ",13,"3a + 9 = 2a + 13","a = 4",null,3,0,"","3",6,1,"6",4,0," + ","4",22,"22","6a + 4 = 22","a = 3",null,4,8,"8",12,"a + 8 = 12","a = 4",9,"a + 8 = 12","a = 4",null,"6a + 4 = 22","a = 3",null,"3a + 9 = 2a + 13","a = 4",null,"2(3a + 1) = 8","a = 1",null,"a = 1","2(3a + 1) = 8"]
[7,111,"o",1,"",0,0,0,3,3,0,0,2,2,0,3,1," + ",1,3,6,9," + ",9,6,6,0,6,1,1,0,3,0,1,1,1,1,1,1,1,1,1,1,1,1,1,"1 1/1",1,"3(2o + 1) = 9","o = 1",null,{"$f":"INT(9*RAND()+1)","v":1},0,"",1,1,1,"",5,0," + ",5,3,1,3,4,4,8," + ",8,"4o + 5 = o + 8","o = 1",null,1,0,"","1",2,1,"2",5,0," + ","5",7,"7","2o + 5 = 7","o = 1",null,4,9,"9",13,"o + 9 = 13","o = 4",9,"o + 9 = 13","o = 4",null,"2o + 5 = 7","o = 1",null,"4o + 5 = o + 8","o = 1",null,"3(2o + 1) = 9","o = 1",null,"o = 1","3(2o + 1) = 9"]
[8,104,"h",1,"",0,0,0,3,3,0,0,2,3,1,-3,-1," - ",1,-3,4,1," + ",1,4,6,4,0,0,"",2,3,2,3,2,3,2,3,2,3,2,3,2,3,2,3," 2/3"," 2/3","3(2h - 1) = 1","h =  2/3",null,2,1,"-",-2,3,1,3,2,0," + ",2,4,1,4,7,7,-6," - ",6,"7h + 2 = 3h - 6","h = -2",null,1,1,"-",-1,5,0,"5",2,0," + ","2",-3,"-3","5h + 2 = -3","h = -1",null,9,7,"7",16,"h + 7 = 16","h = 9",9,"h + 7 = 16","h = 9",null,"5h + 2 = -3","h = -1",null,"7h + 2 = 3h - 6","h = -2",null,"3(2h - 1) = 1","h =  2/3",null,"h =  2/3","3(2h - 1) = 1"]
[9,115,"s",1,"",0,0,0,2,2,0,0,3,2,0,2,1," + ",1,2,4,6," + ",6,4,6,4,0,0,"",2,3,2,3,2,3,2,3,2,3,2,3,2,3,2,3," 2/3"," 2/3","2(3s + 1) = 6","s =  2/3",null,9,1,"-",-9,4,1,4,6,0," + ",6,2,1,2,6,6,-12," - ",12,"6s + 6 = 4s - 12","s = -9",null,2,1,"-",-2,6,0,"6",3,0," + ","3",-9,"-9","6s + 3 = -9","s = -2",null,5,3,"3",8,"s + 3 = 8","s = 5",9,"s + 3 = 8","s = 5",null,"6s + 3 = -9","s = -2",null,"6s + 6 = 4s - 12","s = -9",null,"2(3s + 1) = 6","s =  2/3",null,"s =  2/3","2(3s + 1) = 6"]
[10,98,"b",1,"",0,0,0,2,2,0,0,2,3,1,-2,-1," - ",1,-2,5,3," + ",3,5,4,1,4,1,1,1,4,1,4,1,4,1,4,1,4,1,4,1,4,1,4,"1 1/4","1 1/4","2(2b - 1) = 3","b = 1 1/4",null,1,1,"-",-1,2,1,2,4,0," + ",4,4,1,4,6,6,0,"","","6b + 4 = 2b","b = -1",null,3,1,"-",-3,10,0,"10",3,0," + ","3",-27,"-27","10b + 3 = -27","b = -3",null,3,9,"9",12,"b + 9 = 12","b = 3",9,"b + 9 = 12","b = 3",null,"10b + 3 = -27","b = -3",null,"6b + 4 = 2b","b = -1",null,"2(2b - 1) = 3","b = 1 1/4",null,"b = 1 1/4","2(2b - 1) = 3"]
[11,106,"j",1,"",0,0,0,3,3,0,0,2,2,0,3,1," + ",1,3,6,9," + ",9,6,6,0,6,1,1,0,3,0,1,1,1,1,1,1,1,1,1,1,1,1,1,"1 1/1",1,"3(2j + 1) = 9","j = 1",null,1,1,"-",-1,1,0,"",5,0," + ",5,3,1,3,4,4,2," + ",2,"4j + 5 = j + 2","j = -1",null,2,1,"-",-2,8,1,"8",9,0," + ","9",-7,"-7","8j + 9 = -7","j = -2",null,{"$f":"INT(16*RAND()-8)","v":-6},8,"8",2,"j + 8 = 2","j = -6",9,"j + 8 = 2","j = -6",null,"8j + 9 = -7","j = -2",null,"4j + 5 = j + 2","j = -1",null,"3(2j + 1) = 9","j = 1",null,"j = 1","3(2j + 1) = 9"]
[12,120,"x",1,"",0,0,0,2,2,0,0,3,3,0,2,1," + ",1,2,5,7," + ",7,5,6,5,0,0,"",5,6,5,6,5,6,5,6,5,6,5,6,5,6,5,6," 5/6"," 5/6","2(3x + 1) = 7","x =  5/6",null,2,1,"-",-2,3,1,3,4,0," + ",4,4,0,4,7,7,-4," - ",4,"7x + 4 = 3x - 4","x = -2",null,9,1,"-",-9,5,1,"5",9,0," + ","9",-36,"-36","5x + 9 = -36","x = -9",null,{"$f":"INT(16*RAND()-8)","v":-8},8,"8",0,"x + 8 = 0","x = -8",9,"x + 8 = 0","x = -8",null,"5x + 9 = -36","x = -9",null,"7x + 4 = 3x - 4","x = -2",null,"2(3x + 1) = 7","x =  5/6",null,"x =  5/6","2(3x + 1) = 7"]
[13,118,"v",1,"",0,0,0,4,4,0,0,2,1,0,4,1," + ",1,4,10,14," + ",14,10,8,2,8,1,1,1,4,1,4,1,4,1,4,1,4,1,4,1,4,1,4,"1 1/4","1 1/4","4(2v + 1) = 14","v = 1 1/4",null,2,1,"-",-2,2,0,2,6,0," + ",6,2,1,2,4,4,2," + ",2,"4v + 6 = 2v + 2","v = -2",null,6,1,"-",-6,8,1,"8",8,0," + ","8",-40,"-40","8v + 8 = -40","v = -6",null,-2,1,"",-1,"v + 1 = -1","v = -2",9,"v + 1 = -1","v = -2",null,"8v + 8 = -40","v = -6",null,"4v + 6 = 2v + 2","v = -2",null,"4(2v + 1) = 14","v = 1 1/4",null,"v = 1 1/4","4(2v + 1) = 14"]
[14,97,"a",1,"",0,0,0,3,3,0,0,2,1,0,3,1," + ",1,3,8,11," + ",11,8,6,2,6,1,1,1,3,1,3,1,3,1,3,1,3,1,3,1,3,1,3,"1 1/3","1 1/3","3(2a + 1) = 11","a = 1 1/3",null,2,1,"-",-2,1,1,"",7,0," + ",7,3,0,3,4,4,1," + ",1,"4a + 7 = a + 1","a = -2",null,4,1,"-",-4,4,0,"4",6,0," + ","6",-10,"-10","4a + 6 = -10","a = -4",null,7,2,"2",9,"a + 2 = 9","a = 7",9,"a + 2 = 9","a = 7",null,"4a + 6 = -10","a = -4",null,"4a + 7 = a + 1","a = -2",null,"3(2a + 1) = 11","a = 1 1/3",null,"a = 1 1/3","3(2a + 1) = 11"]
[15,118,"v",1,"",0,0,0,3,3,0,0,2,1,1,-3,-1," - ",1,-3,5,2," + ",2,5,6,5,0,0,"",5,6,5,6,5,6,5,6,5,6,5,6,5,6,5,6," 5/6"," 5/6","3(2v - 1) = 2","v =  5/6",null,5,{"$f":"INT(2*RAND())","v":0},"",5,1,0,"",2,0," + ",2,2,1,2,3,3,12," + ",12,"3v + 2 = v + 12","v = 5",null,6,1,"-",-6,5,1,"5",1,0," + ","1",-29,"-29","5v + 1 = -29","v = -6",null,-1,9,"9",8,"v + 9 = 8","v = -1",9,"v + 9 = 8","v = -1",null,"5v + 1 = -29","v = -6",null,"3v + 2 = v + 12","v = 5",null,"3(2v - 1) = 2","v =  5/6",null,"v =  5/6","3(2v - 1) = 2"]
[16,106,"j",1,"",0,0,0,2,2,0,0,2,2,1,-2,-1," - ",1,-2,5,3," + ",3,5,4,1,4,1,1,1,4,1,4,1,4,1,4,1,4,1,4,1,4,1,4,"1 1/4","1 1/4","2(2j - 1) = 3","j = 1 1/4",null,8,1,"-",-8,4,0,4,5,0," + ",5,1,0,"",5,5,-3," - ",3,"5j + 5 = 4j - 3","j = -8",null,6,{"$f":"INT(2*RAND())","v":0},"","6",8,0,"8",9,0," + ","9",57,"57","8j + 9 = 57","j = 6",null,-6,4,"4",-2,"j + 4 = -2","j = -6",9,"j + 4 = -2","j = -6",null,"8j + 9 = 57","j = 6",null,"5j + 5 = 4j - 3","j = -8",null,"2(2j - 1) = 3","j = 1 1/4",null,"j = 1 1/4","2(2j - 1) = 3"]
[17,104,"h",1,"",0,0,0,2,2,0,0,2,1,0,2,1," + ",1,2,6,8," + ",8,6,4,2,4,1,1,1,2,1,2,1,2,1,2,1,2,1,2,1,2,1,2,"1 1/2","1 1/2","2(2h + 1) = 8","h = 1 1/2",null,3,0,"",3,3,0,3,2,0," + ",2,1,0,"",4,4,5," + ",5,"4h + 2 = 3h + 5","h = 3",null,1,{"$f":"INT(2*RAND())","v":0},"","1",7,0,"7",7,0," + ","7",14,"14","7h + 7 = 14","h = 1",null,-8,9,"9",1,"h + 9 = 1","h = -8",9,"h + 9 = 1","h = -8",null,"7h + 7 = 14","h = 1",null,"4h + 2 = 3h + 5","h = 3",null,"2(2h + 1) = 8","h = 1 1/2",null,"h = 1 1/2","2(2h + 1) = 8"]
[18,109,"m",1,{"$f":"IF(D20=1,\"\",D20)","v":""},0,0,0,4,4,0,0,2,3,1,-4,-1," - ",1,-4,9,5," + ",5,9,8,1,8,1,1,1,8,1,8,1,8,1,8,1,8,1,8,1,8,1,8,"1 1/8","1 1/8","4(2m - 1) = 5","m = 1 1/8",null,4,1,"-",-4,1,1,"",3,0," + ",3,1,0,"",2,2,-1," - ",1,"2m + 3 = m - 1","m = -4",null,1,{"$f":"INT(2*RAND())","v":0},"","1",10,1,"10",2,0," + ","2",12,"12","10m + 2 = 12","m = 1",null,-3,5,"5",2,"m + 5 = 2","m = -3",9,"m + 5 = 2","m = -3",null,"10m + 2 = 12","m = 1",null,"2m + 3 = m - 1","m = -4",null,"4(2m - 1) = 5","m = 1 1/8",null,"m = 1 1/8","4(2m - 1) = 5"]
[19,105,"i",1,"",0,0,0,2,2,0,0,3,3,1,-2,-1," - ",1,-2,8,6," + ",6,8,6,2,6,1,1,1,3,1,3,1,3,1,3,1,3,1,3,1,3,1,3,"1 1/3","1 1/3","2(3i - 1) = 6","i = 1 1/3",null,2,1,"-",-2,1,1,"",5,0," + ",5,5,0,5,6,6,-5," - ",5,"6i + 5 = i - 5","i = -2",null,5,{"$f":"INT(2*RAND())","v":0},"","5",3,0,"3",9,0," + ","9",24,"24","3i + 9 = 24","i = 5",null,6,7,"7",13,"i + 7 = 13","i = 6",9,"i + 7 = 13","i = 6",null,"3i + 9 = 24","i = 5",null,"6i + 5 = i - 5","i = -2",null,"2(3i - 1) = 6","i = 1 1/3",null,"i = 1 1/3","2(3i - 1) = 6"]
[20,117,"u",1,"",0,0,0,3,3,0,0,3,2,1,-3,-1," - ",1,-3,9,6," + ",6,9,9,0,9,1,1,0,9,0,3,0,3,0,3,0,3,0,3,0,3,0,1,"1 0/1",1,"3(3u - 1) = 6","u = 1",null,4,0,"",4,5,1,5,6,1," - ",-6,3,1,3,8,8,6," + ",6,"8u - 6 = 5u + 6","u = 4",null,4,0,"","4",4,0,"4",4,1," - ",-4,12,"12","4u - 4 = 12","u = 4",null,5,1,"",6,"u + 1 = 6","u = 5",9,"u + 1 = 6","u = 5",null,"4u - 4 = 12","u = 4",null,"8u - 6 = 5u + 6","u = 4",null,"3(3u - 1) = 6","u = 1",null,"u = 1","3(3u - 1) = 6"]
[21,102,"f",1,"",0,0,0,4,4,0,0,2,1,0,4,1," + ",1,4,7,11," + ",11,7,8,7,0,0,"",7,8,7,8,7,8,7,8,7,8,7,8,7,8,7,8," 7/8"," 7/8","4(2f + 1) = 11","f =  7/8",null,4,0,"",4,5,1,5,6,1," - ",-6,5,1,5,10,10,14," + ",14,"10f - 6 = 5f + 14","f = 4",null,1,0,"","1",3,0,"3",1,1," - ",-1,2,"2","3f - 1 = 2","f = 1",null,-7,8,"8",1,"f + 8 = 1","f = -7",9,"f + 8 = 1","f = -7",null,"3f - 1 = 2","f = 1",null,"10f - 6 = 5f + 14","f = 4",null,"4(2f + 1) = 11","f =  7/8",null,"f =  7/8","4(2f + 1) = 11"]
[22,114,"r",1,"",0,0,0,4,4,0,0,3,3,0,4,1," + ",1,4,9,13," + ",13,9,12,9,0,0,"",9,12,3,4,3,4,3,4,3,4,3,4,3,4,3,4," 3/4"," 3/4","4(3r + 1) = 13","r =  3/4",null,5,0,"",5,5,0,5,1,1," - ",-1,1,0,"",6,6,4," + ",4,"6r - 1 = 5r + 4","r = 5",null,4,0,"","4",8,0,"8",8,1," - ",-8,24,"24","8r - 8 = 24","r = 4",null,-7,8,"8",1,"r + 8 = 1","r = -7",9,"r + 8 = 1","r = -7",null,"8r - 8 = 24","r = 4",null,"6r - 1 = 5r + 4","r = 5",null,"4(3r + 1) = 13","r =  3/4",null,"r =  3/4","4(3r + 1) = 13"]
[23,110,"n",1,"",0,0,0,3,3,0,0,3,3,0,3,1," + ",1,3,10,13," + ",13,10,9,1,9,1,1,1,9,1,9,1,9,1,9,1,9,1,9,1,9,1,9,"1 1/9","1 1/9","3(3n + 1) = 13","n = 1 1/9",null,2,0,"",2,1,0,"",4,1," - ",-4,1,1,"",2,2,-2," - ",2,"2n - 4 = n - 2","n = 2",null,7,0,"","7",4,1,"4",4,1," - ",-4,24,"24","4n - 4 = 24","n = 7",null,2,3,"3",5,"n + 3 = 5","n = 2",9,"n + 3 = 5","n = 2",null,"4n - 4 = 24","n = 7",null,"2n - 4 = n - 2","n = 2",null,"3(3n + 1) = 13","n = 1 1/9",null,"n = 1 1/9","3(3n + 1) = 13"]
[24,113,"q",1,"",0,0,0,3,3,0,0,2,1,1,-3,-1," - ",1,-3,10,7," + ",7,10,6,4,6,1,1,2,3,2,3,2,3,2,3,2,3,2,3,2,3,2,3,"1 2/3","1 2/3","3(2q - 1) = 7","q = 1 2/3",null,5,0,"",5,4,1,4,3,1," - ",-3,5,1,5,9,9,22," + ",22,"9q - 3 = 4q + 22","q = 5",null,8,0,"","8",6,0,"6",3,1," - ",-3,45,"45","6q - 3 = 45","q = 8",null,-8,8,"8",0,"q + 8 = 0","q = -8",9,"q + 8 = 0","q = -8",null,"6q - 3 = 45","q = 8",null,"9q - 3 = 4q + 22","q = 5",null,"3(2q - 1) = 7","q = 1 2/3",null,"q = 1 2/3","3(2q - 1) = 7"]
[25,108,"m",1,"",0,0,0,4,4,0,0,3,2,0,4,1," + ",1,4,6,10," + ",10,6,12,6,0,0,"",3,6,1,2,1,2,1,2,1,2,1,2,1,2,1,2," 1/2"," 1/2","4(3m + 1) = 10","m =  1/2",null,8,1,"-",-8,3,0,3,1,1," - ",-1,2,0,2,5,5,-17," - ",17,"5m - 1 = 3m - 17","m = -8",null,6,0,"","6",4,0,"4",5,1," - ",-5,19,"19","4m - 5 = 19","m = 6",null,-2,1,"",-1,"m + 1 = -1","m = -2",9,"m + 1 = -1","m = -2",null,"4m - 5 = 19","m = 6",null,"5m - 1 = 3m - 17","m = -8",null,"4(3m + 1) = 10","m =  1/2",null,"m =  1/2","4(3m + 1) = 10"]
[26,110,"n",1,"",{"$f":"INT(3*RAND()+1)","v":2},2,2,3,3,0.66666666666666663,1,3,2,0,3,1," + ",1,3,9,12," + ",12,9,7,2,7,1,1,2,7,2,7,2,7,2,7,2,7,2,7,2,7,2,7,"1 2/7","1 2/7",{"$f":"CONCATENATE($J28,\"(\",$M28,$C28,$R28,$S28,\") = \",$G28,$C28,$W28,$X28)","v":"3(3n + 1) = 2n + 12"},"n = 1 2/7",null,1,1,"-",-1,5,0,5,1,1," - ",-1,1,0,"",6,6,-2," - ",2,"6n - 1 = 5n - 2","n = -1",null,8,1,"-",-8,4,1,"4",7,1," - ",-7,-39,"-39","4n - 7 = -39","n = -8",null,7,4,"4",11,{"$f":"CONCATENATE($C28,\" - \",$CL28,\" = \",$CM28)","v":"n - 7 = 4"},{"$f":"CONCATENATE($C28,\" = \",$CO28)","v":"n = 11"},9,"n - 7 = 4","n = 11",null,"4n - 7 = -39","n = -8",null,"6n - 1 = 5n - 2","n = -1",null,"3(3n + 1) = 2n + 12","n = 1 2/7",null,"n = 1 2/7","3(3n + 1) = 2n + 12"]
[27,106,"j",1,"",3,3,3,3,3,1,1,3,3,0,3,1," + ",1,3,6,9," + ",9,6,6,0,6,1,1,0,3,0,1,1,1,1,1,1,1,1,1,1,1,1,1,"1 1/1",1,{"$f":"CONCATENATE($J29,\"(\",$M29,$C29,$R29,$S29,\") = \",$G29,$C29,$W29,$X29)","v":"3(3j + 1) = 3j + 9"},"j = 1",null,9,1,"-",-9,1,1,"",1,1," - ",-1,2,0,2,3,3,-19," - ",19,"3j - 1 = j - 19","j = -9",null,6,1,"-",-6,5,1,"5",2,1," - ",-2,-32,"-32","5j - 2 = -32","j = -6",null,9,5,"5",14,"j - 9 = 5","j = 14",9,"j - 9 = 5","j = 14",null,"5j - 2 = -32","j = -6",null,"3j - 1 = j - 19","j = -9",null,"3(3j + 1) = 3j + 9","j = 1",null,"j = 1","3(3j + 1) = 3j + 9"]
[28,102,"f",1,"",3,3,3,2,2,1.5,2,5,1,1,-2,-1," - ",1,-2,7,5," + ",5,7,7,0,7,1,1,0,7,0,7,0,7,0,1,1,1,1,1,1,1,1,1,"1 1/1",1,"2(5f - 1) = 3f + 5","f = 1",null,4,1,"-",-4,2,0,2,6,1," - ",-6,2,1,2,4,4,-14," - ",14,"4f - 6 = 2f - 14","f = -4",null,1,1,"-",-1,10,1,"10",9,1," - ",-9,-19,"-19","10f - 9 = -19","f = -1",null,7,6,"6",13,"f - 7 = 6","f = 13",9,"f - 7 = 6","f = 13",null,"10f - 9 = -19","f = -1",null,"4f - 6 = 2f - 14","f = -4",null,"2(5f - 1) = 3f + 5","f = 1",null,"f = 1","2(5f - 1) = 3f + 5"]
[29,106,"j",1,"",2,2,2,4,4,0.5,1,3,3,0,4,1," + ",1,4,9,13," + ",13,9,10,9,0,0,"",9,10,9,10,9,10,9,10,9,10,9,10,9,10,9,10," 9/10"," 9/10","4(3j + 1) = 2j + 13","j =  9/10",null,7,0,"",7,4,1,4,1,1," - ",-1,2,0,2,6,6,13," + ",13,"6j - 1 = 4j + 13","j = 7",null,7,1,"-",-7,10,1,"10",7,1," - ",-7,-77,"-77","10j - 7 = -77","j = -7",null,3,6,"6",9,"j - 3 = 6","j = 9",9,"j - 3 = 6","j = 9",null,"10j - 7 = -77","j = -7",null,"6j - 1 = 4j + 13","j = 7",null,"4(3j + 1) = 2j + 13","j =  9/10",null,"j =  9/10","4(3j + 1) = 2j + 13"]
[30,109,"m",1,"",3,3,3,3,3,1,1,4,3,0,3,1," + ",1,3,3,6," + ",6,3,9,3,0,0,"",3,9,1,3,1,3,1,3,1,3,1,3,1,3,1,3," 1/3"," 1/3","3(4m + 1) = 3m + 6","m =  1/3",null,4,1,"-",-4,2,1,2,7,1," - ",-7,2,1,2,4,4,-15," - ",15,"4m - 7 = 2m - 15","m = -4",null,6,{"$f":"INT(2*RAND())","v":0},"","6",8,1,"8",2,1," - ",-2,46,"46","8m - 2 = 46","m = 6",null,7,5,"5",12,"m - 7 = 5","m = 12",9,"m - 7 = 5","m = 12",null,"8m - 2 = 46","m = 6",null,"4m - 7 = 2m - 15","m = -4",null,"3(4m + 1) = 3m + 6","m =  1/3",null,"m =  1/3","3(4m + 1) = 3m + 6"]
[31,101,"e",1,"",2,2,2,3,3,0.66666666666666663,1,4,2,1,-3,-1," - ",1,-3,3,0,"","",3,10,3,0,0,"",3,10,3,10,3,10,3,10,3,10,3,10,3,10,3,10," 3/10"," 3/10","3(4e - 1) = 2e","e =  3/10",null,8,0,"",8,5,1,5,4,1," - ",-4,3,1,3,8,8,20," + ",20,"8e - 4 = 5e + 20","e = 8",null,3,1,"-",-3,8,0,"8",7,1," - ",-7,-31,"-31","8e - 7 = -31","e = -3",null,9,1,"",10,"e - 9 = 1","e = 10",9,"e - 9 = 1","e = 10",null,"8e - 7 = -31","e = -3",null,"8e - 4 = 5e + 20","e = 8",null,"3(4e - 1) = 2e","e =  3/10",null,"e =  3/10","3(4e - 1) = 2e"]
[32,99,"c",1,"",1,"",1,2,2,0.5,1,3,1,0,2,1," + ",1,2,8,10," + ",10,8,5,3,5,1,1,3,5,3,5,3,5,3,5,3,5,3,5,3,5,3,5,"1 3/5","1 3/5","2(3c + 1) = c + 10","c = 1 3/5",null,4,1,"-",-4,1,0,"",2,1," - ",-2,1,1,"",2,2,-6," - ",6,"2c - 2 = c - 6","c = -4",null,1,1,"-",-1,2,0,"2",8,1," - ",-8,-10,"-10","2c - 8 = -10","c = -1",null,5,6,"6",11,"c - 5 = 6","c = 11",9,"c - 5 = 6","c = 11",null,"2c - 8 = -10","c = -1",null,"2c - 2 = c - 6","c = -4",null,"2(3c + 1) = c + 10","c = 1 3/5",null,"c = 1 3/5","2(3c + 1) = c + 10"]
[33,116,"t",1,"",3,3,3,4,4,0.75,1,4,1,0,4,1," + ",1,4,7,11," + ",11,7,13,7,0,0,"",7,13,7,13,7,13,7,13,7,13,7,13,7,13,7,13," 7/13"," 7/13","4(4t + 1) = 3t + 11","t =  7/13",null,2,1,"-",-2,5,1,5,2,1," - ",-2,2,1,2,7,7,-6," - ",6,{"$f":"CONCATENATE($BO35,$C35,$BI35,$BG35,\" = \",$BF35,$C35,$BQ35,$BR35)","v":"7t - 2 = 5t - 6"},"t = -2",null,4,1,"-",-4,10,0,"10",2,1," - ",-2,-42,"-42",{"$f":"CONCATENATE($CB35,$C35,$CE35,$CC35,\" = \",$CH35)","v":"10t - 2 = -42"},{"$f":"CONCATENATE($C35,\" = \",$BY35)","v":"t = -4"},null,6,4,"4",{"$f":"CL35+CM35","v":10},"t - 6 = 4","t = 10",9,"t - 6 = 4","t = 10",null,"10t - 2 = -42","t = -4",null,"7t - 2 = 5t - 6","t = -2",null,"4(4t + 1) = 3t + 11","t =  7/13",null,{"$f":"OFFSET(CT35,0,VALUE(CR35))","v":"t =  7/13"},{"$f":"OFFSET(CS35,0,VALUE(CR35))","v":"4(4t + 1) = 3t + 11"}]
[34,97,"a",1,{"$f":"IF(D36=1,\"\",D36)","v":""},1,"",1,4,4,0.25,1,3,3,0,4,1," + ",1,4,9,13," + ",13,9,11,9,0,0,"",9,11,9,11,9,11,9,11,9,11,9,11,9,11,9,11," 9/11"," 9/11","4(3a + 1) = a + 13","a =  9/11",null,9,1,"-",-9,3,0,3,2,1," - ",-2,5,0,5,8,8,-47," - ",47,"8a - 2 = 3a - 47","a = -9",null,6,0,"","6",5,0,"5",9,1," - ",-9,21,"21","5a - 9 = 21","a = 6",null,2,3,"3",5,"a - 2 = 3","a = 5",9,"a - 2 = 3","a = 5",null,"5a - 9 = 21","a = 6",null,"8a - 2 = 3a - 47","a = -9",null,"4(3a + 1) = a + 13","a =  9/11",null,"a =  9/11","4(3a + 1) = a + 13"]
[35,101,"e",1,"",1,"",1,4,4,0.25,1,3,3,1,-4,-1," - ",1,-4,8,4," + ",4,8,11,8,0,0,"",8,11,8,11,8,11,8,11,8,11,8,11,8,11,8,11," 8/11"," 8/11","4(3e - 1) = e + 4","e =  8/11",null,5,1,"-",-5,4,0,4,3,1," - ",-3,2,0,2,6,6,-13," - ",13,"6e - 3 = 4e - 13","e = -5",null,9,0,"","9",9,0,"9",4,1," - ",-4,77,"77","9e - 4 = 77","e = 9",null,7,5,"5",12,"e - 7 = 5","e = 12",9,"e - 7 = 5","e = 12",null,"9e - 4 = 77","e = 9",null,"6e - 3 = 4e - 13","e = -5",null,"4(3e - 1) = e + 4","e =  8/11",null,"e =  8/11","4(3e - 1) = e + 4"]
[36,111,"o",1,"",3,3,3,4,4,0.75,1,4,2,0,4,1," + ",1,4,10,14," + ",14,10,13,10,0,0,"",10,13,10,13,10,13,10,13,10,13,10,13,10,13,10,13," 10/13"," 10/13","4(4o + 1) = 3o + 14","o =  10/13",null,7,1,"-",-7,1,1,"",9,1," - ",-9,2,1,2,3,3,-23," - ",23,"3o - 9 = o - 23","o = -7",null,4,0,"","4",5,1,"5",2,1," - ",-2,18,"18","5o - 2 = 18","o = 4",null,6,5,"5",11,"o - 6 = 5","o = 11",9,"o - 6 = 5","o = 11",null,"5o - 2 = 18","o = 4",null,"3o - 9 = o - 23","o = -7",null,"4(4o + 1) = 3o + 14","o =  10/13",null,"o =  10/13","4(4o + 1) = 3o + 14"]
[37,118,"v",1,"",1,"",1,2,2,0.5,1,4,1,0,2,1," + ",1,2,6,8," + ",8,6,7,6,0,0,"",6,7,6,7,6,7,6,7,6,7,6,7,6,7,6,7," 6/7"," 6/7","2(4v + 1) = v + 8","v =  6/7",null,2,1,"-",-2,1,0,"",2,1," - ",-2,3,1,3,4,4,-8," - ",8,"4v - 2 = v - 8","v = -2",null,4,1,"-",-4,3,0,"3",7,1," - ",-7,-19,"-19","3v - 7 = -19","v = -4",null,7,5,"5",12,"v - 7 = 5","v = 12",9,"v - 7 = 5","v = 12",null,"3v - 7 = -19","v = -4",null,"4v - 2 = v - 8","v = -2",null,"2(4v + 1) = v + 8","v =  6/7",null,"v =  6/7","2(4v + 1) = v + 8"]
[38,113,"q",1,"",3,3,3,4,4,0.75,1,4,3,0,4,1," + ",1,4,9,13," + ",13,9,13,9,0,0,"",9,13,9,13,9,13,9,13,9,13,9,13,9,13,9,13," 9/13"," 9/13","4(4q + 1) = 3q + 13","q =  9/13",null,7,1,"-",-7,5,1,5,2,1," - ",-2,1,1,"",6,6,-9," - ",9,"6q - 2 = 5q - 9","q = -7",null,4,0,"","4",10,0,"10",3,1," - ",-3,37,"37","10q - 3 = 37","q = 4",null,5,7,"7",12,"q - 5 = 7","q = 12",9,"q - 5 = 7","q = 12",null,"10q - 3 = 37","q = 4",null,"6q - 2 = 5q - 9","q = -7",null,"4(4q + 1) = 3q + 13","q =  9/13",null,"q =  9/13","4(4q + 1) = 3q + 13"]
[39,119,"w",1,"",3,3,3,2,2,1.5,2,4,2,1,-2,-1," - ",1,-2,7,5," + ",5,7,5,2,5,1,1,2,5,2,5,2,5,2,5,2,5,2,5,2,5,2,5,"1 2/5","1 2/5","2(4w - 1) = 3w + 5","w = 1 2/5",null,4,1,"-",-4,4,1,4,4,1," - ",-4,5,0,5,9,9,-24," - ",24,"9w - 4 = 4w - 24","w = -4",null,2,1,"-",-2,3,1,"3",4,1," - ",-4,-10,"-10","3w - 4 = -10","w = -2",null,9,9,"9",18,"w - 9 = 9","w = 18",9,"w - 9 = 9","w = 18",null,"3w - 4 = -10","w = -2",null,"9w - 4 = 4w - 24","w = -4",null,"2(4w - 1) = 3w + 5","w = 1 2/5",null,"w = 1 2/5","2(4w - 1) = 3w + 5"]
[40,113,"q",1,"",2,2,2,4,4,0.5,1,4,2,0,4,1," + ",1,4,6,10," + ",10,6,14,6,0,0,"",3,7,3,7,3,7,3,7,3,7,3,7,3,7,3,7," 3/7"," 3/7","4(4q + 1) = 2q + 10","q =  3/7",null,6,1,"-",-6,5,1,5,1,{"$f":"INT(2*RAND())","v":1}," - ",-1,1,1,"",6,6,-7," - ",7,"6q - 1 = 5q - 7","q = -6",null,8,1,"-",-8,9,0,"9",7,1," - ",-7,-79,"-79","9q - 7 = -79","q = -8",null,6,{"$f":"INT(16*RAND()-8)","v":-3},"-3",3,"q - 6 = -3","q = 3",9,"q - 6 = -3","q = 3",null,"9q - 7 = -79","q = -8",null,"6q - 1 = 5q - 7","q = -6",null,"4(4q + 1) = 2q + 10","q =  3/7",null,"q =  3/7","4(4q + 1) = 2q + 10"]
[41,104,"h",1,"",2,2,2,2,2,1,1,4,1,1,-2,-1," - ",1,-2,5,3," + ",3,5,6,5,0,0,"",5,6,5,6,5,6,5,6,5,6,5,6,5,6,5,6," 5/6"," 5/6","2(4h - 1) = 2h + 3","h =  5/6",null,1,0,"",1,2,0,2,7,1," - ",-7,2,1,2,4,4,-5," - ",5,"4h - 7 = 2h - 5","h = 1",null,4,0,"","4",10,0,"10",6,{"$f":"INT(2*RAND())","v":1}," - ",-6,34,"34","10h - 6 = 34","h = 4",null,6,{"$f":"INT(16*RAND()-8)","v":-4},"-4",2,"h - 6 = -4","h = 2",9,"h - 6 = -4","h = 2",null,"10h - 6 = 34","h = 4",null,"4h - 7 = 2h - 5","h = 1",null,"2(4h - 1) = 2h + 3","h =  5/6",null,"h =  5/6","2(4h - 1) = 2h + 3"]
[42,107,"k",1,"",1,"",1,2,2,0.5,1,4,1,1,-2,-1," - ",1,-2,10,8," + ",8,10,7,3,7,1,1,3,7,3,7,3,7,3,7,3,7,3,7,3,7,3,7,"1 3/7","1 3/7","2(4k - 1) = k + 8","k = 1 3/7",null,6,1,"-",-6,1,1,"",1,1," - ",-1,4,1,4,5,5,-25," - ",25,"5k - 1 = k - 25","k = -6",null,4,0,"","4",10,1,"10",2,1," - ",-2,38,"38","10k - 2 = 38","k = 4",null,7,-3,"-3",4,"k - 7 = -3","k = 4",9,"k - 7 = -3","k = 4",null,"10k - 2 = 38","k = 4",null,"5k - 1 = k - 25","k = -6",null,"2(4k - 1) = k + 8","k = 1 3/7",null,"k = 1 3/7","2(4k - 1) = k + 8"]
[43,101,"e",1,"",3,3,3,3,3,1,1,4,2,0,3,1," + ",1,3,7,10," + ",10,7,9,7,0,0,"",7,9,7,9,7,9,7,9,7,9,7,9,7,9,7,9," 7/9"," 7/9","3(4e + 1) = 3e + 10","e =  7/9",null,1,1,"-",-1,2,0,2,5,1," - ",-5,1,1,"",3,3,-6," - ",6,"3e - 5 = 2e - 6","e = -1",null,5,0,"","5",6,1,"6",3,1," - ",-3,27,"27","6e - 3 = 27","e = 5",null,3,4,"4",7,"e - 3 = 4","e = 7",9,"e - 3 = 4","e = 7",null,"6e - 3 = 27","e = 5",null,"3e - 5 = 2e - 6","e = -1",null,"3(4e + 1) = 3e + 10","e =  7/9",null,"e =  7/9","3(4e + 1) = 3e + 10"]
[44,110,"n",1,"",1,"",1,2,2,0.5,1,4,3,1,-2,-1," - ",1,-2,4,2," + ",2,4,7,4,0,0,"",4,7,4,7,4,7,4,7,4,7,4,7,4,7,4,7," 4/7"," 4/7","2(4n - 1) = n + 2","n =  4/7",null,6,1,"-",-6,4,0,4,2,0," + ",2,1,0,"",5,5,-4," - ",4,"5n + 2 = 4n - 4","n = -6",null,4,1,"-",-4,5,0,"5",2,1," - ",-2,-22,"-22","5n - 2 = -22","n = -4",null,9,0,"0",9,"n - 9 = 0","n = 9",9,"n - 9 = 0","n = 9",null,"5n - 2 = -22","n = -4",null,"5n + 2 = 4n - 4","n = -6",null,"2(4n - 1) = n + 2","n =  4/7",null,"n =  4/7","2(4n - 1) = n + 2"]
[45,101,"e",1,"",1,"",1,4,4,0.25,1,3,1,1,-4,-1," - ",1,-4,8,4," + ",4,8,11,8,0,0,"",8,11,8,11,8,11,8,11,8,11,8,11,8,11,8,11," 8/11"," 8/11","4(3e - 1) = e + 4","e =  8/11",null,6,1,"-",-6,1,1,"",7,1," - ",-7,1,1,"",2,2,-13," - ",13,"2e - 7 = e - 13","e = -6",null,2,1,"-",-2,4,0,"4",4,1," - ",-4,-12,"-12","4e - 4 = -12","e = -2",null,6,-5,"-5",1,"e - 6 = -5","e = 1",9,"e - 6 = -5","e = 1",null,"4e - 4 = -12","e = -2",null,"2e - 7 = e - 13","e = -6",null,"4(3e - 1) = e + 4","e =  8/11",null,"e =  8/11","4(3e - 1) = e + 4"]
[46,104,"h",1,"",1,"",1,4,4,0.25,1,3,2,0,4,1," + ",1,4,9,13," + ",13,9,11,9,0,0,"",9,11,9,11,9,11,9,11,9,11,9,11,9,11,9,11," 9/11"," 9/11","4(3h + 1) = h + 13","h =  9/11",null,4,0,"",4,3,1,3,7,0," + ",7,4,0,4,7,7,23," + ",23,"7h + 7 = 3h + 23","h = 4",null,7,0,"","7",6,0,"6",2,0," + ","2",44,"44","6h + 2 = 44","h = 7",null,3,1,"",4,"h - 3 = 1","h = 4",9,"h - 3 = 1","h = 4",null,"6h + 2 = 44","h = 7",null,"7h + 7 = 3h + 23","h = 4",null,"4(3h + 1) = h + 13","h =  9/11",null,"h =  9/11","4(3h + 1) = h + 13"]
[47,104,"h",1,"",2,2,2,3,3,0.66666666666666663,1,3,3,0,3,1," + ",1,3,5,8," + ",8,5,7,5,0,0,"",5,7,5,7,5,7,5,7,5,7,5,7,5,7,5,7," 5/7"," 5/7","3(3h + 1) = 2h + 8","h =  5/7",null,6,1,"-",-6,4,0,4,3,0," + ",3,4,1,4,8,8,-21," - ",21,"8h + 3 = 4h - 21","h = -6",null,3,1,"-",-3,3,0,"3",3,1," - ",-3,-12,"-12","3h - 3 = -12","h = -3",null,6,6,"6",12,"h - 6 = 6","h = 12",9,"h - 6 = 6","h = 12",null,"3h - 3 = -12","h = -3",null,"8h + 3 = 4h - 21","h = -6",null,"3(3h + 1) = 2h + 8","h =  5/7",null,"h =  5/7","3(3h + 1) = 2h + 8"]
[48,107,"k",1,"",1,"",1,2,2,0.5,1,3,1,0,2,1," + ",1,2,4,6," + ",6,4,5,4,0,0,"",4,5,4,5,4,5,4,5,4,5,4,5,4,5,4,5," 4/5"," 4/5","2(3k + 1) = k + 6","k =  4/5",null,7,1,"-",-7,5,0,5,8,1," - ",-8,5,0,5,10,10,-43," - ",43,"10k - 8 = 5k - 43","k = -7",null,8,0,"","8",4,1,"4",2,0," + ","2",34,"34","4k + 2 = 34","k = 8",null,6,1,"",7,"k - 6 = 1","k = 7",9,"k - 6 = 1","k = 7",null,"4k + 2 = 34","k = 8",null,"10k - 8 = 5k - 43","k = -7",null,"2(3k + 1) = k + 6","k =  4/5",null,"k =  4/5","2(3k + 1) = k + 6"]
[49,107,"k",1,"",2,2,2,4,4,0.5,1,4,3,1,-4,-1," - ",1,-4,3,-1," - ",1,3,14,3,0,0,"",3,14,3,14,3,14,3,14,3,14,3,14,3,14,3,14," 3/14"," 3/14","4(4k - 1) = 2k - 1","k =  3/14",null,2,1,"-",-2,3,1,3,3,0," + ",3,4,0,4,7,7,-5," - ",5,"7k + 3 = 3k - 5","k = -2",null,4,0,"","4",5,1,"5",5,1," - ",-5,15,"15","5k - 5 = 15","k = 4",null,6,-2,"-2",4,"k - 6 = -2","k = 4",9,"k - 6 = -2","k = 4",null,"5k - 5 = 15","k = 4",null,"7k + 3 = 3k - 5","k = -2",null,"4(4k - 1) = 2k - 1","k =  3/14",null,"k =  3/14","4(4k - 1) = 2k - 1"]
[50,103,"g",1,{"$f":"IF(D52=1,\"\",D52)","v":""},3,3,3,3,3,1,1,4,2,1,-3,-1," - ",1,-3,7,4," + ",4,7,9,7,0,0,"",7,9,7,9,7,9,7,9,7,9,7,9,7,9,7,9," 7/9"," 7/9","3(4g - 1) = 3g + 4","g =  7/9",null,3,1,"-",-3,4,1,4,1,0," + ",1,5,0,5,9,9,-14," - ",14,"9g + 1 = 4g - 14","g = -3",null,9,0,"","9",8,1,"8",7,1," - ",-7,65,"65","8g - 7 = 65","g = 9",null,3,{"$f":"INT(16*RAND()-8)","v":3},"3",6,"g - 3 = 3","g = 6",9,"g - 3 = 3","g = 6",null,"8g - 7 = 65","g = 9",null,"9g + 1 = 4g - 14","g = -3",null,"3(4g - 1) = 3g + 4","g =  7/9",null,"g =  7/9","3(4g - 1) = 3g + 4"]
[51,117,"u",{"$f":"INT(4*RAND()+1)","v":1},"",3,3,3,3,3,1,1,4,3,1,-3,-1," - ",1,-3,{"$f":"D53*INT(5*RAND()+1)","v":3},0,"","",3,9,3,0,0,"",3,9,1,3,1,3,1,3,1,3,1,3,1,3,1,3," 1/3"," 1/3",{"$f":"IF(V53=0,(CONCATENATE($J53,\"(\",$M53,$C53,$R53,$S53,\") = \",$E53,$G53,$C53,$W53,$X53)),(CONCATENATE($J53,\"(\",$M53,$C53,$R53,$S53,\") = \",$E53,\"(\",$G53,$C53,$W53,$X53,\")\")))","v":"3(4u - 1) = 3u"},"u =  1/3",null,3,1,"-",-3,3,0,3,4,1," - ",-4,2,0,2,5,5,-10," - ",10,"5u - 4 = 3u - 10","u = -3",null,3,1,"-",-3,10,1,"10",2,0," + ","2",-28,"-28","10u + 2 = -28","u = -3",null,{"$f":"INT(10*RAND()+2)","v":9},{"$f":"INT(9*RAND()+2)","v":9},"9",{"$f":"CL53*CM53","v":81},{"$f":"CONCATENATE($CN53,$C53,\" = \",$CO53)","v":"9u = 81"},{"$f":"CONCATENATE($C53,\" = \",$CL53)","v":"u = 9"},9,"9u = 81","u = 9",null,"10u + 2 = -28","u = -3",null,"5u - 4 = 3u - 10","u = -3",null,"3(4u - 1) = 3u","u =  1/3",null,"u =  1/3","3(4u - 1) = 3u"]
[52,101,"e",{"$f":"INT(4*RAND()+1)","v":4},4,1,"",4,3,3,1.3333333333333333,2,5,1,1,-12,-4," - ",4,-3,{"$f":"D54*INT(5*RAND()+1)","v":20},17," + ",17,80,11,3,77,7,7,3,11,3,11,3,11,3,11,3,11,3,11,3,11,3,11,"7 3/11","7 3/11",{"$f":"IF(V54=0,(CONCATENATE($J54,\"(\",$M54,$C54,$R54,$S54,\") = \",$E54,$G54,$C54,$W54,$X54)),(CONCATENATE($J54,\"(\",$M54,$C54,$R54,$S54,\") = \",$E54,\"(\",$G54,$C54,$W54,$X54,\")\")))","v":"3(5e - 4) = 4(e + 17)"},"e = 7 3/11",null,6,1,"-",-6,1,0,"",6,1," - ",-6,2,1,2,3,3,-18," - ",18,"3e - 6 = e - 18","e = -6",null,2,0,"","2",10,0,"10",4,0," + ","4",24,"24","10e + 4 = 24","e = 2",null,{"$f":"INT(10*RAND()+2)","v":2},{"$f":"INT(9*RAND()+2)","v":2},"2",{"$f":"CL54*CM54","v":4},"2e = 4","e = 2",9,"2e = 4","e = 2",null,"10e + 4 = 24","e = 2",null,"3e - 6 = e - 18","e = -6",null,"3(5e - 4) = 4(e + 17)","e = 7 3/11",null,"e = 7 3/11","3(5e - 4) = 4(e + 17)"]
[53,115,"s",2,2,1,"",2,2,3,0.66666666666666663,1,3,1,1,-6,-2," - ",2,-3,6,3," + ",3,12,7,5,7,1,1,5,7,5,7,5,7,5,7,5,7,5,7,5,7,5,7,"1 5/7","1 5/7","3(3s - 2) = 2(s + 3)","s = 1 5/7",null,3,1,"-",-3,3,0,3,6,0," + ",6,4,1,4,7,7,-6," - ",6,"7s + 6 = 3s - 6","s = -3",null,9,1,"-",-9,4,0,"4",9,1," - ",-9,-45,"-45","4s - 9 = -45","s = -9",null,11,10,"10",110,"10s = 110","s = 11",9,"10s = 110","s = 11",null,"4s - 9 = -45","s = -9",null,"7s + 6 = 3s - 6","s = -3",null,"3(3s - 2) = 2(s + 3)","s = 1 5/7",null,"s = 1 5/7","3(3s - 2) = 2(s + 3)"]
[54,119,"w",2,2,1,"",2,3,3,0.66666666666666663,1,3,2,0,6,2," + ",2,3,4,7," + ",7,8,7,1,7,1,1,1,7,1,7,1,7,1,7,1,7,1,7,1,7,1,7,"1 1/7","1 1/7","3(3w + 2) = 2(w + 7)","w = 1 1/7",null,2,0,"",2,4,1,4,8,0," + ",8,1,1,"",5,5,10," + ",10,"5w + 8 = 4w + 10","w = 2",null,2,0,"","2",3,0,"3",5,0," + ","5",11,"11","3w + 5 = 11","w = 2",null,6,7,"7",42,"7w = 42","w = 6",9,"7w = 42","w = 6",null,"3w + 5 = 11","w = 2",null,"5w + 8 = 4w + 10","w = 2",null,"3(3w + 2) = 2(w + 7)","w = 1 1/7",null,"w = 1 1/7","3(3w + 2) = 2(w + 7)"]
[55,111,"o",4,4,1,"",4,2,2,2,2,4,3,0,8,4," + ",4,2,4,6," + ",6,16,4,0,16,4,4,0,2,0,2,0,2,0,2,0,2,0,2,0,1,1,1,"4 1/1",4,"2(4o + 4) = 4(o + 6)","o = 4",null,6,1,"-",-6,1,1,"",2,1," - ",-2,1,0,"",2,2,-8," - ",8,"2o - 2 = o - 8","o = -6",null,6,1,"-",-6,4,1,"4",5,0," + ","5",-19,"-19","4o + 5 = -19","o = -6",null,6,5,"5",30,"5o = 30","o = 6",9,"5o = 30","o = 6",null,"4o + 5 = -19","o = -6",null,"2o - 2 = o - 8","o = -6",null,"2(4o + 4) = 4(o + 6)","o = 4",null,"o = 4","2(4o + 4) = 4(o + 6)"]
[56,107,"k",1,"",2,2,2,3,3,0.66666666666666663,1,3,3,1,-3,-1," - ",1,-3,1,-2," - ",2,1,7,1,0,0,"",1,7,1,7,1,7,1,7,1,7,1,7,1,7,1,7," 1/7"," 1/7","3(3k - 1) = (2k - 2)","k =  1/7",null,4,1,"-",-4,1,0,"",3,1," - ",-3,2,0,2,3,3,-11," - ",11,"3k - 3 = k - 11","k = -4",null,1,0,"","1",3,1,"3",7,0," + ","7",10,"10","3k + 7 = 10","k = 1",null,4,7,"7",28,"7k = 28","k = 4",9,"7k = 28","k = 4",null,"3k + 7 = 10","k = 1",null,"3k - 3 = k - 11","k = -4",null,"3(3k - 1) = (2k - 2)","k =  1/7",null,"k =  1/7","3(3k - 1) = (2k - 2)"]
[57,106,"j",2,2,3,3,6,2,3,2,2,4,1,1,-6,-2," - ",2,-3,4,1," + ",1,8,6,2,6,1,1,1,3,1,3,1,3,1,3,1,3,1,3,1,3,1,3,"1 1/3","1 1/3","3(4j - 2) = 2(3j + 1)","j = 1 1/3",null,8,0,"",8,2,1,2,4,1," - ",-4,3,1,3,5,5,20," + ",20,"5j - 4 = 2j + 20","j = 8",null,1,0,"","1",3,0,"3",1,1," - ",-1,2,"2","3j - 1 = 2","j = 1",null,4,2,"2",8,"2j = 8","j = 4",9,"2j = 8","j = 4",null,"3j - 1 = 2","j = 1",null,"5j - 4 = 2j + 20","j = 8",null,"3(4j - 2) = 2(3j + 1)","j = 1 1/3",null,"j = 1 1/3","3(4j - 2) = 2(3j + 1)"]
[58,118,"v",4,4,2,2,8,3,3,2.6666666666666665,3,6,1,1,-12,-4," - ",4,-3,4,1," + ",1,16,10,6,10,1,1,3,5,3,5,3,5,3,5,3,5,3,5,3,5,3,5,"1 3/5","1 3/5","3(6v - 4) = 4(2v + 1)","v = 1 3/5",null,9,1,"-",-9,4,0,4,3,0," + ",3,3,0,3,7,7,-24," - ",24,"7v + 3 = 4v - 24","v = -9",null,9,1,"-",-9,8,0,"8",8,1," - ",-8,-80,"-80","8v - 8 = -80","v = -9",null,2,8,"8",16,"8v = 16","v = 2",9,"8v = 16","v = 2",null,"8v - 8 = -80","v = -9",null,"7v + 3 = 4v - 24","v = -9",null,"3(6v - 4) = 4(2v + 1)","v = 1 3/5",null,"v = 1 3/5","3(6v - 4) = 4(2v + 1)"]
[59,97,"a",3,3,1,"",3,3,4,0.75,1,3,2,0,12,3," + ",3,4,12,16," + ",16,36,9,0,36,4,4,0,9,0,3,0,3,0,3,0,3,0,3,0,3,0,1,"4 0/1",4,"4(3a + 3) = 3(a + 16)","a = 4",null,4,0,"",4,5,1,5,5,0," + ",5,1,0,"",6,6,9," + ",9,"6a + 5 = 5a + 9","a = 4",null,1,0,"","1",7,0,"7",7,1," - ",-7,0,"0","7a - 7 = 0","a = 1",null,4,6,"6",24,"6a = 24","a = 4",9,"6a = 24","a = 4",null,"7a - 7 = 0","a = 1",null,"6a + 5 = 5a + 9","a = 4",null,"4(3a + 3) = 3(a + 16)","a = 4",null,"a = 4","4(3a + 3) = 3(a + 16)"]
[60,100,"d",4,4,1,"",4,2,2,2,2,4,3,1,-8,-4," - ",4,-2,4,2," + ",2,16,4,0,16,4,4,0,2,0,2,0,2,0,2,0,2,0,2,0,1,1,1,"4 1/1",4,"2(4d - 4) = 4(d + 2)","d = 4",null,8,0,"",8,3,0,3,2,1," - ",-2,2,1,2,5,5,14," + ",14,"5d - 2 = 3d + 14","d = 8",null,3,1,"-",-3,8,1,"8",4,1," - ",-4,-28,"-28","8d - 4 = -28","d = -3",null,6,2,"2",12,"2d = 12","d = 6",9,"2d = 12","d = 6",null,"8d - 4 = -28","d = -3",null,"5d - 2 = 3d + 14","d = 8",null,"2(4d - 4) = 4(d + 2)","d = 4",null,"d = 4","2(4d - 4) = 4(d + 2)"]
[61,117,"u",2,2,3,3,6,4,4,1.5,2,5,1,1,-8,-2," - ",2,-4,8,4," + ",4,16,14,2,14,1,1,1,7,1,7,1,7,1,7,1,7,1,7,1,7,1,7,"1 1/7","1 1/7","4(5u - 2) = 2(3u + 4)","u = 1 1/7",null,1,0,"",1,5,1,5,5,0," + ",5,1,0,"",6,6,6," + ",6,"6u + 5 = 5u + 6","u = 1",null,6,1,"-",-6,4,1,"4",2,0," + ","2",-22,"-22","4u + 2 = -22","u = -6",null,10,10,"10",100,"10u = 100","u = 10",9,"10u = 100","u = 10",null,"4u + 2 = -22","u = -6",null,"6u + 5 = 5u + 6","u = 1",null,"4(5u - 2) = 2(3u + 4)","u = 1 1/7",null,"u = 1 1/7","4(5u - 2) = 2(3u + 4)"]
[62,104,"h",3,3,3,3,9,3,4,2.25,3,5,2,1,-12,-3," - ",3,-4,3,-1," - ",1,9,11,9,0,0,"",9,11,9,11,9,11,9,11,9,11,9,11,9,11,9,11," 9/11"," 9/11","4(5h - 3) = 3(3h - 1)","h =  9/11",null,2,1,"-",-2,5,1,5,7,1," - ",-7,4,1,4,9,9,-15," - ",15,"9h - 7 = 5h - 15","h = -2",null,5,0,"","5",5,0,"5",3,0," + ","3",28,"28","5h + 3 = 28","h = 5",null,6,2,"2",12,"2h = 12","h = 6",9,"2h = 12","h = 6",null,"5h + 3 = 28","h = 5",null,"9h - 7 = 5h - 15","h = -2",null,"4(5h - 3) = 3(3h - 1)","h =  9/11",null,"h =  9/11","4(5h - 3) = 3(3h - 1)"]
[63,113,"q",2,2,3,3,6,2,3,2,2,5,2,0,6,2," + ",2,3,6,9," + ",9,12,9,3,9,1,1,3,9,1,3,1,3,1,3,1,3,1,3,1,3,1,3,"1 1/3","1 1/3","3(5q + 2) = 2(3q + 9)","q = 1 1/3",null,6,1,"-",-6,4,1,4,7,1," - ",-7,2,0,2,6,6,-19," - ",19,"6q - 7 = 4q - 19","q = -6",null,5,1,"-",-5,2,1,"2",6,1," - ",-6,-16,"-16","2q - 6 = -16","q = -5",null,{"$f":"INT(16*RAND()-8)","v":-6},6,"6",-36,"6q = -36","q = -6",9,"6q = -36","q = -6",null,"2q - 6 = -16","q = -5",null,"6q - 7 = 4q - 19","q = -6",null,"3(5q + 2) = 2(3q + 9)","q = 1 1/3",null,"q = 1 1/3","3(5q + 2) = 2(3q + 9)"]
[64,116,"t",4,4,2,2,8,2,2,4,4,6,3,1,-8,-4," - ",4,-2,20,18," + ",18,80,4,0,80,20,20,0,2,0,2,0,2,0,2,0,2,0,2,0,1,1,1,"20 1/1",20,"2(6t - 4) = 4(2t + 18)","t = 20",null,2,0,"",2,1,1,"",4,0," + ",4,5,0,5,6,6,14," + ",14,"6t + 4 = t + 14","t = 2",null,2,1,"-",-2,10,1,"10",3,0," + ","3",-17,"-17","10t + 3 = -17","t = -2",null,-5,5,"5",-25,"5t = -25","t = -5",9,"5t = -25","t = -5",null,"10t + 3 = -17","t = -2",null,"6t + 4 = t + 14","t = 2",null,"2(6t - 4) = 4(2t + 18)","t = 20",null,"t = 20","2(6t - 4) = 4(2t + 18)"]
[65,118,"v",4,4,3,3,12,2,2,6,6,8,2,0,8,4," + ",4,{"$f":"P67/D67","v":2},4,6," + ",6,16,4,0,16,4,4,0,2,0,2,0,2,0,2,0,2,0,2,0,1,1,1,"4 1/1",4,"2(8v + 4) = 4(3v + 6)","v = 4",null,3,0,"",3,5,1,5,6,0," + ",6,1,0,"",6,6,9," + ",9,{"$f":"CONCATENATE($BO67,$C67,$BI67,$BG67,\" = \",$BF67,$C67,$BQ67,$BR67)","v":"6v + 6 = 5v + 9"},"v = 3",null,3,0,"","3",8,1,"8",8,0," + ","8",32,"32",{"$f":"CONCATENATE($CB67,$C67,$CE67,$CC67,\" = \",$CH67)","v":"8v + 8 = 32"},{"$f":"CONCATENATE($C67,\" = \",$BY67)","v":"v = 3"},null,4,6,"6",24,"6v = 24","v = 4",9,"6v = 24","v = 4",null,"8v + 8 = 32","v = 3",null,"6v + 6 = 5v + 9","v = 3",null,"2(8v + 4) = 4(3v + 6)","v = 4",null,{"$f":"OFFSET(CT67,0,VALUE(CR67))","v":"v = 4"},{"$f":"OFFSET(CS67,0,VALUE(CR67))","v":"2(8v + 4) = 4(3v + 6)"}]
[66,{"$f":"INT(24*RAND()+97)","v":98},{"$f":"IF(B68=108,CHAR(B68+1),CHAR(B68))","v":"b"},2,{"$f":"IF(D68=1,\"\",D68)","v":2},2,2,{"$f":"D68*F68","v":4},{"$f":"INT(3*RAND()+2)","v":3},{"$f":"IF(I68=D68,I68+1,I68)","v":3},{"$f":"H68/J68","v":1.3333333333333333},{"$f":"ROUNDUP(K68,0)","v":2},4,{"$f":"INT(3*RAND()+1)","v":3},{"$f":"INT(2*RAND())","v":0},{"$f":"D68*J68*(-1)^O68","v":6},{"$f":"P68/J68","v":2},{"$f":"IF(Q68=0,\"\",(IF(Q68<0,\" - \",\" + \")))","v":" + "},{"$f":"ABS(Q68)","v":2},3,8,{"$f":"T68+U68","v":11},{"$f":"IF(V68=0,\"\",(IF(V68<0,\" - \",\" + \")))","v":" + "},11,{"$f":"(D68*V68-J68*Q68)","v":16},{"$f":"(M68*J68-F68*D68)","v":8},{"$f":"MOD(Y68,Z68)","v":0},{"$f":"Y68-AA68","v":16},{"$f":"AB68/Z68","v":2},{"$f":"IF(AC68=0,\"\",AC68)","v":2},{"$f":"IF($AA68=1,1,(IF(AND(INT($Z68/2)=$Z68/2,INT($AA68/2)=$AA68/2),$AA68/2,$AA68)))","v":0},{"$f":"IF(AND(INT($Z68/2)=$Z68/2,INT($AA68/2)=$AA68/2),$Z68/2,$Z68)","v":4},{"$f":"IF(AF68=1,1,(IF(AND(INT(AE68/3)=AE68/3,INT(AF68/3)=AF68/3),AE68/3,AE68)))","v":0},{"$f":"IF(AND(INT(AF68/3)=AF68/3,INT(AE68/3)=AE68/3),AF68/3,AF68)","v":4},{"$f":"IF(AH68=1,1,(IF(AND(INT(AG68/5)=AG68/5,INT(AH68/5)=AH68/5),AG68/5,AG68)))","v":0},{"$f":"IF(AND(INT(AH68/5)=AH68/5,INT(AG68/5)=AG68/5),AH68/5,AH68)","v":4},{"$f":"IF(AJ68=1,1,(IF(AND(INT(AI68/7)=AI68/7,INT(AJ68/7)=AJ68/7),AI68/7,AI68)))","v":0},{"$f":"IF(AND(INT(AJ68/7)=AJ68/7,INT(AI68/7)=AI68/7),AJ68/7,AJ68)","v":4},{"$f":"IF(AL68=1,1,(IF(AND(INT(AK68/11)=AK68/11,INT(AL68/11)=AL68/11),AK68/11,AK68)))","v":0},{"$f":"IF(AND(INT(AL68/11)=AL68/11,INT(AK68/11)=AK68/11),AL68/11,AL68)","v":4},{"$f":"IF(AN68=1,1,(IF(AND(INT(AM68/13)=AM68/13,INT(AN68/13)=AN68/13),AM68/13,AM68)))","v":0},{"$f":"IF(AND(INT(AN68/13)=AN68/13,INT(AM68/13)=AM68/13),AN68/13,AN68)","v":4},{"$f":"IF(AL68=1,1,(IF(AND(INT(AO68/2)=AO68/2,INT(AP68/2)=AP68/2),AO68/2,AO68)))","v":0},{"$f":"IF(AND(INT(AP68/2)=AP68/2,INT(AO68/2)=AO68/2),AP68/2,AP68)","v":2},{"$f":"IF(AR68=1,1,(IF(AND(INT(AQ68/3)=AQ68/3,INT(AR68/3)=AR68/3),AQ68/3,AQ68)))","v":0},{"$f":"IF(AND(INT(AR68/3)=AR68/3,INT(AQ68/3)=AQ68/3),AR68/3,AR68)","v":2},{"$f":"CONCATENATE(AD68,\" \",AS68,\"/\",AT68)","v":"2 0/2"},{"$f":"IF($AA68=0,$AC68,$AU68)","v":2},"3(4b + 2) = 2(2b + 11)",{"$f":"CONCATENATE($C68,\" = \",$AV68)","v":"b = 2"},null,7,0,{"$f":"IF(BA68=0,\"\",\"-\")","v":""},7,1,{"$f":"INT(2*RAND())","v":0},"",{"$f":"INT(9*RAND()+1)","v":4},0,{"$f":"IF(BH68=0,\" + \",\" - \")","v":" + "},{"$f":"IF(BH68=1,-BG68,BG68)","v":4},1,{"$f":"INT(2*RAND())","v":0},"",2,2,11," + ",11,"2b + 4 = b + 11",{"$f":"CONCATENATE($C68,\" = \",$BC68)","v":"b = 7"},null,7,1,{"$f":"IF(BW68=0,\"\",\"-\")","v":"-"},-7,3,{"$f":"INT(2*RAND())","v":1},{"$f":"IF(BZ68=1,\"\",FIXED(BZ68,0,FALSE))","v":"3"},{"$f":"INT(9*RAND()+1)","v":4},1,{"$f":"IF(CD68=0,\" + \",\" - \")","v":" - "},-4,-25,"-25","3b - 4 = -25","b = -7",null,7,9,{"$f":"IF(CM68=1,\"\",FIXED(CM68,0,FALSE))","v":"9"},63,"9b = 63","b = 7",9,{"$f":"$CP68","v":"9b = 63"},{"$f":"$CQ68","v":"b = 7"},null,{"$f":"$CI68","v":"3b - 4 = -25"},{"$f":"$CJ68","v":"b = -7"},null,{"$f":"$BS68","v":"2b + 4 = b + 11"},{"$f":"$BT68","v":"b = 7"},null,{"$f":"$AW68","v":"3(4b + 2) = 2(2b + 11)"},{"$f":"$AX68","v":"b = 2"},null,"b = 2","3(4b + 2) = 2(2b + 11)"]
[67,97,"a",2,2,2,2,4,2,3,1.3333333333333333,2,{"$f":"L69+INT(2*RAND()+2)","v":4},1,1,-6,-2," - ",2,-3,4,1," + ",{"$f":"IF(AND(G69=0,V69=0),0,IF(V69=0,\"\",ABS(V69)))","v":1},8,8,0,8,1,1,0,4,0,4,0,4,0,4,0,4,0,4,0,2,0,2,"1 0/2",1,"3(4a - 2) = 2(2a + 1)","a = 1",null,8,0,"",{"$f":"IF(BA69=1,-AZ69,AZ69)","v":8},{"$f":"INT(5*RAND()+1)","v":5},1,{"$f":"IF(BD69=1,\"\",BD69)","v":5},4,1," - ",-4,{"$f":"INT(5*RAND()+1)","v":5},1,{"$f":"IF(BK69=1,\"\",BK69)","v":5},{"$f":"BD69+BK69","v":10},{"$f":"IF(BN69=1,\"\",BN69)","v":10},{"$f":"BC69*BK69+BJ69","v":36},{"$f":"IF(BP69=0,\"\",(IF(BP69<0,\" - \",\" + \")))","v":" + "},{"$f":"IF(BP69=0,\"\",ABS(BP69))","v":36},"10a - 4 = 5a + 36","a = 8",null,{"$f":"INT(9*RAND()+1)","v":1},0,"",{"$f":"IF(BW69=1,-(FIXED(BV69,0,FALSE)),FIXED(BV69,0,FALSE))","v":"1"},{"$f":"INT(9*RAND()+2)","v":4},1,"4",8,0," + ",{"$f":"IF(CD69=1,-(FIXED(CC69,0,FALSE)),FIXED(CC69,0,FALSE))","v":"8"},{"$f":"BY69*BZ69+CF69","v":12},{"$f":"FIXED(CG69,0,FALSE)","v":"12"},"4a + 8 = 12","a = 1",null,1,3,"3",3,"3a = 3","a = 1",9,"3a = 3","a = 1",null,"4a + 8 = 12","a = 1",null,"10a - 4 = 5a + 36","a = 8",null,"3(4a - 2) = 2(2a + 1)","a = 1",null,"a = 1","3(4a - 2) = 2(2a + 1)"]
[68,105,"i",2,2,1,"",2,2,3,0.66666666666666663,1,3,2,1,-6,-2," - ",2,-3,8,5," + ",5,16,7,2,14,2,2,2,7,2,7,2,7,2,7,2,7,2,7,2,7,2,7,"2 2/7","2 2/7","3(3i - 2) = 2(i + 5)","i = 2 2/7",null,7,1,"-",-7,5,0,5,7,0," + ",7,1,1,"",6,6,0,"","","6i + 7 = 5i","i = -7",null,1,1,"-",-1,4,1,"4",5,1," - ",-5,-9,"-9","4i - 5 = -9","i = -1",null,6,3,"3",18,"3i = 18","i = 6",9,"3i = 18","i = 6",null,"4i - 5 = -9","i = -1",null,"6i + 7 = 5i","i = -7",null,"3(3i - 2) = 2(i + 5)","i = 2 2/7",null,"i = 2 2/7","3(3i - 2) = 2(i + 5)"]
[69,110,"n",3,3,3,3,9,4,4,2.25,3,6,1,0,12,3," + ",3,4,12,16," + ",16,36,15,6,30,2,2,6,15,2,5,2,5,2,5,2,5,2,5,2,5,2,5,"2 2/5","2 2/5","4(6n + 3) = 3(3n + 16)","n = 2 2/5",null,3,1,"-",-3,4,0,4,8,1," - ",-8,1,0,"",5,5,-11," - ",11,"5n - 8 = 4n - 11","n = -3",null,3,1,"-",-3,7,1,"7",6,0," + ","6",-15,"-15","7n + 6 = -15","n = -3",null,-2,9,"9",-18,"9n = -18","n = -2",9,"9n = -18","n = -2",null,"7n + 6 = -15","n = -3",null,"5n - 8 = 4n - 11","n = -3",null,"4(6n + 3) = 3(3n + 16)","n = 2 2/5",null,"n = 2 2/5","4(6n + 3) = 3(3n + 16)"]
[70,100,"d",3,3,1,"",3,4,4,0.75,1,3,1,1,-12,-3," - ",3,-4,12,8," + ",8,36,9,0,36,4,4,0,9,0,3,0,3,0,3,0,3,0,3,0,3,0,1,"4 0/1",4,"4(3d - 3) = 3(d + 8)","d = 4",null,7,0,"",7,1,0,"",6,1," - ",-6,4,0,4,5,5,22," + ",22,"5d - 6 = d + 22","d = 7",null,6,0,"","6",9,1,"9",8,1," - ",-8,46,"46","9d - 8 = 46","d = 6",null,-1,5,"5",-5,"5d = -5","d = -1",9,"5d = -5","d = -1",null,"9d - 8 = 46","d = 6",null,"5d - 6 = d + 22","d = 7",null,"4(3d - 3) = 3(d + 8)","d = 4",null,"d = 4","4(3d - 3) = 3(d + 8)"]
[71,104,"h",1,"",2,2,2,4,4,0.5,1,4,3,0,4,1," + ",1,4,5,9," + ",9,5,14,5,0,0,"",5,14,5,14,5,14,5,14,5,14,5,14,5,14,5,14," 5/14"," 5/14","4(4h + 1) = (2h + 9)","h =  5/14",null,{"$f":"INT(9*RAND()+1)","v":5},0,"",5,5,1,5,3,1," - ",-3,1,0,"",6,6,2," + ",2,"6h - 3 = 5h + 2","h = 5",null,6,0,"","6",5,0,"5",1,1," - ",-1,29,"29","5h - 1 = 29","h = 6",null,-7,8,"8",-56,"8h = -56","h = -7",9,"8h = -56","h = -7",null,"5h - 1 = 29","h = 6",null,"6h - 3 = 5h + 2","h = 5",null,"4(4h + 1) = (2h + 9)","h =  5/14",null,"h =  5/14","4(4h + 1) = (2h + 9)"]
[72,109,"m",2,2,2,2,4,4,4,1,1,3,1,1,-8,-2," - ",2,-4,8,4," + ",4,16,8,0,16,2,2,0,4,0,4,0,4,0,4,0,4,0,4,0,2,0,2,"2 0/2",2,"4(3m - 2) = 2(2m + 4)","m = 2",null,{"$f":"INT(9*RAND()+1)","v":1},1,"-",-1,2,1,2,3,1," - ",-3,5,1,5,7,7,-8," - ",8,"7m - 3 = 2m - 8","m = -1",null,9,0,"","9",9,1,"9",7,0," + ","7",88,"88","9m + 7 = 88","m = 9",null,0,6,"6",0,"6m = 0","m = 0",9,"6m = 0","m = 0",null,"9m + 7 = 88","m = 9",null,"7m - 3 = 2m - 8","m = -1",null,"4(3m - 2) = 2(2m + 4)","m = 2",null,"m = 2","4(3m - 2) = 2(2m + 4)"]
[73,103,"g",1,"",2,2,2,2,2,1,1,4,2,1,-2,-1," - ",1,-2,3,1," + ",1,3,6,3,0,0,"",3,6,1,2,1,2,1,2,1,2,1,2,1,2,1,2," 1/2"," 1/2","2(4g - 1) = (2g + 1)","g =  1/2",null,{"$f":"INT(9*RAND()+1)","v":9},1,"-",-9,2,1,2,6,0," + ",6,2,1,2,4,4,-12," - ",12,"4g + 6 = 2g - 12","g = -9",null,7,1,"-",-7,10,1,"10",3,0," + ","3",-67,"-67","10g + 3 = -67","g = -7",null,-5,10,"10",-50,"10g = -50","g = -5",9,"10g = -50","g = -5",null,"10g + 3 = -67","g = -7",null,"4g + 6 = 2g - 12","g = -9",null,"2(4g - 1) = (2g + 1)","g =  1/2",null,"g =  1/2","2(4g - 1) = (2g + 1)"]
[74,110,"n",4,4,2,2,8,4,5,1.6,2,5,3,1,-20,-4," - ",4,-5,12,7," + ",7,48,17,14,34,2,2,14,17,14,17,14,17,14,17,14,17,14,17,14,17,14,17,"2 14/17","2 14/17","5(5n - 4) = 4(2n + 7)","n = 2 14/17",null,{"$f":"INT(9*RAND()+1)","v":3},1,"-",-3,2,1,2,5,1," - ",-5,4,1,4,6,6,-17," - ",17,"6n - 5 = 2n - 17","n = -3",null,8,1,"-",-8,3,0,"3",8,1," - ",-8,-32,"-32","3n - 8 = -32","n = -8",null,-3,8,"8",-24,"8n = -24","n = -3",9,"8n = -24","n = -3",null,"3n - 8 = -32","n = -8",null,"6n - 5 = 2n - 17","n = -3",null,"5(5n - 4) = 4(2n + 7)","n = 2 14/17",null,"n = 2 14/17","5(5n - 4) = 4(2n + 7)"]
[75,98,"b",2,2,3,3,6,4,4,1.5,2,5,1,1,-8,-2," - ",2,-4,6,2," + ",2,12,14,12,0,0,"",6,7,6,7,6,7,6,7,6,7,6,7,6,7,6,7," 6/7"," 6/7","4(5b - 2) = 2(3b + 2)","b =  6/7",null,{"$f":"INT(9*RAND()+1)","v":1},0,"",1,3,1,3,2,1," - ",-2,3,1,3,6,6,1," + ",1,"6b - 2 = 3b + 1","b = 1",null,9,1,"-",-9,7,0,"7",9,0," + ","9",-54,"-54","7b + 9 = -54","b = -9",null,2,2,"2",4,"2b = 4","b = 2",9,"2b = 4","b = 2",null,"7b + 9 = -54","b = -9",null,"6b - 2 = 3b + 1","b = 1",null,"4(5b - 2) = 2(3b + 2)","b =  6/7",null,"b =  6/7","4(5b - 2) = 2(3b + 2)"]

{"sheet":"WorkSheet","index":2,"n_rows":28,"n_cols":7,"rows_kept":28,"cut":false,"hidden":false,"merged":[]}
[null,null,null,{"$f":"Working!DF2","v":"SOLVING EQUATIONS WITH BRACKETS"}]
[null,null,null,null,null,null,{"$f":"CONCATENATE(\"Worksheet \",Working!C1,Working!B1)","v":"Worksheet SLE-771"}]
["Solve the following"]
[{"$f":"CONCATENATE(Working!A3,\")\")","v":"1)"},{"$f":"Working!$DF3","v":"4(3p - 1) = 4"},{"$f":"CONCATENATE(Working!A28,\")\")","v":"26)"},{"$f":"Working!$DF28","v":"3(3n + 1) = 2n + 12"},{"$f":"CONCATENATE(Working!A53,\")\")","v":"51)"},{"$f":"Working!$DF53","v":"3(4u - 1) = 3u"}]
[{"$f":"CONCATENATE(Working!A4,\")\")","v":"2)"},{"$f":"Working!$DF4","v":"2(3e + 1) = 7"},{"$f":"CONCATENATE(Working!A29,\")\")","v":"27)"},{"$f":"Working!$DF29","v":"3(3j + 1) = 3j + 9"},{"$f":"CONCATENATE(Working!A54,\")\")","v":"52)"},{"$f":"Working!$DF54","v":"3(5e - 4) = 4(e + 17)"}]
[{"$f":"CONCATENATE(Working!A5,\")\")","v":"3)"},{"$f":"Working!$DF5","v":"3(3i - 1) = 5"},{"$f":"CONCATENATE(Working!A30,\")\")","v":"28)"},{"$f":"Working!$DF30","v":"2(5f - 1) = 3f + 5"},{"$f":"CONCATENATE(Working!A55,\")\")","v":"53)"},{"$f":"Working!$DF55","v":"3(3s - 2) = 2(s + 3)"}]
[{"$f":"CONCATENATE(Working!A6,\")\")","v":"4)"},{"$f":"Working!$DF6","v":"4(3m - 1) = 0"},{"$f":"CONCATENATE(Working!A31,\")\")","v":"29)"},{"$f":"Working!$DF31","v":"4(3j + 1) = 2j + 13"},{"$f":"CONCATENATE(Working!A56,\")\")","v":"54)"},{"$f":"Working!$DF56","v":"3(3w + 2) = 2(w + 7)"}]
[{"$f":"CONCATENATE(Working!A7,\")\")","v":"5)"},{"$f":"Working!$DF7","v":"2(2g - 1) = 3"},{"$f":"CONCATENATE(Working!A32,\")\")","v":"30)"},{"$f":"Working!$DF32","v":"3(4m + 1) = 3m + 6"},{"$f":"CONCATENATE(Working!A57,\")\")","v":"55)"},{"$f":"Working!$DF57","v":"2(4o + 4) = 4(o + 6)"}]
[{"$f":"CONCATENATE(Working!A8,\")\")","v":"6)"},{"$f":"Working!$DF8","v":"2(3a + 1) = 8"},{"$f":"CONCATENATE(Working!A33,\")\")","v":"31)"},{"$f":"Working!$DF33","v":"3(4e - 1) = 2e"},{"$f":"CONCATENATE(Working!A58,\")\")","v":"56)"},{"$f":"Working!$DF58","v":"3(3k - 1) = (2k - 2)"}]
[{"$f":"CONCATENATE(Working!A9,\")\")","v":"7)"},{"$f":"Working!$DF9","v":"3(2o + 1) = 9"},{"$f":"CONCATENATE(Working!A34,\")\")","v":"32)"},{"$f":"Working!$DF34","v":"2(3c + 1) = c + 10"},{"$f":"CONCATENATE(Working!A59,\")\")","v":"57)"},{"$f":"Working!$DF59","v":"3(4j - 2) = 2(3j + 1)"}]
[{"$f":"CONCATENATE(Working!A10,\")\")","v":"8)"},{"$f":"Working!$DF10","v":"3(2h - 1) = 1"},{"$f":"CONCATENATE(Working!A35,\")\")","v":"33)"},{"$f":"Working!$DF35","v":"4(4t + 1) = 3t + 11"},{"$f":"CONCATENATE(Working!A60,\")\")","v":"58)"},{"$f":"Working!$DF60","v":"3(6v - 4) = 4(2v + 1)"}]
[{"$f":"CONCATENATE(Working!A11,\")\")","v":"9)"},{"$f":"Working!$DF11","v":"2(3s + 1) = 6"},{"$f":"CONCATENATE(Working!A36,\")\")","v":"34)"},{"$f":"Working!$DF36","v":"4(3a + 1) = a + 13"},{"$f":"CONCATENATE(Working!A61,\")\")","v":"59)"},{"$f":"Working!$DF61","v":"4(3a + 3) = 3(a + 16)"}]
[{"$f":"CONCATENATE(Working!A12,\")\")","v":"10)"},{"$f":"Working!$DF12","v":"2(2b - 1) = 3"},{"$f":"CONCATENATE(Working!A37,\")\")","v":"35)"},{"$f":"Working!$DF37","v":"4(3e - 1) = e + 4"},{"$f":"CONCATENATE(Working!A62,\")\")","v":"60)"},{"$f":"Working!$DF62","v":"2(4d - 4) = 4(d + 2)"}]
[{"$f":"CONCATENATE(Working!A13,\")\")","v":"11)"},{"$f":"Working!$DF13","v":"3(2j + 1) = 9"},{"$f":"CONCATENATE(Working!A38,\")\")","v":"36)"},{"$f":"Working!$DF38","v":"4(4o + 1) = 3o + 14"},{"$f":"CONCATENATE(Working!A63,\")\")","v":"61)"},{"$f":"Working!$DF63","v":"4(5u - 2) = 2(3u + 4)"}]
[{"$f":"CONCATENATE(Working!A14,\")\")","v":"12)"},{"$f":"Working!$DF14","v":"2(3x + 1) = 7"},{"$f":"CONCATENATE(Working!A39,\")\")","v":"37)"},{"$f":"Working!$DF39","v":"2(4v + 1) = v + 8"},{"$f":"CONCATENATE(Working!A64,\")\")","v":"62)"},{"$f":"Working!$DF64","v":"4(5h - 3) = 3(3h - 1)"}]
[{"$f":"CONCATENATE(Working!A15,\")\")","v":"13)"},{"$f":"Working!$DF15","v":"4(2v + 1) = 14"},{"$f":"CONCATENATE(Working!A40,\")\")","v":"38)"},{"$f":"Working!$DF40","v":"4(4q + 1) = 3q + 13"},{"$f":"CONCATENATE(Working!A65,\")\")","v":"63)"},{"$f":"Working!$DF65","v":"3(5q + 2) = 2(3q + 9)"}]
[{"$f":"CONCATENATE(Working!A16,\")\")","v":"14)"},{"$f":"Working!$DF16","v":"3(2a + 1) = 11"},{"$f":"CONCATENATE(Working!A41,\")\")","v":"39)"},{"$f":"Working!$DF41","v":"2(4w - 1) = 3w + 5"},{"$f":"CONCATENATE(Working!A66,\")\")","v":"64)"},{"$f":"Working!$DF66","v":"2(6t - 4) = 4(2t + 18)"}]
[{"$f":"CONCATENATE(Working!A17,\")\")","v":"15)"},{"$f":"Working!$DF17","v":"3(2v - 1) = 2"},{"$f":"CONCATENATE(Working!A42,\")\")","v":"40)"},{"$f":"Working!$DF42","v":"4(4q + 1) = 2q + 10"},{"$f":"CONCATENATE(Working!A67,\")\")","v":"65)"},{"$f":"Working!$DF67","v":"2(8v + 4) = 4(3v + 6)"}]
[{"$f":"CONCATENATE(Working!A18,\")\")","v":"16)"},{"$f":"Working!$DF18","v":"2(2j - 1) = 3"},{"$f":"CONCATENATE(Working!A43,\")\")","v":"41)"},{"$f":"Working!$DF43","v":"2(4h - 1) = 2h + 3"},{"$f":"CONCATENATE(Working!A68,\")\")","v":"66)"},{"$f":"Working!$DF68","v":"3(4b + 2) = 2(2b + 11)"}]
[{"$f":"CONCATENATE(Working!A19,\")\")","v":"17)"},{"$f":"Working!$DF19","v":"2(2h + 1) = 8"},{"$f":"CONCATENATE(Working!A44,\")\")","v":"42)"},{"$f":"Working!$DF44","v":"2(4k - 1) = k + 8"},{"$f":"CONCATENATE(Working!A69,\")\")","v":"67)"},{"$f":"Working!$DF69","v":"3(4a - 2) = 2(2a + 1)"}]
[{"$f":"CONCATENATE(Working!A20,\")\")","v":"18)"},{"$f":"Working!$DF20","v":"4(2m - 1) = 5"},{"$f":"CONCATENATE(Working!A45,\")\")","v":"43)"},{"$f":"Working!$DF45","v":"3(4e + 1) = 3e + 10"},{"$f":"CONCATENATE(Working!A70,\")\")","v":"68)"},{"$f":"Working!$DF70","v":"3(3i - 2) = 2(i + 5)"}]
[{"$f":"CONCATENATE(Working!A21,\")\")","v":"19)"},{"$f":"Working!$DF21","v":"2(3i - 1) = 6"},{"$f":"CONCATENATE(Working!A46,\")\")","v":"44)"},{"$f":"Working!$DF46","v":"2(4n - 1) = n + 2"},{"$f":"CONCATENATE(Working!A71,\")\")","v":"69)"},{"$f":"Working!$DF71","v":"4(6n + 3) = 3(3n + 16)"}]
[{"$f":"CONCATENATE(Working!A22,\")\")","v":"20)"},{"$f":"Working!$DF22","v":"3(3u - 1) = 6"},{"$f":"CONCATENATE(Working!A47,\")\")","v":"45)"},{"$f":"Working!$DF47","v":"4(3e - 1) = e + 4"},{"$f":"CONCATENATE(Working!A72,\")\")","v":"70)"},{"$f":"Working!$DF72","v":"4(3d - 3) = 3(d + 8)"}]
[{"$f":"CONCATENATE(Working!A23,\")\")","v":"21)"},{"$f":"Working!$DF23","v":"4(2f + 1) = 11"},{"$f":"CONCATENATE(Working!A48,\")\")","v":"46)"},{"$f":"Working!$DF48","v":"4(3h + 1) = h + 13"},{"$f":"CONCATENATE(Working!A73,\")\")","v":"71)"},{"$f":"Working!$DF73","v":"4(4h + 1) = (2h + 9)"}]
[{"$f":"CONCATENATE(Working!A24,\")\")","v":"22)"},{"$f":"Working!$DF24","v":"4(3r + 1) = 13"},{"$f":"CONCATENATE(Working!A49,\")\")","v":"47)"},{"$f":"Working!$DF49","v":"3(3h + 1) = 2h + 8"},{"$f":"CONCATENATE(Working!A74,\")\")","v":"72)"},{"$f":"Working!$DF74","v":"4(3m - 2) = 2(2m + 4)"}]
[{"$f":"CONCATENATE(Working!A25,\")\")","v":"23)"},{"$f":"Working!$DF25","v":"3(3n + 1) = 13"},{"$f":"CONCATENATE(Working!A50,\")\")","v":"48)"},{"$f":"Working!$DF50","v":"2(3k + 1) = k + 6"},{"$f":"CONCATENATE(Working!A75,\")\")","v":"73)"},{"$f":"Working!$DF75","v":"2(4g - 1) = (2g + 1)"}]
[{"$f":"CONCATENATE(Working!A26,\")\")","v":"24)"},{"$f":"Working!$DF26","v":"3(2q - 1) = 7"},{"$f":"CONCATENATE(Working!A51,\")\")","v":"49)"},{"$f":"Working!$DF51","v":"4(4k - 1) = 2k - 1"},{"$f":"CONCATENATE(Working!A76,\")\")","v":"74)"},{"$f":"Working!$DF76","v":"5(5n - 4) = 4(2n + 7)"}]
[{"$f":"CONCATENATE(Working!A27,\")\")","v":"25)"},{"$f":"Working!$DF27","v":"4(3m + 1) = 10"},{"$f":"CONCATENATE(Working!A52,\")\")","v":"50)"},{"$f":"Working!$DF52","v":"3(4g - 1) = 3g + 4"},{"$f":"CONCATENATE(Working!A77,\")\")","v":"75)"},{"$f":"Working!$DF77","v":"4(5b - 2) = 2(3b + 2)"}]

{"sheet":"Answers","index":3,"n_rows":28,"n_cols":6,"rows_kept":28,"cut":false,"hidden":false,"merged":[[2,0,2,5]]}
[null,null,null,{"$f":"Working!DF2","v":"SOLVING EQUATIONS WITH BRACKETS"}]
[null,null,null,"Solutions",{"$f":"CONCATENATE(\"Worksheet \",Working!C1,Working!B1)","v":"Worksheet SLE-771"}]
["Please excuse the fraction notation used in the answers"]
[{"$f":"CONCATENATE(Working!A3,\")\")","v":"1)"},{"$f":"(Working!$DE3)","v":"p =  2/3"},{"$f":"CONCATENATE(Working!A28,\")\")","v":"26)"},{"$f":"(Working!$DE28)","v":"n = 1 2/7"},{"$f":"CONCATENATE(Working!A53,\")\")","v":"51)"},{"$f":"(Working!$DE53)","v":"u =  1/3"}]
[{"$f":"CONCATENATE(Working!A4,\")\")","v":"2)"},{"$f":"(Working!$DE4)","v":"e =  5/6"},{"$f":"CONCATENATE(Working!A29,\")\")","v":"27)"},{"$f":"(Working!$DE29)","v":"j = 1"},{"$f":"CONCATENATE(Working!A54,\")\")","v":"52)"},{"$f":"(Working!$DE54)","v":"e = 7 3/11"}]
[{"$f":"CONCATENATE(Working!A5,\")\")","v":"3)"},{"$f":"(Working!$DE5)","v":"i =  8/9"},{"$f":"CONCATENATE(Working!A30,\")\")","v":"28)"},{"$f":"(Working!$DE30)","v":"f = 1"},{"$f":"CONCATENATE(Working!A55,\")\")","v":"53)"},{"$f":"(Working!$DE55)","v":"s = 1 5/7"}]
[{"$f":"CONCATENATE(Working!A6,\")\")","v":"4)"},{"$f":"(Working!$DE6)","v":"m =  1/3"},{"$f":"CONCATENATE(Working!A31,\")\")","v":"29)"},{"$f":"(Working!$DE31)","v":"j =  9/10"},{"$f":"CONCATENATE(Working!A56,\")\")","v":"54)"},{"$f":"(Working!$DE56)","v":"w = 1 1/7"}]
[{"$f":"CONCATENATE(Working!A7,\")\")","v":"5)"},{"$f":"(Working!$DE7)","v":"g = 1 1/4"},{"$f":"CONCATENATE(Working!A32,\")\")","v":"30)"},{"$f":"(Working!$DE32)","v":"m =  1/3"},{"$f":"CONCATENATE(Working!A57,\")\")","v":"55)"},{"$f":"(Working!$DE57)","v":"o = 4"}]
[{"$f":"CONCATENATE(Working!A8,\")\")","v":"6)"},{"$f":"(Working!$DE8)","v":"a = 1"},{"$f":"CONCATENATE(Working!A33,\")\")","v":"31)"},{"$f":"(Working!$DE33)","v":"e =  3/10"},{"$f":"CONCATENATE(Working!A58,\")\")","v":"56)"},{"$f":"(Working!$DE58)","v":"k =  1/7"}]
[{"$f":"CONCATENATE(Working!A9,\")\")","v":"7)"},{"$f":"(Working!$DE9)","v":"o = 1"},{"$f":"CONCATENATE(Working!A34,\")\")","v":"32)"},{"$f":"(Working!$DE34)","v":"c = 1 3/5"},{"$f":"CONCATENATE(Working!A59,\")\")","v":"57)"},{"$f":"(Working!$DE59)","v":"j = 1 1/3"}]
[{"$f":"CONCATENATE(Working!A10,\")\")","v":"8)"},{"$f":"(Working!$DE10)","v":"h =  2/3"},{"$f":"CONCATENATE(Working!A35,\")\")","v":"33)"},{"$f":"(Working!$DE35)","v":"t =  7/13"},{"$f":"CONCATENATE(Working!A60,\")\")","v":"58)"},{"$f":"(Working!$DE60)","v":"v = 1 3/5"}]
[{"$f":"CONCATENATE(Working!A11,\")\")","v":"9)"},{"$f":"(Working!$DE11)","v":"s =  2/3"},{"$f":"CONCATENATE(Working!A36,\")\")","v":"34)"},{"$f":"(Working!$DE36)","v":"a =  9/11"},{"$f":"CONCATENATE(Working!A61,\")\")","v":"59)"},{"$f":"(Working!$DE61)","v":"a = 4"}]
[{"$f":"CONCATENATE(Working!A12,\")\")","v":"10)"},{"$f":"(Working!$DE12)","v":"b = 1 1/4"},{"$f":"CONCATENATE(Working!A37,\")\")","v":"35)"},{"$f":"(Working!$DE37)","v":"e =  8/11"},{"$f":"CONCATENATE(Working!A62,\")\")","v":"60)"},{"$f":"(Working!$DE62)","v":"d = 4"}]
[{"$f":"CONCATENATE(Working!A13,\")\")","v":"11)"},{"$f":"(Working!$DE13)","v":"j = 1"},{"$f":"CONCATENATE(Working!A38,\")\")","v":"36)"},{"$f":"(Working!$DE38)","v":"o =  10/13"},{"$f":"CONCATENATE(Working!A63,\")\")","v":"61)"},{"$f":"(Working!$DE63)","v":"u = 1 1/7"}]
[{"$f":"CONCATENATE(Working!A14,\")\")","v":"12)"},{"$f":"(Working!$DE14)","v":"x =  5/6"},{"$f":"CONCATENATE(Working!A39,\")\")","v":"37)"},{"$f":"(Working!$DE39)","v":"v =  6/7"},{"$f":"CONCATENATE(Working!A64,\")\")","v":"62)"},{"$f":"(Working!$DE64)","v":"h =  9/11"}]
[{"$f":"CONCATENATE(Working!A15,\")\")","v":"13)"},{"$f":"(Working!$DE15)","v":"v = 1 1/4"},{"$f":"CONCATENATE(Working!A40,\")\")","v":"38)"},{"$f":"(Working!$DE40)","v":"q =  9/13"},{"$f":"CONCATENATE(Working!A65,\")\")","v":"63)"},{"$f":"(Working!$DE65)","v":"q = 1 1/3"}]
[{"$f":"CONCATENATE(Working!A16,\")\")","v":"14)"},{"$f":"(Working!$DE16)","v":"a = 1 1/3"},{"$f":"CONCATENATE(Working!A41,\")\")","v":"39)"},{"$f":"(Working!$DE41)","v":"w = 1 2/5"},{"$f":"CONCATENATE(Working!A66,\")\")","v":"64)"},{"$f":"(Working!$DE66)","v":"t = 20"}]
[{"$f":"CONCATENATE(Working!A17,\")\")","v":"15)"},{"$f":"(Working!$DE17)","v":"v =  5/6"},{"$f":"CONCATENATE(Working!A42,\")\")","v":"40)"},{"$f":"(Working!$DE42)","v":"q =  3/7"},{"$f":"CONCATENATE(Working!A67,\")\")","v":"65)"},{"$f":"(Working!$DE67)","v":"v = 4"}]
[{"$f":"CONCATENATE(Working!A18,\")\")","v":"16)"},{"$f":"(Working!$DE18)","v":"j = 1 1/4"},{"$f":"CONCATENATE(Working!A43,\")\")","v":"41)"},{"$f":"(Working!$DE43)","v":"h =  5/6"},{"$f":"CONCATENATE(Working!A68,\")\")","v":"66)"},{"$f":"(Working!$DE68)","v":"b = 2"}]
[{"$f":"CONCATENATE(Working!A19,\")\")","v":"17)"},{"$f":"(Working!$DE19)","v":"h = 1 1/2"},{"$f":"CONCATENATE(Working!A44,\")\")","v":"42)"},{"$f":"(Working!$DE44)","v":"k = 1 3/7"},{"$f":"CONCATENATE(Working!A69,\")\")","v":"67)"},{"$f":"(Working!$DE69)","v":"a = 1"}]
[{"$f":"CONCATENATE(Working!A20,\")\")","v":"18)"},{"$f":"(Working!$DE20)","v":"m = 1 1/8"},{"$f":"CONCATENATE(Working!A45,\")\")","v":"43)"},{"$f":"(Working!$DE45)","v":"e =  7/9"},{"$f":"CONCATENATE(Working!A70,\")\")","v":"68)"},{"$f":"(Working!$DE70)","v":"i = 2 2/7"}]
[{"$f":"CONCATENATE(Working!A21,\")\")","v":"19)"},{"$f":"(Working!$DE21)","v":"i = 1 1/3"},{"$f":"CONCATENATE(Working!A46,\")\")","v":"44)"},{"$f":"(Working!$DE46)","v":"n =  4/7"},{"$f":"CONCATENATE(Working!A71,\")\")","v":"69)"},{"$f":"(Working!$DE71)","v":"n = 2 2/5"}]
[{"$f":"CONCATENATE(Working!A22,\")\")","v":"20)"},{"$f":"(Working!$DE22)","v":"u = 1"},{"$f":"CONCATENATE(Working!A47,\")\")","v":"45)"},{"$f":"(Working!$DE47)","v":"e =  8/11"},{"$f":"CONCATENATE(Working!A72,\")\")","v":"70)"},{"$f":"(Working!$DE72)","v":"d = 4"}]
[{"$f":"CONCATENATE(Working!A23,\")\")","v":"21)"},{"$f":"(Working!$DE23)","v":"f =  7/8"},{"$f":"CONCATENATE(Working!A48,\")\")","v":"46)"},{"$f":"(Working!$DE48)","v":"h =  9/11"},{"$f":"CONCATENATE(Working!A73,\")\")","v":"71)"},{"$f":"(Working!$DE73)","v":"h =  5/14"}]
[{"$f":"CONCATENATE(Working!A24,\")\")","v":"22)"},{"$f":"(Working!$DE24)","v":"r =  3/4"},{"$f":"CONCATENATE(Working!A49,\")\")","v":"47)"},{"$f":"(Working!$DE49)","v":"h =  5/7"},{"$f":"CONCATENATE(Working!A74,\")\")","v":"72)"},{"$f":"(Working!$DE74)","v":"m = 2"}]
[{"$f":"CONCATENATE(Working!A25,\")\")","v":"23)"},{"$f":"(Working!$DE25)","v":"n = 1 1/9"},{"$f":"CONCATENATE(Working!A50,\")\")","v":"48)"},{"$f":"(Working!$DE50)","v":"k =  4/5"},{"$f":"CONCATENATE(Working!A75,\")\")","v":"73)"},{"$f":"(Working!$DE75)","v":"g =  1/2"}]
[{"$f":"CONCATENATE(Working!A26,\")\")","v":"24)"},{"$f":"(Working!$DE26)","v":"q = 1 2/3"},{"$f":"CONCATENATE(Working!A51,\")\")","v":"49)"},{"$f":"(Working!$DE51)","v":"k =  3/14"},{"$f":"CONCATENATE(Working!A76,\")\")","v":"74)"},{"$f":"(Working!$DE76)","v":"n = 2 14/17"}]
[{"$f":"CONCATENATE(Working!A27,\")\")","v":"25)"},{"$f":"(Working!$DE27)","v":"m =  1/2"},{"$f":"CONCATENATE(Working!A52,\")\")","v":"50)"},{"$f":"(Working!$DE52)","v":"g =  7/9"},{"$f":"CONCATENATE(Working!A77,\")\")","v":"75)"},{"$f":"(Working!$DE77)","v":"b =  6/7"}]