{"text_format":"1","workbook":"xlsx","n_sheets":4,"sheets":["Information","Worksheet","Answers","Working"],"not_rendered":{"charts":0,"images":0,"macros":1,"external_links":0,"defined_names":0,"comments":0,"pivot_tables":0},"unopened":[],"bounds":{"document_bytes":16777216,"sheet_cells":100000,"rows_first":2000,"rows_last":500,"rows_between":2000,"halvings":0,"cell_chars":16384,"cell_head_chars":4096},"cells_cut":0,"cells_raw":0,"read":"whole","date_system":"1900"}

{"sheet":"Information","index":0,"n_rows":15,"n_cols":9,"rows_kept":15,"cut":false,"hidden":false,"merged":[[3,2,3,6],[5,2,5,6],[5,8,9,9],[7,2,10,7]]}
[null,null,null,null,"SUBSTITUTION"]
[null,null,null,null,"Cardinal numbers"]
[]
[null,null,"INSTRUCTIONS"]
[]
[null,"Step 1","Click on WorkSheet tab below.",null,null,null,null,null,"PRESS F9 for NEW WorkSheet"]
[]
[null,"Note","If you hold down shift then click on the WorkSheet tab and the Answers tab, you will be able to print both the WorkSheet and the solutions."]
[]
[]
[]
[]
[null,null,"NOTES:"]
[null,null,"* Practise simple substitution."]
[null,null,"* The answers do not show working."]

{"sheet":"Worksheet","index":1,"n_rows":29,"n_cols":8,"rows_kept":29,"cut":false,"hidden":false,"merged":[[3,1,3,3],[0,2,0,5]]}
[null,null,"SUBSTITUTION"]
[null,null,null,null,null,null,{"$f":"CONCATENATE(\"Worksheet \",Working!D1,Working!B1)","v":"Worksheet SUB-914"}]
["Evaluate the following expressions if;"]
[null,{"$f":"CONCATENATE(Working!A4,\" = \",Working!S4,\", \",Working!A5,\" = \",Working!S5,\", \",Working!A6,\" = \",Working!S6,\", \",Working!A7,\" = \",Working!S7,\", \",Working!A8,\" = \",Working!S8)","v":"b = 1, f = 3, j = 5, t = 4, u = 6"}]
[{"$f":"CONCATENATE(Working!A13,\")\")","v":"1)"},{"$f":"Working!$BB13","v":"b + 5"},{"$f":"CONCATENATE(Working!A38,\")\")","v":"26)"},{"$f":"Working!$BB38","v":"3b"},{"$f":"CONCATENATE(Working!A63,\")\")","v":"51)"},{"$f":"Working!$BB63","v":"bft"},{"$f":"CONCATENATE(Working!A88,\")\")","v":"76)"},{"$f":"Working!$BB88","v":"b²"}]
[{"$f":"CONCATENATE(Working!A14,\")\")","v":"2)"},{"$f":"Working!$BB14","v":"f + 5"},{"$f":"CONCATENATE(Working!A39,\")\")","v":"27)"},{"$f":"Working!$BB39","v":"5b"},{"$f":"CONCATENATE(Working!A64,\")\")","v":"52)"},{"$f":"Working!$BB64","v":"bju"},{"$f":"CONCATENATE(Working!A89,\")\")","v":"77)"},{"$f":"Working!$BB89","v":"f²"}]
[{"$f":"CONCATENATE(Working!A15,\")\")","v":"3)"},{"$f":"Working!$BB15","v":"j + 9"},{"$f":"CONCATENATE(Working!A40,\")\")","v":"28)"},{"$f":"Working!$BB40","v":"2u"},{"$f":"CONCATENATE(Working!A65,\")\")","v":"53)"},{"$f":"Working!$BB65","v":"ftj"},{"$f":"CONCATENATE(Working!A90,\")\")","v":"78)"},{"$f":"Working!$BB90","v":"j²"}]
[{"$f":"CONCATENATE(Working!A16,\")\")","v":"4)"},{"$f":"Working!$BB16","v":"t + 8"},{"$f":"CONCATENATE(Working!A41,\")\")","v":"29)"},{"$f":"Working!$BB41","v":"5j"},{"$f":"CONCATENATE(Working!A66,\")\")","v":"54)"},{"$f":"Working!$BB66","v":"btu"},{"$f":"CONCATENATE(Working!A91,\")\")","v":"79)"},{"$f":"Working!$BB91","v":"3b²"}]
[{"$f":"CONCATENATE(Working!A17,\")\")","v":"5)"},{"$f":"Working!$BB17","v":"u + 9"},{"$f":"CONCATENATE(Working!A42,\")\")","v":"30)"},{"$f":"Working!$BB42","v":"5f"},{"$f":"CONCATENATE(Working!A67,\")\")","v":"55)"},{"$f":"Working!$BB67","v":"tfj"},{"$f":"CONCATENATE(Working!A92,\")\")","v":"80)"},{"$f":"Working!$BB92","v":"2u²"}]
[{"$f":"CONCATENATE(Working!A18,\")\")","v":"6)"},{"$f":"Working!$BB18","v":"j + 8"},{"$f":"CONCATENATE(Working!A43,\")\")","v":"31)"},{"$f":"Working!$BB43","v":"4t"},{"$f":"CONCATENATE(Working!A68,\")\")","v":"56)"},{"$f":"Working!$BB68","v":"jbf"},{"$f":"CONCATENATE(Working!A93,\")\")","v":"81)"},{"$f":"Working!$BB93","v":"f² + 7"}]
[{"$f":"CONCATENATE(Working!A19,\")\")","v":"7)"},{"$f":"Working!$BB19","v":"b + 9"},{"$f":"CONCATENATE(Working!A44,\")\")","v":"32)"},{"$f":"Working!$BB44","v":"3b"},{"$f":"CONCATENATE(Working!A69,\")\")","v":"57)"},{"$f":"Working!$BB69","v":"bf + jt"},{"$f":"CONCATENATE(Working!A94,\")\")","v":"82)"},{"$f":"Working!$BB94","v":"t² - 6"}]
[{"$f":"CONCATENATE(Working!A20,\")\")","v":"8)"},{"$f":"Working!$BB20","v":"u + 12"},{"$f":"CONCATENATE(Working!A45,\")\")","v":"33)"},{"$f":"Working!$BB45","v":"4j"},{"$f":"CONCATENATE(Working!A70,\")\")","v":"58)"},{"$f":"Working!$BB70","v":"bj + ju"},{"$f":"CONCATENATE(Working!A95,\")\")","v":"83)"},{"$f":"Working!$BB95","v":"j² + b"}]
[{"$f":"CONCATENATE(Working!A21,\")\")","v":"9)"},{"$f":"Working!$BB21","v":"9 + t"},{"$f":"CONCATENATE(Working!A46,\")\")","v":"34)"},{"$f":"Working!$BB46","v":"6u"},{"$f":"CONCATENATE(Working!A71,\")\")","v":"59)"},{"$f":"Working!$BB71","v":"jt + fb"},{"$f":"CONCATENATE(Working!A96,\")\")","v":"84)"},{"$f":"Working!$BB96","v":"b² + 3f"}]
[{"$f":"CONCATENATE(Working!A22,\")\")","v":"10)"},{"$f":"Working!$BB22","v":"f + 10"},{"$f":"CONCATENATE(Working!A47,\")\")","v":"35)"},{"$f":"Working!$BB47","v":"7j"},{"$f":"CONCATENATE(Working!A72,\")\")","v":"60)"},{"$f":"Working!$BB72","v":"bu + bt"},{"$f":"CONCATENATE(Working!A97,\")\")","v":"85)"},{"$f":"Working!$BB97","v":"u² - 2b"}]
[{"$f":"CONCATENATE(Working!A23,\")\")","v":"11)"},{"$f":"Working!$BB23","v":"t - 1"},{"$f":"CONCATENATE(Working!A48,\")\")","v":"36)"},{"$f":"Working!$BB48","v":"bj"},{"$f":"CONCATENATE(Working!A73,\")\")","v":"61)"},{"$f":"Working!$BB73","v":"uf + uj"},{"$f":"CONCATENATE(Working!A98,\")\")","v":"86)"},{"$f":"Working!$BB98","v":"b² + f²"}]
[{"$f":"CONCATENATE(Working!A24,\")\")","v":"12)"},{"$f":"Working!$BB24","v":"u - 6"},{"$f":"CONCATENATE(Working!A49,\")\")","v":"37)"},{"$f":"Working!$BB49","v":"jf"},{"$f":"CONCATENATE(Working!A74,\")\")","v":"62)"},{"$f":"Working!$BB74","v":"6(b + 9)"},{"$f":"CONCATENATE(Working!A99,\")\")","v":"87)"},{"$f":"Working!$BB99","v":"f² + j²"}]
[{"$f":"CONCATENATE(Working!A25,\")\")","v":"13)"},{"$f":"Working!$BB25","v":"b + j"},{"$f":"CONCATENATE(Working!A50,\")\")","v":"38)"},{"$f":"Working!$BB50","v":"3j + 3"},{"$f":"CONCATENATE(Working!A75,\")\")","v":"63)"},{"$f":"Working!$BB75","v":"8(f + 9)"},{"$f":"CONCATENATE(Working!A100,\")\")","v":"88)"},{"$f":"Working!$BB100","v":"u² - b²"}]
[{"$f":"CONCATENATE(Working!A26,\")\")","v":"14)"},{"$f":"Working!$BB26","v":"f + u"},{"$f":"CONCATENATE(Working!A51,\")\")","v":"39)"},{"$f":"Working!$BB51","v":"tj"},{"$f":"CONCATENATE(Working!A76,\")\")","v":"64)"},{"$f":"Working!$BB76","v":"9(j + 6)"},{"$f":"CONCATENATE(Working!A101,\")\")","v":"89)"},{"$f":"Working!$BB101","v":"u² - t²"}]
[{"$f":"CONCATENATE(Working!A27,\")\")","v":"15)"},{"$f":"Working!$BB27","v":"j + b"},{"$f":"CONCATENATE(Working!A52,\")\")","v":"40)"},{"$f":"Working!$BB52","v":"bj"},{"$f":"CONCATENATE(Working!A77,\")\")","v":"65)"},{"$f":"Working!$BB77","v":"8(t + 8)"},{"$f":"CONCATENATE(Working!A102,\")\")","v":"90)"},{"$f":"Working!$BB102","v":"bt²"}]
[{"$f":"CONCATENATE(Working!A28,\")\")","v":"16)"},{"$f":"Working!$BB28","v":"t + j"},{"$f":"CONCATENATE(Working!A53,\")\")","v":"41)"},{"$f":"Working!$BB53","v":"5b + 5"},{"$f":"CONCATENATE(Working!A78,\")\")","v":"66)"},{"$f":"Working!$BB78","v":"8(u + 7)"},{"$f":"CONCATENATE(Working!A103,\")\")","v":"91)"},{"$f":"Working!$BB103","v":"uj²"}]
[{"$f":"CONCATENATE(Working!A29,\")\")","v":"17)"},{"$f":"Working!$BB29","v":"u - b"},{"$f":"CONCATENATE(Working!A54,\")\")","v":"42)"},{"$f":"Working!$BB54","v":"4t + 4"},{"$f":"CONCATENATE(Working!A79,\")\")","v":"67)"},{"$f":"Working!$BB79","v":"8(2b + 4)"},{"$f":"CONCATENATE(Working!A104,\")\")","v":"92)"},{"$f":"Working!$BB104","v":"b²f²"}]
[{"$f":"CONCATENATE(Working!A30,\")\")","v":"18)"},{"$f":"Working!$BB30","v":"t + u"},{"$f":"CONCATENATE(Working!A55,\")\")","v":"43)"},{"$f":"Working!$BB55","v":"5j + 5"},{"$f":"CONCATENATE(Working!A80,\")\")","v":"68)"},{"$f":"Working!$BB80","v":"6(2f + 3)"},{"$f":"CONCATENATE(Working!A105,\")\")","v":"93)"},{"$f":"Working!$BB105","v":"f²j²"}]
[{"$f":"CONCATENATE(Working!A31,\")\")","v":"19)"},{"$f":"Working!$BB31","v":"t - b"},{"$f":"CONCATENATE(Working!A56,\")\")","v":"44)"},{"$f":"Working!$BB56","v":"7u - 7"},{"$f":"CONCATENATE(Working!A81,\")\")","v":"69)"},{"$f":"Working!$BB81","v":"7(3t + 2)"},{"$f":"CONCATENATE(Working!A106,\")\")","v":"94)"},{"$f":"Working!$BB106","v":"2jb²"}]
[{"$f":"CONCATENATE(Working!A32,\")\")","v":"20)"},{"$f":"Working!$BB32","v":"u - f"},{"$f":"CONCATENATE(Working!A57,\")\")","v":"45)"},{"$f":"Working!$BB57","v":"bj + 6"},{"$f":"CONCATENATE(Working!A82,\")\")","v":"70)"},{"$f":"Working!$BB82","v":"9(2f - 3)"},{"$f":"CONCATENATE(Working!A107,\")\")","v":"95)"},{"$f":"Working!$BB107","v":"2bt²"}]
[{"$f":"CONCATENATE(Working!A33,\")\")","v":"21)"},{"$f":"Working!$BB33","v":"b + f + j"},{"$f":"CONCATENATE(Working!A58,\")\")","v":"46)"},{"$f":"Working!$BB58","v":"fb + 3"},{"$f":"CONCATENATE(Working!A83,\")\")","v":"71)"},{"$f":"Working!$BB83","v":"7(2u - 4)"},{"$f":"CONCATENATE(Working!A108,\")\")","v":"96)"},{"$f":"Working!$BB108","v":"jb² + 6b"}]
[{"$f":"CONCATENATE(Working!A34,\")\")","v":"22)"},{"$f":"Working!$BB34","v":"b + u + f"},{"$f":"CONCATENATE(Working!A59,\")\")","v":"47)"},{"$f":"Working!$BB59","v":"uj + 3"},{"$f":"CONCATENATE(Working!A84,\")\")","v":"72)"},{"$f":"Working!$BB84","v":"7(3j - 3)"},{"$f":"CONCATENATE(Working!A109,\")\")","v":"97)"},{"$f":"Working!$BB109","v":"2(u² + 6)"}]
[{"$f":"CONCATENATE(Working!A35,\")\")","v":"23)"},{"$f":"Working!$BB35","v":"t + b + u"},{"$f":"CONCATENATE(Working!A60,\")\")","v":"48)"},{"$f":"Working!$BB60","v":"jf - 8"},{"$f":"CONCATENATE(Working!A85,\")\")","v":"73)"},{"$f":"Working!$BB85","v":"2(3b + 2f)"},{"$f":"CONCATENATE(Working!A110,\")\")","v":"98)"},{"$f":"Working!$BB110","v":"3(j² - 7)"}]
[{"$f":"CONCATENATE(Working!A36,\")\")","v":"24)"},{"$f":"Working!$BB36","v":"b + u - j"},{"$f":"CONCATENATE(Working!A61,\")\")","v":"49)"},{"$f":"Working!$BB61","v":"tb + 5"},{"$f":"CONCATENATE(Working!A86,\")\")","v":"74)"},{"$f":"Working!$BB86","v":"6(2f + 3t)"},{"$f":"CONCATENATE(Working!A111,\")\")","v":"99)"},{"$f":"Working!$BB111","v":"4(f² - 8)"}]
[{"$f":"CONCATENATE(Working!A37,\")\")","v":"25)"},{"$f":"Working!$BB37","v":"u - b + j"},{"$f":"CONCATENATE(Working!A62,\")\")","v":"50)"},{"$f":"Working!$BB62","v":"bfj"},{"$f":"CONCATENATE(Working!A87,\")\")","v":"75)"},{"$f":"Working!$BB87","v":"7(2j + 3b + 3)"},{"$f":"CONCATENATE(Working!A112,\")\")","v":"100)"},{"$f":"Working!$BB112","v":"5(b² + f²)"}]

{"sheet":"Answers","index":2,"n_rows":28,"n_cols":8,"rows_kept":28,"cut":false,"hidden":false,"merged":[[0,2,0,5],[1,2,1,5]]}
[null,null,"SUBSTITUTION"]
[null,null,"ANSWERS",null,null,null,null,{"$f":"CONCATENATE(\"Worksheet \",Working!D1,Working!B1)","v":"Worksheet SUB-914"}]
[]
[{"$f":"CONCATENATE(Working!A13,\")\")","v":"1)"},{"$f":"Working!$BC13","v":"6"},{"$f":"CONCATENATE(Working!A38,\")\")","v":"26)"},{"$f":"Working!$BC38","v":3},{"$f":"CONCATENATE(Working!A63,\")\")","v":"51)"},{"$f":"Working!$BC63","v":12},{"$f":"CONCATENATE(Working!A88,\")\")","v":"76)"},{"$f":"Working!$BC88","v":1}]
[{"$f":"CONCATENATE(Working!A14,\")\")","v":"2)"},{"$f":"Working!$BC14","v":8},{"$f":"CONCATENATE(Working!A39,\")\")","v":"27)"},{"$f":"Working!$BC39","v":5},{"$f":"CONCATENATE(Working!A64,\")\")","v":"52)"},{"$f":"Working!$BC64","v":30},{"$f":"CONCATENATE(Working!A89,\")\")","v":"77)"},{"$f":"Working!$BC89","v":9}]
[{"$f":"CONCATENATE(Working!A15,\")\")","v":"3)"},{"$f":"Working!$BC15","v":14},{"$f":"CONCATENATE(Working!A40,\")\")","v":"28)"},{"$f":"Working!$BC40","v":12},{"$f":"CONCATENATE(Working!A65,\")\")","v":"53)"},{"$f":"Working!$BC65","v":60},{"$f":"CONCATENATE(Working!A90,\")\")","v":"78)"},{"$f":"Working!$BC90","v":25}]
[{"$f":"CONCATENATE(Working!A16,\")\")","v":"4)"},{"$f":"Working!$BC16","v":12},{"$f":"CONCATENATE(Working!A41,\")\")","v":"29)"},{"$f":"Working!$BC41","v":25},{"$f":"CONCATENATE(Working!A66,\")\")","v":"54)"},{"$f":"Working!$BC66","v":24},{"$f":"CONCATENATE(Working!A91,\")\")","v":"79)"},{"$f":"Working!$BC91","v":3}]
[{"$f":"CONCATENATE(Working!A17,\")\")","v":"5)"},{"$f":"Working!$BC17","v":15},{"$f":"CONCATENATE(Working!A42,\")\")","v":"30)"},{"$f":"Working!$BC42","v":15},{"$f":"CONCATENATE(Working!A67,\")\")","v":"55)"},{"$f":"Working!$BC67","v":60},{"$f":"CONCATENATE(Working!A92,\")\")","v":"80)"},{"$f":"Working!$BC92","v":72}]
[{"$f":"CONCATENATE(Working!A18,\")\")","v":"6)"},{"$f":"Working!$BC18","v":13},{"$f":"CONCATENATE(Working!A43,\")\")","v":"31)"},{"$f":"Working!$BC43","v":16},{"$f":"CONCATENATE(Working!A68,\")\")","v":"56)"},{"$f":"Working!$BC68","v":15},{"$f":"CONCATENATE(Working!A93,\")\")","v":"81)"},{"$f":"Working!$BC93","v":16}]
[{"$f":"CONCATENATE(Working!A19,\")\")","v":"7)"},{"$f":"Working!$BC19","v":10},{"$f":"CONCATENATE(Working!A44,\")\")","v":"32)"},{"$f":"Working!$BC44","v":3},{"$f":"CONCATENATE(Working!A69,\")\")","v":"57)"},{"$f":"Working!$BC69","v":23},{"$f":"CONCATENATE(Working!A94,\")\")","v":"82)"},{"$f":"Working!$BC94","v":10}]
[{"$f":"CONCATENATE(Working!A20,\")\")","v":"8)"},{"$f":"Working!$BC20","v":18},{"$f":"CONCATENATE(Working!A45,\")\")","v":"33)"},{"$f":"Working!$BC45","v":20},{"$f":"CONCATENATE(Working!A70,\")\")","v":"58)"},{"$f":"Working!$BC70","v":35},{"$f":"CONCATENATE(Working!A95,\")\")","v":"83)"},{"$f":"Working!$BC95","v":30}]
[{"$f":"CONCATENATE(Working!A21,\")\")","v":"9)"},{"$f":"Working!$BC21","v":13},{"$f":"CONCATENATE(Working!A46,\")\")","v":"34)"},{"$f":"Working!$BC46","v":36},{"$f":"CONCATENATE(Working!A71,\")\")","v":"59)"},{"$f":"Working!$BC71","v":23},{"$f":"CONCATENATE(Working!A96,\")\")","v":"84)"},{"$f":"Working!$BC96","v":10}]
[{"$f":"CONCATENATE(Working!A22,\")\")","v":"10)"},{"$f":"Working!$BC22","v":13},{"$f":"CONCATENATE(Working!A47,\")\")","v":"35)"},{"$f":"Working!$BC47","v":35},{"$f":"CONCATENATE(Working!A72,\")\")","v":"60)"},{"$f":"Working!$BC72","v":10},{"$f":"CONCATENATE(Working!A97,\")\")","v":"85)"},{"$f":"Working!$BC97","v":26}]
[{"$f":"CONCATENATE(Working!A23,\")\")","v":"11)"},{"$f":"Working!$BC23","v":3},{"$f":"CONCATENATE(Working!A48,\")\")","v":"36)"},{"$f":"Working!$BC48","v":5},{"$f":"CONCATENATE(Working!A73,\")\")","v":"61)"},{"$f":"Working!$BC73","v":48},{"$f":"CONCATENATE(Working!A98,\")\")","v":"86)"},{"$f":"Working!$BC98","v":10}]
[{"$f":"CONCATENATE(Working!A24,\")\")","v":"12)"},{"$f":"Working!$BC24","v":0},{"$f":"CONCATENATE(Working!A49,\")\")","v":"37)"},{"$f":"Working!$BC49","v":15},{"$f":"CONCATENATE(Working!A74,\")\")","v":"62)"},{"$f":"Working!$BC74","v":60},{"$f":"CONCATENATE(Working!A99,\")\")","v":"87)"},{"$f":"Working!$BC99","v":34}]
[{"$f":"CONCATENATE(Working!A25,\")\")","v":"13)"},{"$f":"Working!$BC25","v":6},{"$f":"CONCATENATE(Working!A50,\")\")","v":"38)"},{"$f":"Working!$BC50","v":18},{"$f":"CONCATENATE(Working!A75,\")\")","v":"63)"},{"$f":"Working!$BC75","v":96},{"$f":"CONCATENATE(Working!A100,\")\")","v":"88)"},{"$f":"Working!$BC100","v":35}]
[{"$f":"CONCATENATE(Working!A26,\")\")","v":"14)"},{"$f":"Working!$BC26","v":9},{"$f":"CONCATENATE(Working!A51,\")\")","v":"39)"},{"$f":"Working!$BC51","v":20},{"$f":"CONCATENATE(Working!A76,\")\")","v":"64)"},{"$f":"Working!$BC76","v":99},{"$f":"CONCATENATE(Working!A101,\")\")","v":"89)"},{"$f":"Working!$BC101","v":20}]
[{"$f":"CONCATENATE(Working!A27,\")\")","v":"15)"},{"$f":"Working!$BC27","v":6},{"$f":"CONCATENATE(Working!A52,\")\")","v":"40)"},{"$f":"Working!$BC52","v":5},{"$f":"CONCATENATE(Working!A77,\")\")","v":"65)"},{"$f":"Working!$BC77","v":96},{"$f":"CONCATENATE(Working!A102,\")\")","v":"90)"},{"$f":"Working!$BC102","v":16}]
[{"$f":"CONCATENATE(Working!A28,\")\")","v":"16)"},{"$f":"Working!$BC28","v":9},{"$f":"CONCATENATE(Working!A53,\")\")","v":"41)"},{"$f":"Working!$BC53","v":8},{"$f":"CONCATENATE(Working!A78,\")\")","v":"66)"},{"$f":"Working!$BC78","v":104},{"$f":"CONCATENATE(Working!A103,\")\")","v":"91)"},{"$f":"Working!$BC103","v":150}]
[{"$f":"CONCATENATE(Working!A29,\")\")","v":"17)"},{"$f":"Working!$BC29","v":5},{"$f":"CONCATENATE(Working!A54,\")\")","v":"42)"},{"$f":"Working!$BC54","v":16},{"$f":"CONCATENATE(Working!A79,\")\")","v":"67)"},{"$f":"Working!$BC79","v":48},{"$f":"CONCATENATE(Working!A104,\")\")","v":"92)"},{"$f":"Working!$BC104","v":9}]
[{"$f":"CONCATENATE(Working!A30,\")\")","v":"18)"},{"$f":"Working!$BC30","v":10},{"$f":"CONCATENATE(Working!A55,\")\")","v":"43)"},{"$f":"Working!$BC55","v":20},{"$f":"CONCATENATE(Working!A80,\")\")","v":"68)"},{"$f":"Working!$BC80","v":54},{"$f":"CONCATENATE(Working!A105,\")\")","v":"93)"},{"$f":"Working!$BC105","v":225}]
[{"$f":"CONCATENATE(Working!A31,\")\")","v":"19)"},{"$f":"Working!$BC31","v":3},{"$f":"CONCATENATE(Working!A56,\")\")","v":"44)"},{"$f":"Working!$BC56","v":11},{"$f":"CONCATENATE(Working!A81,\")\")","v":"69)"},{"$f":"Working!$BC81","v":98},{"$f":"CONCATENATE(Working!A106,\")\")","v":"94)"},{"$f":"Working!$BC106","v":10}]
[{"$f":"CONCATENATE(Working!A32,\")\")","v":"20)"},{"$f":"Working!$BC32","v":3},{"$f":"CONCATENATE(Working!A57,\")\")","v":"45)"},{"$f":"Working!$BC57","v":11},{"$f":"CONCATENATE(Working!A82,\")\")","v":"70)"},{"$f":"Working!$BC82","v":27},{"$f":"CONCATENATE(Working!A107,\")\")","v":"95)"},{"$f":"Working!$BC107","v":32}]
[{"$f":"CONCATENATE(Working!A33,\")\")","v":"21)"},{"$f":"Working!$BC33","v":9},{"$f":"CONCATENATE(Working!A58,\")\")","v":"46)"},{"$f":"Working!$BC58","v":6},{"$f":"CONCATENATE(Working!A83,\")\")","v":"71)"},{"$f":"Working!$BC83","v":56},{"$f":"CONCATENATE(Working!A108,\")\")","v":"96)"},{"$f":"Working!$BC108","v":16}]
[{"$f":"CONCATENATE(Working!A34,\")\")","v":"22)"},{"$f":"Working!$BC34","v":10},{"$f":"CONCATENATE(Working!A59,\")\")","v":"47)"},{"$f":"Working!$BC59","v":33},{"$f":"CONCATENATE(Working!A84,\")\")","v":"72)"},{"$f":"Working!$BC84","v":84},{"$f":"CONCATENATE(Working!A109,\")\")","v":"97)"},{"$f":"Working!$BC109","v":84}]
[{"$f":"CONCATENATE(Working!A35,\")\")","v":"23)"},{"$f":"Working!$BC35","v":11},{"$f":"CONCATENATE(Working!A60,\")\")","v":"48)"},{"$f":"Working!$BC60","v":7},{"$f":"CONCATENATE(Working!A85,\")\")","v":"73)"},{"$f":"Working!$BC85","v":18},{"$f":"CONCATENATE(Working!A110,\")\")","v":"98)"},{"$f":"Working!$BC110","v":54}]
[{"$f":"CONCATENATE(Working!A36,\")\")","v":"24)"},{"$f":"Working!$BC36","v":2},{"$f":"CONCATENATE(Working!A61,\")\")","v":"49)"},{"$f":"Working!$BC61","v":9},{"$f":"CONCATENATE(Working!A86,\")\")","v":"74)"},{"$f":"Working!$BC86","v":108},{"$f":"CONCATENATE(Working!A111,\")\")","v":"99)"},{"$f":"Working!$BC111","v":4}]
[{"$f":"CONCATENATE(Working!A37,\")\")","v":"25)"},{"$f":"Working!$BC37","v":10},{"$f":"CONCATENATE(Working!A62,\")\")","v":"50)"},{"$f":"Working!$BC62","v":15},{"$f":"CONCATENATE(Working!A87,\")\")","v":"75)"},{"$f":"Working!$BC87","v":112},{"$f":"CONCATENATE(Working!A112,\")\")","v":"100)"},{"$f":"Working!$BC112","v":50}]

{"sheet":"Working","index":3,"n_rows":112,"n_cols":55,"rows_kept":112,"cut":false,"hidden":true,"merged":[]}
[{"$f":"INT(900*RAND()+100)","v":914},{"$f":"TEXT(1,A1)","v":"914"},null,"SUB-"]
[]
["Sets of values",null,null,1,2,3,4,5,6,7,8,9,10,11,12,13,14,15,"Use"]
[{"$f":"CHAR(INT(3*RAND()+97))","v":"b"},{"$f":"INT(15*RAND())","v":3},null,2,2,3,1,2,3,2,1,2,4,2,3,1,2,2,{"$f":"OFFSET(D4,0,VALUE(B$4))","v":1}]
[{"$f":"CHAR(INT(5*RAND()+100))","v":"f"},null,null,3,4,6,3,3,4,3,4,4,5,4,4,5,5,3,{"$f":"OFFSET(D5,0,VALUE(B$4))","v":3}]
[{"$f":"CHAR(INT(5*RAND()+106))","v":"j"},null,null,4,5,9,5,5,5,4,5,5,6,6,6,6,7,6,{"$f":"OFFSET(D6,0,VALUE(B$4))","v":5}]
[{"$f":"CHAR(INT(5*RAND()+112))","v":"t"},null,null,5,8,4,4,4,6,6,6,7,7,8,5,4,6,5,{"$f":"OFFSET(D7,0,VALUE(B$4))","v":4}]
[{"$f":"CHAR(INT(5*RAND()+117))","v":"u"},null,null,6,10,8,6,6,8,10,10,10,9,10,8,8,10,8,{"$f":"OFFSET(D8,0,VALUE(B$4))","v":6}]
[]
[]
[null,null,null,1,null,2,null,3,null,4,null,5,null,6,null,7,null,8,null,9,null,10,null,11,null,12,null,13,null,14,null,15,null,16,null,17,null,18,null,19,null,20,null,21,null,22,null,23,null,24,null,25]
[null,"Random",null,"Q","A","Q","A","Q","A","Q","A","Q","A","Q","A","Q","A","Q","A","Q","A","Q","A","Q","A","Q","A","Q","A","Q","A","Q","A","Q","A","Q","A","Q","A","Q","A","Q","A","Q","A","Q","A","Q","A","Q","A","Q","A"]
[1,{"$f":"2*INT(25*RAND())","v":30},{"$f":"INT(5*RAND()+5)","v":5},{"$f":"CONCATENATE($A$4,\" + \",$C13)","v":"b + 5"},{"$f":"CONCATENATE($S$4+$C$13)","v":"6"},{"$f":"CONCATENATE($A$4,\" + \",($C13-2))","v":"b + 3"},{"$f":"CONCATENATE($S$4+$C$13-2)","v":"4"},{"$f":"CONCATENATE($A$4,\" + \",\"2\")","v":"b + 2"},{"$f":"CONCATENATE($S$4+2)","v":"3"},{"$f":"CONCATENATE($A$4,\" + \",$C13)","v":"b + 5"},{"$f":"CONCATENATE($S$4+$C$13)","v":"6"},{"$f":"CONCATENATE($A$4,\" + \",$C13)","v":"b + 5"},{"$f":"CONCATENATE($S$4+$C$13)","v":"6"},{"$f":"CONCATENATE($A$4,\" + \",$C13)","v":"b + 5"},{"$f":"CONCATENATE($S$4+$C$13)","v":"6"},{"$f":"CONCATENATE($A$4,\" + \",$C13)","v":"b + 5"},{"$f":"CONCATENATE($S$4+$C$13)","v":"6"},{"$f":"CONCATENATE($A$4,\" + \",$C13)","v":"b + 5"},{"$f":"CONCATENATE($S$4+$C$13)","v":"6"},{"$f":"CONCATENATE($A$4,\" + \",$C13)","v":"b + 5"},{"$f":"CONCATENATE($S$4+$C$13)","v":"6"},{"$f":"CONCATENATE($A$4,\" + \",$C13)","v":"b + 5"},{"$f":"CONCATENATE($S$4+$C$13)","v":"6"},{"$f":"CONCATENATE($A$4,\" + \",$C13)","v":"b + 5"},{"$f":"CONCATENATE($S$4+$C$13)","v":"6"},{"$f":"CONCATENATE($A$4,\" + \",$C13)","v":"b + 5"},{"$f":"CONCATENATE($S$4+$C$13)","v":"6"},{"$f":"CONCATENATE($A$4,\" + \",$C13)","v":"b + 5"},{"$f":"CONCATENATE($S$4+$C$13)","v":"6"},{"$f":"CONCATENATE($A$4,\" + \",$C13)","v":"b + 5"},{"$f":"CONCATENATE($S$4+$C$13)","v":"6"},{"$f":"CONCATENATE($A$4,\" + \",$C13)","v":"b + 5"},{"$f":"CONCATENATE($S$4+$C$13)","v":"6"},{"$f":"CONCATENATE($A$4,\" + \",$C13)","v":"b + 5"},{"$f":"CONCATENATE($S$4+$C$13)","v":"6"},{"$f":"CONCATENATE($A$4,\" + \",$C13)","v":"b + 5"},{"$f":"CONCATENATE($S$4+$C$13)","v":"6"},{"$f":"CONCATENATE($A$4,\" + \",$C13)","v":"b + 5"},{"$f":"CONCATENATE($S$4+$C$13)","v":"6"},{"$f":"CONCATENATE($A$4,\" + \",$C13)","v":"b + 5"},{"$f":"CONCATENATE($S$4+$C$13)","v":"6"},{"$f":"CONCATENATE($A$4,\" + \",$C13)","v":"b + 5"},{"$f":"CONCATENATE($S$4+$C$13)","v":"6"},{"$f":"CONCATENATE($A$4,\" + \",$C13)","v":"b + 5"},{"$f":"CONCATENATE($S$4+$C$13)","v":"6"},{"$f":"CONCATENATE($A$4,\" + \",$C13)","v":"b + 5"},{"$f":"CONCATENATE($S$4+$C$13)","v":"6"},{"$f":"CONCATENATE($A$4,\" + \",$C13)","v":"b + 5"},{"$f":"CONCATENATE($S$4+$C$13)","v":"6"},{"$f":"CONCATENATE($A$4,\" + \",$C13)","v":"b + 5"},{"$f":"CONCATENATE($S$4+$C$13)","v":"6"},{"$f":"CONCATENATE($A$4,\" + \",$C13)","v":"b + 5"},{"$f":"CONCATENATE($S$4+$C$13)","v":"6"},{"$f":"OFFSET(D13,0,VALUE(B13))","v":"b + 5"},{"$f":"OFFSET(E13,0,VALUE(B13))","v":"6"}]
[2,{"$f":"2*INT(25*RAND())","v":22},{"$f":"INT(5*RAND()+5)","v":5},{"$f":"CONCATENATE($A$5,\" + \",$C14)","v":"f + 5"},{"$f":"$S$5+$C14","v":8},{"$f":"CONCATENATE($A$6,\" + \",$C14)","v":"j + 5"},{"$f":"$S$6+$C14","v":10},{"$f":"CONCATENATE($A$5,\" + \",\"4\")","v":"f + 4"},{"$f":"$S$5+4","v":7},{"$f":"CONCATENATE($A$5,\" + \",$C14)","v":"f + 5"},{"$f":"$S$5+$C14","v":8},{"$f":"CONCATENATE($A$5,\" + \",$C14)","v":"f + 5"},{"$f":"$S$5+$C14","v":8},{"$f":"CONCATENATE($A$5,\" + \",$C14)","v":"f + 5"},{"$f":"$S$5+$C14","v":8},{"$f":"CONCATENATE($A$5,\" + \",$C14)","v":"f + 5"},{"$f":"$S$5+$C14","v":8},{"$f":"CONCATENATE($A$5,\" + \",$C14)","v":"f + 5"},{"$f":"$S$5+$C14","v":8},{"$f":"CONCATENATE($A$5,\" + \",$C14)","v":"f + 5"},{"$f":"$S$5+$C14","v":8},{"$f":"CONCATENATE($A$5,\" + \",$C14)","v":"f + 5"},{"$f":"$S$5+$C14","v":8},{"$f":"CONCATENATE($A$5,\" + \",$C14)","v":"f + 5"},{"$f":"$S$5+$C14","v":8},{"$f":"CONCATENATE($A$5,\" + \",$C14)","v":"f + 5"},{"$f":"$S$5+$C14","v":8},{"$f":"CONCATENATE($A$5,\" + \",$C14)","v":"f + 5"},{"$f":"$S$5+$C14","v":8},{"$f":"CONCATENATE($A$5,\" + \",$C14)","v":"f + 5"},{"$f":"$S$5+$C14","v":8},{"$f":"CONCATENATE($A$5,\" + \",$C14)","v":"f + 5"},{"$f":"$S$5+$C14","v":8},{"$f":"CONCATENATE($A$5,\" + \",$C14)","v":"f + 5"},{"$f":"$S$5+$C14","v":8},{"$f":"CONCATENATE($A$5,\" + \",$C14)","v":"f + 5"},{"$f":"$S$5+$C14","v":8},{"$f":"CONCATENATE($A$5,\" + \",$C14)","v":"f + 5"},{"$f":"$S$5+$C14","v":8},{"$f":"CONCATENATE($A$5,\" + \",$C14)","v":"f + 5"},{"$f":"$S$5+$C14","v":8},{"$f":"CONCATENATE($A$5,\" + \",$C14)","v":"f + 5"},{"$f":"$S$5+$C14","v":8},{"$f":"CONCATENATE($A$5,\" + \",$C14)","v":"f + 5"},{"$f":"$S$5+$C14","v":8},{"$f":"CONCATENATE($A$5,\" + \",$C14)","v":"f + 5"},{"$f":"$S$5+$C14","v":8},{"$f":"CONCATENATE($A$5,\" + \",$C14)","v":"f + 5"},{"$f":"$S$5+$C14","v":8},{"$f":"CONCATENATE($A$5,\" + \",$C14)","v":"f + 5"},{"$f":"$S$5+$C14","v":8},{"$f":"CONCATENATE($A$5,\" + \",$C14)","v":"f + 5"},{"$f":"$S$5+$C14","v":8},{"$f":"OFFSET(D14,0,VALUE(B14))","v":"f + 5"},{"$f":"OFFSET(E14,0,VALUE(B14))","v":8}]
[3,40,9,{"$f":"CONCATENATE($A$6,\" + \",$C15)","v":"j + 9"},{"$f":"$S$6+$C15","v":14},{"$f":"CONCATENATE($A$5,\" + \",$C15)","v":"f + 9"},{"$f":"$S$5+$C15","v":12},{"$f":"CONCATENATE($A$6,\" + \",\"6\")","v":"j + 6"},{"$f":"$S$6+6","v":11},{"$f":"CONCATENATE($A$6,\" + \",$C15)","v":"j + 9"},{"$f":"$S$6+$C15","v":14},{"$f":"CONCATENATE($A$6,\" + \",$C15)","v":"j + 9"},{"$f":"$S$6+$C15","v":14},{"$f":"CONCATENATE($A$6,\" + \",$C15)","v":"j + 9"},{"$f":"$S$6+$C15","v":14},{"$f":"CONCATENATE($A$6,\" + \",$C15)","v":"j + 9"},{"$f":"$S$6+$C15","v":14},{"$f":"CONCATENATE($A$6,\" + \",$C15)","v":"j + 9"},{"$f":"$S$6+$C15","v":14},{"$f":"CONCATENATE($A$6,\" + \",$C15)","v":"j + 9"},{"$f":"$S$6+$C15","v":14},{"$f":"CONCATENATE($A$6,\" + \",$C15)","v":"j + 9"},{"$f":"$S$6+$C15","v":14},{"$f":"CONCATENATE($A$6,\" + \",$C15)","v":"j + 9"},{"$f":"$S$6+$C15","v":14},{"$f":"CONCATENATE($A$6,\" + \",$C15)","v":"j + 9"},{"$f":"$S$6+$C15","v":14},{"$f":"CONCATENATE($A$6,\" + \",$C15)","v":"j + 9"},{"$f":"$S$6+$C15","v":14},{"$f":"CONCATENATE($A$6,\" + \",$C15)","v":"j + 9"},{"$f":"$S$6+$C15","v":14},{"$f":"CONCATENATE($A$6,\" + \",$C15)","v":"j + 9"},{"$f":"$S$6+$C15","v":14},{"$f":"CONCATENATE($A$6,\" + \",$C15)","v":"j + 9"},{"$f":"$S$6+$C15","v":14},{"$f":"CONCATENATE($A$6,\" + \",$C15)","v":"j + 9"},{"$f":"$S$6+$C15","v":14},{"$f":"CONCATENATE($A$6,\" + \",$C15)","v":"j + 9"},{"$f":"$S$6+$C15","v":14},{"$f":"CONCATENATE($A$6,\" + \",$C15)","v":"j + 9"},{"$f":"$S$6+$C15","v":14},{"$f":"CONCATENATE($A$6,\" + \",$C15)","v":"j + 9"},{"$f":"$S$6+$C15","v":14},{"$f":"CONCATENATE($A$6,\" + \",$C15)","v":"j + 9"},{"$f":"$S$6+$C15","v":14},{"$f":"CONCATENATE($A$6,\" + \",$C15)","v":"j + 9"},{"$f":"$S$6+$C15","v":14},{"$f":"CONCATENATE($A$6,\" + \",$C15)","v":"j + 9"},{"$f":"$S$6+$C15","v":14},{"$f":"CONCATENATE($A$6,\" + \",$C15)","v":"j + 9"},{"$f":"$S$6+$C15","v":14},{"$f":"CONCATENATE($A$6,\" + \",$C15)","v":"j + 9"},{"$f":"$S$6+$C15","v":14},"j + 9",14]
[4,0,8,{"$f":"CONCATENATE($A$7,\" + \",$C16)","v":"t + 8"},{"$f":"$S$7+$C16","v":12},{"$f":"CONCATENATE($A$7,\" + \",($C16-2))","v":"t + 6"},{"$f":"$S$7+$C16-2","v":10},{"$f":"CONCATENATE($A$7,\" + \",\"5\")","v":"t + 5"},{"$f":"$S$7+5","v":9},{"$f":"CONCATENATE($A$7,\" + \",$C16)","v":"t + 8"},{"$f":"$S$7+$C16","v":12},{"$f":"CONCATENATE($A$7,\" + \",$C16)","v":"t + 8"},{"$f":"$S$7+$C16","v":12},{"$f":"CONCATENATE($A$7,\" + \",$C16)","v":"t + 8"},{"$f":"$S$7+$C16","v":12},{"$f":"CONCATENATE($A$7,\" + \",$C16)","v":"t + 8"},{"$f":"$S$7+$C16","v":12},{"$f":"CONCATENATE($A$7,\" + \",$C16)","v":"t + 8"},{"$f":"$S$7+$C16","v":12},{"$f":"CONCATENATE($A$7,\" + \",$C16)","v":"t + 8"},{"$f":"$S$7+$C16","v":12},{"$f":"CONCATENATE($A$7,\" + \",$C16)","v":"t + 8"},{"$f":"$S$7+$C16","v":12},{"$f":"CONCATENATE($A$7,\" + \",$C16)","v":"t + 8"},{"$f":"$S$7+$C16","v":12},{"$f":"CONCATENATE($A$7,\" + \",$C16)","v":"t + 8"},{"$f":"$S$7+$C16","v":12},{"$f":"CONCATENATE($A$7,\" + \",$C16)","v":"t + 8"},{"$f":"$S$7+$C16","v":12},{"$f":"CONCATENATE($A$7,\" + \",$C16)","v":"t + 8"},{"$f":"$S$7+$C16","v":12},{"$f":"CONCATENATE($A$7,\" + \",$C16)","v":"t + 8"},{"$f":"$S$7+$C16","v":12},{"$f":"CONCATENATE($A$7,\" + \",$C16)","v":"t + 8"},{"$f":"$S$7+$C16","v":12},{"$f":"CONCATENATE($A$7,\" + \",$C16)","v":"t + 8"},{"$f":"$S$7+$C16","v":12},{"$f":"CONCATENATE($A$7,\" + \",$C16)","v":"t + 8"},{"$f":"$S$7+$C16","v":12},{"$f":"CONCATENATE($A$7,\" + \",$C16)","v":"t + 8"},{"$f":"$S$7+$C16","v":12},{"$f":"CONCATENATE($A$7,\" + \",$C16)","v":"t + 8"},{"$f":"$S$7+$C16","v":12},{"$f":"CONCATENATE($A$7,\" + \",$C16)","v":"t + 8"},{"$f":"$S$7+$C16","v":12},{"$f":"CONCATENATE($A$7,\" + \",$C16)","v":"t + 8"},{"$f":"$S$7+$C16","v":12},{"$f":"CONCATENATE($A$7,\" + \",$C16)","v":"t + 8"},{"$f":"$S$7+$C16","v":12},{"$f":"CONCATENATE($A$7,\" + \",$C16)","v":"t + 8"},{"$f":"$S$7+$C16","v":12},{"$f":"CONCATENATE($A$7,\" + \",$C16)","v":"t + 8"},{"$f":"$S$7+$C16","v":12},"t + 8",12]
[5,32,9,{"$f":"CONCATENATE($A$8,\" + \",$C17)","v":"u + 9"},{"$f":"$S$8+$C17","v":15},{"$f":"CONCATENATE($A$8,\" + \",($C17-4))","v":"u + 5"},{"$f":"$S$7+$C17-4","v":9},{"$f":"CONCATENATE($A$8,\" + \",$C17)","v":"u + 9"},{"$f":"$S$8+$C17","v":15},{"$f":"CONCATENATE($A$8,\" + \",$C17)","v":"u + 9"},{"$f":"$S$8+$C17","v":15},{"$f":"CONCATENATE($A$8,\" + \",$C17)","v":"u + 9"},{"$f":"$S$8+$C17","v":15},{"$f":"CONCATENATE($A$8,\" + \",$C17)","v":"u + 9"},{"$f":"$S$8+$C17","v":15},{"$f":"CONCATENATE($A$8,\" + \",$C17)","v":"u + 9"},{"$f":"$S$8+$C17","v":15},{"$f":"CONCATENATE($A$8,\" + \",$C17)","v":"u + 9"},{"$f":"$S$8+$C17","v":15},{"$f":"CONCATENATE($A$8,\" + \",$C17)","v":"u + 9"},{"$f":"$S$8+$C17","v":15},{"$f":"CONCATENATE($A$8,\" + \",$C17)","v":"u + 9"},{"$f":"$S$8+$C17","v":15},{"$f":"CONCATENATE($A$8,\" + \",$C17)","v":"u + 9"},{"$f":"$S$8+$C17","v":15},{"$f":"CONCATENATE($A$8,\" + \",$C17)","v":"u + 9"},{"$f":"$S$8+$C17","v":15},{"$f":"CONCATENATE($A$8,\" + \",$C17)","v":"u + 9"},{"$f":"$S$8+$C17","v":15},{"$f":"CONCATENATE($A$8,\" + \",$C17)","v":"u + 9"},{"$f":"$S$8+$C17","v":15},{"$f":"CONCATENATE($A$8,\" + \",$C17)","v":"u + 9"},{"$f":"$S$8+$C17","v":15},{"$f":"CONCATENATE($A$8,\" + \",$C17)","v":"u + 9"},{"$f":"$S$8+$C17","v":15},{"$f":"CONCATENATE($A$8,\" + \",$C17)","v":"u + 9"},{"$f":"$S$8+$C17","v":15},{"$f":"CONCATENATE($A$8,\" + \",$C17)","v":"u + 9"},{"$f":"$S$8+$C17","v":15},{"$f":"CONCATENATE($A$8,\" + \",$C17)","v":"u + 9"},{"$f":"$S$8+$C17","v":15},{"$f":"CONCATENATE($A$8,\" + \",$C17)","v":"u + 9"},{"$f":"$S$8+$C17","v":15},{"$f":"CONCATENATE($A$8,\" + \",$C17)","v":"u + 9"},{"$f":"$S$8+$C17","v":15},{"$f":"CONCATENATE($A$8,\" + \",$C17)","v":"u + 9"},{"$f":"$S$8+$C17","v":15},{"$f":"CONCATENATE($A$8,\" + \",$C17)","v":"u + 9"},{"$f":"$S$8+$C17","v":15},{"$f":"CONCATENATE($A$8,\" + \",$C17)","v":"u + 9"},{"$f":"$S$8+$C17","v":15},{"$f":"CONCATENATE($A$8,\" + \",$C17)","v":"u + 9"},{"$f":"$S$8+$C17","v":15},"u + 9",15]
[6,32,{"$f":"INT(5*RAND()+8)","v":8},{"$f":"CONCATENATE($A$6,\" + \",$C18)","v":"j + 8"},{"$f":"$S$6+$C18","v":13},{"$f":"CONCATENATE($A$6,\" + \",($C18-3))","v":"j + 5"},{"$f":"$S$6+$C18-3","v":10},{"$f":"CONCATENATE($A$6,\" + \",$C18)","v":"j + 8"},{"$f":"$S$6+$C18","v":13},{"$f":"CONCATENATE($A$6,\" + \",$C18)","v":"j + 8"},{"$f":"$S$6+$C18","v":13},{"$f":"CONCATENATE($A$6,\" + \",$C18)","v":"j + 8"},{"$f":"$S$6+$C18","v":13},{"$f":"CONCATENATE($A$6,\" + \",$C18)","v":"j + 8"},{"$f":"$S$6+$C18","v":13},{"$f":"CONCATENATE($A$6,\" + \",$C18)","v":"j + 8"},{"$f":"$S$6+$C18","v":13},{"$f":"CONCATENATE($A$6,\" + \",$C18)","v":"j + 8"},{"$f":"$S$6+$C18","v":13},{"$f":"CONCATENATE($A$6,\" + \",$C18)","v":"j + 8"},{"$f":"$S$6+$C18","v":13},{"$f":"CONCATENATE($A$6,\" + \",$C18)","v":"j + 8"},{"$f":"$S$6+$C18","v":13},{"$f":"CONCATENATE($A$6,\" + \",$C18)","v":"j + 8"},{"$f":"$S$6+$C18","v":13},{"$f":"CONCATENATE($A$6,\" + \",$C18)","v":"j + 8"},{"$f":"$S$6+$C18","v":13},{"$f":"CONCATENATE($A$6,\" + \",$C18)","v":"j + 8"},{"$f":"$S$6+$C18","v":13},{"$f":"CONCATENATE($A$6,\" + \",$C18)","v":"j + 8"},{"$f":"$S$6+$C18","v":13},{"$f":"CONCATENATE($A$6,\" + \",$C18)","v":"j + 8"},{"$f":"$S$6+$C18","v":13},{"$f":"CONCATENATE($A$6,\" + \",$C18)","v":"j + 8"},{"$f":"$S$6+$C18","v":13},{"$f":"CONCATENATE($A$6,\" + \",$C18)","v":"j + 8"},{"$f":"$S$6+$C18","v":13},{"$f":"CONCATENATE($A$6,\" + \",$C18)","v":"j + 8"},{"$f":"$S$6+$C18","v":13},{"$f":"CONCATENATE($A$6,\" + \",$C18)","v":"j + 8"},{"$f":"$S$6+$C18","v":13},{"$f":"CONCATENATE($A$6,\" + \",$C18)","v":"j + 8"},{"$f":"$S$6+$C18","v":13},{"$f":"CONCATENATE($A$6,\" + \",$C18)","v":"j + 8"},{"$f":"$S$6+$C18","v":13},{"$f":"CONCATENATE($A$6,\" + \",$C18)","v":"j + 8"},{"$f":"$S$6+$C18","v":13},{"$f":"CONCATENATE($A$6,\" + \",$C18)","v":"j + 8"},{"$f":"$S$6+$C18","v":13},{"$f":"CONCATENATE($A$6,\" + \",$C18)","v":"j + 8"},{"$f":"$S$6+$C18","v":13},{"$f":"CONCATENATE($A$6,\" + \",$C18)","v":"j + 8"},{"$f":"$S$6+$C18","v":13},"j + 8",13]
[7,30,{"$f":"INT(5*RAND()+8)","v":9},{"$f":"CONCATENATE($A$4,\" + \",$C19)","v":"b + 9"},{"$f":"$S$4+$C19","v":10},{"$f":"CONCATENATE($A$4,\" + \",($C19-1))","v":"b + 8"},{"$f":"$S$4+$C19-1","v":9},{"$f":"CONCATENATE($A$4,\" + \",$C19)","v":"b + 9"},{"$f":"$S$4+$C19","v":10},{"$f":"CONCATENATE($A$4,\" + \",$C19)","v":"b + 9"},{"$f":"$S$4+$C19","v":10},{"$f":"CONCATENATE($A$4,\" + \",$C19)","v":"b + 9"},{"$f":"$S$4+$C19","v":10},{"$f":"CONCATENATE($A$4,\" + \",$C19)","v":"b + 9"},{"$f":"$S$4+$C19","v":10},{"$f":"CONCATENATE($A$4,\" + \",$C19)","v":"b + 9"},{"$f":"$S$4+$C19","v":10},{"$f":"CONCATENATE($A$4,\" + \",$C19)","v":"b + 9"},{"$f":"$S$4+$C19","v":10},{"$f":"CONCATENATE($A$4,\" + \",$C19)","v":"b + 9"},{"$f":"$S$4+$C19","v":10},{"$f":"CONCATENATE($A$4,\" + \",$C19)","v":"b + 9"},{"$f":"$S$4+$C19","v":10},{"$f":"CONCATENATE($A$4,\" + \",$C19)","v":"b + 9"},{"$f":"$S$4+$C19","v":10},{"$f":"CONCATENATE($A$4,\" + \",$C19)","v":"b + 9"},{"$f":"$S$4+$C19","v":10},{"$f":"CONCATENATE($A$4,\" + \",$C19)","v":"b + 9"},{"$f":"$S$4+$C19","v":10},{"$f":"CONCATENATE($A$4,\" + \",$C19)","v":"b + 9"},{"$f":"$S$4+$C19","v":10},{"$f":"CONCATENATE($A$4,\" + \",$C19)","v":"b + 9"},{"$f":"$S$4+$C19","v":10},{"$f":"CONCATENATE($A$4,\" + \",$C19)","v":"b + 9"},{"$f":"$S$4+$C19","v":10},{"$f":"CONCATENATE($A$4,\" + \",$C19)","v":"b + 9"},{"$f":"$S$4+$C19","v":10},{"$f":"CONCATENATE($A$4,\" + \",$C19)","v":"b + 9"},{"$f":"$S$4+$C19","v":10},{"$f":"CONCATENATE($A$4,\" + \",$C19)","v":"b + 9"},{"$f":"$S$4+$C19","v":10},{"$f":"CONCATENATE($A$4,\" + \",$C19)","v":"b + 9"},{"$f":"$S$4+$C19","v":10},{"$f":"CONCATENATE($A$4,\" + \",$C19)","v":"b + 9"},{"$f":"$S$4+$C19","v":10},{"$f":"CONCATENATE($A$4,\" + \",$C19)","v":"b + 9"},{"$f":"$S$4+$C19","v":10},{"$f":"CONCATENATE($A$4,\" + \",$C19)","v":"b + 9"},{"$f":"$S$4+$C19","v":10},{"$f":"CONCATENATE($A$4,\" + \",$C19)","v":"b + 9"},{"$f":"$S$4+$C19","v":10},{"$f":"CONCATENATE($A$4,\" + \",$C19)","v":"b + 9"},{"$f":"$S$4+$C19","v":10},"b + 9",10]
[8,24,{"$f":"INT(5*RAND()+8)","v":12},{"$f":"CONCATENATE($A$8,\" + \",$C20)","v":"u + 12"},{"$f":"$S$8+$C20","v":18},{"$f":"CONCATENATE($A$6,\" + \",$C20)","v":"j + 12"},{"$f":"$S$6+$C20","v":17},{"$f":"CONCATENATE($A$8,\" + \",$C20)","v":"u + 12"},{"$f":"$S$8+$C20","v":18},{"$f":"CONCATENATE($A$8,\" + \",$C20)","v":"u + 12"},{"$f":"$S$8+$C20","v":18},{"$f":"CONCATENATE($A$8,\" + \",$C20)","v":"u + 12"},{"$f":"$S$8+$C20","v":18},{"$f":"CONCATENATE($A$8,\" + \",$C20)","v":"u + 12"},{"$f":"$S$8+$C20","v":18},{"$f":"CONCATENATE($A$8,\" + \",$C20)","v":"u + 12"},{"$f":"$S$8+$C20","v":18},{"$f":"CONCATENATE($A$8,\" + \",$C20)","v":"u + 12"},{"$f":"$S$8+$C20","v":18},{"$f":"CONCATENATE($A$8,\" + \",$C20)","v":"u + 12"},{"$f":"$S$8+$C20","v":18},{"$f":"CONCATENATE($A$8,\" + \",$C20)","v":"u + 12"},{"$f":"$S$8+$C20","v":18},{"$f":"CONCATENATE($A$8,\" + \",$C20)","v":"u + 12"},{"$f":"$S$8+$C20","v":18},{"$f":"CONCATENATE($A$8,\" + \",$C20)","v":"u + 12"},{"$f":"$S$8+$C20","v":18},{"$f":"CONCATENATE($A$8,\" + \",$C20)","v":"u + 12"},{"$f":"$S$8+$C20","v":18},{"$f":"CONCATENATE($A$8,\" + \",$C20)","v":"u + 12"},{"$f":"$S$8+$C20","v":18},{"$f":"CONCATENATE($A$8,\" + \",$C20)","v":"u + 12"},{"$f":"$S$8+$C20","v":18},{"$f":"CONCATENATE($A$8,\" + \",$C20)","v":"u + 12"},{"$f":"$S$8+$C20","v":18},{"$f":"CONCATENATE($A$8,\" + \",$C20)","v":"u + 12"},{"$f":"$S$8+$C20","v":18},{"$f":"CONCATENATE($A$8,\" + \",$C20)","v":"u + 12"},{"$f":"$S$8+$C20","v":18},{"$f":"CONCATENATE($A$8,\" + \",$C20)","v":"u + 12"},{"$f":"$S$8+$C20","v":18},{"$f":"CONCATENATE($A$8,\" + \",$C20)","v":"u + 12"},{"$f":"$S$8+$C20","v":18},{"$f":"CONCATENATE($A$8,\" + \",$C20)","v":"u + 12"},{"$f":"$S$8+$C20","v":18},{"$f":"CONCATENATE($A$8,\" + \",$C20)","v":"u + 12"},{"$f":"$S$8+$C20","v":18},{"$f":"CONCATENATE($A$8,\" + \",$C20)","v":"u + 12"},{"$f":"$S$8+$C20","v":18},{"$f":"CONCATENATE($A$8,\" + \",$C20)","v":"u + 12"},{"$f":"$S$8+$C20","v":18},{"$f":"CONCATENATE($A$8,\" + \",$C20)","v":"u + 12"},{"$f":"$S$8+$C20","v":18},"u + 12",18]
[9,2,{"$f":"INT(5*RAND()+8)","v":9},{"$f":"CONCATENATE($A$6,\" + \",$C21)","v":"j + 9"},{"$f":"$S$6+$C21","v":14},{"$f":"CONCATENATE($C21,\" + \",$A$7)","v":"9 + t"},{"$f":"$S$7+$C21","v":13},{"$f":"CONCATENATE($A$6,\" + \",$C21)","v":"j + 9"},{"$f":"$S$6+$C21","v":14},{"$f":"CONCATENATE($A$6,\" + \",$C21)","v":"j + 9"},{"$f":"$S$6+$C21","v":14},{"$f":"CONCATENATE($A$6,\" + \",$C21)","v":"j + 9"},{"$f":"$S$6+$C21","v":14},{"$f":"CONCATENATE($A$6,\" + \",$C21)","v":"j + 9"},{"$f":"$S$6+$C21","v":14},{"$f":"CONCATENATE($A$6,\" + \",$C21)","v":"j + 9"},{"$f":"$S$6+$C21","v":14},{"$f":"CONCATENATE($A$6,\" + \",$C21)","v":"j + 9"},{"$f":"$S$6+$C21","v":14},{"$f":"CONCATENATE($A$6,\" + \",$C21)","v":"j + 9"},{"$f":"$S$6+$C21","v":14},{"$f":"CONCATENATE($A$6,\" + \",$C21)","v":"j + 9"},{"$f":"$S$6+$C21","v":14},{"$f":"CONCATENATE($A$6,\" + \",$C21)","v":"j + 9"},{"$f":"$S$6+$C21","v":14},{"$f":"CONCATENATE($A$6,\" + \",$C21)","v":"j + 9"},{"$f":"$S$6+$C21","v":14},{"$f":"CONCATENATE($A$6,\" + \",$C21)","v":"j + 9"},{"$f":"$S$6+$C21","v":14},{"$f":"CONCATENATE($A$6,\" + \",$C21)","v":"j + 9"},{"$f":"$S$6+$C21","v":14},{"$f":"CONCATENATE($A$6,\" + \",$C21)","v":"j + 9"},{"$f":"$S$6+$C21","v":14},{"$f":"CONCATENATE($A$6,\" + \",$C21)","v":"j + 9"},{"$f":"$S$6+$C21","v":14},{"$f":"CONCATENATE($A$6,\" + \",$C21)","v":"j + 9"},{"$f":"$S$6+$C21","v":14},{"$f":"CONCATENATE($A$6,\" + \",$C21)","v":"j + 9"},{"$f":"$S$6+$C21","v":14},{"$f":"CONCATENATE($A$6,\" + \",$C21)","v":"j + 9"},{"$f":"$S$6+$C21","v":14},{"$f":"CONCATENATE($A$6,\" + \",$C21)","v":"j + 9"},{"$f":"$S$6+$C21","v":14},{"$f":"CONCATENATE($A$6,\" + \",$C21)","v":"j + 9"},{"$f":"$S$6+$C21","v":14},{"$f":"CONCATENATE($A$6,\" + \",$C21)","v":"j + 9"},{"$f":"$S$6+$C21","v":14},{"$f":"CONCATENATE($A$6,\" + \",$C21)","v":"j + 9"},{"$f":"$S$6+$C21","v":14},{"$f":"CONCATENATE($A$6,\" + \",$C21)","v":"j + 9"},{"$f":"$S$6+$C21","v":14},{"$f":"CONCATENATE($A$6,\" + \",$C21)","v":"j + 9"},{"$f":"$S$6+$C21","v":14},"9 + t",13]
[10,10,{"$f":"INT(5*RAND()+8)","v":10},{"$f":"CONCATENATE($A$5,\" + \",$C22)","v":"f + 10"},{"$f":"$S$5+$C22","v":13},{"$f":"CONCATENATE(($C22-2),\" + \",$A$5)","v":"8 + f"},{"$f":"$S$5+$C22-2","v":11},{"$f":"CONCATENATE($A$5,\" + \",$C22)","v":"f + 10"},{"$f":"$S$5+$C22","v":13},{"$f":"CONCATENATE($A$5,\" + \",$C22)","v":"f + 10"},{"$f":"$S$5+$C22","v":13},{"$f":"CONCATENATE($A$5,\" + \",$C22)","v":"f + 10"},{"$f":"$S$5+$C22","v":13},{"$f":"CONCATENATE($A$5,\" + \",$C22)","v":"f + 10"},{"$f":"$S$5+$C22","v":13},{"$f":"CONCATENATE($A$5,\" + \",$C22)","v":"f + 10"},{"$f":"$S$5+$C22","v":13},{"$f":"CONCATENATE($A$5,\" + \",$C22)","v":"f + 10"},{"$f":"$S$5+$C22","v":13},{"$f":"CONCATENATE($A$5,\" + \",$C22)","v":"f + 10"},{"$f":"$S$5+$C22","v":13},{"$f":"CONCATENATE($A$5,\" + \",$C22)","v":"f + 10"},{"$f":"$S$5+$C22","v":13},{"$f":"CONCATENATE($A$5,\" + \",$C22)","v":"f + 10"},{"$f":"$S$5+$C22","v":13},{"$f":"CONCATENATE($A$5,\" + \",$C22)","v":"f + 10"},{"$f":"$S$5+$C22","v":13},{"$f":"CONCATENATE($A$5,\" + \",$C22)","v":"f + 10"},{"$f":"$S$5+$C22","v":13},{"$f":"CONCATENATE($A$5,\" + \",$C22)","v":"f + 10"},{"$f":"$S$5+$C22","v":13},{"$f":"CONCATENATE($A$5,\" + \",$C22)","v":"f + 10"},{"$f":"$S$5+$C22","v":13},{"$f":"CONCATENATE($A$5,\" + \",$C22)","v":"f + 10"},{"$f":"$S$5+$C22","v":13},{"$f":"CONCATENATE($A$5,\" + \",$C22)","v":"f + 10"},{"$f":"$S$5+$C22","v":13},{"$f":"CONCATENATE($A$5,\" + \",$C22)","v":"f + 10"},{"$f":"$S$5+$C22","v":13},{"$f":"CONCATENATE($A$5,\" + \",$C22)","v":"f + 10"},{"$f":"$S$5+$C22","v":13},{"$f":"CONCATENATE($A$5,\" + \",$C22)","v":"f + 10"},{"$f":"$S$5+$C22","v":13},{"$f":"CONCATENATE($A$5,\" + \",$C22)","v":"f + 10"},{"$f":"$S$5+$C22","v":13},{"$f":"CONCATENATE($A$5,\" + \",$C22)","v":"f + 10"},{"$f":"$S$5+$C22","v":13},{"$f":"CONCATENATE($A$5,\" + \",$C22)","v":"f + 10"},{"$f":"$S$5+$C22","v":13},{"$f":"CONCATENATE($A$5,\" + \",$C22)","v":"f + 10"},{"$f":"$S$5+$C22","v":13},{"$f":"CONCATENATE($A$5,\" + \",$C22)","v":"f + 10"},{"$f":"$S$5+$C22","v":13},"f + 10",13]
[11,48,{"$f":"INT(4*RAND()+1)","v":1},{"$f":"CONCATENATE($A$7,\" - \",$C23)","v":"t - 1"},{"$f":"$S$7-$C23","v":3},{"$f":"CONCATENATE($A$7,\" - \",($C23+1))","v":"t - 2"},{"$f":"$S$7-$C23+1","v":4},{"$f":"CONCATENATE($A$7,\" - \",$C23)","v":"t - 1"},{"$f":"$S$7-$C23","v":3},{"$f":"CONCATENATE($A$7,\" - \",$C23)","v":"t - 1"},{"$f":"$S$7-$C23","v":3},{"$f":"CONCATENATE($A$7,\" - \",$C23)","v":"t - 1"},{"$f":"$S$7-$C23","v":3},{"$f":"CONCATENATE($A$7,\" - \",$C23)","v":"t - 1"},{"$f":"$S$7-$C23","v":3},{"$f":"CONCATENATE($A$7,\" - \",$C23)","v":"t - 1"},{"$f":"$S$7-$C23","v":3},{"$f":"CONCATENATE($A$7,\" - \",$C23)","v":"t - 1"},{"$f":"$S$7-$C23","v":3},{"$f":"CONCATENATE($A$7,\" - \",$C23)","v":"t - 1"},{"$f":"$S$7-$C23","v":3},{"$f":"CONCATENATE($A$7,\" - \",$C23)","v":"t - 1"},{"$f":"$S$7-$C23","v":3},{"$f":"CONCATENATE($A$7,\" - \",$C23)","v":"t - 1"},{"$f":"$S$7-$C23","v":3},{"$f":"CONCATENATE($A$7,\" - \",$C23)","v":"t - 1"},{"$f":"$S$7-$C23","v":3},{"$f":"CONCATENATE($A$7,\" - \",$C23)","v":"t - 1"},{"$f":"$S$7-$C23","v":3},{"$f":"CONCATENATE($A$7,\" - \",$C23)","v":"t - 1"},{"$f":"$S$7-$C23","v":3},{"$f":"CONCATENATE($A$7,\" - \",$C23)","v":"t - 1"},{"$f":"$S$7-$C23","v":3},{"$f":"CONCATENATE($A$7,\" - \",$C23)","v":"t - 1"},{"$f":"$S$7-$C23","v":3},{"$f":"CONCATENATE($A$7,\" - \",$C23)","v":"t - 1"},{"$f":"$S$7-$C23","v":3},{"$f":"CONCATENATE($A$7,\" - \",$C23)","v":"t - 1"},{"$f":"$S$7-$C23","v":3},{"$f":"CONCATENATE($A$7,\" - \",$C23)","v":"t - 1"},{"$f":"$S$7-$C23","v":3},{"$f":"CONCATENATE($A$7,\" - \",$C23)","v":"t - 1"},{"$f":"$S$7-$C23","v":3},{"$f":"CONCATENATE($A$7,\" - \",$C23)","v":"t - 1"},{"$f":"$S$7-$C23","v":3},{"$f":"CONCATENATE($A$7,\" - \",$C23)","v":"t - 1"},{"$f":"$S$7-$C23","v":3},{"$f":"CONCATENATE($A$7,\" - \",$C23)","v":"t - 1"},{"$f":"$S$7-$C23","v":3},{"$f":"CONCATENATE($A$7,\" - \",$C23)","v":"t - 1"},{"$f":"$S$7-$C23","v":3},{"$f":"CONCATENATE($A$7,\" - \",$C23)","v":"t - 1"},{"$f":"$S$7-$C23","v":3},"t - 1",3]
[12,36,{"$f":"INT(5*RAND()+5)","v":6},{"$f":"CONCATENATE($A$8,\" - \",$C24)","v":"u - 6"},{"$f":"$S$8-$C24","v":0},{"$f":"CONCATENATE($C24,\" - \",$A$4)","v":"6 - b"},{"$f":"$C24-$S$4","v":5},{"$f":"CONCATENATE($A$8,\" - \",$C24)","v":"u - 6"},{"$f":"$S$8-$C24","v":0},{"$f":"CONCATENATE($A$8,\" - \",$C24)","v":"u - 6"},{"$f":"$S$8-$C24","v":0},{"$f":"CONCATENATE($A$8,\" - \",$C24)","v":"u - 6"},{"$f":"$S$8-$C24","v":0},{"$f":"CONCATENATE($A$8,\" - \",$C24)","v":"u - 6"},{"$f":"$S$8-$C24","v":0},{"$f":"CONCATENATE($A$8,\" - \",$C24)","v":"u - 6"},{"$f":"$S$8-$C24","v":0},{"$f":"CONCATENATE($A$8,\" - \",$C24)","v":"u - 6"},{"$f":"$S$8-$C24","v":0},{"$f":"CONCATENATE($A$8,\" - \",$C24)","v":"u - 6"},{"$f":"$S$8-$C24","v":0},{"$f":"CONCATENATE($A$8,\" - \",$C24)","v":"u - 6"},{"$f":"$S$8-$C24","v":0},{"$f":"CONCATENATE($A$8,\" - \",$C24)","v":"u - 6"},{"$f":"$S$8-$C24","v":0},{"$f":"CONCATENATE($A$8,\" - \",$C24)","v":"u - 6"},{"$f":"$S$8-$C24","v":0},{"$f":"CONCATENATE($A$8,\" - \",$C24)","v":"u - 6"},{"$f":"$S$8-$C24","v":0},{"$f":"CONCATENATE($A$8,\" - \",$C24)","v":"u - 6"},{"$f":"$S$8-$C24","v":0},{"$f":"CONCATENATE($A$8,\" - \",$C24)","v":"u - 6"},{"$f":"$S$8-$C24","v":0},{"$f":"CONCATENATE($A$8,\" - \",$C24)","v":"u - 6"},{"$f":"$S$8-$C24","v":0},{"$f":"CONCATENATE($A$8,\" - \",$C24)","v":"u - 6"},{"$f":"$S$8-$C24","v":0},{"$f":"CONCATENATE($A$8,\" - \",$C24)","v":"u - 6"},{"$f":"$S$8-$C24","v":0},{"$f":"CONCATENATE($A$8,\" - \",$C24)","v":"u - 6"},{"$f":"$S$8-$C24","v":0},{"$f":"CONCATENATE($A$8,\" - \",$C24)","v":"u - 6"},{"$f":"$S$8-$C24","v":0},{"$f":"CONCATENATE($A$8,\" - \",$C24)","v":"u - 6"},{"$f":"$S$8-$C24","v":0},{"$f":"CONCATENATE($A$8,\" - \",$C24)","v":"u - 6"},{"$f":"$S$8-$C24","v":0},{"$f":"CONCATENATE($A$8,\" - \",$C24)","v":"u - 6"},{"$f":"$S$8-$C24","v":0},{"$f":"CONCATENATE($A$8,\" - \",$C24)","v":"u - 6"},{"$f":"$S$8-$C24","v":0},{"$f":"CONCATENATE($A$8,\" - \",$C24)","v":"u - 6"},{"$f":"$S$8-$C24","v":0},"u - 6",0]
[13,6,5,{"$f":"CONCATENATE($A$4,\" + \",$A$6)","v":"b + j"},{"$f":"$S$4+$S$6","v":6},{"$f":"CONCATENATE($A$4,\" + \",$A$6)","v":"b + j"},{"$f":"$S$4+$S$6","v":6},{"$f":"CONCATENATE($A$4,\" + \",$A$6)","v":"b + j"},{"$f":"$S$4+$S$6","v":6},{"$f":"CONCATENATE($A$4,\" + \",$A$6)","v":"b + j"},{"$f":"$S$4+$S$6","v":6},{"$f":"CONCATENATE($A$4,\" + \",$A$6)","v":"b + j"},{"$f":"$S$4+$S$6","v":6},{"$f":"CONCATENATE($A$4,\" + \",$A$6)","v":"b + j"},{"$f":"$S$4+$S$6","v":6},{"$f":"CONCATENATE($A$4,\" + \",$A$6)","v":"b + j"},{"$f":"$S$4+$S$6","v":6},{"$f":"CONCATENATE($A$4,\" + \",$A$6)","v":"b + j"},{"$f":"$S$4+$S$6","v":6},{"$f":"CONCATENATE($A$4,\" + \",$A$6)","v":"b + j"},{"$f":"$S$4+$S$6","v":6},{"$f":"CONCATENATE($A$4,\" + \",$A$6)","v":"b + j"},{"$f":"$S$4+$S$6","v":6},{"$f":"CONCATENATE($A$4,\" + \",$A$6)","v":"b + j"},{"$f":"$S$4+$S$6","v":6},{"$f":"CONCATENATE($A$4,\" + \",$A$6)","v":"b + j"},{"$f":"$S$4+$S$6","v":6},{"$f":"CONCATENATE($A$4,\" + \",$A$6)","v":"b + j"},{"$f":"$S$4+$S$6","v":6},{"$f":"CONCATENATE($A$4,\" + \",$A$6)","v":"b + j"},{"$f":"$S$4+$S$6","v":6},{"$f":"CONCATENATE($A$4,\" + \",$A$6)","v":"b + j"},{"$f":"$S$4+$S$6","v":6},{"$f":"CONCATENATE($A$4,\" + \",$A$6)","v":"b + j"},{"$f":"$S$4+$S$6","v":6},{"$f":"CONCATENATE($A$4,\" + \",$A$6)","v":"b + j"},{"$f":"$S$4+$S$6","v":6},{"$f":"CONCATENATE($A$4,\" + \",$A$6)","v":"b + j"},{"$f":"$S$4+$S$6","v":6},{"$f":"CONCATENATE($A$4,\" + \",$A$6)","v":"b + j"},{"$f":"$S$4+$S$6","v":6},{"$f":"CONCATENATE($A$4,\" + \",$A$6)","v":"b + j"},{"$f":"$S$4+$S$6","v":6},{"$f":"CONCATENATE($A$4,\" + \",$A$6)","v":"b + j"},{"$f":"$S$4+$S$6","v":6},{"$f":"CONCATENATE($A$4,\" + \",$A$6)","v":"b + j"},{"$f":"$S$4+$S$6","v":6},{"$f":"CONCATENATE($A$4,\" + \",$A$6)","v":"b + j"},{"$f":"$S$4+$S$6","v":6},{"$f":"CONCATENATE($A$4,\" + \",$A$6)","v":"b + j"},{"$f":"$S$4+$S$6","v":6},{"$f":"CONCATENATE($A$4,\" + \",$A$6)","v":"b + j"},{"$f":"$S$4+$S$6","v":6},"b + j",6]
[14,6,8,{"$f":"CONCATENATE($A$5,\" + \",$A$8)","v":"f + u"},{"$f":"$S$5+$S$8","v":9},{"$f":"CONCATENATE($A$5,\" + \",$A$8)","v":"f + u"},{"$f":"$S$5+$S$8","v":9},{"$f":"CONCATENATE($A$5,\" + \",$A$8)","v":"f + u"},{"$f":"$S$5+$S$8","v":9},{"$f":"CONCATENATE($A$5,\" + \",$A$8)","v":"f + u"},{"$f":"$S$5+$S$8","v":9},{"$f":"CONCATENATE($A$5,\" + \",$A$8)","v":"f + u"},{"$f":"$S$5+$S$8","v":9},{"$f":"CONCATENATE($A$5,\" + \",$A$8)","v":"f + u"},{"$f":"$S$5+$S$8","v":9},{"$f":"CONCATENATE($A$5,\" + \",$A$8)","v":"f + u"},{"$f":"$S$5+$S$8","v":9},{"$f":"CONCATENATE($A$5,\" + \",$A$8)","v":"f + u"},{"$f":"$S$5+$S$8","v":9},{"$f":"CONCATENATE($A$5,\" + \",$A$8)","v":"f + u"},{"$f":"$S$5+$S$8","v":9},{"$f":"CONCATENATE($A$5,\" + \",$A$8)","v":"f + u"},{"$f":"$S$5+$S$8","v":9},{"$f":"CONCATENATE($A$5,\" + \",$A$8)","v":"f + u"},{"$f":"$S$5+$S$8","v":9},{"$f":"CONCATENATE($A$5,\" + \",$A$8)","v":"f + u"},{"$f":"$S$5+$S$8","v":9},{"$f":"CONCATENATE($A$5,\" + \",$A$8)","v":"f + u"},{"$f":"$S$5+$S$8","v":9},{"$f":"CONCATENATE($A$5,\" + \",$A$8)","v":"f + u"},{"$f":"$S$5+$S$8","v":9},{"$f":"CONCATENATE($A$5,\" + \",$A$8)","v":"f + u"},{"$f":"$S$5+$S$8","v":9},{"$f":"CONCATENATE($A$5,\" + \",$A$8)","v":"f + u"},{"$f":"$S$5+$S$8","v":9},{"$f":"CONCATENATE($A$5,\" + \",$A$8)","v":"f + u"},{"$f":"$S$5+$S$8","v":9},{"$f":"CONCATENATE($A$5,\" + \",$A$8)","v":"f + u"},{"$f":"$S$5+$S$8","v":9},{"$f":"CONCATENATE($A$5,\" + \",$A$8)","v":"f + u"},{"$f":"$S$5+$S$8","v":9},{"$f":"CONCATENATE($A$5,\" + \",$A$8)","v":"f + u"},{"$f":"$S$5+$S$8","v":9},{"$f":"CONCATENATE($A$5,\" + \",$A$8)","v":"f + u"},{"$f":"$S$5+$S$8","v":9},{"$f":"CONCATENATE($A$5,\" + \",$A$8)","v":"f + u"},{"$f":"$S$5+$S$8","v":9},{"$f":"CONCATENATE($A$5,\" + \",$A$8)","v":"f + u"},{"$f":"$S$5+$S$8","v":9},{"$f":"CONCATENATE($A$5,\" + \",$A$8)","v":"f + u"},{"$f":"$S$5+$S$8","v":9},{"$f":"CONCATENATE($A$5,\" + \",$A$8)","v":"f + u"},{"$f":"$S$5+$S$8","v":9},"f + u",9]
[15,34,8,{"$f":"CONCATENATE($A$6,\" + \",$A$4)","v":"j + b"},{"$f":"$S$6+$S$4","v":6},{"$f":"CONCATENATE($A$6,\" + \",$A$4)","v":"j + b"},{"$f":"$S$6+$S$4","v":6},{"$f":"CONCATENATE($A$6,\" + \",$A$4)","v":"j + b"},{"$f":"$S$6+$S$4","v":6},{"$f":"CONCATENATE($A$6,\" + \",$A$4)","v":"j + b"},{"$f":"$S$6+$S$4","v":6},{"$f":"CONCATENATE($A$6,\" + \",$A$4)","v":"j + b"},{"$f":"$S$6+$S$4","v":6},{"$f":"CONCATENATE($A$6,\" + \",$A$4)","v":"j + b"},{"$f":"$S$6+$S$4","v":6},{"$f":"CONCATENATE($A$6,\" + \",$A$4)","v":"j + b"},{"$f":"$S$6+$S$4","v":6},{"$f":"CONCATENATE($A$6,\" + \",$A$4)","v":"j + b"},{"$f":"$S$6+$S$4","v":6},{"$f":"CONCATENATE($A$6,\" + \",$A$4)","v":"j + b"},{"$f":"$S$6+$S$4","v":6},{"$f":"CONCATENATE($A$6,\" + \",$A$4)","v":"j + b"},{"$f":"$S$6+$S$4","v":6},{"$f":"CONCATENATE($A$6,\" + \",$A$4)","v":"j + b"},{"$f":"$S$6+$S$4","v":6},{"$f":"CONCATENATE($A$6,\" + \",$A$4)","v":"j + b"},{"$f":"$S$6+$S$4","v":6},{"$f":"CONCATENATE($A$6,\" + \",$A$4)","v":"j + b"},{"$f":"$S$6+$S$4","v":6},{"$f":"CONCATENATE($A$6,\" + \",$A$4)","v":"j + b"},{"$f":"$S$6+$S$4","v":6},{"$f":"CONCATENATE($A$6,\" + \",$A$4)","v":"j + b"},{"$f":"$S$6+$S$4","v":6},{"$f":"CONCATENATE($A$6,\" + \",$A$4)","v":"j + b"},{"$f":"$S$6+$S$4","v":6},{"$f":"CONCATENATE($A$6,\" + \",$A$4)","v":"j + b"},{"$f":"$S$6+$S$4","v":6},{"$f":"CONCATENATE($A$6,\" + \",$A$4)","v":"j + b"},{"$f":"$S$6+$S$4","v":6},{"$f":"CONCATENATE($A$6,\" + \",$A$4)","v":"j + b"},{"$f":"$S$6+$S$4","v":6},{"$f":"CONCATENATE($A$6,\" + \",$A$4)","v":"j + b"},{"$f":"$S$6+$S$4","v":6},{"$f":"CONCATENATE($A$6,\" + \",$A$4)","v":"j + b"},{"$f":"$S$6+$S$4","v":6},{"$f":"CONCATENATE($A$6,\" + \",$A$4)","v":"j + b"},{"$f":"$S$6+$S$4","v":6},{"$f":"CONCATENATE($A$6,\" + \",$A$4)","v":"j + b"},{"$f":"$S$6+$S$4","v":6},{"$f":"CONCATENATE($A$6,\" + \",$A$4)","v":"j + b"},{"$f":"$S$6+$S$4","v":6},{"$f":"CONCATENATE($A$6,\" + \",$A$4)","v":"j + b"},{"$f":"$S$6+$S$4","v":6},"j + b",6]
[16,10,8,{"$f":"CONCATENATE($A$7,\" + \",$A$6)","v":"t + j"},{"$f":"$S$7+$S$6","v":9},{"$f":"CONCATENATE($A$7,\" - \",$A$4)","v":"t - b"},{"$f":"$S$7-$S$6","v":-1},{"$f":"CONCATENATE($A$4,\" + \",$A$5,\" + \",$A$6)","v":"b + f + j"},{"$f":"$S$4+$S$5+$S$6","v":9},{"$f":"CONCATENATE($A$7,\" + \",$A$6)","v":"t + j"},{"$f":"$S$7+$S$6","v":9},{"$f":"CONCATENATE($A$7,\" + \",$A$6)","v":"t + j"},{"$f":"$S$7+$S$6","v":9},{"$f":"CONCATENATE($A$7,\" + \",$A$6)","v":"t + j"},{"$f":"$S$7+$S$6","v":9},{"$f":"CONCATENATE($A$7,\" + \",$A$6)","v":"t + j"},{"$f":"$S$7+$S$6","v":9},{"$f":"CONCATENATE($A$7,\" + \",$A$6)","v":"t + j"},{"$f":"$S$7+$S$6","v":9},{"$f":"CONCATENATE($A$7,\" + \",$A$6)","v":"t + j"},{"$f":"$S$7+$S$6","v":9},{"$f":"CONCATENATE($A$7,\" + \",$A$6)","v":"t + j"},{"$f":"$S$7+$S$6","v":9},{"$f":"CONCATENATE($A$7,\" + \",$A$6)","v":"t + j"},{"$f":"$S$7+$S$6","v":9},{"$f":"CONCATENATE($A$7,\" + \",$A$6)","v":"t + j"},{"$f":"$S$7+$S$6","v":9},{"$f":"CONCATENATE($A$7,\" + \",$A$6)","v":"t + j"},{"$f":"$S$7+$S$6","v":9},{"$f":"CONCATENATE($A$7,\" + \",$A$6)","v":"t + j"},{"$f":"$S$7+$S$6","v":9},{"$f":"CONCATENATE($A$7,\" + \",$A$6)","v":"t + j"},{"$f":"$S$7+$S$6","v":9},{"$f":"CONCATENATE($A$7,\" + \",$A$6)","v":"t + j"},{"$f":"$S$7+$S$6","v":9},{"$f":"CONCATENATE($A$7,\" + \",$A$6)","v":"t + j"},{"$f":"$S$7+$S$6","v":9},{"$f":"CONCATENATE($A$7,\" + \",$A$6)","v":"t + j"},{"$f":"$S$7+$S$6","v":9},{"$f":"CONCATENATE($A$7,\" + \",$A$6)","v":"t + j"},{"$f":"$S$7+$S$6","v":9},{"$f":"CONCATENATE($A$7,\" + \",$A$6)","v":"t + j"},{"$f":"$S$7+$S$6","v":9},{"$f":"CONCATENATE($A$7,\" + \",$A$6)","v":"t + j"},{"$f":"$S$7+$S$6","v":9},{"$f":"CONCATENATE($A$7,\" + \",$A$6)","v":"t + j"},{"$f":"$S$7+$S$6","v":9},{"$f":"CONCATENATE($A$7,\" + \",$A$6)","v":"t + j"},{"$f":"$S$7+$S$6","v":9},{"$f":"CONCATENATE($A$7,\" + \",$A$6)","v":"t + j"},{"$f":"$S$7+$S$6","v":9},{"$f":"CONCATENATE($A$7,\" + \",$A$6)","v":"t + j"},{"$f":"$S$7+$S$6","v":9},"t + j",9]
[17,24,8,{"$f":"CONCATENATE($A$8,\" - \",$A$4)","v":"u - b"},{"$f":"$S$8-$S$4","v":5},{"$f":"CONCATENATE($A$8,\" - \",$A$4)","v":"u - b"},{"$f":"$S$8-$S$4","v":5},{"$f":"CONCATENATE($A$4,\" + \",$A$8,\" + \",$A$5)","v":"b + u + f"},{"$f":"$S$4+$S$8+$S$5","v":10},{"$f":"CONCATENATE($A$8,\" - \",$A$4)","v":"u - b"},{"$f":"$S$8-$S$4","v":5},{"$f":"CONCATENATE($A$8,\" - \",$A$4)","v":"u - b"},{"$f":"$S$8-$S$4","v":5},{"$f":"CONCATENATE($A$8,\" - \",$A$4)","v":"u - b"},{"$f":"$S$8-$S$4","v":5},{"$f":"CONCATENATE($A$8,\" - \",$A$4)","v":"u - b"},{"$f":"$S$8-$S$4","v":5},{"$f":"CONCATENATE($A$8,\" - \",$A$4)","v":"u - b"},{"$f":"$S$8-$S$4","v":5},{"$f":"CONCATENATE($A$8,\" - \",$A$4)","v":"u - b"},{"$f":"$S$8-$S$4","v":5},{"$f":"CONCATENATE($A$8,\" - \",$A$4)","v":"u - b"},{"$f":"$S$8-$S$4","v":5},{"$f":"CONCATENATE($A$8,\" - \",$A$4)","v":"u - b"},{"$f":"$S$8-$S$4","v":5},{"$f":"CONCATENATE($A$8,\" - \",$A$4)","v":"u - b"},{"$f":"$S$8-$S$4","v":5},{"$f":"CONCATENATE($A$8,\" - \",$A$4)","v":"u - b"},{"$f":"$S$8-$S$4","v":5},{"$f":"CONCATENATE($A$8,\" - \",$A$4)","v":"u - b"},{"$f":"$S$8-$S$4","v":5},{"$f":"CONCATENATE($A$8,\" - \",$A$4)","v":"u - b"},{"$f":"$S$8-$S$4","v":5},{"$f":"CONCATENATE($A$8,\" - \",$A$4)","v":"u - b"},{"$f":"$S$8-$S$4","v":5},{"$f":"CONCATENATE($A$8,\" - \",$A$4)","v":"u - b"},{"$f":"$S$8-$S$4","v":5},{"$f":"CONCATENATE($A$8,\" - \",$A$4)","v":"u - b"},{"$f":"$S$8-$S$4","v":5},{"$f":"CONCATENATE($A$8,\" - \",$A$4)","v":"u - b"},{"$f":"$S$8-$S$4","v":5},{"$f":"CONCATENATE($A$8,\" - \",$A$4)","v":"u - b"},{"$f":"$S$8-$S$4","v":5},{"$f":"CONCATENATE($A$8,\" - \",$A$4)","v":"u - b"},{"$f":"$S$8-$S$4","v":5},{"$f":"CONCATENATE($A$8,\" - \",$A$4)","v":"u - b"},{"$f":"$S$8-$S$4","v":5},{"$f":"CONCATENATE($A$8,\" - \",$A$4)","v":"u - b"},{"$f":"$S$8-$S$4","v":5},{"$f":"CONCATENATE($A$8,\" - \",$A$4)","v":"u - b"},{"$f":"$S$8-$S$4","v":5},{"$f":"CONCATENATE($A$8,\" - \",$A$4)","v":"u - b"},{"$f":"$S$8-$S$4","v":5},"u - b",5]
[18,20,8,{"$f":"CONCATENATE($A$7,\" + \",$A$8)","v":"t + u"},{"$f":"$S$7+$S$8","v":10},{"$f":"CONCATENATE($A$7,\" + \",$A$8)","v":"t + u"},{"$f":"$S$7+$S$8","v":10},{"$f":"CONCATENATE($A$7,\" + \",$A$4,\" + \",$A$8)","v":"t + b + u"},{"$f":"$S$7+$S$4+$S$8","v":11},{"$f":"CONCATENATE($A$7,\" + \",$A$8)","v":"t + u"},{"$f":"$S$7+$S$8","v":10},{"$f":"CONCATENATE($A$7,\" + \",$A$8)","v":"t + u"},{"$f":"$S$7+$S$8","v":10},{"$f":"CONCATENATE($A$7,\" + \",$A$8)","v":"t + u"},{"$f":"$S$7+$S$8","v":10},{"$f":"CONCATENATE($A$7,\" + \",$A$8)","v":"t + u"},{"$f":"$S$7+$S$8","v":10},{"$f":"CONCATENATE($A$7,\" + \",$A$8)","v":"t + u"},{"$f":"$S$7+$S$8","v":10},{"$f":"CONCATENATE($A$7,\" + \",$A$8)","v":"t + u"},{"$f":"$S$7+$S$8","v":10},{"$f":"CONCATENATE($A$7,\" + \",$A$8)","v":"t + u"},{"$f":"$S$7+$S$8","v":10},{"$f":"CONCATENATE($A$7,\" + \",$A$8)","v":"t + u"},{"$f":"$S$7+$S$8","v":10},{"$f":"CONCATENATE($A$7,\" + \",$A$8)","v":"t + u"},{"$f":"$S$7+$S$8","v":10},{"$f":"CONCATENATE($A$7,\" + \",$A$8)","v":"t + u"},{"$f":"$S$7+$S$8","v":10},{"$f":"CONCATENATE($A$7,\" + \",$A$8)","v":"t + u"},{"$f":"$S$7+$S$8","v":10},{"$f":"CONCATENATE($A$7,\" + \",$A$8)","v":"t + u"},{"$f":"$S$7+$S$8","v":10},{"$f":"CONCATENATE($A$7,\" + \",$A$8)","v":"t + u"},{"$f":"$S$7+$S$8","v":10},{"$f":"CONCATENATE($A$7,\" + \",$A$8)","v":"t + u"},{"$f":"$S$7+$S$8","v":10},{"$f":"CONCATENATE($A$7,\" + \",$A$8)","v":"t + u"},{"$f":"$S$7+$S$8","v":10},{"$f":"CONCATENATE($A$7,\" + \",$A$8)","v":"t + u"},{"$f":"$S$7+$S$8","v":10},{"$f":"CONCATENATE($A$7,\" + \",$A$8)","v":"t + u"},{"$f":"$S$7+$S$8","v":10},{"$f":"CONCATENATE($A$7,\" + \",$A$8)","v":"t + u"},{"$f":"$S$7+$S$8","v":10},{"$f":"CONCATENATE($A$7,\" + \",$A$8)","v":"t + u"},{"$f":"$S$7+$S$8","v":10},{"$f":"CONCATENATE($A$7,\" + \",$A$8)","v":"t + u"},{"$f":"$S$7+$S$8","v":10},{"$f":"CONCATENATE($A$7,\" + \",$A$8)","v":"t + u"},{"$f":"$S$7+$S$8","v":10},{"$f":"CONCATENATE($A$7,\" + \",$A$8)","v":"t + u"},{"$f":"$S$7+$S$8","v":10},"t + u",10]
[19,40,5,{"$f":"CONCATENATE($A$7,\" - \",$A$4)","v":"t - b"},{"$f":"$S$7-$S$4","v":3},{"$f":"CONCATENATE($A$7,\" - \",$A$4,\" + \",$A$5)","v":"t - b + f"},{"$f":"$S$7-$S$4+$S$5","v":6},{"$f":"CONCATENATE($A$4,\" + \",$A$8,\" - \",$A$6)","v":"b + u - j"},{"$f":"$S$4+$S$8-$S$6","v":2},{"$f":"CONCATENATE($A$7,\" - \",$A$4)","v":"t - b"},{"$f":"$S$7-$S$4","v":3},{"$f":"CONCATENATE($A$7,\" - \",$A$4)","v":"t - b"},{"$f":"$S$7-$S$4","v":3},{"$f":"CONCATENATE($A$7,\" - \",$A$4)","v":"t - b"},{"$f":"$S$7-$S$4","v":3},{"$f":"CONCATENATE($A$7,\" - \",$A$4)","v":"t - b"},{"$f":"$S$7-$S$4","v":3},{"$f":"CONCATENATE($A$7,\" - \",$A$4)","v":"t - b"},{"$f":"$S$7-$S$4","v":3},{"$f":"CONCATENATE($A$7,\" - \",$A$4)","v":"t - b"},{"$f":"$S$7-$S$4","v":3},{"$f":"CONCATENATE($A$7,\" - \",$A$4)","v":"t - b"},{"$f":"$S$7-$S$4","v":3},{"$f":"CONCATENATE($A$7,\" - \",$A$4)","v":"t - b"},{"$f":"$S$7-$S$4","v":3},{"$f":"CONCATENATE($A$7,\" - \",$A$4)","v":"t - b"},{"$f":"$S$7-$S$4","v":3},{"$f":"CONCATENATE($A$7,\" - \",$A$4)","v":"t - b"},{"$f":"$S$7-$S$4","v":3},{"$f":"CONCATENATE($A$7,\" - \",$A$4)","v":"t - b"},{"$f":"$S$7-$S$4","v":3},{"$f":"CONCATENATE($A$7,\" - \",$A$4)","v":"t - b"},{"$f":"$S$7-$S$4","v":3},{"$f":"CONCATENATE($A$7,\" - \",$A$4)","v":"t - b"},{"$f":"$S$7-$S$4","v":3},{"$f":"CONCATENATE($A$7,\" - \",$A$4)","v":"t - b"},{"$f":"$S$7-$S$4","v":3},{"$f":"CONCATENATE($A$7,\" - \",$A$4)","v":"t - b"},{"$f":"$S$7-$S$4","v":3},{"$f":"CONCATENATE($A$7,\" - \",$A$4)","v":"t - b"},{"$f":"$S$7-$S$4","v":3},{"$f":"CONCATENATE($A$7,\" - \",$A$4)","v":"t - b"},{"$f":"$S$7-$S$4","v":3},{"$f":"CONCATENATE($A$7,\" - \",$A$4)","v":"t - b"},{"$f":"$S$7-$S$4","v":3},{"$f":"CONCATENATE($A$7,\" - \",$A$4)","v":"t - b"},{"$f":"$S$7-$S$4","v":3},{"$f":"CONCATENATE($A$7,\" - \",$A$4)","v":"t - b"},{"$f":"$S$7-$S$4","v":3},{"$f":"CONCATENATE($A$7,\" - \",$A$4)","v":"t - b"},{"$f":"$S$7-$S$4","v":3},{"$f":"CONCATENATE($A$7,\" - \",$A$4)","v":"t - b"},{"$f":"$S$7-$S$4","v":3},"t - b",3]
[20,24,8,{"$f":"CONCATENATE($A$8,\" - \",$A$5)","v":"u - f"},{"$f":"$S$8-$S$5","v":3},{"$f":"CONCATENATE($A$8,\" - \",$A$6,\" + \",$A$5)","v":"u - j + f"},{"$f":"$S$8-$S$5+$S$7","v":7},{"$f":"CONCATENATE($A$8,\" - \",$A$4,\" + \",$A$6)","v":"u - b + j"},{"$f":"$S$8-$S$4+$S$6","v":10},{"$f":"CONCATENATE($A$8,\" - \",$A$5)","v":"u - f"},{"$f":"$S$8-$S$5","v":3},{"$f":"CONCATENATE($A$8,\" - \",$A$5)","v":"u - f"},{"$f":"$S$8-$S$5","v":3},{"$f":"CONCATENATE($A$8,\" - \",$A$5)","v":"u - f"},{"$f":"$S$8-$S$5","v":3},{"$f":"CONCATENATE($A$8,\" - \",$A$5)","v":"u - f"},{"$f":"$S$8-$S$5","v":3},{"$f":"CONCATENATE($A$8,\" - \",$A$5)","v":"u - f"},{"$f":"$S$8-$S$5","v":3},{"$f":"CONCATENATE($A$8,\" - \",$A$5)","v":"u - f"},{"$f":"$S$8-$S$5","v":3},{"$f":"CONCATENATE($A$8,\" - \",$A$5)","v":"u - f"},{"$f":"$S$8-$S$5","v":3},{"$f":"CONCATENATE($A$8,\" - \",$A$5)","v":"u - f"},{"$f":"$S$8-$S$5","v":3},{"$f":"CONCATENATE($A$8,\" - \",$A$5)","v":"u - f"},{"$f":"$S$8-$S$5","v":3},{"$f":"CONCATENATE($A$8,\" - \",$A$5)","v":"u - f"},{"$f":"$S$8-$S$5","v":3},{"$f":"CONCATENATE($A$8,\" - \",$A$5)","v":"u - f"},{"$f":"$S$8-$S$5","v":3},{"$f":"CONCATENATE($A$8,\" - \",$A$5)","v":"u - f"},{"$f":"$S$8-$S$5","v":3},{"$f":"CONCATENATE($A$8,\" - \",$A$5)","v":"u - f"},{"$f":"$S$8-$S$5","v":3},{"$f":"CONCATENATE($A$8,\" - \",$A$5)","v":"u - f"},{"$f":"$S$8-$S$5","v":3},{"$f":"CONCATENATE($A$8,\" - \",$A$5)","v":"u - f"},{"$f":"$S$8-$S$5","v":3},{"$f":"CONCATENATE($A$8,\" - \",$A$5)","v":"u - f"},{"$f":"$S$8-$S$5","v":3},{"$f":"CONCATENATE($A$8,\" - \",$A$5)","v":"u - f"},{"$f":"$S$8-$S$5","v":3},{"$f":"CONCATENATE($A$8,\" - \",$A$5)","v":"u - f"},{"$f":"$S$8-$S$5","v":3},{"$f":"CONCATENATE($A$8,\" - \",$A$5)","v":"u - f"},{"$f":"$S$8-$S$5","v":3},{"$f":"CONCATENATE($A$8,\" - \",$A$5)","v":"u - f"},{"$f":"$S$8-$S$5","v":3},{"$f":"CONCATENATE($A$8,\" - \",$A$5)","v":"u - f"},{"$f":"$S$8-$S$5","v":3},{"$f":"CONCATENATE($A$8,\" - \",$A$5)","v":"u - f"},{"$f":"$S$8-$S$5","v":3},"u - f",3]
[21,18,8,{"$f":"CONCATENATE($A$4,\" + \",$A$5,\" + \",$A$6)","v":"b + f + j"},{"$f":"$S$4+$S$5+$S$6","v":9},{"$f":"CONCATENATE($A$4,\" + \",$A$5,\" + \",$C33)","v":"b + f + 8"},{"$f":"$S$4+$S$5+$C336","v":4},{"$f":"CONCATENATE(\"3\",$A$4)","v":"3b"},{"$f":"3*$S$4","v":3},{"$f":"CONCATENATE($A$4,\" + \",$A$5,\" + \",$A$6)","v":"b + f + j"},{"$f":"$S$4+$S$5+$S$6","v":9},{"$f":"CONCATENATE($A$4,\" + \",$A$5,\" + \",$A$6)","v":"b + f + j"},{"$f":"$S$4+$S$5+$S$6","v":9},{"$f":"CONCATENATE($A$4,\" + \",$A$5,\" + \",$A$6)","v":"b + f + j"},{"$f":"$S$4+$S$5+$S$6","v":9},{"$f":"CONCATENATE($A$4,\" + \",$A$5,\" + \",$A$6)","v":"b + f + j"},{"$f":"$S$4+$S$5+$S$6","v":9},{"$f":"CONCATENATE($A$4,\" + \",$A$5,\" + \",$A$6)","v":"b + f + j"},{"$f":"$S$4+$S$5+$S$6","v":9},{"$f":"CONCATENATE($A$4,\" + \",$A$5,\" + \",$A$6)","v":"b + f + j"},{"$f":"$S$4+$S$5+$S$6","v":9},{"$f":"CONCATENATE($A$4,\" + \",$A$5,\" + \",$A$6)","v":"b + f + j"},{"$f":"$S$4+$S$5+$S$6","v":9},{"$f":"CONCATENATE($A$4,\" + \",$A$5,\" + \",$A$6)","v":"b + f + j"},{"$f":"$S$4+$S$5+$S$6","v":9},{"$f":"CONCATENATE($A$4,\" + \",$A$5,\" + \",$A$6)","v":"b + f + j"},{"$f":"$S$4+$S$5+$S$6","v":9},{"$f":"CONCATENATE($A$4,\" + \",$A$5,\" + \",$A$6)","v":"b + f + j"},{"$f":"$S$4+$S$5+$S$6","v":9},{"$f":"CONCATENATE($A$4,\" + \",$A$5,\" + \",$A$6)","v":"b + f + j"},{"$f":"$S$4+$S$5+$S$6","v":9},{"$f":"CONCATENATE($A$4,\" + \",$A$5,\" + \",$A$6)","v":"b + f + j"},{"$f":"$S$4+$S$5+$S$6","v":9},{"$f":"CONCATENATE($A$4,\" + \",$A$5,\" + \",$A$6)","v":"b + f + j"},{"$f":"$S$4+$S$5+$S$6","v":9},{"$f":"CONCATENATE($A$4,\" + \",$A$5,\" + \",$A$6)","v":"b + f + j"},{"$f":"$S$4+$S$5+$S$6","v":9},{"$f":"CONCATENATE($A$4,\" + \",$A$5,\" + \",$A$6)","v":"b + f + j"},{"$f":"$S$4+$S$5+$S$6","v":9},{"$f":"CONCATENATE($A$4,\" + \",$A$5,\" + \",$A$6)","v":"b + f + j"},{"$f":"$S$4+$S$5+$S$6","v":9},{"$f":"CONCATENATE($A$4,\" + \",$A$5,\" + \",$A$6)","v":"b + f + j"},{"$f":"$S$4+$S$5+$S$6","v":9},{"$f":"CONCATENATE($A$4,\" + \",$A$5,\" + \",$A$6)","v":"b + f + j"},{"$f":"$S$4+$S$5+$S$6","v":9},{"$f":"CONCATENATE($A$4,\" + \",$A$5,\" + \",$A$6)","v":"b + f + j"},{"$f":"$S$4+$S$5+$S$6","v":9},{"$f":"CONCATENATE($A$4,\" + \",$A$5,\" + \",$A$6)","v":"b + f + j"},{"$f":"$S$4+$S$5+$S$6","v":9},{"$f":"CONCATENATE($A$4,\" + \",$A$5,\" + \",$A$6)","v":"b + f + j"},{"$f":"$S$4+$S$5+$S$6","v":9},{"$f":"CONCATENATE($A$4,\" + \",$A$5,\" + \",$A$6)","v":"b + f + j"},{"$f":"$S$4+$S$5+$S$6","v":9},"b + f + j",9]
[22,10,5,{"$f":"CONCATENATE($A$4,\" + \",$A$8,\" + \",$A$5)","v":"b + u + f"},{"$f":"$S$4+$S$8+$S$5","v":10},{"$f":"CONCATENATE($A$4,\" + \",$A$8,\" + \",$A$5)","v":"b + u + f"},{"$f":"$S$4+$S$8+$S$5","v":10},{"$f":"CONCATENATE(\"5\",$A$4)","v":"5b"},{"$f":"5*$S$4","v":5},{"$f":"CONCATENATE($A$4,\" + \",$A$8,\" + \",$A$5)","v":"b + u + f"},{"$f":"$S$4+$S$8+$S$5","v":10},{"$f":"CONCATENATE($A$4,\" + \",$A$8,\" + \",$A$5)","v":"b + u + f"},{"$f":"$S$4+$S$8+$S$5","v":10},{"$f":"CONCATENATE($A$4,\" + \",$A$8,\" + \",$A$5)","v":"b + u + f"},{"$f":"$S$4+$S$8+$S$5","v":10},{"$f":"CONCATENATE($A$4,\" + \",$A$8,\" + \",$A$5)","v":"b + u + f"},{"$f":"$S$4+$S$8+$S$5","v":10},{"$f":"CONCATENATE($A$4,\" + \",$A$8,\" + \",$A$5)","v":"b + u + f"},{"$f":"$S$4+$S$8+$S$5","v":10},{"$f":"CONCATENATE($A$4,\" + \",$A$8,\" + \",$A$5)","v":"b + u + f"},{"$f":"$S$4+$S$8+$S$5","v":10},{"$f":"CONCATENATE($A$4,\" + \",$A$8,\" + \",$A$5)","v":"b + u + f"},{"$f":"$S$4+$S$8+$S$5","v":10},{"$f":"CONCATENATE($A$4,\" + \",$A$8,\" + \",$A$5)","v":"b + u + f"},{"$f":"$S$4+$S$8+$S$5","v":10},{"$f":"CONCATENATE($A$4,\" + \",$A$8,\" + \",$A$5)","v":"b + u + f"},{"$f":"$S$4+$S$8+$S$5","v":10},{"$f":"CONCATENATE($A$4,\" + \",$A$8,\" + \",$A$5)","v":"b + u + f"},{"$f":"$S$4+$S$8+$S$5","v":10},{"$f":"CONCATENATE($A$4,\" + \",$A$8,\" + \",$A$5)","v":"b + u + f"},{"$f":"$S$4+$S$8+$S$5","v":10},{"$f":"CONCATENATE($A$4,\" + \",$A$8,\" + \",$A$5)","v":"b + u + f"},{"$f":"$S$4+$S$8+$S$5","v":10},{"$f":"CONCATENATE($A$4,\" + \",$A$8,\" + \",$A$5)","v":"b + u + f"},{"$f":"$S$4+$S$8+$S$5","v":10},{"$f":"CONCATENATE($A$4,\" + \",$A$8,\" + \",$A$5)","v":"b + u + f"},{"$f":"$S$4+$S$8+$S$5","v":10},{"$f":"CONCATENATE($A$4,\" + \",$A$8,\" + \",$A$5)","v":"b + u + f"},{"$f":"$S$4+$S$8+$S$5","v":10},{"$f":"CONCATENATE($A$4,\" + \",$A$8,\" + \",$A$5)","v":"b + u + f"},{"$f":"$S$4+$S$8+$S$5","v":10},{"$f":"CONCATENATE($A$4,\" + \",$A$8,\" + \",$A$5)","v":"b + u + f"},{"$f":"$S$4+$S$8+$S$5","v":10},{"$f":"CONCATENATE($A$4,\" + \",$A$8,\" + \",$A$5)","v":"b + u + f"},{"$f":"$S$4+$S$8+$S$5","v":10},{"$f":"CONCATENATE($A$4,\" + \",$A$8,\" + \",$A$5)","v":"b + u + f"},{"$f":"$S$4+$S$8+$S$5","v":10},{"$f":"CONCATENATE($A$4,\" + \",$A$8,\" + \",$A$5)","v":"b + u + f"},{"$f":"$S$4+$S$8+$S$5","v":10},{"$f":"CONCATENATE($A$4,\" + \",$A$8,\" + \",$A$5)","v":"b + u + f"},{"$f":"$S$4+$S$8+$S$5","v":10},{"$f":"CONCATENATE($A$4,\" + \",$A$8,\" + \",$A$5)","v":"b + u + f"},{"$f":"$S$4+$S$8+$S$5","v":10},"b + u + f",10]
[23,14,7,{"$f":"CONCATENATE($A$7,\" + \",$A$4,\" + \",$A$8)","v":"t + b + u"},{"$f":"$S$7+$S$4+$S$8","v":11},{"$f":"CONCATENATE($A$7,\" + \",$A$4,\" + \",$A$8)","v":"t + b + u"},{"$f":"$S$7+$S$4+$S$8","v":11},{"$f":"CONCATENATE(\"2\",$A$8)","v":"2u"},{"$f":"3*$S$4","v":3},{"$f":"CONCATENATE($A$7,\" + \",$A$4,\" + \",$A$8)","v":"t + b + u"},{"$f":"$S$7+$S$4+$S$8","v":11},{"$f":"CONCATENATE($A$7,\" + \",$A$4,\" + \",$A$8)","v":"t + b + u"},{"$f":"$S$7+$S$4+$S$8","v":11},{"$f":"CONCATENATE($A$7,\" + \",$A$4,\" + \",$A$8)","v":"t + b + u"},{"$f":"$S$7+$S$4+$S$8","v":11},{"$f":"CONCATENATE($A$7,\" + \",$A$4,\" + \",$A$8)","v":"t + b + u"},{"$f":"$S$7+$S$4+$S$8","v":11},{"$f":"CONCATENATE($A$7,\" + \",$A$4,\" + \",$A$8)","v":"t + b + u"},{"$f":"$S$7+$S$4+$S$8","v":11},{"$f":"CONCATENATE($A$7,\" + \",$A$4,\" + \",$A$8)","v":"t + b + u"},{"$f":"$S$7+$S$4+$S$8","v":11},{"$f":"CONCATENATE($A$7,\" + \",$A$4,\" + \",$A$8)","v":"t + b + u"},{"$f":"$S$7+$S$4+$S$8","v":11},{"$f":"CONCATENATE($A$7,\" + \",$A$4,\" + \",$A$8)","v":"t + b + u"},{"$f":"$S$7+$S$4+$S$8","v":11},{"$f":"CONCATENATE($A$7,\" + \",$A$4,\" + \",$A$8)","v":"t + b + u"},{"$f":"$S$7+$S$4+$S$8","v":11},{"$f":"CONCATENATE($A$7,\" + \",$A$4,\" + \",$A$8)","v":"t + b + u"},{"$f":"$S$7+$S$4+$S$8","v":11},{"$f":"CONCATENATE($A$7,\" + \",$A$4,\" + \",$A$8)","v":"t + b + u"},{"$f":"$S$7+$S$4+$S$8","v":11},{"$f":"CONCATENATE($A$7,\" + \",$A$4,\" + \",$A$8)","v":"t + b + u"},{"$f":"$S$7+$S$4+$S$8","v":11},{"$f":"CONCATENATE($A$7,\" + \",$A$4,\" + \",$A$8)","v":"t + b + u"},{"$f":"$S$7+$S$4+$S$8","v":11},{"$f":"CONCATENATE($A$7,\" + \",$A$4,\" + \",$A$8)","v":"t + b + u"},{"$f":"$S$7+$S$4+$S$8","v":11},{"$f":"CONCATENATE($A$7,\" + \",$A$4,\" + \",$A$8)","v":"t + b + u"},{"$f":"$S$7+$S$4+$S$8","v":11},{"$f":"CONCATENATE($A$7,\" + \",$A$4,\" + \",$A$8)","v":"t + b + u"},{"$f":"$S$7+$S$4+$S$8","v":11},{"$f":"CONCATENATE($A$7,\" + \",$A$4,\" + \",$A$8)","v":"t + b + u"},{"$f":"$S$7+$S$4+$S$8","v":11},{"$f":"CONCATENATE($A$7,\" + \",$A$4,\" + \",$A$8)","v":"t + b + u"},{"$f":"$S$7+$S$4+$S$8","v":11},{"$f":"CONCATENATE($A$7,\" + \",$A$4,\" + \",$A$8)","v":"t + b + u"},{"$f":"$S$7+$S$4+$S$8","v":11},{"$f":"CONCATENATE($A$7,\" + \",$A$4,\" + \",$A$8)","v":"t + b + u"},{"$f":"$S$7+$S$4+$S$8","v":11},{"$f":"CONCATENATE($A$7,\" + \",$A$4,\" + \",$A$8)","v":"t + b + u"},{"$f":"$S$7+$S$4+$S$8","v":11},{"$f":"CONCATENATE($A$7,\" + \",$A$4,\" + \",$A$8)","v":"t + b + u"},{"$f":"$S$7+$S$4+$S$8","v":11},"t + b + u",11]
[24,30,5,{"$f":"CONCATENATE($A$4,\" + \",$A$8,\" - \",$A$6)","v":"b + u - j"},{"$f":"$S$4+$S$8-$S$6","v":2},{"$f":"CONCATENATE($A$4,\" + \",$A$8,\" - \",$A$6)","v":"b + u - j"},{"$f":"$S$4+$S$8-$S$6","v":2},{"$f":"CONCATENATE($C36,$A$6)","v":"5j"},{"$f":"$C36*$S$6","v":25},{"$f":"CONCATENATE($A$4,\" + \",$A$8,\" - \",$A$6)","v":"b + u - j"},{"$f":"$S$4+$S$8-$S$6","v":2},{"$f":"CONCATENATE($A$4,\" + \",$A$8,\" - \",$A$6)","v":"b + u - j"},{"$f":"$S$4+$S$8-$S$6","v":2},{"$f":"CONCATENATE($A$4,\" + \",$A$8,\" - \",$A$6)","v":"b + u - j"},{"$f":"$S$4+$S$8-$S$6","v":2},{"$f":"CONCATENATE($A$4,\" + \",$A$8,\" - \",$A$6)","v":"b + u - j"},{"$f":"$S$4+$S$8-$S$6","v":2},{"$f":"CONCATENATE($A$4,\" + \",$A$8,\" - \",$A$6)","v":"b + u - j"},{"$f":"$S$4+$S$8-$S$6","v":2},{"$f":"CONCATENATE($A$4,\" + \",$A$8,\" - \",$A$6)","v":"b + u - j"},{"$f":"$S$4+$S$8-$S$6","v":2},{"$f":"CONCATENATE($A$4,\" + \",$A$8,\" - \",$A$6)","v":"b + u - j"},{"$f":"$S$4+$S$8-$S$6","v":2},{"$f":"CONCATENATE($A$4,\" + \",$A$8,\" - \",$A$6)","v":"b + u - j"},{"$f":"$S$4+$S$8-$S$6","v":2},{"$f":"CONCATENATE($A$4,\" + \",$A$8,\" - \",$A$6)","v":"b + u - j"},{"$f":"$S$4+$S$8-$S$6","v":2},{"$f":"CONCATENATE($A$4,\" + \",$A$8,\" - \",$A$6)","v":"b + u - j"},{"$f":"$S$4+$S$8-$S$6","v":2},{"$f":"CONCATENATE($A$4,\" + \",$A$8,\" - \",$A$6)","v":"b + u - j"},{"$f":"$S$4+$S$8-$S$6","v":2},{"$f":"CONCATENATE($A$4,\" + \",$A$8,\" - \",$A$6)","v":"b + u - j"},{"$f":"$S$4+$S$8-$S$6","v":2},{"$f":"CONCATENATE($A$4,\" + \",$A$8,\" - \",$A$6)","v":"b + u - j"},{"$f":"$S$4+$S$8-$S$6","v":2},{"$f":"CONCATENATE($A$4,\" + \",$A$8,\" - \",$A$6)","v":"b + u - j"},{"$f":"$S$4+$S$8-$S$6","v":2},{"$f":"CONCATENATE($A$4,\" + \",$A$8,\" - \",$A$6)","v":"b + u - j"},{"$f":"$S$4+$S$8-$S$6","v":2},{"$f":"CONCATENATE($A$4,\" + \",$A$8,\" - \",$A$6)","v":"b + u - j"},{"$f":"$S$4+$S$8-$S$6","v":2},{"$f":"CONCATENATE($A$4,\" + \",$A$8,\" - \",$A$6)","v":"b + u - j"},{"$f":"$S$4+$S$8-$S$6","v":2},{"$f":"CONCATENATE($A$4,\" + \",$A$8,\" - \",$A$6)","v":"b + u - j"},{"$f":"$S$4+$S$8-$S$6","v":2},{"$f":"CONCATENATE($A$4,\" + \",$A$8,\" - \",$A$6)","v":"b + u - j"},{"$f":"$S$4+$S$8-$S$6","v":2},{"$f":"CONCATENATE($A$4,\" + \",$A$8,\" - \",$A$6)","v":"b + u - j"},{"$f":"$S$4+$S$8-$S$6","v":2},{"$f":"CONCATENATE($A$4,\" + \",$A$8,\" - \",$A$6)","v":"b + u - j"},{"$f":"$S$4+$S$8-$S$6","v":2},{"$f":"CONCATENATE($A$4,\" + \",$A$8,\" - \",$A$6)","v":"b + u - j"},{"$f":"$S$4+$S$8-$S$6","v":2},"b + u - j",2]
[25,46,7,{"$f":"CONCATENATE($A$8,\" - \",$A$4,\" + \",$A$6)","v":"u - b + j"},{"$f":"$S$8-$S$4+$S$6","v":10},{"$f":"CONCATENATE($A$8,\" - \",$A$4,\" + \",\"6\")","v":"u - b + 6"},{"$f":"$S$8-$S$4+6","v":11},{"$f":"CONCATENATE($C37,$A$5)","v":"7f"},{"$f":"$C37*$S$5","v":21},{"$f":"CONCATENATE($A$8,\" - \",$A$4,\" + \",$A$6)","v":"u - b + j"},{"$f":"$S$8-$S$4+$S$6","v":10},{"$f":"CONCATENATE($A$8,\" - \",$A$4,\" + \",$A$6)","v":"u - b + j"},{"$f":"$S$8-$S$4+$S$6","v":10},{"$f":"CONCATENATE($A$8,\" - \",$A$4,\" + \",$A$6)","v":"u - b + j"},{"$f":"$S$8-$S$4+$S$6","v":10},{"$f":"CONCATENATE($A$8,\" - \",$A$4,\" + \",$A$6)","v":"u - b + j"},{"$f":"$S$8-$S$4+$S$6","v":10},{"$f":"CONCATENATE($A$8,\" - \",$A$4,\" + \",$A$6)","v":"u - b + j"},{"$f":"$S$8-$S$4+$S$6","v":10},{"$f":"CONCATENATE($A$8,\" - \",$A$4,\" + \",$A$6)","v":"u - b + j"},{"$f":"$S$8-$S$4+$S$6","v":10},{"$f":"CONCATENATE($A$8,\" - \",$A$4,\" + \",$A$6)","v":"u - b + j"},{"$f":"$S$8-$S$4+$S$6","v":10},{"$f":"CONCATENATE($A$8,\" - \",$A$4,\" + \",$A$6)","v":"u - b + j"},{"$f":"$S$8-$S$4+$S$6","v":10},{"$f":"CONCATENATE($A$8,\" - \",$A$4,\" + \",$A$6)","v":"u - b + j"},{"$f":"$S$8-$S$4+$S$6","v":10},{"$f":"CONCATENATE($A$8,\" - \",$A$4,\" + \",$A$6)","v":"u - b + j"},{"$f":"$S$8-$S$4+$S$6","v":10},{"$f":"CONCATENATE($A$8,\" - \",$A$4,\" + \",$A$6)","v":"u - b + j"},{"$f":"$S$8-$S$4+$S$6","v":10},{"$f":"CONCATENATE($A$8,\" - \",$A$4,\" + \",$A$6)","v":"u - b + j"},{"$f":"$S$8-$S$4+$S$6","v":10},{"$f":"CONCATENATE($A$8,\" - \",$A$4,\" + \",$A$6)","v":"u - b + j"},{"$f":"$S$8-$S$4+$S$6","v":10},{"$f":"CONCATENATE($A$8,\" - \",$A$4,\" + \",$A$6)","v":"u - b + j"},{"$f":"$S$8-$S$4+$S$6","v":10},{"$f":"CONCATENATE($A$8,\" - \",$A$4,\" + \",$A$6)","v":"u - b + j"},{"$f":"$S$8-$S$4+$S$6","v":10},{"$f":"CONCATENATE($A$8,\" - \",$A$4,\" + \",$A$6)","v":"u - b + j"},{"$f":"$S$8-$S$4+$S$6","v":10},{"$f":"CONCATENATE($A$8,\" - \",$A$4,\" + \",$A$6)","v":"u - b + j"},{"$f":"$S$8-$S$4+$S$6","v":10},{"$f":"CONCATENATE($A$8,\" - \",$A$4,\" + \",$A$6)","v":"u - b + j"},{"$f":"$S$8-$S$4+$S$6","v":10},{"$f":"CONCATENATE($A$8,\" - \",$A$4,\" + \",$A$6)","v":"u - b + j"},{"$f":"$S$8-$S$4+$S$6","v":10},{"$f":"CONCATENATE($A$8,\" - \",$A$4,\" + \",$A$6)","v":"u - b + j"},{"$f":"$S$8-$S$4+$S$6","v":10},{"$f":"CONCATENATE($A$8,\" - \",$A$4,\" + \",$A$6)","v":"u - b + j"},{"$f":"$S$8-$S$4+$S$6","v":10},{"$f":"CONCATENATE($A$8,\" - \",$A$4,\" + \",$A$6)","v":"u - b + j"},{"$f":"$S$8-$S$4+$S$6","v":10},"u - b + j",10]
[26,30,9,{"$f":"CONCATENATE(\"3\",$A$4)","v":"3b"},{"$f":"3*$S$4","v":3},{"$f":"CONCATENATE(\"5\",$A$4)","v":"5b"},{"$f":"5*$S$4","v":5},{"$f":"CONCATENATE($C38,$A$4)","v":"9b"},{"$f":"$C38*$S$4","v":9},{"$f":"CONCATENATE(\"3\",$A$4)","v":"3b"},{"$f":"3*$S$4","v":3},{"$f":"CONCATENATE(\"3\",$A$4)","v":"3b"},{"$f":"3*$S$4","v":3},{"$f":"CONCATENATE(\"3\",$A$4)","v":"3b"},{"$f":"3*$S$4","v":3},{"$f":"CONCATENATE(\"3\",$A$4)","v":"3b"},{"$f":"3*$S$4","v":3},{"$f":"CONCATENATE(\"3\",$A$4)","v":"3b"},{"$f":"3*$S$4","v":3},{"$f":"CONCATENATE(\"3\",$A$4)","v":"3b"},{"$f":"3*$S$4","v":3},{"$f":"CONCATENATE(\"3\",$A$4)","v":"3b"},{"$f":"3*$S$4","v":3},{"$f":"CONCATENATE(\"3\",$A$4)","v":"3b"},{"$f":"3*$S$4","v":3},{"$f":"CONCATENATE(\"3\",$A$4)","v":"3b"},{"$f":"3*$S$4","v":3},{"$f":"CONCATENATE(\"3\",$A$4)","v":"3b"},{"$f":"3*$S$4","v":3},{"$f":"CONCATENATE(\"3\",$A$4)","v":"3b"},{"$f":"3*$S$4","v":3},{"$f":"CONCATENATE(\"3\",$A$4)","v":"3b"},{"$f":"3*$S$4","v":3},{"$f":"CONCATENATE(\"3\",$A$4)","v":"3b"},{"$f":"3*$S$4","v":3},{"$f":"CONCATENATE(\"3\",$A$4)","v":"3b"},{"$f":"3*$S$4","v":3},{"$f":"CONCATENATE(\"3\",$A$4)","v":"3b"},{"$f":"3*$S$4","v":3},{"$f":"CONCATENATE(\"3\",$A$4)","v":"3b"},{"$f":"3*$S$4","v":3},{"$f":"CONCATENATE(\"3\",$A$4)","v":"3b"},{"$f":"3*$S$4","v":3},{"$f":"CONCATENATE(\"3\",$A$4)","v":"3b"},{"$f":"3*$S$4","v":3},{"$f":"CONCATENATE(\"3\",$A$4)","v":"3b"},{"$f":"3*$S$4","v":3},{"$f":"CONCATENATE(\"3\",$A$4)","v":"3b"},{"$f":"3*$S$4","v":3},{"$f":"CONCATENATE(\"3\",$A$4)","v":"3b"},{"$f":"3*$S$4","v":3},{"$f":"CONCATENATE(\"3\",$A$4)","v":"3b"},{"$f":"3*$S$4","v":3},"3b",3]
[27,44,7,{"$f":"CONCATENATE(\"5\",$A$4)","v":"5b"},{"$f":"5*$S$4","v":5},{"$f":"CONCATENATE(\"2\",$A$4)","v":"2b"},{"$f":"2*$S$4","v":2},{"$f":"CONCATENATE($C39,$A$4)","v":"7b"},{"$f":"$C39*$S$4","v":7},{"$f":"CONCATENATE(\"5\",$A$4)","v":"5b"},{"$f":"5*$S$4","v":5},{"$f":"CONCATENATE(\"5\",$A$4)","v":"5b"},{"$f":"5*$S$4","v":5},{"$f":"CONCATENATE(\"5\",$A$4)","v":"5b"},{"$f":"5*$S$4","v":5},{"$f":"CONCATENATE(\"5\",$A$4)","v":"5b"},{"$f":"5*$S$4","v":5},{"$f":"CONCATENATE(\"5\",$A$4)","v":"5b"},{"$f":"5*$S$4","v":5},{"$f":"CONCATENATE(\"5\",$A$4)","v":"5b"},{"$f":"5*$S$4","v":5},{"$f":"CONCATENATE(\"5\",$A$4)","v":"5b"},{"$f":"5*$S$4","v":5},{"$f":"CONCATENATE(\"5\",$A$4)","v":"5b"},{"$f":"5*$S$4","v":5},{"$f":"CONCATENATE(\"5\",$A$4)","v":"5b"},{"$f":"5*$S$4","v":5},{"$f":"CONCATENATE(\"5\",$A$4)","v":"5b"},{"$f":"5*$S$4","v":5},{"$f":"CONCATENATE(\"5\",$A$4)","v":"5b"},{"$f":"5*$S$4","v":5},{"$f":"CONCATENATE(\"5\",$A$4)","v":"5b"},{"$f":"5*$S$4","v":5},{"$f":"CONCATENATE(\"5\",$A$4)","v":"5b"},{"$f":"5*$S$4","v":5},{"$f":"CONCATENATE(\"5\",$A$4)","v":"5b"},{"$f":"5*$S$4","v":5},{"$f":"CONCATENATE(\"5\",$A$4)","v":"5b"},{"$f":"5*$S$4","v":5},{"$f":"CONCATENATE(\"5\",$A$4)","v":"5b"},{"$f":"5*$S$4","v":5},{"$f":"CONCATENATE(\"5\",$A$4)","v":"5b"},{"$f":"5*$S$4","v":5},{"$f":"CONCATENATE(\"5\",$A$4)","v":"5b"},{"$f":"5*$S$4","v":5},{"$f":"CONCATENATE(\"5\",$A$4)","v":"5b"},{"$f":"5*$S$4","v":5},{"$f":"CONCATENATE(\"5\",$A$4)","v":"5b"},{"$f":"5*$S$4","v":5},{"$f":"CONCATENATE(\"5\",$A$4)","v":"5b"},{"$f":"5*$S$4","v":5},{"$f":"CONCATENATE(\"5\",$A$4)","v":"5b"},{"$f":"5*$S$4","v":5},"5b",5]
[28,30,8,{"$f":"CONCATENATE(\"2\",$A$8)","v":"2u"},{"$f":"2*$S$8","v":12},{"$f":"CONCATENATE(\"10\",$A$8)","v":"10u"},{"$f":"10*$S$8","v":60},{"$f":"CONCATENATE($C40,$A$6)","v":"8j"},{"$f":"$C40*$S$6","v":40},{"$f":"CONCATENATE(\"2\",$A$8)","v":"2u"},{"$f":"2*$S$8","v":12},{"$f":"CONCATENATE(\"2\",$A$8)","v":"2u"},{"$f":"2*$S$8","v":12},{"$f":"CONCATENATE(\"2\",$A$8)","v":"2u"},{"$f":"2*$S$8","v":12},{"$f":"CONCATENATE(\"2\",$A$8)","v":"2u"},{"$f":"2*$S$8","v":12},{"$f":"CONCATENATE(\"2\",$A$8)","v":"2u"},{"$f":"2*$S$8","v":12},{"$f":"CONCATENATE(\"2\",$A$8)","v":"2u"},{"$f":"2*$S$8","v":12},{"$f":"CONCATENATE(\"2\",$A$8)","v":"2u"},{"$f":"2*$S$8","v":12},{"$f":"CONCATENATE(\"2\",$A$8)","v":"2u"},{"$f":"2*$S$8","v":12},{"$f":"CONCATENATE(\"2\",$A$8)","v":"2u"},{"$f":"2*$S$8","v":12},{"$f":"CONCATENATE(\"2\",$A$8)","v":"2u"},{"$f":"2*$S$8","v":12},{"$f":"CONCATENATE(\"2\",$A$8)","v":"2u"},{"$f":"2*$S$8","v":12},{"$f":"CONCATENATE(\"2\",$A$8)","v":"2u"},{"$f":"2*$S$8","v":12},{"$f":"CONCATENATE(\"2\",$A$8)","v":"2u"},{"$f":"2*$S$8","v":12},{"$f":"CONCATENATE(\"2\",$A$8)","v":"2u"},{"$f":"2*$S$8","v":12},{"$f":"CONCATENATE(\"2\",$A$8)","v":"2u"},{"$f":"2*$S$8","v":12},{"$f":"CONCATENATE(\"2\",$A$8)","v":"2u"},{"$f":"2*$S$8","v":12},{"$f":"CONCATENATE(\"2\",$A$8)","v":"2u"},{"$f":"2*$S$8","v":12},{"$f":"CONCATENATE(\"2\",$A$8)","v":"2u"},{"$f":"2*$S$8","v":12},{"$f":"CONCATENATE(\"2\",$A$8)","v":"2u"},{"$f":"2*$S$8","v":12},{"$f":"CONCATENATE(\"2\",$A$8)","v":"2u"},{"$f":"2*$S$8","v":12},{"$f":"CONCATENATE(\"2\",$A$8)","v":"2u"},{"$f":"2*$S$8","v":12},{"$f":"CONCATENATE(\"2\",$A$8)","v":"2u"},{"$f":"2*$S$8","v":12},"2u",12]
[29,34,{"$f":"INT(5*RAND()+3)","v":5},{"$f":"CONCATENATE($C41,$A$6)","v":"5j"},{"$f":"$C41*$S$6","v":25},{"$f":"CONCATENATE($C41,$A$7)","v":"5t"},{"$f":"$C41*$S$7","v":20},{"$f":"CONCATENATE($C41,$A$8)","v":"5u"},{"$f":"$C41*$S$8","v":30},{"$f":"CONCATENATE($C41,$A$6)","v":"5j"},{"$f":"$C41*$S$6","v":25},{"$f":"CONCATENATE($C41,$A$6)","v":"5j"},{"$f":"$C41*$S$6","v":25},{"$f":"CONCATENATE($C41,$A$6)","v":"5j"},{"$f":"$C41*$S$6","v":25},{"$f":"CONCATENATE($C41,$A$6)","v":"5j"},{"$f":"$C41*$S$6","v":25},{"$f":"CONCATENATE($C41,$A$6)","v":"5j"},{"$f":"$C41*$S$6","v":25},{"$f":"CONCATENATE($C41,$A$6)","v":"5j"},{"$f":"$C41*$S$6","v":25},{"$f":"CONCATENATE($C41,$A$6)","v":"5j"},{"$f":"$C41*$S$6","v":25},{"$f":"CONCATENATE($C41,$A$6)","v":"5j"},{"$f":"$C41*$S$6","v":25},{"$f":"CONCATENATE($C41,$A$6)","v":"5j"},{"$f":"$C41*$S$6","v":25},{"$f":"CONCATENATE($C41,$A$6)","v":"5j"},{"$f":"$C41*$S$6","v":25},{"$f":"CONCATENATE($C41,$A$6)","v":"5j"},{"$f":"$C41*$S$6","v":25},{"$f":"CONCATENATE($C41,$A$6)","v":"5j"},{"$f":"$C41*$S$6","v":25},{"$f":"CONCATENATE($C41,$A$6)","v":"5j"},{"$f":"$C41*$S$6","v":25},{"$f":"CONCATENATE($C41,$A$6)","v":"5j"},{"$f":"$C41*$S$6","v":25},{"$f":"CONCATENATE($C41,$A$6)","v":"5j"},{"$f":"$C41*$S$6","v":25},{"$f":"CONCATENATE($C41,$A$6)","v":"5j"},{"$f":"$C41*$S$6","v":25},{"$f":"CONCATENATE($C41,$A$6)","v":"5j"},{"$f":"$C41*$S$6","v":25},{"$f":"CONCATENATE($C41,$A$6)","v":"5j"},{"$f":"$C41*$S$6","v":25},{"$f":"CONCATENATE($C41,$A$6)","v":"5j"},{"$f":"$C41*$S$6","v":25},{"$f":"CONCATENATE($C41,$A$6)","v":"5j"},{"$f":"$C41*$S$6","v":25},{"$f":"CONCATENATE($C41,$A$6)","v":"5j"},{"$f":"$C41*$S$6","v":25},{"$f":"CONCATENATE($C41,$A$6)","v":"5j"},{"$f":"$C41*$S$6","v":25},"5j",25]
[30,48,{"$f":"INT(5*RAND()+3)","v":5},{"$f":"CONCATENATE($C42,$A$5)","v":"5f"},{"$f":"$C42*$S$5","v":15},{"$f":"CONCATENATE($C42,$A$4)","v":"5b"},{"$f":"$C42*$S$4","v":5},{"$f":"CONCATENATE($C42,$A$6)","v":"5j"},{"$f":"$C42*$S$6","v":25},{"$f":"CONCATENATE($C42,$A$5)","v":"5f"},{"$f":"$C42*$S$5","v":15},{"$f":"CONCATENATE($C42,$A$5)","v":"5f"},{"$f":"$C42*$S$5","v":15},{"$f":"CONCATENATE($C42,$A$5)","v":"5f"},{"$f":"$C42*$S$5","v":15},{"$f":"CONCATENATE($C42,$A$5)","v":"5f"},{"$f":"$C42*$S$5","v":15},{"$f":"CONCATENATE($C42,$A$5)","v":"5f"},{"$f":"$C42*$S$5","v":15},{"$f":"CONCATENATE($C42,$A$5)","v":"5f"},{"$f":"$C42*$S$5","v":15},{"$f":"CONCATENATE($C42,$A$5)","v":"5f"},{"$f":"$C42*$S$5","v":15},{"$f":"CONCATENATE($C42,$A$5)","v":"5f"},{"$f":"$C42*$S$5","v":15},{"$f":"CONCATENATE($C42,$A$5)","v":"5f"},{"$f":"$C42*$S$5","v":15},{"$f":"CONCATENATE($C42,$A$5)","v":"5f"},{"$f":"$C42*$S$5","v":15},{"$f":"CONCATENATE($C42,$A$5)","v":"5f"},{"$f":"$C42*$S$5","v":15},{"$f":"CONCATENATE($C42,$A$5)","v":"5f"},{"$f":"$C42*$S$5","v":15},{"$f":"CONCATENATE($C42,$A$5)","v":"5f"},{"$f":"$C42*$S$5","v":15},{"$f":"CONCATENATE($C42,$A$5)","v":"5f"},{"$f":"$C42*$S$5","v":15},{"$f":"CONCATENATE($C42,$A$5)","v":"5f"},{"$f":"$C42*$S$5","v":15},{"$f":"CONCATENATE($C42,$A$5)","v":"5f"},{"$f":"$C42*$S$5","v":15},{"$f":"CONCATENATE($C42,$A$5)","v":"5f"},{"$f":"$C42*$S$5","v":15},{"$f":"CONCATENATE($C42,$A$5)","v":"5f"},{"$f":"$C42*$S$5","v":15},{"$f":"CONCATENATE($C42,$A$5)","v":"5f"},{"$f":"$C42*$S$5","v":15},{"$f":"CONCATENATE($C42,$A$5)","v":"5f"},{"$f":"$C42*$S$5","v":15},{"$f":"CONCATENATE($C42,$A$5)","v":"5f"},{"$f":"$C42*$S$5","v":15},{"$f":"CONCATENATE($C42,$A$5)","v":"5f"},{"$f":"$C42*$S$5","v":15},"5f",15]
[31,0,4,{"$f":"CONCATENATE($C43,$A$7)","v":"4t"},{"$f":"$C43*$S$7","v":16},{"$f":"CONCATENATE($C43,$A$8)","v":"4u"},{"$f":"$C43*$S$8","v":24},{"$f":"CONCATENATE($A$4,$A$6)","v":"bj"},{"$f":"$S$6*$S$6","v":25},{"$f":"CONCATENATE($C43,$A$7)","v":"4t"},{"$f":"$C43*$S$7","v":16},{"$f":"CONCATENATE($C43,$A$7)","v":"4t"},{"$f":"$C43*$S$7","v":16},{"$f":"CONCATENATE($C43,$A$7)","v":"4t"},{"$f":"$C43*$S$7","v":16},{"$f":"CONCATENATE($C43,$A$7)","v":"4t"},{"$f":"$C43*$S$7","v":16},{"$f":"CONCATENATE($C43,$A$7)","v":"4t"},{"$f":"$C43*$S$7","v":16},{"$f":"CONCATENATE($C43,$A$7)","v":"4t"},{"$f":"$C43*$S$7","v":16},{"$f":"CONCATENATE($C43,$A$7)","v":"4t"},{"$f":"$C43*$S$7","v":16},{"$f":"CONCATENATE($C43,$A$7)","v":"4t"},{"$f":"$C43*$S$7","v":16},{"$f":"CONCATENATE($C43,$A$7)","v":"4t"},{"$f":"$C43*$S$7","v":16},{"$f":"CONCATENATE($C43,$A$7)","v":"4t"},{"$f":"$C43*$S$7","v":16},{"$f":"CONCATENATE($C43,$A$7)","v":"4t"},{"$f":"$C43*$S$7","v":16},{"$f":"CONCATENATE($C43,$A$7)","v":"4t"},{"$f":"$C43*$S$7","v":16},{"$f":"CONCATENATE($C43,$A$7)","v":"4t"},{"$f":"$C43*$S$7","v":16},{"$f":"CONCATENATE($C43,$A$7)","v":"4t"},{"$f":"$C43*$S$7","v":16},{"$f":"CONCATENATE($C43,$A$7)","v":"4t"},{"$f":"$C43*$S$7","v":16},{"$f":"CONCATENATE($C43,$A$7)","v":"4t"},{"$f":"$C43*$S$7","v":16},{"$f":"CONCATENATE($C43,$A$7)","v":"4t"},{"$f":"$C43*$S$7","v":16},{"$f":"CONCATENATE($C43,$A$7)","v":"4t"},{"$f":"$C43*$S$7","v":16},{"$f":"CONCATENATE($C43,$A$7)","v":"4t"},{"$f":"$C43*$S$7","v":16},{"$f":"CONCATENATE($C43,$A$7)","v":"4t"},{"$f":"$C43*$S$7","v":16},{"$f":"CONCATENATE($C43,$A$7)","v":"4t"},{"$f":"$C43*$S$7","v":16},{"$f":"CONCATENATE($C43,$A$7)","v":"4t"},{"$f":"$C43*$S$7","v":16},"4t",16]
[32,14,3,{"$f":"CONCATENATE($C44,$A$4)","v":"3b"},{"$f":"$C44*$S$4","v":3},{"$f":"CONCATENATE($C44,$A$5)","v":"3f"},{"$f":"$C44*$S$5","v":9},{"$f":"CONCATENATE($A$6,$A$5)","v":"jf"},{"$f":"$S$6*$S$5","v":15},{"$f":"CONCATENATE($C44,$A$4)","v":"3b"},{"$f":"$C44*$S$4","v":3},{"$f":"CONCATENATE($C44,$A$4)","v":"3b"},{"$f":"$C44*$S$4","v":3},{"$f":"CONCATENATE($C44,$A$4)","v":"3b"},{"$f":"$C44*$S$4","v":3},{"$f":"CONCATENATE($C44,$A$4)","v":"3b"},{"$f":"$C44*$S$4","v":3},{"$f":"CONCATENATE($C44,$A$4)","v":"3b"},{"$f":"$C44*$S$4","v":3},{"$f":"CONCATENATE($C44,$A$4)","v":"3b"},{"$f":"$C44*$S$4","v":3},{"$f":"CONCATENATE($C44,$A$4)","v":"3b"},{"$f":"$C44*$S$4","v":3},{"$f":"CONCATENATE($C44,$A$4)","v":"3b"},{"$f":"$C44*$S$4","v":3},{"$f":"CONCATENATE($C44,$A$4)","v":"3b"},{"$f":"$C44*$S$4","v":3},{"$f":"CONCATENATE($C44,$A$4)","v":"3b"},{"$f":"$C44*$S$4","v":3},{"$f":"CONCATENATE($C44,$A$4)","v":"3b"},{"$f":"$C44*$S$4","v":3},{"$f":"CONCATENATE($C44,$A$4)","v":"3b"},{"$f":"$C44*$S$4","v":3},{"$f":"CONCATENATE($C44,$A$4)","v":"3b"},{"$f":"$C44*$S$4","v":3},{"$f":"CONCATENATE($C44,$A$4)","v":"3b"},{"$f":"$C44*$S$4","v":3},{"$f":"CONCATENATE($C44,$A$4)","v":"3b"},{"$f":"$C44*$S$4","v":3},{"$f":"CONCATENATE($C44,$A$4)","v":"3b"},{"$f":"$C44*$S$4","v":3},{"$f":"CONCATENATE($C44,$A$4)","v":"3b"},{"$f":"$C44*$S$4","v":3},{"$f":"CONCATENATE($C44,$A$4)","v":"3b"},{"$f":"$C44*$S$4","v":3},{"$f":"CONCATENATE($C44,$A$4)","v":"3b"},{"$f":"$C44*$S$4","v":3},{"$f":"CONCATENATE($C44,$A$4)","v":"3b"},{"$f":"$C44*$S$4","v":3},{"$f":"CONCATENATE($C44,$A$4)","v":"3b"},{"$f":"$C44*$S$4","v":3},{"$f":"CONCATENATE($C44,$A$4)","v":"3b"},{"$f":"$C44*$S$4","v":3},"3b",3]
[33,36,4,{"$f":"CONCATENATE($C45,$A$6)","v":"4j"},{"$f":"$C45*$S$6","v":20},{"$f":"CONCATENATE($C45,$A$4)","v":"4b"},{"$f":"$C45*$S$4","v":4},{"$f":"CONCATENATE($A$6,$A$8)","v":"ju"},{"$f":"$S$6*$S$8","v":30},{"$f":"CONCATENATE($C45,$A$6)","v":"4j"},{"$f":"$C45*$S$6","v":20},{"$f":"CONCATENATE($C45,$A$6)","v":"4j"},{"$f":"$C45*$S$6","v":20},{"$f":"CONCATENATE($C45,$A$6)","v":"4j"},{"$f":"$C45*$S$6","v":20},{"$f":"CONCATENATE($C45,$A$6)","v":"4j"},{"$f":"$C45*$S$6","v":20},{"$f":"CONCATENATE($C45,$A$6)","v":"4j"},{"$f":"$C45*$S$6","v":20},{"$f":"CONCATENATE($C45,$A$6)","v":"4j"},{"$f":"$C45*$S$6","v":20},{"$f":"CONCATENATE($C45,$A$6)","v":"4j"},{"$f":"$C45*$S$6","v":20},{"$f":"CONCATENATE($C45,$A$6)","v":"4j"},{"$f":"$C45*$S$6","v":20},{"$f":"CONCATENATE($C45,$A$6)","v":"4j"},{"$f":"$C45*$S$6","v":20},{"$f":"CONCATENATE($C45,$A$6)","v":"4j"},{"$f":"$C45*$S$6","v":20},{"$f":"CONCATENATE($C45,$A$6)","v":"4j"},{"$f":"$C45*$S$6","v":20},{"$f":"CONCATENATE($C45,$A$6)","v":"4j"},{"$f":"$C45*$S$6","v":20},{"$f":"CONCATENATE($C45,$A$6)","v":"4j"},{"$f":"$C45*$S$6","v":20},{"$f":"CONCATENATE($C45,$A$6)","v":"4j"},{"$f":"$C45*$S$6","v":20},{"$f":"CONCATENATE($C45,$A$6)","v":"4j"},{"$f":"$C45*$S$6","v":20},{"$f":"CONCATENATE($C45,$A$6)","v":"4j"},{"$f":"$C45*$S$6","v":20},{"$f":"CONCATENATE($C45,$A$6)","v":"4j"},{"$f":"$C45*$S$6","v":20},{"$f":"CONCATENATE($C45,$A$6)","v":"4j"},{"$f":"$C45*$S$6","v":20},{"$f":"CONCATENATE($C45,$A$6)","v":"4j"},{"$f":"$C45*$S$6","v":20},{"$f":"CONCATENATE($C45,$A$6)","v":"4j"},{"$f":"$C45*$S$6","v":20},{"$f":"CONCATENATE($C45,$A$6)","v":"4j"},{"$f":"$C45*$S$6","v":20},{"$f":"CONCATENATE($C45,$A$6)","v":"4j"},{"$f":"$C45*$S$6","v":20},"4j",20]
[34,12,6,{"$f":"CONCATENATE($C46,$A$8)","v":"6u"},{"$f":"$C46*$S$8","v":36},{"$f":"CONCATENATE($C46,$A$7)","v":"6t"},{"$f":"$C46*$S$7","v":24},{"$f":"CONCATENATE($C46,$A$4,\" + \",$C46)","v":"6b + 6"},{"$f":"$C46*$S$4+$C46","v":12},{"$f":"CONCATENATE($C46,$A$8)","v":"6u"},{"$f":"$C46*$S$8","v":36},{"$f":"CONCATENATE($C46,$A$8)","v":"6u"},{"$f":"$C46*$S$8","v":36},{"$f":"CONCATENATE($C46,$A$8)","v":"6u"},{"$f":"$C46*$S$8","v":36},{"$f":"CONCATENATE($C46,$A$8)","v":"6u"},{"$f":"$C46*$S$8","v":36},{"$f":"CONCATENATE($C46,$A$8)","v":"6u"},{"$f":"$C46*$S$8","v":36},{"$f":"CONCATENATE($C46,$A$8)","v":"6u"},{"$f":"$C46*$S$8","v":36},{"$f":"CONCATENATE($C46,$A$8)","v":"6u"},{"$f":"$C46*$S$8","v":36},{"$f":"CONCATENATE($C46,$A$8)","v":"6u"},{"$f":"$C46*$S$8","v":36},{"$f":"CONCATENATE($C46,$A$8)","v":"6u"},{"$f":"$C46*$S$8","v":36},{"$f":"CONCATENATE($C46,$A$8)","v":"6u"},{"$f":"$C46*$S$8","v":36},{"$f":"CONCATENATE($C46,$A$8)","v":"6u"},{"$f":"$C46*$S$8","v":36},{"$f":"CONCATENATE($C46,$A$8)","v":"6u"},{"$f":"$C46*$S$8","v":36},{"$f":"CONCATENATE($C46,$A$8)","v":"6u"},{"$f":"$C46*$S$8","v":36},{"$f":"CONCATENATE($C46,$A$8)","v":"6u"},{"$f":"$C46*$S$8","v":36},{"$f":"CONCATENATE($C46,$A$8)","v":"6u"},{"$f":"$C46*$S$8","v":36},{"$f":"CONCATENATE($C46,$A$8)","v":"6u"},{"$f":"$C46*$S$8","v":36},{"$f":"CONCATENATE($C46,$A$8)","v":"6u"},{"$f":"$C46*$S$8","v":36},{"$f":"CONCATENATE($C46,$A$8)","v":"6u"},{"$f":"$C46*$S$8","v":36},{"$f":"CONCATENATE($C46,$A$8)","v":"6u"},{"$f":"$C46*$S$8","v":36},{"$f":"CONCATENATE($C46,$A$8)","v":"6u"},{"$f":"$C46*$S$8","v":36},{"$f":"CONCATENATE($C46,$A$8)","v":"6u"},{"$f":"$C46*$S$8","v":36},{"$f":"CONCATENATE($C46,$A$8)","v":"6u"},{"$f":"$C46*$S$8","v":36},"6u",36]
[35,26,7,{"$f":"CONCATENATE($C47,$A$6)","v":"7j"},{"$f":"$C47*$S$6","v":35},{"$f":"CONCATENATE($C47,$A$8)","v":"7u"},{"$f":"$C47*$S$8","v":42},{"$f":"CONCATENATE($C47,\" + \",$C47,$A$7)","v":"7 + 7t"},{"$f":"$C47*$S$7+$C47","v":35},{"$f":"CONCATENATE($C47,$A$6)","v":"7j"},{"$f":"$C47*$S$6","v":35},{"$f":"CONCATENATE($C47,$A$6)","v":"7j"},{"$f":"$C47*$S$6","v":35},{"$f":"CONCATENATE($C47,$A$6)","v":"7j"},{"$f":"$C47*$S$6","v":35},{"$f":"CONCATENATE($C47,$A$6)","v":"7j"},{"$f":"$C47*$S$6","v":35},{"$f":"CONCATENATE($C47,$A$6)","v":"7j"},{"$f":"$C47*$S$6","v":35},{"$f":"CONCATENATE($C47,$A$6)","v":"7j"},{"$f":"$C47*$S$6","v":35},{"$f":"CONCATENATE($C47,$A$6)","v":"7j"},{"$f":"$C47*$S$6","v":35},{"$f":"CONCATENATE($C47,$A$6)","v":"7j"},{"$f":"$C47*$S$6","v":35},{"$f":"CONCATENATE($C47,$A$6)","v":"7j"},{"$f":"$C47*$S$6","v":35},{"$f":"CONCATENATE($C47,$A$6)","v":"7j"},{"$f":"$C47*$S$6","v":35},{"$f":"CONCATENATE($C47,$A$6)","v":"7j"},{"$f":"$C47*$S$6","v":35},{"$f":"CONCATENATE($C47,$A$6)","v":"7j"},{"$f":"$C47*$S$6","v":35},{"$f":"CONCATENATE($C47,$A$6)","v":"7j"},{"$f":"$C47*$S$6","v":35},{"$f":"CONCATENATE($C47,$A$6)","v":"7j"},{"$f":"$C47*$S$6","v":35},{"$f":"CONCATENATE($C47,$A$6)","v":"7j"},{"$f":"$C47*$S$6","v":35},{"$f":"CONCATENATE($C47,$A$6)","v":"7j"},{"$f":"$C47*$S$6","v":35},{"$f":"CONCATENATE($C47,$A$6)","v":"7j"},{"$f":"$C47*$S$6","v":35},{"$f":"CONCATENATE($C47,$A$6)","v":"7j"},{"$f":"$C47*$S$6","v":35},{"$f":"CONCATENATE($C47,$A$6)","v":"7j"},{"$f":"$C47*$S$6","v":35},{"$f":"CONCATENATE($C47,$A$6)","v":"7j"},{"$f":"$C47*$S$6","v":35},{"$f":"CONCATENATE($C47,$A$6)","v":"7j"},{"$f":"$C47*$S$6","v":35},{"$f":"CONCATENATE($C47,$A$6)","v":"7j"},{"$f":"$C47*$S$6","v":35},"7j",35]
[36,6,4,{"$f":"CONCATENATE($A$4,$A$6)","v":"bj"},{"$f":"$S$4*$S$6","v":5},{"$f":"CONCATENATE($A$4,$A$6)","v":"bj"},{"$f":"$S$4*$S$6","v":5},{"$f":"CONCATENATE($C48,\" + \",$C48,$A$5)","v":"4 + 4f"},{"$f":"$C48*$S$5+$C48","v":16},{"$f":"CONCATENATE($A$4,$A$6)","v":"bj"},{"$f":"$S$4*$S$6","v":5},{"$f":"CONCATENATE($A$4,$A$6)","v":"bj"},{"$f":"$S$4*$S$6","v":5},{"$f":"CONCATENATE($A$4,$A$6)","v":"bj"},{"$f":"$S$4*$S$6","v":5},{"$f":"CONCATENATE($A$4,$A$6)","v":"bj"},{"$f":"$S$4*$S$6","v":5},{"$f":"CONCATENATE($A$4,$A$6)","v":"bj"},{"$f":"$S$4*$S$6","v":5},{"$f":"CONCATENATE($A$4,$A$6)","v":"bj"},{"$f":"$S$4*$S$6","v":5},{"$f":"CONCATENATE($A$4,$A$6)","v":"bj"},{"$f":"$S$4*$S$6","v":5},{"$f":"CONCATENATE($A$4,$A$6)","v":"bj"},{"$f":"$S$4*$S$6","v":5},{"$f":"CONCATENATE($A$4,$A$6)","v":"bj"},{"$f":"$S$4*$S$6","v":5},{"$f":"CONCATENATE($A$4,$A$6)","v":"bj"},{"$f":"$S$4*$S$6","v":5},{"$f":"CONCATENATE($A$4,$A$6)","v":"bj"},{"$f":"$S$4*$S$6","v":5},{"$f":"CONCATENATE($A$4,$A$6)","v":"bj"},{"$f":"$S$4*$S$6","v":5},{"$f":"CONCATENATE($A$4,$A$6)","v":"bj"},{"$f":"$S$4*$S$6","v":5},{"$f":"CONCATENATE($A$4,$A$6)","v":"bj"},{"$f":"$S$4*$S$6","v":5},{"$f":"CONCATENATE($A$4,$A$6)","v":"bj"},{"$f":"$S$4*$S$6","v":5},{"$f":"CONCATENATE($A$4,$A$6)","v":"bj"},{"$f":"$S$4*$S$6","v":5},{"$f":"CONCATENATE($A$4,$A$6)","v":"bj"},{"$f":"$S$4*$S$6","v":5},{"$f":"CONCATENATE($A$4,$A$6)","v":"bj"},{"$f":"$S$4*$S$6","v":5},{"$f":"CONCATENATE($A$4,$A$6)","v":"bj"},{"$f":"$S$4*$S$6","v":5},{"$f":"CONCATENATE($A$4,$A$6)","v":"bj"},{"$f":"$S$4*$S$6","v":5},{"$f":"CONCATENATE($A$4,$A$6)","v":"bj"},{"$f":"$S$4*$S$6","v":5},{"$f":"CONCATENATE($A$4,$A$6)","v":"bj"},{"$f":"$S$4*$S$6","v":5},"bj",5]
[37,14,7,{"$f":"CONCATENATE($A$6,$A$5)","v":"jf"},{"$f":"$S$6*$S$5","v":15},{"$f":"CONCATENATE($A$6,$A$7)","v":"jt"},{"$f":"$S$6*$S$7","v":20},{"$f":"CONCATENATE($C49,$A$7,\" + \",$C49)","v":"7t + 7"},{"$f":"$C49*$S$7+$C49","v":35},{"$f":"CONCATENATE($A$6,$A$5)","v":"jf"},{"$f":"$S$6*$S$5","v":15},{"$f":"CONCATENATE($A$6,$A$5)","v":"jf"},{"$f":"$S$6*$S$5","v":15},{"$f":"CONCATENATE($A$6,$A$5)","v":"jf"},{"$f":"$S$6*$S$5","v":15},{"$f":"CONCATENATE($A$6,$A$5)","v":"jf"},{"$f":"$S$6*$S$5","v":15},{"$f":"CONCATENATE($A$6,$A$5)","v":"jf"},{"$f":"$S$6*$S$5","v":15},{"$f":"CONCATENATE($A$6,$A$5)","v":"jf"},{"$f":"$S$6*$S$5","v":15},{"$f":"CONCATENATE($A$6,$A$5)","v":"jf"},{"$f":"$S$6*$S$5","v":15},{"$f":"CONCATENATE($A$6,$A$5)","v":"jf"},{"$f":"$S$6*$S$5","v":15},{"$f":"CONCATENATE($A$6,$A$5)","v":"jf"},{"$f":"$S$6*$S$5","v":15},{"$f":"CONCATENATE($A$6,$A$5)","v":"jf"},{"$f":"$S$6*$S$5","v":15},{"$f":"CONCATENATE($A$6,$A$5)","v":"jf"},{"$f":"$S$6*$S$5","v":15},{"$f":"CONCATENATE($A$6,$A$5)","v":"jf"},{"$f":"$S$6*$S$5","v":15},{"$f":"CONCATENATE($A$6,$A$5)","v":"jf"},{"$f":"$S$6*$S$5","v":15},{"$f":"CONCATENATE($A$6,$A$5)","v":"jf"},{"$f":"$S$6*$S$5","v":15},{"$f":"CONCATENATE($A$6,$A$5)","v":"jf"},{"$f":"$S$6*$S$5","v":15},{"$f":"CONCATENATE($A$6,$A$5)","v":"jf"},{"$f":"$S$6*$S$5","v":15},{"$f":"CONCATENATE($A$6,$A$5)","v":"jf"},{"$f":"$S$6*$S$5","v":15},{"$f":"CONCATENATE($A$6,$A$5)","v":"jf"},{"$f":"$S$6*$S$5","v":15},{"$f":"CONCATENATE($A$6,$A$5)","v":"jf"},{"$f":"$S$6*$S$5","v":15},{"$f":"CONCATENATE($A$6,$A$5)","v":"jf"},{"$f":"$S$6*$S$5","v":15},{"$f":"CONCATENATE($A$6,$A$5)","v":"jf"},{"$f":"$S$6*$S$5","v":15},{"$f":"CONCATENATE($A$6,$A$5)","v":"jf"},{"$f":"$S$6*$S$5","v":15},"jf",15]
[38,4,3,{"$f":"CONCATENATE($A$6,$A$8)","v":"ju"},{"$f":"$S$6*$S$8","v":30},{"$f":"CONCATENATE($C50,$A$4,\" + \",$C50)","v":"3b + 3"},{"$f":"$C50*$S$4+$C50","v":6},{"$f":"CONCATENATE($C50,$A$6,\" + \",$C50)","v":"3j + 3"},{"$f":"$C50*$S$6+$C50","v":18},{"$f":"CONCATENATE($A$6,$A$8)","v":"ju"},{"$f":"$S$6*$S$8","v":30},{"$f":"CONCATENATE($A$6,$A$8)","v":"ju"},{"$f":"$S$6*$S$8","v":30},{"$f":"CONCATENATE($A$6,$A$8)","v":"ju"},{"$f":"$S$6*$S$8","v":30},{"$f":"CONCATENATE($A$6,$A$8)","v":"ju"},{"$f":"$S$6*$S$8","v":30},{"$f":"CONCATENATE($A$6,$A$8)","v":"ju"},{"$f":"$S$6*$S$8","v":30},{"$f":"CONCATENATE($A$6,$A$8)","v":"ju"},{"$f":"$S$6*$S$8","v":30},{"$f":"CONCATENATE($A$6,$A$8)","v":"ju"},{"$f":"$S$6*$S$8","v":30},{"$f":"CONCATENATE($A$6,$A$8)","v":"ju"},{"$f":"$S$6*$S$8","v":30},{"$f":"CONCATENATE($A$6,$A$8)","v":"ju"},{"$f":"$S$6*$S$8","v":30},{"$f":"CONCATENATE($A$6,$A$8)","v":"ju"},{"$f":"$S$6*$S$8","v":30},{"$f":"CONCATENATE($A$6,$A$8)","v":"ju"},{"$f":"$S$6*$S$8","v":30},{"$f":"CONCATENATE($A$6,$A$8)","v":"ju"},{"$f":"$S$6*$S$8","v":30},{"$f":"CONCATENATE($A$6,$A$8)","v":"ju"},{"$f":"$S$6*$S$8","v":30},{"$f":"CONCATENATE($A$6,$A$8)","v":"ju"},{"$f":"$S$6*$S$8","v":30},{"$f":"CONCATENATE($A$6,$A$8)","v":"ju"},{"$f":"$S$6*$S$8","v":30},{"$f":"CONCATENATE($A$6,$A$8)","v":"ju"},{"$f":"$S$6*$S$8","v":30},{"$f":"CONCATENATE($A$6,$A$8)","v":"ju"},{"$f":"$S$6*$S$8","v":30},{"$f":"CONCATENATE($A$6,$A$8)","v":"ju"},{"$f":"$S$6*$S$8","v":30},{"$f":"CONCATENATE($A$6,$A$8)","v":"ju"},{"$f":"$S$6*$S$8","v":30},{"$f":"CONCATENATE($A$6,$A$8)","v":"ju"},{"$f":"$S$6*$S$8","v":30},{"$f":"CONCATENATE($A$6,$A$8)","v":"ju"},{"$f":"$S$6*$S$8","v":30},{"$f":"CONCATENATE($A$6,$A$8)","v":"ju"},{"$f":"$S$6*$S$8","v":30},"3j + 3",18]
[39,18,5,{"$f":"CONCATENATE($A$7,$A$6)","v":"tj"},{"$f":"$S$7*$S$6","v":20},{"$f":"CONCATENATE($C51,$A$7,\" + \",$C51)","v":"5t + 5"},{"$f":"$C51*$S$7+$C51","v":25},{"$f":"CONCATENATE($C51,$A$8,\" - \",$C51)","v":"5u - 5"},{"$f":"$C51*$S$8-$C51","v":25},{"$f":"CONCATENATE($A$7,$A$6)","v":"tj"},{"$f":"$S$7*$S$6","v":20},{"$f":"CONCATENATE($A$7,$A$6)","v":"tj"},{"$f":"$S$7*$S$6","v":20},{"$f":"CONCATENATE($A$7,$A$6)","v":"tj"},{"$f":"$S$7*$S$6","v":20},{"$f":"CONCATENATE($A$7,$A$6)","v":"tj"},{"$f":"$S$7*$S$6","v":20},{"$f":"CONCATENATE($A$7,$A$6)","v":"tj"},{"$f":"$S$7*$S$6","v":20},{"$f":"CONCATENATE($A$7,$A$6)","v":"tj"},{"$f":"$S$7*$S$6","v":20},{"$f":"CONCATENATE($A$7,$A$6)","v":"tj"},{"$f":"$S$7*$S$6","v":20},{"$f":"CONCATENATE($A$7,$A$6)","v":"tj"},{"$f":"$S$7*$S$6","v":20},{"$f":"CONCATENATE($A$7,$A$6)","v":"tj"},{"$f":"$S$7*$S$6","v":20},{"$f":"CONCATENATE($A$7,$A$6)","v":"tj"},{"$f":"$S$7*$S$6","v":20},{"$f":"CONCATENATE($A$7,$A$6)","v":"tj"},{"$f":"$S$7*$S$6","v":20},{"$f":"CONCATENATE($A$7,$A$6)","v":"tj"},{"$f":"$S$7*$S$6","v":20},{"$f":"CONCATENATE($A$7,$A$6)","v":"tj"},{"$f":"$S$7*$S$6","v":20},{"$f":"CONCATENATE($A$7,$A$6)","v":"tj"},{"$f":"$S$7*$S$6","v":20},{"$f":"CONCATENATE($A$7,$A$6)","v":"tj"},{"$f":"$S$7*$S$6","v":20},{"$f":"CONCATENATE($A$7,$A$6)","v":"tj"},{"$f":"$S$7*$S$6","v":20},{"$f":"CONCATENATE($A$7,$A$6)","v":"tj"},{"$f":"$S$7*$S$6","v":20},{"$f":"CONCATENATE($A$7,$A$6)","v":"tj"},{"$f":"$S$7*$S$6","v":20},{"$f":"CONCATENATE($A$7,$A$6)","v":"tj"},{"$f":"$S$7*$S$6","v":20},{"$f":"CONCATENATE($A$7,$A$6)","v":"tj"},{"$f":"$S$7*$S$6","v":20},{"$f":"CONCATENATE($A$7,$A$6)","v":"tj"},{"$f":"$S$7*$S$6","v":20},{"$f":"CONCATENATE($A$7,$A$6)","v":"tj"},{"$f":"$S$7*$S$6","v":20},"tj",20]
[40,44,4,{"$f":"CONCATENATE($A$4,$A$6)","v":"bj"},{"$f":"$S$4*$S$6","v":5},{"$f":"CONCATENATE($C52,$A$6,\" + \",$C52)","v":"4j + 4"},{"$f":"$C52*$S$6+$C52","v":24},{"$f":"CONCATENATE($A$4,$A$6,\" + \",$C52)","v":"bj + 4"},{"$f":"$S$4*$S$6+$C52","v":9},{"$f":"CONCATENATE($A$4,$A$6)","v":"bj"},{"$f":"$S$4*$S$6","v":5},{"$f":"CONCATENATE($A$4,$A$6)","v":"bj"},{"$f":"$S$4*$S$6","v":5},{"$f":"CONCATENATE($A$4,$A$6)","v":"bj"},{"$f":"$S$4*$S$6","v":5},{"$f":"CONCATENATE($A$4,$A$6)","v":"bj"},{"$f":"$S$4*$S$6","v":5},{"$f":"CONCATENATE($A$4,$A$6)","v":"bj"},{"$f":"$S$4*$S$6","v":5},{"$f":"CONCATENATE($A$4,$A$6)","v":"bj"},{"$f":"$S$4*$S$6","v":5},{"$f":"CONCATENATE($A$4,$A$6)","v":"bj"},{"$f":"$S$4*$S$6","v":5},{"$f":"CONCATENATE($A$4,$A$6)","v":"bj"},{"$f":"$S$4*$S$6","v":5},{"$f":"CONCATENATE($A$4,$A$6)","v":"bj"},{"$f":"$S$4*$S$6","v":5},{"$f":"CONCATENATE($A$4,$A$6)","v":"bj"},{"$f":"$S$4*$S$6","v":5},{"$f":"CONCATENATE($A$4,$A$6)","v":"bj"},{"$f":"$S$4*$S$6","v":5},{"$f":"CONCATENATE($A$4,$A$6)","v":"bj"},{"$f":"$S$4*$S$6","v":5},{"$f":"CONCATENATE($A$4,$A$6)","v":"bj"},{"$f":"$S$4*$S$6","v":5},{"$f":"CONCATENATE($A$4,$A$6)","v":"bj"},{"$f":"$S$4*$S$6","v":5},{"$f":"CONCATENATE($A$4,$A$6)","v":"bj"},{"$f":"$S$4*$S$6","v":5},{"$f":"CONCATENATE($A$4,$A$6)","v":"bj"},{"$f":"$S$4*$S$6","v":5},{"$f":"CONCATENATE($A$4,$A$6)","v":"bj"},{"$f":"$S$4*$S$6","v":5},{"$f":"CONCATENATE($A$4,$A$6)","v":"bj"},{"$f":"$S$4*$S$6","v":5},{"$f":"CONCATENATE($A$4,$A$6)","v":"bj"},{"$f":"$S$4*$S$6","v":5},{"$f":"CONCATENATE($A$4,$A$6)","v":"bj"},{"$f":"$S$4*$S$6","v":5},{"$f":"CONCATENATE($A$4,$A$6)","v":"bj"},{"$f":"$S$4*$S$6","v":5},{"$f":"CONCATENATE($A$4,$A$6)","v":"bj"},{"$f":"$S$4*$S$6","v":5},"bj",5]
[41,48,5,{"$f":"CONCATENATE($C53,$A$4,\" + \",$C53)","v":"5b + 5"},{"$f":"$C53*$S$4+$C53","v":10},{"$f":"CONCATENATE($C53,$A$8,\" - \",$C53)","v":"5u - 5"},{"$f":"$C53*$S$8-$C53","v":25},{"$f":"CONCATENATE($A$5,$A$4,\" + \",$C53)","v":"fb + 5"},{"$f":"$S$5*$S$4+$C53","v":8},{"$f":"CONCATENATE($C53,$A$4,\" + \",$C53)","v":"5b + 5"},{"$f":"3*$S$4+$C53","v":8},{"$f":"CONCATENATE($C53,$A$4,\" + \",$C53)","v":"5b + 5"},{"$f":"3*$S$4+$C53","v":8},{"$f":"CONCATENATE($C53,$A$4,\" + \",$C53)","v":"5b + 5"},{"$f":"3*$S$4+$C53","v":8},{"$f":"CONCATENATE($C53,$A$4,\" + \",$C53)","v":"5b + 5"},{"$f":"3*$S$4+$C53","v":8},{"$f":"CONCATENATE($C53,$A$4,\" + \",$C53)","v":"5b + 5"},{"$f":"3*$S$4+$C53","v":8},{"$f":"CONCATENATE($C53,$A$4,\" + \",$C53)","v":"5b + 5"},{"$f":"3*$S$4+$C53","v":8},{"$f":"CONCATENATE($C53,$A$4,\" + \",$C53)","v":"5b + 5"},{"$f":"3*$S$4+$C53","v":8},{"$f":"CONCATENATE($C53,$A$4,\" + \",$C53)","v":"5b + 5"},{"$f":"3*$S$4+$C53","v":8},{"$f":"CONCATENATE($C53,$A$4,\" + \",$C53)","v":"5b + 5"},{"$f":"3*$S$4+$C53","v":8},{"$f":"CONCATENATE($C53,$A$4,\" + \",$C53)","v":"5b + 5"},{"$f":"3*$S$4+$C53","v":8},{"$f":"CONCATENATE($C53,$A$4,\" + \",$C53)","v":"5b + 5"},{"$f":"3*$S$4+$C53","v":8},{"$f":"CONCATENATE($C53,$A$4,\" + \",$C53)","v":"5b + 5"},{"$f":"3*$S$4+$C53","v":8},{"$f":"CONCATENATE($C53,$A$4,\" + \",$C53)","v":"5b + 5"},{"$f":"3*$S$4+$C53","v":8},{"$f":"CONCATENATE($C53,$A$4,\" + \",$C53)","v":"5b + 5"},{"$f":"3*$S$4+$C53","v":8},{"$f":"CONCATENATE($C53,$A$4,\" + \",$C53)","v":"5b + 5"},{"$f":"3*$S$4+$C53","v":8},{"$f":"CONCATENATE($C53,$A$4,\" + \",$C53)","v":"5b + 5"},{"$f":"3*$S$4+$C53","v":8},{"$f":"CONCATENATE($C53,$A$4,\" + \",$C53)","v":"5b + 5"},{"$f":"3*$S$4+$C53","v":8},{"$f":"CONCATENATE($C53,$A$4,\" + \",$C53)","v":"5b + 5"},{"$f":"3*$S$4+$C53","v":8},{"$f":"CONCATENATE($C53,$A$4,\" + \",$C53)","v":"5b + 5"},{"$f":"3*$S$4+$C53","v":8},{"$f":"CONCATENATE($C53,$A$4,\" + \",$C53)","v":"5b + 5"},{"$f":"3*$S$4+$C53","v":8},{"$f":"CONCATENATE($C53,$A$4,\" + \",$C53)","v":"5b + 5"},{"$f":"3*$S$4+$C53","v":8},{"$f":"CONCATENATE($C53,$A$4,\" + \",$C53)","v":"5b + 5"},{"$f":"3*$S$4+$C53","v":8},"5b + 5",8]
[42,28,4,{"$f":"CONCATENATE($C54,$A$7,\" + \",$C54)","v":"4t + 4"},{"$f":"$C54*$S$7+$C54","v":20},{"$f":"CONCATENATE($A$4,$A$6,\" + \",$A$5)","v":"bj + f"},{"$f":"$S$4*$S$6+$S$5","v":8},{"$f":"CONCATENATE($A$4,$A$7,\" - \",$S$5)","v":"bt - 3"},{"$f":"$S$4*$S$7-$S$5","v":1},{"$f":"CONCATENATE($C54,$A$7,\" + \",$C54)","v":"4t + 4"},{"$f":"3*$S$7+$C54","v":16},{"$f":"CONCATENATE($C54,$A$7,\" + \",$C54)","v":"4t + 4"},{"$f":"3*$S$7+$C54","v":16},{"$f":"CONCATENATE($C54,$A$7,\" + \",$C54)","v":"4t + 4"},{"$f":"3*$S$7+$C54","v":16},{"$f":"CONCATENATE($C54,$A$7,\" + \",$C54)","v":"4t + 4"},{"$f":"3*$S$7+$C54","v":16},{"$f":"CONCATENATE($C54,$A$7,\" + \",$C54)","v":"4t + 4"},{"$f":"3*$S$7+$C54","v":16},{"$f":"CONCATENATE($C54,$A$7,\" + \",$C54)","v":"4t + 4"},{"$f":"3*$S$7+$C54","v":16},{"$f":"CONCATENATE($C54,$A$7,\" + \",$C54)","v":"4t + 4"},{"$f":"3*$S$7+$C54","v":16},{"$f":"CONCATENATE($C54,$A$7,\" + \",$C54)","v":"4t + 4"},{"$f":"3*$S$7+$C54","v":16},{"$f":"CONCATENATE($C54,$A$7,\" + \",$C54)","v":"4t + 4"},{"$f":"3*$S$7+$C54","v":16},{"$f":"CONCATENATE($C54,$A$7,\" + \",$C54)","v":"4t + 4"},{"$f":"3*$S$7+$C54","v":16},{"$f":"CONCATENATE($C54,$A$7,\" + \",$C54)","v":"4t + 4"},{"$f":"3*$S$7+$C54","v":16},{"$f":"CONCATENATE($C54,$A$7,\" + \",$C54)","v":"4t + 4"},{"$f":"3*$S$7+$C54","v":16},{"$f":"CONCATENATE($C54,$A$7,\" + \",$C54)","v":"4t + 4"},{"$f":"3*$S$7+$C54","v":16},{"$f":"CONCATENATE($C54,$A$7,\" + \",$C54)","v":"4t + 4"},{"$f":"3*$S$7+$C54","v":16},{"$f":"CONCATENATE($C54,$A$7,\" + \",$C54)","v":"4t + 4"},{"$f":"3*$S$7+$C54","v":16},{"$f":"CONCATENATE($C54,$A$7,\" + \",$C54)","v":"4t + 4"},{"$f":"3*$S$7+$C54","v":16},{"$f":"CONCATENATE($C54,$A$7,\" + \",$C54)","v":"4t + 4"},{"$f":"3*$S$7+$C54","v":16},{"$f":"CONCATENATE($C54,$A$7,\" + \",$C54)","v":"4t + 4"},{"$f":"3*$S$7+$C54","v":16},{"$f":"CONCATENATE($C54,$A$7,\" + \",$C54)","v":"4t + 4"},{"$f":"3*$S$7+$C54","v":16},{"$f":"CONCATENATE($C54,$A$7,\" + \",$C54)","v":"4t + 4"},{"$f":"3*$S$7+$C54","v":16},{"$f":"CONCATENATE($C54,$A$7,\" + \",$C54)","v":"4t + 4"},{"$f":"3*$S$7+$C54","v":16},{"$f":"CONCATENATE($C54,$A$7,\" + \",$C54)","v":"4t + 4"},{"$f":"3*$S$7+$C54","v":16},"4t + 4",16]
[43,38,5,{"$f":"CONCATENATE($C55,$A$6,\" + \",$C55)","v":"5j + 5"},{"$f":"$C55*$S$6+$C55","v":30},{"$f":"CONCATENATE($A$5,$A$6,\" + \",$A$4)","v":"fj + b"},{"$f":"$S$5*$S$6+$S$4","v":16},{"$f":"CONCATENATE($C55,$A$6,\" - \",$C55)","v":"5j - 5"},{"$f":"$C55*$S$6-$C55","v":20},{"$f":"CONCATENATE($C55,$A$6,\" + \",$C55)","v":"5j + 5"},{"$f":"3*$S$6+$C55","v":20},{"$f":"CONCATENATE($C55,$A$6,\" + \",$C55)","v":"5j + 5"},{"$f":"3*$S$6+$C55","v":20},{"$f":"CONCATENATE($C55,$A$6,\" + \",$C55)","v":"5j + 5"},{"$f":"3*$S$6+$C55","v":20},{"$f":"CONCATENATE($C55,$A$6,\" + \",$C55)","v":"5j + 5"},{"$f":"3*$S$6+$C55","v":20},{"$f":"CONCATENATE($C55,$A$6,\" + \",$C55)","v":"5j + 5"},{"$f":"3*$S$6+$C55","v":20},{"$f":"CONCATENATE($C55,$A$6,\" + \",$C55)","v":"5j + 5"},{"$f":"3*$S$6+$C55","v":20},{"$f":"CONCATENATE($C55,$A$6,\" + \",$C55)","v":"5j + 5"},{"$f":"3*$S$6+$C55","v":20},{"$f":"CONCATENATE($C55,$A$6,\" + \",$C55)","v":"5j + 5"},{"$f":"3*$S$6+$C55","v":20},{"$f":"CONCATENATE($C55,$A$6,\" + \",$C55)","v":"5j + 5"},{"$f":"3*$S$6+$C55","v":20},{"$f":"CONCATENATE($C55,$A$6,\" + \",$C55)","v":"5j + 5"},{"$f":"3*$S$6+$C55","v":20},{"$f":"CONCATENATE($C55,$A$6,\" + \",$C55)","v":"5j + 5"},{"$f":"3*$S$6+$C55","v":20},{"$f":"CONCATENATE($C55,$A$6,\" + \",$C55)","v":"5j + 5"},{"$f":"3*$S$6+$C55","v":20},{"$f":"CONCATENATE($C55,$A$6,\" + \",$C55)","v":"5j + 5"},{"$f":"3*$S$6+$C55","v":20},{"$f":"CONCATENATE($C55,$A$6,\" + \",$C55)","v":"5j + 5"},{"$f":"3*$S$6+$C55","v":20},{"$f":"CONCATENATE($C55,$A$6,\" + \",$C55)","v":"5j + 5"},{"$f":"3*$S$6+$C55","v":20},{"$f":"CONCATENATE($C55,$A$6,\" + \",$C55)","v":"5j + 5"},{"$f":"3*$S$6+$C55","v":20},{"$f":"CONCATENATE($C55,$A$6,\" + \",$C55)","v":"5j + 5"},{"$f":"3*$S$6+$C55","v":20},{"$f":"CONCATENATE($C55,$A$6,\" + \",$C55)","v":"5j + 5"},{"$f":"3*$S$6+$C55","v":20},{"$f":"CONCATENATE($C55,$A$6,\" + \",$C55)","v":"5j + 5"},{"$f":"3*$S$6+$C55","v":20},{"$f":"CONCATENATE($C55,$A$6,\" + \",$C55)","v":"5j + 5"},{"$f":"3*$S$6+$C55","v":20},{"$f":"CONCATENATE($C55,$A$6,\" + \",$C55)","v":"5j + 5"},{"$f":"3*$S$6+$C55","v":20},{"$f":"CONCATENATE($C55,$A$6,\" + \",$C55)","v":"5j + 5"},{"$f":"3*$S$6+$C55","v":20},"5j + 5",20]
[44,6,7,{"$f":"CONCATENATE($C56,$A$8,\" - \",$C56)","v":"7u - 7"},{"$f":"$C56*$S$8-$C56","v":35},{"$f":"CONCATENATE($A$8,$A$6,\" + \",$A$7)","v":"uj + t"},{"$f":"$S$8*$S$6+$S$7","v":34},{"$f":"CONCATENATE($C56,$A$8,\" - \",$C56)","v":"7u - 7"},{"$f":"$C56*$S$8-$C56","v":35},{"$f":"CONCATENATE($C56,$A$8,\" - \",$C56)","v":"7u - 7"},{"$f":"3*$S$8-$C56","v":11},{"$f":"CONCATENATE($C56,$A$8,\" - \",$C56)","v":"7u - 7"},{"$f":"3*$S$8-$C56","v":11},{"$f":"CONCATENATE($C56,$A$8,\" - \",$C56)","v":"7u - 7"},{"$f":"3*$S$8-$C56","v":11},{"$f":"CONCATENATE($C56,$A$8,\" - \",$C56)","v":"7u - 7"},{"$f":"3*$S$8-$C56","v":11},{"$f":"CONCATENATE($C56,$A$8,\" - \",$C56)","v":"7u - 7"},{"$f":"3*$S$8-$C56","v":11},{"$f":"CONCATENATE($C56,$A$8,\" - \",$C56)","v":"7u - 7"},{"$f":"3*$S$8-$C56","v":11},{"$f":"CONCATENATE($C56,$A$8,\" - \",$C56)","v":"7u - 7"},{"$f":"3*$S$8-$C56","v":11},{"$f":"CONCATENATE($C56,$A$8,\" - \",$C56)","v":"7u - 7"},{"$f":"3*$S$8-$C56","v":11},{"$f":"CONCATENATE($C56,$A$8,\" - \",$C56)","v":"7u - 7"},{"$f":"3*$S$8-$C56","v":11},{"$f":"CONCATENATE($C56,$A$8,\" - \",$C56)","v":"7u - 7"},{"$f":"3*$S$8-$C56","v":11},{"$f":"CONCATENATE($C56,$A$8,\" - \",$C56)","v":"7u - 7"},{"$f":"3*$S$8-$C56","v":11},{"$f":"CONCATENATE($C56,$A$8,\" - \",$C56)","v":"7u - 7"},{"$f":"3*$S$8-$C56","v":11},{"$f":"CONCATENATE($C56,$A$8,\" - \",$C56)","v":"7u - 7"},{"$f":"3*$S$8-$C56","v":11},{"$f":"CONCATENATE($C56,$A$8,\" - \",$C56)","v":"7u - 7"},{"$f":"3*$S$8-$C56","v":11},{"$f":"CONCATENATE($C56,$A$8,\" - \",$C56)","v":"7u - 7"},{"$f":"3*$S$8-$C56","v":11},{"$f":"CONCATENATE($C56,$A$8,\" - \",$C56)","v":"7u - 7"},{"$f":"3*$S$8-$C56","v":11},{"$f":"CONCATENATE($C56,$A$8,\" - \",$C56)","v":"7u - 7"},{"$f":"3*$S$8-$C56","v":11},{"$f":"CONCATENATE($C56,$A$8,\" - \",$C56)","v":"7u - 7"},{"$f":"3*$S$8-$C56","v":11},{"$f":"CONCATENATE($C56,$A$8,\" - \",$C56)","v":"7u - 7"},{"$f":"3*$S$8-$C56","v":11},{"$f":"CONCATENATE($C56,$A$8,\" - \",$C56)","v":"7u - 7"},{"$f":"3*$S$8-$C56","v":11},{"$f":"CONCATENATE($C56,$A$8,\" - \",$C56)","v":"7u - 7"},{"$f":"3*$S$8-$C56","v":11},{"$f":"CONCATENATE($C56,$A$8,\" - \",$C56)","v":"7u - 7"},{"$f":"3*$S$8-$C56","v":11},"7u - 7",11]
[45,14,6,{"$f":"CONCATENATE($A$4,$A$6,\" + \",$C57)","v":"bj + 6"},{"$f":"$S$4*$S$6+$C57","v":11},{"$f":"CONCATENATE($A$4,$A$6,\" + \",$C57)","v":"bj + 6"},{"$f":"$S$4*$S$6+$C57","v":11},{"$f":"CONCATENATE($A$4,$A$6,\" - \",$C57)","v":"bj - 6"},{"$f":"$S$4*$S$6-$C57","v":-1},{"$f":"CONCATENATE($A$4,$A$6,\" + \",$C57)","v":"bj + 6"},{"$f":"$S$4*$S$6+$C57","v":11},{"$f":"CONCATENATE($A$4,$A$6,\" + \",$C57)","v":"bj + 6"},{"$f":"$S$4*$S$6+$C57","v":11},{"$f":"CONCATENATE($A$4,$A$6,\" + \",$C57)","v":"bj + 6"},{"$f":"$S$4*$S$6+$C57","v":11},{"$f":"CONCATENATE($A$4,$A$6,\" + \",$C57)","v":"bj + 6"},{"$f":"$S$4*$S$6+$C57","v":11},{"$f":"CONCATENATE($A$4,$A$6,\" + \",$C57)","v":"bj + 6"},{"$f":"$S$4*$S$6+$C57","v":11},{"$f":"CONCATENATE($A$4,$A$6,\" + \",$C57)","v":"bj + 6"},{"$f":"$S$4*$S$6+$C57","v":11},{"$f":"CONCATENATE($A$4,$A$6,\" + \",$C57)","v":"bj + 6"},{"$f":"$S$4*$S$6+$C57","v":11},{"$f":"CONCATENATE($A$4,$A$6,\" + \",$C57)","v":"bj + 6"},{"$f":"$S$4*$S$6+$C57","v":11},{"$f":"CONCATENATE($A$4,$A$6,\" + \",$C57)","v":"bj + 6"},{"$f":"$S$4*$S$6+$C57","v":11},{"$f":"CONCATENATE($A$4,$A$6,\" + \",$C57)","v":"bj + 6"},{"$f":"$S$4*$S$6+$C57","v":11},{"$f":"CONCATENATE($A$4,$A$6,\" + \",$C57)","v":"bj + 6"},{"$f":"$S$4*$S$6+$C57","v":11},{"$f":"CONCATENATE($A$4,$A$6,\" + \",$C57)","v":"bj + 6"},{"$f":"$S$4*$S$6+$C57","v":11},{"$f":"CONCATENATE($A$4,$A$6,\" + \",$C57)","v":"bj + 6"},{"$f":"$S$4*$S$6+$C57","v":11},{"$f":"CONCATENATE($A$4,$A$6,\" + \",$C57)","v":"bj + 6"},{"$f":"$S$4*$S$6+$C57","v":11},{"$f":"CONCATENATE($A$4,$A$6,\" + \",$C57)","v":"bj + 6"},{"$f":"$S$4*$S$6+$C57","v":11},{"$f":"CONCATENATE($A$4,$A$6,\" + \",$C57)","v":"bj + 6"},{"$f":"$S$4*$S$6+$C57","v":11},{"$f":"CONCATENATE($A$4,$A$6,\" + \",$C57)","v":"bj + 6"},{"$f":"$S$4*$S$6+$C57","v":11},{"$f":"CONCATENATE($A$4,$A$6,\" + \",$C57)","v":"bj + 6"},{"$f":"$S$4*$S$6+$C57","v":11},{"$f":"CONCATENATE($A$4,$A$6,\" + \",$C57)","v":"bj + 6"},{"$f":"$S$4*$S$6+$C57","v":11},{"$f":"CONCATENATE($A$4,$A$6,\" + \",$C57)","v":"bj + 6"},{"$f":"$S$4*$S$6+$C57","v":11},{"$f":"CONCATENATE($A$4,$A$6,\" + \",$C57)","v":"bj + 6"},{"$f":"$S$4*$S$6+$C57","v":11},{"$f":"CONCATENATE($A$4,$A$6,\" + \",$C57)","v":"bj + 6"},{"$f":"$S$4*$S$6+$C57","v":11},"bj + 6",11]
[46,24,3,{"$f":"CONCATENATE($A$5,$A$4,\" + \",$C58)","v":"fb + 3"},{"$f":"$S$5*$S$4+$C58","v":6},{"$f":"CONCATENATE($A$5,$A$4,\" + \",$C58)","v":"fb + 3"},{"$f":"$S$5*$S$4+$C58","v":6},{"$f":"CONCATENATE($A$5,$A$4,\" - \",$C58)","v":"fb - 3"},{"$f":"$S$5*$S$4-$C58","v":0},{"$f":"CONCATENATE($A$5,$A$4,\" + \",$C58)","v":"fb + 3"},{"$f":"$S$5*$S$4+$C58","v":6},{"$f":"CONCATENATE($A$5,$A$4,\" + \",$C58)","v":"fb + 3"},{"$f":"$S$5*$S$4+$C58","v":6},{"$f":"CONCATENATE($A$5,$A$4,\" + \",$C58)","v":"fb + 3"},{"$f":"$S$5*$S$4+$C58","v":6},{"$f":"CONCATENATE($A$5,$A$4,\" + \",$C58)","v":"fb + 3"},{"$f":"$S$5*$S$4+$C58","v":6},{"$f":"CONCATENATE($A$5,$A$4,\" + \",$C58)","v":"fb + 3"},{"$f":"$S$5*$S$4+$C58","v":6},{"$f":"CONCATENATE($A$5,$A$4,\" + \",$C58)","v":"fb + 3"},{"$f":"$S$5*$S$4+$C58","v":6},{"$f":"CONCATENATE($A$5,$A$4,\" + \",$C58)","v":"fb + 3"},{"$f":"$S$5*$S$4+$C58","v":6},{"$f":"CONCATENATE($A$5,$A$4,\" + \",$C58)","v":"fb + 3"},{"$f":"$S$5*$S$4+$C58","v":6},{"$f":"CONCATENATE($A$5,$A$4,\" + \",$C58)","v":"fb + 3"},{"$f":"$S$5*$S$4+$C58","v":6},{"$f":"CONCATENATE($A$5,$A$4,\" + \",$C58)","v":"fb + 3"},{"$f":"$S$5*$S$4+$C58","v":6},{"$f":"CONCATENATE($A$5,$A$4,\" + \",$C58)","v":"fb + 3"},{"$f":"$S$5*$S$4+$C58","v":6},{"$f":"CONCATENATE($A$5,$A$4,\" + \",$C58)","v":"fb + 3"},{"$f":"$S$5*$S$4+$C58","v":6},{"$f":"CONCATENATE($A$5,$A$4,\" + \",$C58)","v":"fb + 3"},{"$f":"$S$5*$S$4+$C58","v":6},{"$f":"CONCATENATE($A$5,$A$4,\" + \",$C58)","v":"fb + 3"},{"$f":"$S$5*$S$4+$C58","v":6},{"$f":"CONCATENATE($A$5,$A$4,\" + \",$C58)","v":"fb + 3"},{"$f":"$S$5*$S$4+$C58","v":6},{"$f":"CONCATENATE($A$5,$A$4,\" + \",$C58)","v":"fb + 3"},{"$f":"$S$5*$S$4+$C58","v":6},{"$f":"CONCATENATE($A$5,$A$4,\" + \",$C58)","v":"fb + 3"},{"$f":"$S$5*$S$4+$C58","v":6},{"$f":"CONCATENATE($A$5,$A$4,\" + \",$C58)","v":"fb + 3"},{"$f":"$S$5*$S$4+$C58","v":6},{"$f":"CONCATENATE($A$5,$A$4,\" + \",$C58)","v":"fb + 3"},{"$f":"$S$5*$S$4+$C58","v":6},{"$f":"CONCATENATE($A$5,$A$4,\" + \",$C58)","v":"fb + 3"},{"$f":"$S$5*$S$4+$C58","v":6},{"$f":"CONCATENATE($A$5,$A$4,\" + \",$C58)","v":"fb + 3"},{"$f":"$S$5*$S$4+$C58","v":6},{"$f":"CONCATENATE($A$5,$A$4,\" + \",$C58)","v":"fb + 3"},{"$f":"$S$5*$S$4+$C58","v":6},"fb + 3",6]
[47,44,3,{"$f":"CONCATENATE($A$8,$A$6,\" + \",$C59)","v":"uj + 3"},{"$f":"$S$8*$S$6+$C59","v":33},{"$f":"CONCATENATE($A$8,$A$6,\" + \",$C59,$A$4)","v":"uj + 3b"},{"$f":"$S$8*$S$6+$C59*$S$4","v":33},{"$f":"CONCATENATE($A$8,$A$6,\" + \",$C59)","v":"uj + 3"},{"$f":"$S$8*$S$6+$C59","v":33},{"$f":"CONCATENATE($A$8,$A$6,\" + \",$C59)","v":"uj + 3"},{"$f":"$S$8*$S$6+$C59","v":33},{"$f":"CONCATENATE($A$8,$A$6,\" + \",$C59)","v":"uj + 3"},{"$f":"$S$8*$S$6+$C59","v":33},{"$f":"CONCATENATE($A$8,$A$6,\" + \",$C59)","v":"uj + 3"},{"$f":"$S$8*$S$6+$C59","v":33},{"$f":"CONCATENATE($A$8,$A$6,\" + \",$C59)","v":"uj + 3"},{"$f":"$S$8*$S$6+$C59","v":33},{"$f":"CONCATENATE($A$8,$A$6,\" + \",$C59)","v":"uj + 3"},{"$f":"$S$8*$S$6+$C59","v":33},{"$f":"CONCATENATE($A$8,$A$6,\" + \",$C59)","v":"uj + 3"},{"$f":"$S$8*$S$6+$C59","v":33},{"$f":"CONCATENATE($A$8,$A$6,\" + \",$C59)","v":"uj + 3"},{"$f":"$S$8*$S$6+$C59","v":33},{"$f":"CONCATENATE($A$8,$A$6,\" + \",$C59)","v":"uj + 3"},{"$f":"$S$8*$S$6+$C59","v":33},{"$f":"CONCATENATE($A$8,$A$6,\" + \",$C59)","v":"uj + 3"},{"$f":"$S$8*$S$6+$C59","v":33},{"$f":"CONCATENATE($A$8,$A$6,\" + \",$C59)","v":"uj + 3"},{"$f":"$S$8*$S$6+$C59","v":33},{"$f":"CONCATENATE($A$8,$A$6,\" + \",$C59)","v":"uj + 3"},{"$f":"$S$8*$S$6+$C59","v":33},{"$f":"CONCATENATE($A$8,$A$6,\" + \",$C59)","v":"uj + 3"},{"$f":"$S$8*$S$6+$C59","v":33},{"$f":"CONCATENATE($A$8,$A$6,\" + \",$C59)","v":"uj + 3"},{"$f":"$S$8*$S$6+$C59","v":33},{"$f":"CONCATENATE($A$8,$A$6,\" + \",$C59)","v":"uj + 3"},{"$f":"$S$8*$S$6+$C59","v":33},{"$f":"CONCATENATE($A$8,$A$6,\" + \",$C59)","v":"uj + 3"},{"$f":"$S$8*$S$6+$C59","v":33},{"$f":"CONCATENATE($A$8,$A$6,\" + \",$C59)","v":"uj + 3"},{"$f":"$S$8*$S$6+$C59","v":33},{"$f":"CONCATENATE($A$8,$A$6,\" + \",$C59)","v":"uj + 3"},{"$f":"$S$8*$S$6+$C59","v":33},{"$f":"CONCATENATE($A$8,$A$6,\" + \",$C59)","v":"uj + 3"},{"$f":"$S$8*$S$6+$C59","v":33},{"$f":"CONCATENATE($A$8,$A$6,\" + \",$C59)","v":"uj + 3"},{"$f":"$S$8*$S$6+$C59","v":33},{"$f":"CONCATENATE($A$8,$A$6,\" + \",$C59)","v":"uj + 3"},{"$f":"$S$8*$S$6+$C59","v":33},{"$f":"CONCATENATE($A$8,$A$6,\" + \",$C59)","v":"uj + 3"},{"$f":"$S$8*$S$6+$C59","v":33},{"$f":"CONCATENATE($A$8,$A$6,\" + \",$C59)","v":"uj + 3"},{"$f":"$S$8*$S$6+$C59","v":33},"uj + 3",33]
[48,44,8,{"$f":"CONCATENATE($A$6,$A$5,\" - \",$C60)","v":"jf - 8"},{"$f":"$S$6*$S$5-$C60","v":7},{"$f":"CONCATENATE($A$8,$A$5,\" - \",\"4\",$A$4)","v":"uf - 4b"},{"$f":"$S$8*$S$5-4*$S$4","v":14},{"$f":"CONCATENATE($A$6,$A$5,\" - \",$C60)","v":"jf - 8"},{"$f":"$S$6*$S$5-$C60","v":7},{"$f":"CONCATENATE($A$6,$A$5,\" - \",$C60)","v":"jf - 8"},{"$f":"$S$6*$S$5-$C60","v":7},{"$f":"CONCATENATE($A$6,$A$5,\" - \",$C60)","v":"jf - 8"},{"$f":"$S$6*$S$5-$C60","v":7},{"$f":"CONCATENATE($A$6,$A$5,\" - \",$C60)","v":"jf - 8"},{"$f":"$S$6*$S$5-$C60","v":7},{"$f":"CONCATENATE($A$6,$A$5,\" - \",$C60)","v":"jf - 8"},{"$f":"$S$6*$S$5-$C60","v":7},{"$f":"CONCATENATE($A$6,$A$5,\" - \",$C60)","v":"jf - 8"},{"$f":"$S$6*$S$5-$C60","v":7},{"$f":"CONCATENATE($A$6,$A$5,\" - \",$C60)","v":"jf - 8"},{"$f":"$S$6*$S$5-$C60","v":7},{"$f":"CONCATENATE($A$6,$A$5,\" - \",$C60)","v":"jf - 8"},{"$f":"$S$6*$S$5-$C60","v":7},{"$f":"CONCATENATE($A$6,$A$5,\" - \",$C60)","v":"jf - 8"},{"$f":"$S$6*$S$5-$C60","v":7},{"$f":"CONCATENATE($A$6,$A$5,\" - \",$C60)","v":"jf - 8"},{"$f":"$S$6*$S$5-$C60","v":7},{"$f":"CONCATENATE($A$6,$A$5,\" - \",$C60)","v":"jf - 8"},{"$f":"$S$6*$S$5-$C60","v":7},{"$f":"CONCATENATE($A$6,$A$5,\" - \",$C60)","v":"jf - 8"},{"$f":"$S$6*$S$5-$C60","v":7},{"$f":"CONCATENATE($A$6,$A$5,\" - \",$C60)","v":"jf - 8"},{"$f":"$S$6*$S$5-$C60","v":7},{"$f":"CONCATENATE($A$6,$A$5,\" - \",$C60)","v":"jf - 8"},{"$f":"$S$6*$S$5-$C60","v":7},{"$f":"CONCATENATE($A$6,$A$5,\" - \",$C60)","v":"jf - 8"},{"$f":"$S$6*$S$5-$C60","v":7},{"$f":"CONCATENATE($A$6,$A$5,\" - \",$C60)","v":"jf - 8"},{"$f":"$S$6*$S$5-$C60","v":7},{"$f":"CONCATENATE($A$6,$A$5,\" - \",$C60)","v":"jf - 8"},{"$f":"$S$6*$S$5-$C60","v":7},{"$f":"CONCATENATE($A$6,$A$5,\" - \",$C60)","v":"jf - 8"},{"$f":"$S$6*$S$5-$C60","v":7},{"$f":"CONCATENATE($A$6,$A$5,\" - \",$C60)","v":"jf - 8"},{"$f":"$S$6*$S$5-$C60","v":7},{"$f":"CONCATENATE($A$6,$A$5,\" - \",$C60)","v":"jf - 8"},{"$f":"$S$6*$S$5-$C60","v":7},{"$f":"CONCATENATE($A$6,$A$5,\" - \",$C60)","v":"jf - 8"},{"$f":"$S$6*$S$5-$C60","v":7},{"$f":"CONCATENATE($A$6,$A$5,\" - \",$C60)","v":"jf - 8"},{"$f":"$S$6*$S$5-$C60","v":7},{"$f":"CONCATENATE($A$6,$A$5,\" - \",$C60)","v":"jf - 8"},{"$f":"$S$6*$S$5-$C60","v":7},"jf - 8",7]
[49,6,5,{"$f":"CONCATENATE($A$7,$A$4,\" + \",$C61)","v":"tb + 5"},{"$f":"$S$7*$S$4+$C61","v":9},{"$f":"CONCATENATE($A$7,$A$4,\" + \",$C61)","v":"tb + 5"},{"$f":"$S$7*$S$4+$C61","v":9},{"$f":"CONCATENATE($A$7,$A$4,\" + \",$C61)","v":"tb + 5"},{"$f":"$S$7*$S$4+$C61","v":9},{"$f":"CONCATENATE($A$7,$A$4,\" + \",$C61)","v":"tb + 5"},{"$f":"$S$7*$S$4+$C61","v":9},{"$f":"CONCATENATE($A$7,$A$4,\" + \",$C61)","v":"tb + 5"},{"$f":"$S$7*$S$4+$C61","v":9},{"$f":"CONCATENATE($A$7,$A$4,\" + \",$C61)","v":"tb + 5"},{"$f":"$S$7*$S$4+$C61","v":9},{"$f":"CONCATENATE($A$7,$A$4,\" + \",$C61)","v":"tb + 5"},{"$f":"$S$7*$S$4+$C61","v":9},{"$f":"CONCATENATE($A$7,$A$4,\" + \",$C61)","v":"tb + 5"},{"$f":"$S$7*$S$4+$C61","v":9},{"$f":"CONCATENATE($A$7,$A$4,\" + \",$C61)","v":"tb + 5"},{"$f":"$S$7*$S$4+$C61","v":9},{"$f":"CONCATENATE($A$7,$A$4,\" + \",$C61)","v":"tb + 5"},{"$f":"$S$7*$S$4+$C61","v":9},{"$f":"CONCATENATE($A$7,$A$4,\" + \",$C61)","v":"tb + 5"},{"$f":"$S$7*$S$4+$C61","v":9},{"$f":"CONCATENATE($A$7,$A$4,\" + \",$C61)","v":"tb + 5"},{"$f":"$S$7*$S$4+$C61","v":9},{"$f":"CONCATENATE($A$7,$A$4,\" + \",$C61)","v":"tb + 5"},{"$f":"$S$7*$S$4+$C61","v":9},{"$f":"CONCATENATE($A$7,$A$4,\" + \",$C61)","v":"tb + 5"},{"$f":"$S$7*$S$4+$C61","v":9},{"$f":"CONCATENATE($A$7,$A$4,\" + \",$C61)","v":"tb + 5"},{"$f":"$S$7*$S$4+$C61","v":9},{"$f":"CONCATENATE($A$7,$A$4,\" + \",$C61)","v":"tb + 5"},{"$f":"$S$7*$S$4+$C61","v":9},{"$f":"CONCATENATE($A$7,$A$4,\" + \",$C61)","v":"tb + 5"},{"$f":"$S$7*$S$4+$C61","v":9},{"$f":"CONCATENATE($A$7,$A$4,\" + \",$C61)","v":"tb + 5"},{"$f":"$S$7*$S$4+$C61","v":9},{"$f":"CONCATENATE($A$7,$A$4,\" + \",$C61)","v":"tb + 5"},{"$f":"$S$7*$S$4+$C61","v":9},{"$f":"CONCATENATE($A$7,$A$4,\" + \",$C61)","v":"tb + 5"},{"$f":"$S$7*$S$4+$C61","v":9},{"$f":"CONCATENATE($A$7,$A$4,\" + \",$C61)","v":"tb + 5"},{"$f":"$S$7*$S$4+$C61","v":9},{"$f":"CONCATENATE($A$7,$A$4,\" + \",$C61)","v":"tb + 5"},{"$f":"$S$7*$S$4+$C61","v":9},{"$f":"CONCATENATE($A$7,$A$4,\" + \",$C61)","v":"tb + 5"},{"$f":"$S$7*$S$4+$C61","v":9},{"$f":"CONCATENATE($A$7,$A$4,\" + \",$C61)","v":"tb + 5"},{"$f":"$S$7*$S$4+$C61","v":9},{"$f":"CONCATENATE($A$7,$A$4,\" + \",$C61)","v":"tb + 5"},{"$f":"$S$7*$S$4+$C61","v":9},"tb + 5",9]
[50,42,6,{"$f":"CONCATENATE($A$4,$A$5,$A$6)","v":"bfj"},{"$f":"$S$4*$S$5*$S$6","v":15},{"$f":"CONCATENATE($A$4,$A$5,$A$6)","v":"bfj"},{"$f":"$S$4*$S$5*$S$6","v":15},{"$f":"CONCATENATE($A$4,$A$5,$A$6)","v":"bfj"},{"$f":"$S$4*$S$5*$S$6","v":15},{"$f":"CONCATENATE($A$4,$A$5,$A$6)","v":"bfj"},{"$f":"$S$4*$S$5*$S$6","v":15},{"$f":"CONCATENATE($A$4,$A$5,$A$6)","v":"bfj"},{"$f":"$S$4*$S$5*$S$6","v":15},{"$f":"CONCATENATE($A$4,$A$5,$A$6)","v":"bfj"},{"$f":"$S$4*$S$5*$S$6","v":15},{"$f":"CONCATENATE($A$4,$A$5,$A$6)","v":"bfj"},{"$f":"$S$4*$S$5*$S$6","v":15},{"$f":"CONCATENATE($A$4,$A$5,$A$6)","v":"bfj"},{"$f":"$S$4*$S$5*$S$6","v":15},{"$f":"CONCATENATE($A$4,$A$5,$A$6)","v":"bfj"},{"$f":"$S$4*$S$5*$S$6","v":15},{"$f":"CONCATENATE($A$4,$A$5,$A$6)","v":"bfj"},{"$f":"$S$4*$S$5*$S$6","v":15},{"$f":"CONCATENATE($A$4,$A$5,$A$6)","v":"bfj"},{"$f":"$S$4*$S$5*$S$6","v":15},{"$f":"CONCATENATE($A$4,$A$5,$A$6)","v":"bfj"},{"$f":"$S$4*$S$5*$S$6","v":15},{"$f":"CONCATENATE($A$4,$A$5,$A$6)","v":"bfj"},{"$f":"$S$4*$S$5*$S$6","v":15},{"$f":"CONCATENATE($A$4,$A$5,$A$6)","v":"bfj"},{"$f":"$S$4*$S$5*$S$6","v":15},{"$f":"CONCATENATE($A$4,$A$5,$A$6)","v":"bfj"},{"$f":"$S$4*$S$5*$S$6","v":15},{"$f":"CONCATENATE($A$4,$A$5,$A$6)","v":"bfj"},{"$f":"$S$4*$S$5*$S$6","v":15},{"$f":"CONCATENATE($A$4,$A$5,$A$6)","v":"bfj"},{"$f":"$S$4*$S$5*$S$6","v":15},{"$f":"CONCATENATE($A$4,$A$5,$A$6)","v":"bfj"},{"$f":"$S$4*$S$5*$S$6","v":15},{"$f":"CONCATENATE($A$4,$A$5,$A$6)","v":"bfj"},{"$f":"$S$4*$S$5*$S$6","v":15},{"$f":"CONCATENATE($A$4,$A$5,$A$6)","v":"bfj"},{"$f":"$S$4*$S$5*$S$6","v":15},{"$f":"CONCATENATE($A$4,$A$5,$A$6)","v":"bfj"},{"$f":"$S$4*$S$5*$S$6","v":15},{"$f":"CONCATENATE($A$4,$A$5,$A$6)","v":"bfj"},{"$f":"$S$4*$S$5*$S$6","v":15},{"$f":"CONCATENATE($A$4,$A$5,$A$6)","v":"bfj"},{"$f":"$S$4*$S$5*$S$6","v":15},{"$f":"CONCATENATE($A$4,$A$5,$A$6)","v":"bfj"},{"$f":"$S$4*$S$5*$S$6","v":15},{"$f":"CONCATENATE($A$4,$A$5,$A$6)","v":"bfj"},{"$f":"$S$4*$S$5*$S$6","v":15},"bfj",15]
[51,20,8,{"$f":"CONCATENATE($A$4,$A$5,$A$7)","v":"bft"},{"$f":"$S$4*$S$5*$S$7","v":12},{"$f":"CONCATENATE($A$4,$A$5,$A$7)","v":"bft"},{"$f":"$S$4*$S$5*$S$7","v":12},{"$f":"CONCATENATE($A$4,$A$5,$A$7)","v":"bft"},{"$f":"$S$4*$S$5*$S$7","v":12},{"$f":"CONCATENATE($A$4,$A$5,$A$7)","v":"bft"},{"$f":"$S$4*$S$5*$S$7","v":12},{"$f":"CONCATENATE($A$4,$A$5,$A$7)","v":"bft"},{"$f":"$S$4*$S$5*$S$7","v":12},{"$f":"CONCATENATE($A$4,$A$5,$A$7)","v":"bft"},{"$f":"$S$4*$S$5*$S$7","v":12},{"$f":"CONCATENATE($A$4,$A$5,$A$7)","v":"bft"},{"$f":"$S$4*$S$5*$S$7","v":12},{"$f":"CONCATENATE($A$4,$A$5,$A$7)","v":"bft"},{"$f":"$S$4*$S$5*$S$7","v":12},{"$f":"CONCATENATE($A$4,$A$5,$A$7)","v":"bft"},{"$f":"$S$4*$S$5*$S$7","v":12},{"$f":"CONCATENATE($A$4,$A$5,$A$7)","v":"bft"},{"$f":"$S$4*$S$5*$S$7","v":12},{"$f":"CONCATENATE($A$4,$A$5,$A$7)","v":"bft"},{"$f":"$S$4*$S$5*$S$7","v":12},{"$f":"CONCATENATE($A$4,$A$5,$A$7)","v":"bft"},{"$f":"$S$4*$S$5*$S$7","v":12},{"$f":"CONCATENATE($A$4,$A$5,$A$7)","v":"bft"},{"$f":"$S$4*$S$5*$S$7","v":12},{"$f":"CONCATENATE($A$4,$A$5,$A$7)","v":"bft"},{"$f":"$S$4*$S$5*$S$7","v":12},{"$f":"CONCATENATE($A$4,$A$5,$A$7)","v":"bft"},{"$f":"$S$4*$S$5*$S$7","v":12},{"$f":"CONCATENATE($A$4,$A$5,$A$7)","v":"bft"},{"$f":"$S$4*$S$5*$S$7","v":12},{"$f":"CONCATENATE($A$4,$A$5,$A$7)","v":"bft"},{"$f":"$S$4*$S$5*$S$7","v":12},{"$f":"CONCATENATE($A$4,$A$5,$A$7)","v":"bft"},{"$f":"$S$4*$S$5*$S$7","v":12},{"$f":"CONCATENATE($A$4,$A$5,$A$7)","v":"bft"},{"$f":"$S$4*$S$5*$S$7","v":12},{"$f":"CONCATENATE($A$4,$A$5,$A$7)","v":"bft"},{"$f":"$S$4*$S$5*$S$7","v":12},{"$f":"CONCATENATE($A$4,$A$5,$A$7)","v":"bft"},{"$f":"$S$4*$S$5*$S$7","v":12},{"$f":"CONCATENATE($A$4,$A$5,$A$7)","v":"bft"},{"$f":"$S$4*$S$5*$S$7","v":12},{"$f":"CONCATENATE($A$4,$A$5,$A$7)","v":"bft"},{"$f":"$S$4*$S$5*$S$7","v":12},{"$f":"CONCATENATE($A$4,$A$5,$A$7)","v":"bft"},{"$f":"$S$4*$S$5*$S$7","v":12},{"$f":"CONCATENATE($A$4,$A$5,$A$7)","v":"bft"},{"$f":"$S$4*$S$5*$S$7","v":12},"bft",12]
[52,16,9,{"$f":"CONCATENATE($A$4,$A$6,$A$8)","v":"bju"},{"$f":"$S$4*$S$6*$S$8","v":30},{"$f":"CONCATENATE($A$4,$A$6,$A$8)","v":"bju"},{"$f":"$S$4*$S$6*$S$8","v":30},{"$f":"CONCATENATE($A$4,$A$6,$A$8)","v":"bju"},{"$f":"$S$4*$S$6*$S$8","v":30},{"$f":"CONCATENATE($A$4,$A$6,$A$8)","v":"bju"},{"$f":"$S$4*$S$6*$S$8","v":30},{"$f":"CONCATENATE($A$4,$A$6,$A$8)","v":"bju"},{"$f":"$S$4*$S$6*$S$8","v":30},{"$f":"CONCATENATE($A$4,$A$6,$A$8)","v":"bju"},{"$f":"$S$4*$S$6*$S$8","v":30},{"$f":"CONCATENATE($A$4,$A$6,$A$8)","v":"bju"},{"$f":"$S$4*$S$6*$S$8","v":30},{"$f":"CONCATENATE($A$4,$A$6,$A$8)","v":"bju"},{"$f":"$S$4*$S$6*$S$8","v":30},{"$f":"CONCATENATE($A$4,$A$6,$A$8)","v":"bju"},{"$f":"$S$4*$S$6*$S$8","v":30},{"$f":"CONCATENATE($A$4,$A$6,$A$8)","v":"bju"},{"$f":"$S$4*$S$6*$S$8","v":30},{"$f":"CONCATENATE($A$4,$A$6,$A$8)","v":"bju"},{"$f":"$S$4*$S$6*$S$8","v":30},{"$f":"CONCATENATE($A$4,$A$6,$A$8)","v":"bju"},{"$f":"$S$4*$S$6*$S$8","v":30},{"$f":"CONCATENATE($A$4,$A$6,$A$8)","v":"bju"},{"$f":"$S$4*$S$6*$S$8","v":30},{"$f":"CONCATENATE($A$4,$A$6,$A$8)","v":"bju"},{"$f":"$S$4*$S$6*$S$8","v":30},{"$f":"CONCATENATE($A$4,$A$6,$A$8)","v":"bju"},{"$f":"$S$4*$S$6*$S$8","v":30},{"$f":"CONCATENATE($A$4,$A$6,$A$8)","v":"bju"},{"$f":"$S$4*$S$6*$S$8","v":30},{"$f":"CONCATENATE($A$4,$A$6,$A$8)","v":"bju"},{"$f":"$S$4*$S$6*$S$8","v":30},{"$f":"CONCATENATE($A$4,$A$6,$A$8)","v":"bju"},{"$f":"$S$4*$S$6*$S$8","v":30},{"$f":"CONCATENATE($A$4,$A$6,$A$8)","v":"bju"},{"$f":"$S$4*$S$6*$S$8","v":30},{"$f":"CONCATENATE($A$4,$A$6,$A$8)","v":"bju"},{"$f":"$S$4*$S$6*$S$8","v":30},{"$f":"CONCATENATE($A$4,$A$6,$A$8)","v":"bju"},{"$f":"$S$4*$S$6*$S$8","v":30},{"$f":"CONCATENATE($A$4,$A$6,$A$8)","v":"bju"},{"$f":"$S$4*$S$6*$S$8","v":30},{"$f":"CONCATENATE($A$4,$A$6,$A$8)","v":"bju"},{"$f":"$S$4*$S$6*$S$8","v":30},{"$f":"CONCATENATE($A$4,$A$6,$A$8)","v":"bju"},{"$f":"$S$4*$S$6*$S$8","v":30},{"$f":"CONCATENATE($A$4,$A$6,$A$8)","v":"bju"},{"$f":"$S$4*$S$6*$S$8","v":30},"bju",30]
[53,18,8,{"$f":"CONCATENATE($A$5,$A$7,$A$6)","v":"ftj"},{"$f":"$S$5*$S$7*$S$6","v":60},{"$f":"CONCATENATE($A$5,$A$7,$A$6)","v":"ftj"},{"$f":"$S$5*$S$7*$S$6","v":60},{"$f":"CONCATENATE($A$5,$A$7,$A$6)","v":"ftj"},{"$f":"$S$5*$S$7*$S$6","v":60},{"$f":"CONCATENATE($A$5,$A$7,$A$6)","v":"ftj"},{"$f":"$S$5*$S$7*$S$6","v":60},{"$f":"CONCATENATE($A$5,$A$7,$A$6)","v":"ftj"},{"$f":"$S$5*$S$7*$S$6","v":60},{"$f":"CONCATENATE($A$5,$A$7,$A$6)","v":"ftj"},{"$f":"$S$5*$S$7*$S$6","v":60},{"$f":"CONCATENATE($A$5,$A$7,$A$6)","v":"ftj"},{"$f":"$S$5*$S$7*$S$6","v":60},{"$f":"CONCATENATE($A$5,$A$7,$A$6)","v":"ftj"},{"$f":"$S$5*$S$7*$S$6","v":60},{"$f":"CONCATENATE($A$5,$A$7,$A$6)","v":"ftj"},{"$f":"$S$5*$S$7*$S$6","v":60},{"$f":"CONCATENATE($A$5,$A$7,$A$6)","v":"ftj"},{"$f":"$S$5*$S$7*$S$6","v":60},{"$f":"CONCATENATE($A$5,$A$7,$A$6)","v":"ftj"},{"$f":"$S$5*$S$7*$S$6","v":60},{"$f":"CONCATENATE($A$5,$A$7,$A$6)","v":"ftj"},{"$f":"$S$5*$S$7*$S$6","v":60},{"$f":"CONCATENATE($A$5,$A$7,$A$6)","v":"ftj"},{"$f":"$S$5*$S$7*$S$6","v":60},{"$f":"CONCATENATE($A$5,$A$7,$A$6)","v":"ftj"},{"$f":"$S$5*$S$7*$S$6","v":60},{"$f":"CONCATENATE($A$5,$A$7,$A$6)","v":"ftj"},{"$f":"$S$5*$S$7*$S$6","v":60},{"$f":"CONCATENATE($A$5,$A$7,$A$6)","v":"ftj"},{"$f":"$S$5*$S$7*$S$6","v":60},{"$f":"CONCATENATE($A$5,$A$7,$A$6)","v":"ftj"},{"$f":"$S$5*$S$7*$S$6","v":60},{"$f":"CONCATENATE($A$5,$A$7,$A$6)","v":"ftj"},{"$f":"$S$5*$S$7*$S$6","v":60},{"$f":"CONCATENATE($A$5,$A$7,$A$6)","v":"ftj"},{"$f":"$S$5*$S$7*$S$6","v":60},{"$f":"CONCATENATE($A$5,$A$7,$A$6)","v":"ftj"},{"$f":"$S$5*$S$7*$S$6","v":60},{"$f":"CONCATENATE($A$5,$A$7,$A$6)","v":"ftj"},{"$f":"$S$5*$S$7*$S$6","v":60},{"$f":"CONCATENATE($A$5,$A$7,$A$6)","v":"ftj"},{"$f":"$S$5*$S$7*$S$6","v":60},{"$f":"CONCATENATE($A$5,$A$7,$A$6)","v":"ftj"},{"$f":"$S$5*$S$7*$S$6","v":60},{"$f":"CONCATENATE($A$5,$A$7,$A$6)","v":"ftj"},{"$f":"$S$5*$S$7*$S$6","v":60},{"$f":"CONCATENATE($A$5,$A$7,$A$6)","v":"ftj"},{"$f":"$S$5*$S$7*$S$6","v":60},"ftj",60]
[54,40,8,{"$f":"CONCATENATE($A$4,$A$7,$A$8)","v":"btu"},{"$f":"$S$4*$S$7*$S$8","v":24},{"$f":"CONCATENATE($A$4,$A$7,$A$8)","v":"btu"},{"$f":"$S$4*$S$7*$S$8","v":24},{"$f":"CONCATENATE($A$4,$A$7,$A$8)","v":"btu"},{"$f":"$S$4*$S$7*$S$8","v":24},{"$f":"CONCATENATE($A$4,$A$7,$A$8)","v":"btu"},{"$f":"$S$4*$S$7*$S$8","v":24},{"$f":"CONCATENATE($A$4,$A$7,$A$8)","v":"btu"},{"$f":"$S$4*$S$7*$S$8","v":24},{"$f":"CONCATENATE($A$4,$A$7,$A$8)","v":"btu"},{"$f":"$S$4*$S$7*$S$8","v":24},{"$f":"CONCATENATE($A$4,$A$7,$A$8)","v":"btu"},{"$f":"$S$4*$S$7*$S$8","v":24},{"$f":"CONCATENATE($A$4,$A$7,$A$8)","v":"btu"},{"$f":"$S$4*$S$7*$S$8","v":24},{"$f":"CONCATENATE($A$4,$A$7,$A$8)","v":"btu"},{"$f":"$S$4*$S$7*$S$8","v":24},{"$f":"CONCATENATE($A$4,$A$7,$A$8)","v":"btu"},{"$f":"$S$4*$S$7*$S$8","v":24},{"$f":"CONCATENATE($A$4,$A$7,$A$8)","v":"btu"},{"$f":"$S$4*$S$7*$S$8","v":24},{"$f":"CONCATENATE($A$4,$A$7,$A$8)","v":"btu"},{"$f":"$S$4*$S$7*$S$8","v":24},{"$f":"CONCATENATE($A$4,$A$7,$A$8)","v":"btu"},{"$f":"$S$4*$S$7*$S$8","v":24},{"$f":"CONCATENATE($A$4,$A$7,$A$8)","v":"btu"},{"$f":"$S$4*$S$7*$S$8","v":24},{"$f":"CONCATENATE($A$4,$A$7,$A$8)","v":"btu"},{"$f":"$S$4*$S$7*$S$8","v":24},{"$f":"CONCATENATE($A$4,$A$7,$A$8)","v":"btu"},{"$f":"$S$4*$S$7*$S$8","v":24},{"$f":"CONCATENATE($A$4,$A$7,$A$8)","v":"btu"},{"$f":"$S$4*$S$7*$S$8","v":24},{"$f":"CONCATENATE($A$4,$A$7,$A$8)","v":"btu"},{"$f":"$S$4*$S$7*$S$8","v":24},{"$f":"CONCATENATE($A$4,$A$7,$A$8)","v":"btu"},{"$f":"$S$4*$S$7*$S$8","v":24},{"$f":"CONCATENATE($A$4,$A$7,$A$8)","v":"btu"},{"$f":"$S$4*$S$7*$S$8","v":24},{"$f":"CONCATENATE($A$4,$A$7,$A$8)","v":"btu"},{"$f":"$S$4*$S$7*$S$8","v":24},{"$f":"CONCATENATE($A$4,$A$7,$A$8)","v":"btu"},{"$f":"$S$4*$S$7*$S$8","v":24},{"$f":"CONCATENATE($A$4,$A$7,$A$8)","v":"btu"},{"$f":"$S$4*$S$7*$S$8","v":24},{"$f":"CONCATENATE($A$4,$A$7,$A$8)","v":"btu"},{"$f":"$S$4*$S$7*$S$8","v":24},{"$f":"CONCATENATE($A$4,$A$7,$A$8)","v":"btu"},{"$f":"$S$4*$S$7*$S$8","v":24},"btu",24]
[55,42,8,{"$f":"CONCATENATE($A$7,$A$5,$A$6)","v":"tfj"},{"$f":"$S$7*$S$5*$S$6","v":60},{"$f":"CONCATENATE($A$7,$A$5,$A$6)","v":"tfj"},{"$f":"$S$7*$S$5*$S$6","v":60},{"$f":"CONCATENATE($A$7,$A$5,$A$6)","v":"tfj"},{"$f":"$S$7*$S$5*$S$6","v":60},{"$f":"CONCATENATE($A$7,$A$5,$A$6)","v":"tfj"},{"$f":"$S$7*$S$5*$S$6","v":60},{"$f":"CONCATENATE($A$7,$A$5,$A$6)","v":"tfj"},{"$f":"$S$7*$S$5*$S$6","v":60},{"$f":"CONCATENATE($A$7,$A$5,$A$6)","v":"tfj"},{"$f":"$S$7*$S$5*$S$6","v":60},{"$f":"CONCATENATE($A$7,$A$5,$A$6)","v":"tfj"},{"$f":"$S$7*$S$5*$S$6","v":60},{"$f":"CONCATENATE($A$7,$A$5,$A$6)","v":"tfj"},{"$f":"$S$7*$S$5*$S$6","v":60},{"$f":"CONCATENATE($A$7,$A$5,$A$6)","v":"tfj"},{"$f":"$S$7*$S$5*$S$6","v":60},{"$f":"CONCATENATE($A$7,$A$5,$A$6)","v":"tfj"},{"$f":"$S$7*$S$5*$S$6","v":60},{"$f":"CONCATENATE($A$7,$A$5,$A$6)","v":"tfj"},{"$f":"$S$7*$S$5*$S$6","v":60},{"$f":"CONCATENATE($A$7,$A$5,$A$6)","v":"tfj"},{"$f":"$S$7*$S$5*$S$6","v":60},{"$f":"CONCATENATE($A$7,$A$5,$A$6)","v":"tfj"},{"$f":"$S$7*$S$5*$S$6","v":60},{"$f":"CONCATENATE($A$7,$A$5,$A$6)","v":"tfj"},{"$f":"$S$7*$S$5*$S$6","v":60},{"$f":"CONCATENATE($A$7,$A$5,$A$6)","v":"tfj"},{"$f":"$S$7*$S$5*$S$6","v":60},{"$f":"CONCATENATE($A$7,$A$5,$A$6)","v":"tfj"},{"$f":"$S$7*$S$5*$S$6","v":60},{"$f":"CONCATENATE($A$7,$A$5,$A$6)","v":"tfj"},{"$f":"$S$7*$S$5*$S$6","v":60},{"$f":"CONCATENATE($A$7,$A$5,$A$6)","v":"tfj"},{"$f":"$S$7*$S$5*$S$6","v":60},{"$f":"CONCATENATE($A$7,$A$5,$A$6)","v":"tfj"},{"$f":"$S$7*$S$5*$S$6","v":60},{"$f":"CONCATENATE($A$7,$A$5,$A$6)","v":"tfj"},{"$f":"$S$7*$S$5*$S$6","v":60},{"$f":"CONCATENATE($A$7,$A$5,$A$6)","v":"tfj"},{"$f":"$S$7*$S$5*$S$6","v":60},{"$f":"CONCATENATE($A$7,$A$5,$A$6)","v":"tfj"},{"$f":"$S$7*$S$5*$S$6","v":60},{"$f":"CONCATENATE($A$7,$A$5,$A$6)","v":"tfj"},{"$f":"$S$7*$S$5*$S$6","v":60},{"$f":"CONCATENATE($A$7,$A$5,$A$6)","v":"tfj"},{"$f":"$S$7*$S$5*$S$6","v":60},{"$f":"CONCATENATE($A$7,$A$5,$A$6)","v":"tfj"},{"$f":"$S$7*$S$5*$S$6","v":60},"tfj",60]
[56,22,6,{"$f":"CONCATENATE($A$6,$A$4,$A$5)","v":"jbf"},{"$f":"$S$6*$S$4*$S$5","v":15},{"$f":"CONCATENATE($A$6,$A$4,$A$5)","v":"jbf"},{"$f":"$S$6*$S$4*$S$5","v":15},{"$f":"CONCATENATE($A$6,$A$4,$A$5)","v":"jbf"},{"$f":"$S$6*$S$4*$S$5","v":15},{"$f":"CONCATENATE($A$6,$A$4,$A$5)","v":"jbf"},{"$f":"$S$6*$S$4*$S$5","v":15},{"$f":"CONCATENATE($A$6,$A$4,$A$5)","v":"jbf"},{"$f":"$S$6*$S$4*$S$5","v":15},{"$f":"CONCATENATE($A$6,$A$4,$A$5)","v":"jbf"},{"$f":"$S$6*$S$4*$S$5","v":15},{"$f":"CONCATENATE($A$6,$A$4,$A$5)","v":"jbf"},{"$f":"$S$6*$S$4*$S$5","v":15},{"$f":"CONCATENATE($A$6,$A$4,$A$5)","v":"jbf"},{"$f":"$S$6*$S$4*$S$5","v":15},{"$f":"CONCATENATE($A$6,$A$4,$A$5)","v":"jbf"},{"$f":"$S$6*$S$4*$S$5","v":15},{"$f":"CONCATENATE($A$6,$A$4,$A$5)","v":"jbf"},{"$f":"$S$6*$S$4*$S$5","v":15},{"$f":"CONCATENATE($A$6,$A$4,$A$5)","v":"jbf"},{"$f":"$S$6*$S$4*$S$5","v":15},{"$f":"CONCATENATE($A$6,$A$4,$A$5)","v":"jbf"},{"$f":"$S$6*$S$4*$S$5","v":15},{"$f":"CONCATENATE($A$6,$A$4,$A$5)","v":"jbf"},{"$f":"$S$6*$S$4*$S$5","v":15},{"$f":"CONCATENATE($A$6,$A$4,$A$5)","v":"jbf"},{"$f":"$S$6*$S$4*$S$5","v":15},{"$f":"CONCATENATE($A$6,$A$4,$A$5)","v":"jbf"},{"$f":"$S$6*$S$4*$S$5","v":15},{"$f":"CONCATENATE($A$6,$A$4,$A$5)","v":"jbf"},{"$f":"$S$6*$S$4*$S$5","v":15},{"$f":"CONCATENATE($A$6,$A$4,$A$5)","v":"jbf"},{"$f":"$S$6*$S$4*$S$5","v":15},{"$f":"CONCATENATE($A$6,$A$4,$A$5)","v":"jbf"},{"$f":"$S$6*$S$4*$S$5","v":15},{"$f":"CONCATENATE($A$6,$A$4,$A$5)","v":"jbf"},{"$f":"$S$6*$S$4*$S$5","v":15},{"$f":"CONCATENATE($A$6,$A$4,$A$5)","v":"jbf"},{"$f":"$S$6*$S$4*$S$5","v":15},{"$f":"CONCATENATE($A$6,$A$4,$A$5)","v":"jbf"},{"$f":"$S$6*$S$4*$S$5","v":15},{"$f":"CONCATENATE($A$6,$A$4,$A$5)","v":"jbf"},{"$f":"$S$6*$S$4*$S$5","v":15},{"$f":"CONCATENATE($A$6,$A$4,$A$5)","v":"jbf"},{"$f":"$S$6*$S$4*$S$5","v":15},{"$f":"CONCATENATE($A$6,$A$4,$A$5)","v":"jbf"},{"$f":"$S$6*$S$4*$S$5","v":15},{"$f":"CONCATENATE($A$6,$A$4,$A$5)","v":"jbf"},{"$f":"$S$6*$S$4*$S$5","v":15},"jbf",15]
[57,22,7,{"$f":"CONCATENATE($A$4,$A$5,\" + \",$A$6,$A$7)","v":"bf + jt"},{"$f":"$S$4*$S$5+$S$6*$S$7","v":23},{"$f":"CONCATENATE($A$4,$A$5,\" + \",$A$6,$A$7)","v":"bf + jt"},{"$f":"$S$4*$S$5+$S$6*$S$7","v":23},{"$f":"CONCATENATE($A$4,$A$5,\" + \",$A$6,$A$7)","v":"bf + jt"},{"$f":"$S$4*$S$5+$S$6*$S$7","v":23},{"$f":"CONCATENATE($A$4,$A$5,\" + \",$A$6,$A$7)","v":"bf + jt"},{"$f":"$S$4*$S$5+$S$6*$S$7","v":23},{"$f":"CONCATENATE($A$4,$A$5,\" + \",$A$6,$A$7)","v":"bf + jt"},{"$f":"$S$4*$S$5+$S$6*$S$7","v":23},{"$f":"CONCATENATE($A$4,$A$5,\" + \",$A$6,$A$7)","v":"bf + jt"},{"$f":"$S$4*$S$5+$S$6*$S$7","v":23},{"$f":"CONCATENATE($A$4,$A$5,\" + \",$A$6,$A$7)","v":"bf + jt"},{"$f":"$S$4*$S$5+$S$6*$S$7","v":23},{"$f":"CONCATENATE($A$4,$A$5,\" + \",$A$6,$A$7)","v":"bf + jt"},{"$f":"$S$4*$S$5+$S$6*$S$7","v":23},{"$f":"CONCATENATE($A$4,$A$5,\" + \",$A$6,$A$7)","v":"bf + jt"},{"$f":"$S$4*$S$5+$S$6*$S$7","v":23},{"$f":"CONCATENATE($A$4,$A$5,\" + \",$A$6,$A$7)","v":"bf + jt"},{"$f":"$S$4*$S$5+$S$6*$S$7","v":23},{"$f":"CONCATENATE($A$4,$A$5,\" + \",$A$6,$A$7)","v":"bf + jt"},{"$f":"$S$4*$S$5+$S$6*$S$7","v":23},{"$f":"CONCATENATE($A$4,$A$5,\" + \",$A$6,$A$7)","v":"bf + jt"},{"$f":"$S$4*$S$5+$S$6*$S$7","v":23},{"$f":"CONCATENATE($A$4,$A$5,\" + \",$A$6,$A$7)","v":"bf + jt"},{"$f":"$S$4*$S$5+$S$6*$S$7","v":23},{"$f":"CONCATENATE($A$4,$A$5,\" + \",$A$6,$A$7)","v":"bf + jt"},{"$f":"$S$4*$S$5+$S$6*$S$7","v":23},{"$f":"CONCATENATE($A$4,$A$5,\" + \",$A$6,$A$7)","v":"bf + jt"},{"$f":"$S$4*$S$5+$S$6*$S$7","v":23},{"$f":"CONCATENATE($A$4,$A$5,\" + \",$A$6,$A$7)","v":"bf + jt"},{"$f":"$S$4*$S$5+$S$6*$S$7","v":23},{"$f":"CONCATENATE($A$4,$A$5,\" + \",$A$6,$A$7)","v":"bf + jt"},{"$f":"$S$4*$S$5+$S$6*$S$7","v":23},{"$f":"CONCATENATE($A$4,$A$5,\" + \",$A$6,$A$7)","v":"bf + jt"},{"$f":"$S$4*$S$5+$S$6*$S$7","v":23},{"$f":"CONCATENATE($A$4,$A$5,\" + \",$A$6,$A$7)","v":"bf + jt"},{"$f":"$S$4*$S$5+$S$6*$S$7","v":23},{"$f":"CONCATENATE($A$4,$A$5,\" + \",$A$6,$A$7)","v":"bf + jt"},{"$f":"$S$4*$S$5+$S$6*$S$7","v":23},{"$f":"CONCATENATE($A$4,$A$5,\" + \",$A$6,$A$7)","v":"bf + jt"},{"$f":"$S$4*$S$5+$S$6*$S$7","v":23},{"$f":"CONCATENATE($A$4,$A$5,\" + \",$A$6,$A$7)","v":"bf + jt"},{"$f":"$S$4*$S$5+$S$6*$S$7","v":23},{"$f":"CONCATENATE($A$4,$A$5,\" + \",$A$6,$A$7)","v":"bf + jt"},{"$f":"$S$4*$S$5+$S$6*$S$7","v":23},{"$f":"CONCATENATE($A$4,$A$5,\" + \",$A$6,$A$7)","v":"bf + jt"},{"$f":"$S$4*$S$5+$S$6*$S$7","v":23},{"$f":"CONCATENATE($A$4,$A$5,\" + \",$A$6,$A$7)","v":"bf + jt"},{"$f":"$S$4*$S$5+$S$6*$S$7","v":23},"bf + jt",23]
[58,4,9,{"$f":"CONCATENATE($A$4,$A$6,\" + \",$A$6,$A$8)","v":"bj + ju"},{"$f":"$S$4*$S$6+$S$6*$S$8","v":35},{"$f":"CONCATENATE($A$4,$A$6,\" + \",$A$6,$A$8)","v":"bj + ju"},{"$f":"$S$4*$S$6+$S$6*$S$8","v":35},{"$f":"CONCATENATE($A$4,$A$6,\" + \",$A$6,$A$8)","v":"bj + ju"},{"$f":"$S$4*$S$6+$S$6*$S$8","v":35},{"$f":"CONCATENATE($A$4,$A$6,\" + \",$A$6,$A$8)","v":"bj + ju"},{"$f":"$S$4*$S$6+$S$6*$S$8","v":35},{"$f":"CONCATENATE($A$4,$A$6,\" + \",$A$6,$A$8)","v":"bj + ju"},{"$f":"$S$4*$S$6+$S$6*$S$8","v":35},{"$f":"CONCATENATE($A$4,$A$6,\" + \",$A$6,$A$8)","v":"bj + ju"},{"$f":"$S$4*$S$6+$S$6*$S$8","v":35},{"$f":"CONCATENATE($A$4,$A$6,\" + \",$A$6,$A$8)","v":"bj + ju"},{"$f":"$S$4*$S$6+$S$6*$S$8","v":35},{"$f":"CONCATENATE($A$4,$A$6,\" + \",$A$6,$A$8)","v":"bj + ju"},{"$f":"$S$4*$S$6+$S$6*$S$8","v":35},{"$f":"CONCATENATE($A$4,$A$6,\" + \",$A$6,$A$8)","v":"bj + ju"},{"$f":"$S$4*$S$6+$S$6*$S$8","v":35},{"$f":"CONCATENATE($A$4,$A$6,\" + \",$A$6,$A$8)","v":"bj + ju"},{"$f":"$S$4*$S$6+$S$6*$S$8","v":35},{"$f":"CONCATENATE($A$4,$A$6,\" + \",$A$6,$A$8)","v":"bj + ju"},{"$f":"$S$4*$S$6+$S$6*$S$8","v":35},{"$f":"CONCATENATE($A$4,$A$6,\" + \",$A$6,$A$8)","v":"bj + ju"},{"$f":"$S$4*$S$6+$S$6*$S$8","v":35},{"$f":"CONCATENATE($A$4,$A$6,\" + \",$A$6,$A$8)","v":"bj + ju"},{"$f":"$S$4*$S$6+$S$6*$S$8","v":35},{"$f":"CONCATENATE($A$4,$A$6,\" + \",$A$6,$A$8)","v":"bj + ju"},{"$f":"$S$4*$S$6+$S$6*$S$8","v":35},{"$f":"CONCATENATE($A$4,$A$6,\" + \",$A$6,$A$8)","v":"bj + ju"},{"$f":"$S$4*$S$6+$S$6*$S$8","v":35},{"$f":"CONCATENATE($A$4,$A$6,\" + \",$A$6,$A$8)","v":"bj + ju"},{"$f":"$S$4*$S$6+$S$6*$S$8","v":35},{"$f":"CONCATENATE($A$4,$A$6,\" + \",$A$6,$A$8)","v":"bj + ju"},{"$f":"$S$4*$S$6+$S$6*$S$8","v":35},{"$f":"CONCATENATE($A$4,$A$6,\" + \",$A$6,$A$8)","v":"bj + ju"},{"$f":"$S$4*$S$6+$S$6*$S$8","v":35},{"$f":"CONCATENATE($A$4,$A$6,\" + \",$A$6,$A$8)","v":"bj + ju"},{"$f":"$S$4*$S$6+$S$6*$S$8","v":35},{"$f":"CONCATENATE($A$4,$A$6,\" + \",$A$6,$A$8)","v":"bj + ju"},{"$f":"$S$4*$S$6+$S$6*$S$8","v":35},{"$f":"CONCATENATE($A$4,$A$6,\" + \",$A$6,$A$8)","v":"bj + ju"},{"$f":"$S$4*$S$6+$S$6*$S$8","v":35},{"$f":"CONCATENATE($A$4,$A$6,\" + \",$A$6,$A$8)","v":"bj + ju"},{"$f":"$S$4*$S$6+$S$6*$S$8","v":35},{"$f":"CONCATENATE($A$4,$A$6,\" + \",$A$6,$A$8)","v":"bj + ju"},{"$f":"$S$4*$S$6+$S$6*$S$8","v":35},{"$f":"CONCATENATE($A$4,$A$6,\" + \",$A$6,$A$8)","v":"bj + ju"},{"$f":"$S$4*$S$6+$S$6*$S$8","v":35},{"$f":"CONCATENATE($A$4,$A$6,\" + \",$A$6,$A$8)","v":"bj + ju"},{"$f":"$S$4*$S$6+$S$6*$S$8","v":35},"bj + ju",35]
[59,4,7,{"$f":"CONCATENATE($A$6,$A$7,\" + \",$A$5,$A$4)","v":"jt + fb"},{"$f":"$S$6*$S$7+$S$5*$S$4","v":23},{"$f":"CONCATENATE($A$6,$A$7,\" + \",$A$5,$A$4)","v":"jt + fb"},{"$f":"$S$6*$S$7+$S$5*$S$4","v":23},{"$f":"CONCATENATE($A$6,$A$7,\" + \",$A$5,$A$4)","v":"jt + fb"},{"$f":"$S$6*$S$7+$S$5*$S$4","v":23},{"$f":"CONCATENATE($A$6,$A$7,\" + \",$A$5,$A$4)","v":"jt + fb"},{"$f":"$S$6*$S$7+$S$5*$S$4","v":23},{"$f":"CONCATENATE($A$6,$A$7,\" + \",$A$5,$A$4)","v":"jt + fb"},{"$f":"$S$6*$S$7+$S$5*$S$4","v":23},{"$f":"CONCATENATE($A$6,$A$7,\" + \",$A$5,$A$4)","v":"jt + fb"},{"$f":"$S$6*$S$7+$S$5*$S$4","v":23},{"$f":"CONCATENATE($A$6,$A$7,\" + \",$A$5,$A$4)","v":"jt + fb"},{"$f":"$S$6*$S$7+$S$5*$S$4","v":23},{"$f":"CONCATENATE($A$6,$A$7,\" + \",$A$5,$A$4)","v":"jt + fb"},{"$f":"$S$6*$S$7+$S$5*$S$4","v":23},{"$f":"CONCATENATE($A$6,$A$7,\" + \",$A$5,$A$4)","v":"jt + fb"},{"$f":"$S$6*$S$7+$S$5*$S$4","v":23},{"$f":"CONCATENATE($A$6,$A$7,\" + \",$A$5,$A$4)","v":"jt + fb"},{"$f":"$S$6*$S$7+$S$5*$S$4","v":23},{"$f":"CONCATENATE($A$6,$A$7,\" + \",$A$5,$A$4)","v":"jt + fb"},{"$f":"$S$6*$S$7+$S$5*$S$4","v":23},{"$f":"CONCATENATE($A$6,$A$7,\" + \",$A$5,$A$4)","v":"jt + fb"},{"$f":"$S$6*$S$7+$S$5*$S$4","v":23},{"$f":"CONCATENATE($A$6,$A$7,\" + \",$A$5,$A$4)","v":"jt + fb"},{"$f":"$S$6*$S$7+$S$5*$S$4","v":23},{"$f":"CONCATENATE($A$6,$A$7,\" + \",$A$5,$A$4)","v":"jt + fb"},{"$f":"$S$6*$S$7+$S$5*$S$4","v":23},{"$f":"CONCATENATE($A$6,$A$7,\" + \",$A$5,$A$4)","v":"jt + fb"},{"$f":"$S$6*$S$7+$S$5*$S$4","v":23},{"$f":"CONCATENATE($A$6,$A$7,\" + \",$A$5,$A$4)","v":"jt + fb"},{"$f":"$S$6*$S$7+$S$5*$S$4","v":23},{"$f":"CONCATENATE($A$6,$A$7,\" + \",$A$5,$A$4)","v":"jt + fb"},{"$f":"$S$6*$S$7+$S$5*$S$4","v":23},{"$f":"CONCATENATE($A$6,$A$7,\" + \",$A$5,$A$4)","v":"jt + fb"},{"$f":"$S$6*$S$7+$S$5*$S$4","v":23},{"$f":"CONCATENATE($A$6,$A$7,\" + \",$A$5,$A$4)","v":"jt + fb"},{"$f":"$S$6*$S$7+$S$5*$S$4","v":23},{"$f":"CONCATENATE($A$6,$A$7,\" + \",$A$5,$A$4)","v":"jt + fb"},{"$f":"$S$6*$S$7+$S$5*$S$4","v":23},{"$f":"CONCATENATE($A$6,$A$7,\" + \",$A$5,$A$4)","v":"jt + fb"},{"$f":"$S$6*$S$7+$S$5*$S$4","v":23},{"$f":"CONCATENATE($A$6,$A$7,\" + \",$A$5,$A$4)","v":"jt + fb"},{"$f":"$S$6*$S$7+$S$5*$S$4","v":23},{"$f":"CONCATENATE($A$6,$A$7,\" + \",$A$5,$A$4)","v":"jt + fb"},{"$f":"$S$6*$S$7+$S$5*$S$4","v":23},{"$f":"CONCATENATE($A$6,$A$7,\" + \",$A$5,$A$4)","v":"jt + fb"},{"$f":"$S$6*$S$7+$S$5*$S$4","v":23},{"$f":"CONCATENATE($A$6,$A$7,\" + \",$A$5,$A$4)","v":"jt + fb"},{"$f":"$S$6*$S$7+$S$5*$S$4","v":23},"jt + fb",23]
[60,0,7,{"$f":"CONCATENATE($A$4,$A$8,\" + \",$A$4,$A$7)","v":"bu + bt"},{"$f":"$S$4*$S$8+$S$4*$S$7","v":10},{"$f":"CONCATENATE($A$4,$A$8,\" + \",$A$4,$A$7)","v":"bu + bt"},{"$f":"$S$4*$S$8+$S$4*$S$7","v":10},{"$f":"CONCATENATE($A$4,$A$8,\" + \",$A$4,$A$7)","v":"bu + bt"},{"$f":"$S$4*$S$8+$S$4*$S$7","v":10},{"$f":"CONCATENATE($A$4,$A$8,\" + \",$A$4,$A$7)","v":"bu + bt"},{"$f":"$S$4*$S$8+$S$4*$S$7","v":10},{"$f":"CONCATENATE($A$4,$A$8,\" + \",$A$4,$A$7)","v":"bu + bt"},{"$f":"$S$4*$S$8+$S$4*$S$7","v":10},{"$f":"CONCATENATE($A$4,$A$8,\" + \",$A$4,$A$7)","v":"bu + bt"},{"$f":"$S$4*$S$8+$S$4*$S$7","v":10},{"$f":"CONCATENATE($A$4,$A$8,\" + \",$A$4,$A$7)","v":"bu + bt"},{"$f":"$S$4*$S$8+$S$4*$S$7","v":10},{"$f":"CONCATENATE($A$4,$A$8,\" + \",$A$4,$A$7)","v":"bu + bt"},{"$f":"$S$4*$S$8+$S$4*$S$7","v":10},{"$f":"CONCATENATE($A$4,$A$8,\" + \",$A$4,$A$7)","v":"bu + bt"},{"$f":"$S$4*$S$8+$S$4*$S$7","v":10},{"$f":"CONCATENATE($A$4,$A$8,\" + \",$A$4,$A$7)","v":"bu + bt"},{"$f":"$S$4*$S$8+$S$4*$S$7","v":10},{"$f":"CONCATENATE($A$4,$A$8,\" + \",$A$4,$A$7)","v":"bu + bt"},{"$f":"$S$4*$S$8+$S$4*$S$7","v":10},{"$f":"CONCATENATE($A$4,$A$8,\" + \",$A$4,$A$7)","v":"bu + bt"},{"$f":"$S$4*$S$8+$S$4*$S$7","v":10},{"$f":"CONCATENATE($A$4,$A$8,\" + \",$A$4,$A$7)","v":"bu + bt"},{"$f":"$S$4*$S$8+$S$4*$S$7","v":10},{"$f":"CONCATENATE($A$4,$A$8,\" + \",$A$4,$A$7)","v":"bu + bt"},{"$f":"$S$4*$S$8+$S$4*$S$7","v":10},{"$f":"CONCATENATE($A$4,$A$8,\" + \",$A$4,$A$7)","v":"bu + bt"},{"$f":"$S$4*$S$8+$S$4*$S$7","v":10},{"$f":"CONCATENATE($A$4,$A$8,\" + \",$A$4,$A$7)","v":"bu + bt"},{"$f":"$S$4*$S$8+$S$4*$S$7","v":10},{"$f":"CONCATENATE($A$4,$A$8,\" + \",$A$4,$A$7)","v":"bu + bt"},{"$f":"$S$4*$S$8+$S$4*$S$7","v":10},{"$f":"CONCATENATE($A$4,$A$8,\" + \",$A$4,$A$7)","v":"bu + bt"},{"$f":"$S$4*$S$8+$S$4*$S$7","v":10},{"$f":"CONCATENATE($A$4,$A$8,\" + \",$A$4,$A$7)","v":"bu + bt"},{"$f":"$S$4*$S$8+$S$4*$S$7","v":10},{"$f":"CONCATENATE($A$4,$A$8,\" + \",$A$4,$A$7)","v":"bu + bt"},{"$f":"$S$4*$S$8+$S$4*$S$7","v":10},{"$f":"CONCATENATE($A$4,$A$8,\" + \",$A$4,$A$7)","v":"bu + bt"},{"$f":"$S$4*$S$8+$S$4*$S$7","v":10},{"$f":"CONCATENATE($A$4,$A$8,\" + \",$A$4,$A$7)","v":"bu + bt"},{"$f":"$S$4*$S$8+$S$4*$S$7","v":10},{"$f":"CONCATENATE($A$4,$A$8,\" + \",$A$4,$A$7)","v":"bu + bt"},{"$f":"$S$4*$S$8+$S$4*$S$7","v":10},{"$f":"CONCATENATE($A$4,$A$8,\" + \",$A$4,$A$7)","v":"bu + bt"},{"$f":"$S$4*$S$8+$S$4*$S$7","v":10},{"$f":"CONCATENATE($A$4,$A$8,\" + \",$A$4,$A$7)","v":"bu + bt"},{"$f":"$S$4*$S$8+$S$4*$S$7","v":10},"bu + bt",10]
[61,36,9,{"$f":"CONCATENATE($A$8,$A$5,\" + \",$A$8,$A$6)","v":"uf + uj"},{"$f":"$S$8*$S$5+$S$8*$S$6","v":48},{"$f":"CONCATENATE($A$8,$A$5,\" + \",$A$8,$A$6)","v":"uf + uj"},{"$f":"$S$8*$S$5+$S$8*$S$6","v":48},{"$f":"CONCATENATE($A$8,$A$5,\" + \",$A$8,$A$6)","v":"uf + uj"},{"$f":"$S$8*$S$5+$S$8*$S$6","v":48},{"$f":"CONCATENATE($A$8,$A$5,\" + \",$A$8,$A$6)","v":"uf + uj"},{"$f":"$S$8*$S$5+$S$8*$S$6","v":48},{"$f":"CONCATENATE($A$8,$A$5,\" + \",$A$8,$A$6)","v":"uf + uj"},{"$f":"$S$8*$S$5+$S$8*$S$6","v":48},{"$f":"CONCATENATE($A$8,$A$5,\" + \",$A$8,$A$6)","v":"uf + uj"},{"$f":"$S$8*$S$5+$S$8*$S$6","v":48},{"$f":"CONCATENATE($A$8,$A$5,\" + \",$A$8,$A$6)","v":"uf + uj"},{"$f":"$S$8*$S$5+$S$8*$S$6","v":48},{"$f":"CONCATENATE($A$8,$A$5,\" + \",$A$8,$A$6)","v":"uf + uj"},{"$f":"$S$8*$S$5+$S$8*$S$6","v":48},{"$f":"CONCATENATE($A$8,$A$5,\" + \",$A$8,$A$6)","v":"uf + uj"},{"$f":"$S$8*$S$5+$S$8*$S$6","v":48},{"$f":"CONCATENATE($A$8,$A$5,\" + \",$A$8,$A$6)","v":"uf + uj"},{"$f":"$S$8*$S$5+$S$8*$S$6","v":48},{"$f":"CONCATENATE($A$8,$A$5,\" + \",$A$8,$A$6)","v":"uf + uj"},{"$f":"$S$8*$S$5+$S$8*$S$6","v":48},{"$f":"CONCATENATE($A$8,$A$5,\" + \",$A$8,$A$6)","v":"uf + uj"},{"$f":"$S$8*$S$5+$S$8*$S$6","v":48},{"$f":"CONCATENATE($A$8,$A$5,\" + \",$A$8,$A$6)","v":"uf + uj"},{"$f":"$S$8*$S$5+$S$8*$S$6","v":48},{"$f":"CONCATENATE($A$8,$A$5,\" + \",$A$8,$A$6)","v":"uf + uj"},{"$f":"$S$8*$S$5+$S$8*$S$6","v":48},{"$f":"CONCATENATE($A$8,$A$5,\" + \",$A$8,$A$6)","v":"uf + uj"},{"$f":"$S$8*$S$5+$S$8*$S$6","v":48},{"$f":"CONCATENATE($A$8,$A$5,\" + \",$A$8,$A$6)","v":"uf + uj"},{"$f":"$S$8*$S$5+$S$8*$S$6","v":48},{"$f":"CONCATENATE($A$8,$A$5,\" + \",$A$8,$A$6)","v":"uf + uj"},{"$f":"$S$8*$S$5+$S$8*$S$6","v":48},{"$f":"CONCATENATE($A$8,$A$5,\" + \",$A$8,$A$6)","v":"uf + uj"},{"$f":"$S$8*$S$5+$S$8*$S$6","v":48},{"$f":"CONCATENATE($A$8,$A$5,\" + \",$A$8,$A$6)","v":"uf + uj"},{"$f":"$S$8*$S$5+$S$8*$S$6","v":48},{"$f":"CONCATENATE($A$8,$A$5,\" + \",$A$8,$A$6)","v":"uf + uj"},{"$f":"$S$8*$S$5+$S$8*$S$6","v":48},{"$f":"CONCATENATE($A$8,$A$5,\" + \",$A$8,$A$6)","v":"uf + uj"},{"$f":"$S$8*$S$5+$S$8*$S$6","v":48},{"$f":"CONCATENATE($A$8,$A$5,\" + \",$A$8,$A$6)","v":"uf + uj"},{"$f":"$S$8*$S$5+$S$8*$S$6","v":48},{"$f":"CONCATENATE($A$8,$A$5,\" + \",$A$8,$A$6)","v":"uf + uj"},{"$f":"$S$8*$S$5+$S$8*$S$6","v":48},{"$f":"CONCATENATE($A$8,$A$5,\" + \",$A$8,$A$6)","v":"uf + uj"},{"$f":"$S$8*$S$5+$S$8*$S$6","v":48},{"$f":"CONCATENATE($A$8,$A$5,\" + \",$A$8,$A$6)","v":"uf + uj"},{"$f":"$S$8*$S$5+$S$8*$S$6","v":48},"uf + uj",48]
[62,0,9,{"$f":"CONCATENATE($C62,\"(\",$A$4,\" + \",$C74,\")\")","v":"6(b + 9)"},{"$f":"$C62*($S$4+$C74)","v":60},{"$f":"CONCATENATE($C62,\"(\",$A$4,\" + \",$C74,\")\")","v":"6(b + 9)"},{"$f":"$C62*($S$4+$C74)","v":60},{"$f":"CONCATENATE($C62,\"(\",$A$4,\" + \",$C74,\")\")","v":"6(b + 9)"},{"$f":"$C62*($S$4+$C74)","v":60},{"$f":"CONCATENATE($C62,\"(\",$A$4,\" + \",$C74,\")\")","v":"6(b + 9)"},{"$f":"$C62*($S$4+$C74)","v":60},{"$f":"CONCATENATE($C62,\"(\",$A$4,\" + \",$C74,\")\")","v":"6(b + 9)"},{"$f":"$C62*($S$4+$C74)","v":60},{"$f":"CONCATENATE($C62,\"(\",$A$4,\" + \",$C74,\")\")","v":"6(b + 9)"},{"$f":"$C62*($S$4+$C74)","v":60},{"$f":"CONCATENATE($C62,\"(\",$A$4,\" + \",$C74,\")\")","v":"6(b + 9)"},{"$f":"$C62*($S$4+$C74)","v":60},{"$f":"CONCATENATE($C62,\"(\",$A$4,\" + \",$C74,\")\")","v":"6(b + 9)"},{"$f":"$C62*($S$4+$C74)","v":60},{"$f":"CONCATENATE($C62,\"(\",$A$4,\" + \",$C74,\")\")","v":"6(b + 9)"},{"$f":"$C62*($S$4+$C74)","v":60},{"$f":"CONCATENATE($C62,\"(\",$A$4,\" + \",$C74,\")\")","v":"6(b + 9)"},{"$f":"$C62*($S$4+$C74)","v":60},{"$f":"CONCATENATE($C62,\"(\",$A$4,\" + \",$C74,\")\")","v":"6(b + 9)"},{"$f":"$C62*($S$4+$C74)","v":60},{"$f":"CONCATENATE($C62,\"(\",$A$4,\" + \",$C74,\")\")","v":"6(b + 9)"},{"$f":"$C62*($S$4+$C74)","v":60},{"$f":"CONCATENATE($C62,\"(\",$A$4,\" + \",$C74,\")\")","v":"6(b + 9)"},{"$f":"$C62*($S$4+$C74)","v":60},{"$f":"CONCATENATE($C62,\"(\",$A$4,\" + \",$C74,\")\")","v":"6(b + 9)"},{"$f":"$C62*($S$4+$C74)","v":60},{"$f":"CONCATENATE($C62,\"(\",$A$4,\" + \",$C74,\")\")","v":"6(b + 9)"},{"$f":"$C62*($S$4+$C74)","v":60},{"$f":"CONCATENATE($C62,\"(\",$A$4,\" + \",$C74,\")\")","v":"6(b + 9)"},{"$f":"$C62*($S$4+$C74)","v":60},{"$f":"CONCATENATE($C62,\"(\",$A$4,\" + \",$C74,\")\")","v":"6(b + 9)"},{"$f":"$C62*($S$4+$C74)","v":60},{"$f":"CONCATENATE($C62,\"(\",$A$4,\" + \",$C74,\")\")","v":"6(b + 9)"},{"$f":"$C62*($S$4+$C74)","v":60},{"$f":"CONCATENATE($C62,\"(\",$A$4,\" + \",$C74,\")\")","v":"6(b + 9)"},{"$f":"$C62*($S$4+$C74)","v":60},{"$f":"CONCATENATE($C62,\"(\",$A$4,\" + \",$C74,\")\")","v":"6(b + 9)"},{"$f":"$C62*($S$4+$C74)","v":60},{"$f":"CONCATENATE($C62,\"(\",$A$4,\" + \",$C74,\")\")","v":"6(b + 9)"},{"$f":"$C62*($S$4+$C74)","v":60},{"$f":"CONCATENATE($C62,\"(\",$A$4,\" + \",$C74,\")\")","v":"6(b + 9)"},{"$f":"$C62*($S$4+$C74)","v":60},{"$f":"CONCATENATE($C62,\"(\",$A$4,\" + \",$C74,\")\")","v":"6(b + 9)"},{"$f":"$C62*($S$4+$C74)","v":60},{"$f":"CONCATENATE($C62,\"(\",$A$4,\" + \",$C74,\")\")","v":"6(b + 9)"},{"$f":"$C62*($S$4+$C74)","v":60},{"$f":"CONCATENATE($C62,\"(\",$A$4,\" + \",$C74,\")\")","v":"6(b + 9)"},{"$f":"$C62*($S$4+$C74)","v":60},"6(b + 9)",60]
[63,22,9,{"$f":"CONCATENATE($C63,\"(\",$A$5,\" + \",$C75,\")\")","v":"8(f + 9)"},{"$f":"$C63*($S$5+$C75)","v":96},{"$f":"CONCATENATE($C63,\"(\",$A$5,\" + \",$C75,\")\")","v":"8(f + 9)"},{"$f":"$C63*($S$5+$C75)","v":96},{"$f":"CONCATENATE($C63,\"(\",$A$5,\" + \",$C75,\")\")","v":"8(f + 9)"},{"$f":"$C63*($S$5+$C75)","v":96},{"$f":"CONCATENATE($C63,\"(\",$A$5,\" + \",$C75,\")\")","v":"8(f + 9)"},{"$f":"$C63*($S$5+$C75)","v":96},{"$f":"CONCATENATE($C63,\"(\",$A$5,\" + \",$C75,\")\")","v":"8(f + 9)"},{"$f":"$C63*($S$5+$C75)","v":96},{"$f":"CONCATENATE($C63,\"(\",$A$5,\" + \",$C75,\")\")","v":"8(f + 9)"},{"$f":"$C63*($S$5+$C75)","v":96},{"$f":"CONCATENATE($C63,\"(\",$A$5,\" + \",$C75,\")\")","v":"8(f + 9)"},{"$f":"$C63*($S$5+$C75)","v":96},{"$f":"CONCATENATE($C63,\"(\",$A$5,\" + \",$C75,\")\")","v":"8(f + 9)"},{"$f":"$C63*($S$5+$C75)","v":96},{"$f":"CONCATENATE($C63,\"(\",$A$5,\" + \",$C75,\")\")","v":"8(f + 9)"},{"$f":"$C63*($S$5+$C75)","v":96},{"$f":"CONCATENATE($C63,\"(\",$A$5,\" + \",$C75,\")\")","v":"8(f + 9)"},{"$f":"$C63*($S$5+$C75)","v":96},{"$f":"CONCATENATE($C63,\"(\",$A$5,\" + \",$C75,\")\")","v":"8(f + 9)"},{"$f":"$C63*($S$5+$C75)","v":96},{"$f":"CONCATENATE($C63,\"(\",$A$5,\" + \",$C75,\")\")","v":"8(f + 9)"},{"$f":"$C63*($S$5+$C75)","v":96},{"$f":"CONCATENATE($C63,\"(\",$A$5,\" + \",$C75,\")\")","v":"8(f + 9)"},{"$f":"$C63*($S$5+$C75)","v":96},{"$f":"CONCATENATE($C63,\"(\",$A$5,\" + \",$C75,\")\")","v":"8(f + 9)"},{"$f":"$C63*($S$5+$C75)","v":96},{"$f":"CONCATENATE($C63,\"(\",$A$5,\" + \",$C75,\")\")","v":"8(f + 9)"},{"$f":"$C63*($S$5+$C75)","v":96},{"$f":"CONCATENATE($C63,\"(\",$A$5,\" + \",$C75,\")\")","v":"8(f + 9)"},{"$f":"$C63*($S$5+$C75)","v":96},{"$f":"CONCATENATE($C63,\"(\",$A$5,\" + \",$C75,\")\")","v":"8(f + 9)"},{"$f":"$C63*($S$5+$C75)","v":96},{"$f":"CONCATENATE($C63,\"(\",$A$5,\" + \",$C75,\")\")","v":"8(f + 9)"},{"$f":"$C63*($S$5+$C75)","v":96},{"$f":"CONCATENATE($C63,\"(\",$A$5,\" + \",$C75,\")\")","v":"8(f + 9)"},{"$f":"$C63*($S$5+$C75)","v":96},{"$f":"CONCATENATE($C63,\"(\",$A$5,\" + \",$C75,\")\")","v":"8(f + 9)"},{"$f":"$C63*($S$5+$C75)","v":96},{"$f":"CONCATENATE($C63,\"(\",$A$5,\" + \",$C75,\")\")","v":"8(f + 9)"},{"$f":"$C63*($S$5+$C75)","v":96},{"$f":"CONCATENATE($C63,\"(\",$A$5,\" + \",$C75,\")\")","v":"8(f + 9)"},{"$f":"$C63*($S$5+$C75)","v":96},{"$f":"CONCATENATE($C63,\"(\",$A$5,\" + \",$C75,\")\")","v":"8(f + 9)"},{"$f":"$C63*($S$5+$C75)","v":96},{"$f":"CONCATENATE($C63,\"(\",$A$5,\" + \",$C75,\")\")","v":"8(f + 9)"},{"$f":"$C63*($S$5+$C75)","v":96},{"$f":"CONCATENATE($C63,\"(\",$A$5,\" + \",$C75,\")\")","v":"8(f + 9)"},{"$f":"$C63*($S$5+$C75)","v":96},"8(f + 9)",96]
[64,42,6,{"$f":"CONCATENATE($C64,\"(\",$A$6,\" + \",$C76,\")\")","v":"9(j + 6)"},{"$f":"$C64*($S$6+$C76)","v":99},{"$f":"CONCATENATE($C64,\"(\",$A$6,\" + \",$C76,\")\")","v":"9(j + 6)"},{"$f":"$C64*($S$6+$C76)","v":99},{"$f":"CONCATENATE($C64,\"(\",$A$6,\" + \",$C76,\")\")","v":"9(j + 6)"},{"$f":"$C64*($S$6+$C76)","v":99},{"$f":"CONCATENATE($C64,\"(\",$A$6,\" + \",$C76,\")\")","v":"9(j + 6)"},{"$f":"$C64*($S$6+$C76)","v":99},{"$f":"CONCATENATE($C64,\"(\",$A$6,\" + \",$C76,\")\")","v":"9(j + 6)"},{"$f":"$C64*($S$6+$C76)","v":99},{"$f":"CONCATENATE($C64,\"(\",$A$6,\" + \",$C76,\")\")","v":"9(j + 6)"},{"$f":"$C64*($S$6+$C76)","v":99},{"$f":"CONCATENATE($C64,\"(\",$A$6,\" + \",$C76,\")\")","v":"9(j + 6)"},{"$f":"$C64*($S$6+$C76)","v":99},{"$f":"CONCATENATE($C64,\"(\",$A$6,\" + \",$C76,\")\")","v":"9(j + 6)"},{"$f":"$C64*($S$6+$C76)","v":99},{"$f":"CONCATENATE($C64,\"(\",$A$6,\" + \",$C76,\")\")","v":"9(j + 6)"},{"$f":"$C64*($S$6+$C76)","v":99},{"$f":"CONCATENATE($C64,\"(\",$A$6,\" + \",$C76,\")\")","v":"9(j + 6)"},{"$f":"$C64*($S$6+$C76)","v":99},{"$f":"CONCATENATE($C64,\"(\",$A$6,\" + \",$C76,\")\")","v":"9(j + 6)"},{"$f":"$C64*($S$6+$C76)","v":99},{"$f":"CONCATENATE($C64,\"(\",$A$6,\" + \",$C76,\")\")","v":"9(j + 6)"},{"$f":"$C64*($S$6+$C76)","v":99},{"$f":"CONCATENATE($C64,\"(\",$A$6,\" + \",$C76,\")\")","v":"9(j + 6)"},{"$f":"$C64*($S$6+$C76)","v":99},{"$f":"CONCATENATE($C64,\"(\",$A$6,\" + \",$C76,\")\")","v":"9(j + 6)"},{"$f":"$C64*($S$6+$C76)","v":99},{"$f":"CONCATENATE($C64,\"(\",$A$6,\" + \",$C76,\")\")","v":"9(j + 6)"},{"$f":"$C64*($S$6+$C76)","v":99},{"$f":"CONCATENATE($C64,\"(\",$A$6,\" + \",$C76,\")\")","v":"9(j + 6)"},{"$f":"$C64*($S$6+$C76)","v":99},{"$f":"CONCATENATE($C64,\"(\",$A$6,\" + \",$C76,\")\")","v":"9(j + 6)"},{"$f":"$C64*($S$6+$C76)","v":99},{"$f":"CONCATENATE($C64,\"(\",$A$6,\" + \",$C76,\")\")","v":"9(j + 6)"},{"$f":"$C64*($S$6+$C76)","v":99},{"$f":"CONCATENATE($C64,\"(\",$A$6,\" + \",$C76,\")\")","v":"9(j + 6)"},{"$f":"$C64*($S$6+$C76)","v":99},{"$f":"CONCATENATE($C64,\"(\",$A$6,\" + \",$C76,\")\")","v":"9(j + 6)"},{"$f":"$C64*($S$6+$C76)","v":99},{"$f":"CONCATENATE($C64,\"(\",$A$6,\" + \",$C76,\")\")","v":"9(j + 6)"},{"$f":"$C64*($S$6+$C76)","v":99},{"$f":"CONCATENATE($C64,\"(\",$A$6,\" + \",$C76,\")\")","v":"9(j + 6)"},{"$f":"$C64*($S$6+$C76)","v":99},{"$f":"CONCATENATE($C64,\"(\",$A$6,\" + \",$C76,\")\")","v":"9(j + 6)"},{"$f":"$C64*($S$6+$C76)","v":99},{"$f":"CONCATENATE($C64,\"(\",$A$6,\" + \",$C76,\")\")","v":"9(j + 6)"},{"$f":"$C64*($S$6+$C76)","v":99},{"$f":"CONCATENATE($C64,\"(\",$A$6,\" + \",$C76,\")\")","v":"9(j + 6)"},{"$f":"$C64*($S$6+$C76)","v":99},"9(j + 6)",99]
[65,38,8,{"$f":"CONCATENATE($C65,\"(\",$A$7,\" + \",$C77,\")\")","v":"8(t + 8)"},{"$f":"$C65*($S$7+$C77)","v":96},{"$f":"CONCATENATE($C65,\"(\",$A$7,\" + \",$C77,\")\")","v":"8(t + 8)"},{"$f":"$C65*($S$7+$C77)","v":96},{"$f":"CONCATENATE($C65,\"(\",$A$7,\" + \",$C77,\")\")","v":"8(t + 8)"},{"$f":"$C65*($S$7+$C77)","v":96},{"$f":"CONCATENATE($C65,\"(\",$A$7,\" + \",$C77,\")\")","v":"8(t + 8)"},{"$f":"$C65*($S$7+$C77)","v":96},{"$f":"CONCATENATE($C65,\"(\",$A$7,\" + \",$C77,\")\")","v":"8(t + 8)"},{"$f":"$C65*($S$7+$C77)","v":96},{"$f":"CONCATENATE($C65,\"(\",$A$7,\" + \",$C77,\")\")","v":"8(t + 8)"},{"$f":"$C65*($S$7+$C77)","v":96},{"$f":"CONCATENATE($C65,\"(\",$A$7,\" + \",$C77,\")\")","v":"8(t + 8)"},{"$f":"$C65*($S$7+$C77)","v":96},{"$f":"CONCATENATE($C65,\"(\",$A$7,\" + \",$C77,\")\")","v":"8(t + 8)"},{"$f":"$C65*($S$7+$C77)","v":96},{"$f":"CONCATENATE($C65,\"(\",$A$7,\" + \",$C77,\")\")","v":"8(t + 8)"},{"$f":"$C65*($S$7+$C77)","v":96},{"$f":"CONCATENATE($C65,\"(\",$A$7,\" + \",$C77,\")\")","v":"8(t + 8)"},{"$f":"$C65*($S$7+$C77)","v":96},{"$f":"CONCATENATE($C65,\"(\",$A$7,\" + \",$C77,\")\")","v":"8(t + 8)"},{"$f":"$C65*($S$7+$C77)","v":96},{"$f":"CONCATENATE($C65,\"(\",$A$7,\" + \",$C77,\")\")","v":"8(t + 8)"},{"$f":"$C65*($S$7+$C77)","v":96},{"$f":"CONCATENATE($C65,\"(\",$A$7,\" + \",$C77,\")\")","v":"8(t + 8)"},{"$f":"$C65*($S$7+$C77)","v":96},{"$f":"CONCATENATE($C65,\"(\",$A$7,\" + \",$C77,\")\")","v":"8(t + 8)"},{"$f":"$C65*($S$7+$C77)","v":96},{"$f":"CONCATENATE($C65,\"(\",$A$7,\" + \",$C77,\")\")","v":"8(t + 8)"},{"$f":"$C65*($S$7+$C77)","v":96},{"$f":"CONCATENATE($C65,\"(\",$A$7,\" + \",$C77,\")\")","v":"8(t + 8)"},{"$f":"$C65*($S$7+$C77)","v":96},{"$f":"CONCATENATE($C65,\"(\",$A$7,\" + \",$C77,\")\")","v":"8(t + 8)"},{"$f":"$C65*($S$7+$C77)","v":96},{"$f":"CONCATENATE($C65,\"(\",$A$7,\" + \",$C77,\")\")","v":"8(t + 8)"},{"$f":"$C65*($S$7+$C77)","v":96},{"$f":"CONCATENATE($C65,\"(\",$A$7,\" + \",$C77,\")\")","v":"8(t + 8)"},{"$f":"$C65*($S$7+$C77)","v":96},{"$f":"CONCATENATE($C65,\"(\",$A$7,\" + \",$C77,\")\")","v":"8(t + 8)"},{"$f":"$C65*($S$7+$C77)","v":96},{"$f":"CONCATENATE($C65,\"(\",$A$7,\" + \",$C77,\")\")","v":"8(t + 8)"},{"$f":"$C65*($S$7+$C77)","v":96},{"$f":"CONCATENATE($C65,\"(\",$A$7,\" + \",$C77,\")\")","v":"8(t + 8)"},{"$f":"$C65*($S$7+$C77)","v":96},{"$f":"CONCATENATE($C65,\"(\",$A$7,\" + \",$C77,\")\")","v":"8(t + 8)"},{"$f":"$C65*($S$7+$C77)","v":96},{"$f":"CONCATENATE($C65,\"(\",$A$7,\" + \",$C77,\")\")","v":"8(t + 8)"},{"$f":"$C65*($S$7+$C77)","v":96},{"$f":"CONCATENATE($C65,\"(\",$A$7,\" + \",$C77,\")\")","v":"8(t + 8)"},{"$f":"$C65*($S$7+$C77)","v":96},"8(t + 8)",96]
[66,{"$f":"2*INT(25*RAND())","v":40},{"$f":"INT(5*RAND()+5)","v":7},{"$f":"CONCATENATE($C66,\"(\",$A$8,\" + \",$C78,\")\")","v":"8(u + 7)"},{"$f":"$C66*($S$8+$C78)","v":104},{"$f":"CONCATENATE($C66,\"(\",$A$8,\" + \",$C78,\")\")","v":"8(u + 7)"},{"$f":"$C66*($S$8+$C78)","v":104},{"$f":"CONCATENATE($C66,\"(\",$A$8,\" + \",$C78,\")\")","v":"8(u + 7)"},{"$f":"$C66*($S$8+$C78)","v":104},{"$f":"CONCATENATE($C66,\"(\",$A$8,\" + \",$C78,\")\")","v":"8(u + 7)"},{"$f":"$C66*($S$8+$C78)","v":104},{"$f":"CONCATENATE($C66,\"(\",$A$8,\" + \",$C78,\")\")","v":"8(u + 7)"},{"$f":"$C66*($S$8+$C78)","v":104},{"$f":"CONCATENATE($C66,\"(\",$A$8,\" + \",$C78,\")\")","v":"8(u + 7)"},{"$f":"$C66*($S$8+$C78)","v":104},{"$f":"CONCATENATE($C66,\"(\",$A$8,\" + \",$C78,\")\")","v":"8(u + 7)"},{"$f":"$C66*($S$8+$C78)","v":104},{"$f":"CONCATENATE($C66,\"(\",$A$8,\" + \",$C78,\")\")","v":"8(u + 7)"},{"$f":"$C66*($S$8+$C78)","v":104},{"$f":"CONCATENATE($C66,\"(\",$A$8,\" + \",$C78,\")\")","v":"8(u + 7)"},{"$f":"$C66*($S$8+$C78)","v":104},{"$f":"CONCATENATE($C66,\"(\",$A$8,\" + \",$C78,\")\")","v":"8(u + 7)"},{"$f":"$C66*($S$8+$C78)","v":104},{"$f":"CONCATENATE($C66,\"(\",$A$8,\" + \",$C78,\")\")","v":"8(u + 7)"},{"$f":"$C66*($S$8+$C78)","v":104},{"$f":"CONCATENATE($C66,\"(\",$A$8,\" + \",$C78,\")\")","v":"8(u + 7)"},{"$f":"$C66*($S$8+$C78)","v":104},{"$f":"CONCATENATE($C66,\"(\",$A$8,\" + \",$C78,\")\")","v":"8(u + 7)"},{"$f":"$C66*($S$8+$C78)","v":104},{"$f":"CONCATENATE($C66,\"(\",$A$8,\" + \",$C78,\")\")","v":"8(u + 7)"},{"$f":"$C66*($S$8+$C78)","v":104},{"$f":"CONCATENATE($C66,\"(\",$A$8,\" + \",$C78,\")\")","v":"8(u + 7)"},{"$f":"$C66*($S$8+$C78)","v":104},{"$f":"CONCATENATE($C66,\"(\",$A$8,\" + \",$C78,\")\")","v":"8(u + 7)"},{"$f":"$C66*($S$8+$C78)","v":104},{"$f":"CONCATENATE($C66,\"(\",$A$8,\" + \",$C78,\")\")","v":"8(u + 7)"},{"$f":"$C66*($S$8+$C78)","v":104},{"$f":"CONCATENATE($C66,\"(\",$A$8,\" + \",$C78,\")\")","v":"8(u + 7)"},{"$f":"$C66*($S$8+$C78)","v":104},{"$f":"CONCATENATE($C66,\"(\",$A$8,\" + \",$C78,\")\")","v":"8(u + 7)"},{"$f":"$C66*($S$8+$C78)","v":104},{"$f":"CONCATENATE($C66,\"(\",$A$8,\" + \",$C78,\")\")","v":"8(u + 7)"},{"$f":"$C66*($S$8+$C78)","v":104},{"$f":"CONCATENATE($C66,\"(\",$A$8,\" + \",$C78,\")\")","v":"8(u + 7)"},{"$f":"$C66*($S$8+$C78)","v":104},{"$f":"CONCATENATE($C66,\"(\",$A$8,\" + \",$C78,\")\")","v":"8(u + 7)"},{"$f":"$C66*($S$8+$C78)","v":104},{"$f":"CONCATENATE($C66,\"(\",$A$8,\" + \",$C78,\")\")","v":"8(u + 7)"},{"$f":"$C66*($S$8+$C78)","v":104},{"$f":"CONCATENATE($C66,\"(\",$A$8,\" + \",$C78,\")\")","v":"8(u + 7)"},{"$f":"$C66*($S$8+$C78)","v":104},{"$f":"CONCATENATE($C66,\"(\",$A$8,\" + \",$C78,\")\")","v":"8(u + 7)"},{"$f":"$C66*($S$8+$C78)","v":104},{"$f":"OFFSET(D78,0,VALUE(B78))","v":"8(u + 7)"},{"$f":"OFFSET(E78,0,VALUE(B78))","v":104}]
[67,0,{"$f":"INT(4*RAND()+2)","v":4},{"$f":"CONCATENATE($C67,\"(\",\"2\",$A$4,\" + \",$C79,\")\")","v":"8(2b + 4)"},{"$f":"$C67*(2*$S$4+$C79)","v":48},{"$f":"CONCATENATE($C67,\"(\",\"2\",$A$4,\" + \",$C79,\")\")","v":"8(2b + 4)"},{"$f":"$C67*(2*$S$4+$C79)","v":48},{"$f":"CONCATENATE($C67,\"(\",\"2\",$A$4,\" + \",$C79,\")\")","v":"8(2b + 4)"},{"$f":"$C67*(2*$S$4+$C79)","v":48},{"$f":"CONCATENATE($C67,\"(\",\"2\",$A$4,\" + \",$C79,\")\")","v":"8(2b + 4)"},{"$f":"$C67*(2*$S$4+$C79)","v":48},{"$f":"CONCATENATE($C67,\"(\",\"2\",$A$4,\" + \",$C79,\")\")","v":"8(2b + 4)"},{"$f":"$C67*(2*$S$4+$C79)","v":48},{"$f":"CONCATENATE($C67,\"(\",\"2\",$A$4,\" + \",$C79,\")\")","v":"8(2b + 4)"},{"$f":"$C67*(2*$S$4+$C79)","v":48},{"$f":"CONCATENATE($C67,\"(\",\"2\",$A$4,\" + \",$C79,\")\")","v":"8(2b + 4)"},{"$f":"$C67*(2*$S$4+$C79)","v":48},{"$f":"CONCATENATE($C67,\"(\",\"2\",$A$4,\" + \",$C79,\")\")","v":"8(2b + 4)"},{"$f":"$C67*(2*$S$4+$C79)","v":48},{"$f":"CONCATENATE($C67,\"(\",\"2\",$A$4,\" + \",$C79,\")\")","v":"8(2b + 4)"},{"$f":"$C67*(2*$S$4+$C79)","v":48},{"$f":"CONCATENATE($C67,\"(\",\"2\",$A$4,\" + \",$C79,\")\")","v":"8(2b + 4)"},{"$f":"$C67*(2*$S$4+$C79)","v":48},{"$f":"CONCATENATE($C67,\"(\",\"2\",$A$4,\" + \",$C79,\")\")","v":"8(2b + 4)"},{"$f":"$C67*(2*$S$4+$C79)","v":48},{"$f":"CONCATENATE($C67,\"(\",\"2\",$A$4,\" + \",$C79,\")\")","v":"8(2b + 4)"},{"$f":"$C67*(2*$S$4+$C79)","v":48},{"$f":"CONCATENATE($C67,\"(\",\"2\",$A$4,\" + \",$C79,\")\")","v":"8(2b + 4)"},{"$f":"$C67*(2*$S$4+$C79)","v":48},{"$f":"CONCATENATE($C67,\"(\",\"2\",$A$4,\" + \",$C79,\")\")","v":"8(2b + 4)"},{"$f":"$C67*(2*$S$4+$C79)","v":48},{"$f":"CONCATENATE($C67,\"(\",\"2\",$A$4,\" + \",$C79,\")\")","v":"8(2b + 4)"},{"$f":"$C67*(2*$S$4+$C79)","v":48},{"$f":"CONCATENATE($C67,\"(\",\"2\",$A$4,\" + \",$C79,\")\")","v":"8(2b + 4)"},{"$f":"$C67*(2*$S$4+$C79)","v":48},{"$f":"CONCATENATE($C67,\"(\",\"2\",$A$4,\" + \",$C79,\")\")","v":"8(2b + 4)"},{"$f":"$C67*(2*$S$4+$C79)","v":48},{"$f":"CONCATENATE($C67,\"(\",\"2\",$A$4,\" + \",$C79,\")\")","v":"8(2b + 4)"},{"$f":"$C67*(2*$S$4+$C79)","v":48},{"$f":"CONCATENATE($C67,\"(\",\"2\",$A$4,\" + \",$C79,\")\")","v":"8(2b + 4)"},{"$f":"$C67*(2*$S$4+$C79)","v":48},{"$f":"CONCATENATE($C67,\"(\",\"2\",$A$4,\" + \",$C79,\")\")","v":"8(2b + 4)"},{"$f":"$C67*(2*$S$4+$C79)","v":48},{"$f":"CONCATENATE($C67,\"(\",\"2\",$A$4,\" + \",$C79,\")\")","v":"8(2b + 4)"},{"$f":"$C67*(2*$S$4+$C79)","v":48},{"$f":"CONCATENATE($C67,\"(\",\"2\",$A$4,\" + \",$C79,\")\")","v":"8(2b + 4)"},{"$f":"$C67*(2*$S$4+$C79)","v":48},{"$f":"CONCATENATE($C67,\"(\",\"2\",$A$4,\" + \",$C79,\")\")","v":"8(2b + 4)"},{"$f":"$C67*(2*$S$4+$C79)","v":48},{"$f":"CONCATENATE($C67,\"(\",\"2\",$A$4,\" + \",$C79,\")\")","v":"8(2b + 4)"},{"$f":"$C67*(2*$S$4+$C79)","v":48},{"$f":"CONCATENATE($C67,\"(\",\"2\",$A$4,\" + \",$C79,\")\")","v":"8(2b + 4)"},{"$f":"$C67*(2*$S$4+$C79)","v":48},"8(2b + 4)",48]
[68,34,3,{"$f":"CONCATENATE($C68,\"(\",\"2\",$A$5,\" + \",$C80,\")\")","v":"6(2f + 3)"},{"$f":"$C68*(2*$S$5+$C80)","v":54},{"$f":"CONCATENATE($C68,\"(\",\"2\",$A$5,\" + \",$C80,\")\")","v":"6(2f + 3)"},{"$f":"$C68*(2*$S$5+$C80)","v":54},{"$f":"CONCATENATE($C68,\"(\",\"2\",$A$5,\" + \",$C80,\")\")","v":"6(2f + 3)"},{"$f":"$C68*(2*$S$5+$C80)","v":54},{"$f":"CONCATENATE($C68,\"(\",\"2\",$A$5,\" + \",$C80,\")\")","v":"6(2f + 3)"},{"$f":"$C68*(2*$S$5+$C80)","v":54},{"$f":"CONCATENATE($C68,\"(\",\"2\",$A$5,\" + \",$C80,\")\")","v":"6(2f + 3)"},{"$f":"$C68*(2*$S$5+$C80)","v":54},{"$f":"CONCATENATE($C68,\"(\",\"2\",$A$5,\" + \",$C80,\")\")","v":"6(2f + 3)"},{"$f":"$C68*(2*$S$5+$C80)","v":54},{"$f":"CONCATENATE($C68,\"(\",\"2\",$A$5,\" + \",$C80,\")\")","v":"6(2f + 3)"},{"$f":"$C68*(2*$S$5+$C80)","v":54},{"$f":"CONCATENATE($C68,\"(\",\"2\",$A$5,\" + \",$C80,\")\")","v":"6(2f + 3)"},{"$f":"$C68*(2*$S$5+$C80)","v":54},{"$f":"CONCATENATE($C68,\"(\",\"2\",$A$5,\" + \",$C80,\")\")","v":"6(2f + 3)"},{"$f":"$C68*(2*$S$5+$C80)","v":54},{"$f":"CONCATENATE($C68,\"(\",\"2\",$A$5,\" + \",$C80,\")\")","v":"6(2f + 3)"},{"$f":"$C68*(2*$S$5+$C80)","v":54},{"$f":"CONCATENATE($C68,\"(\",\"2\",$A$5,\" + \",$C80,\")\")","v":"6(2f + 3)"},{"$f":"$C68*(2*$S$5+$C80)","v":54},{"$f":"CONCATENATE($C68,\"(\",\"2\",$A$5,\" + \",$C80,\")\")","v":"6(2f + 3)"},{"$f":"$C68*(2*$S$5+$C80)","v":54},{"$f":"CONCATENATE($C68,\"(\",\"2\",$A$5,\" + \",$C80,\")\")","v":"6(2f + 3)"},{"$f":"$C68*(2*$S$5+$C80)","v":54},{"$f":"CONCATENATE($C68,\"(\",\"2\",$A$5,\" + \",$C80,\")\")","v":"6(2f + 3)"},{"$f":"$C68*(2*$S$5+$C80)","v":54},{"$f":"CONCATENATE($C68,\"(\",\"2\",$A$5,\" + \",$C80,\")\")","v":"6(2f + 3)"},{"$f":"$C68*(2*$S$5+$C80)","v":54},{"$f":"CONCATENATE($C68,\"(\",\"2\",$A$5,\" + \",$C80,\")\")","v":"6(2f + 3)"},{"$f":"$C68*(2*$S$5+$C80)","v":54},{"$f":"CONCATENATE($C68,\"(\",\"2\",$A$5,\" + \",$C80,\")\")","v":"6(2f + 3)"},{"$f":"$C68*(2*$S$5+$C80)","v":54},{"$f":"CONCATENATE($C68,\"(\",\"2\",$A$5,\" + \",$C80,\")\")","v":"6(2f + 3)"},{"$f":"$C68*(2*$S$5+$C80)","v":54},{"$f":"CONCATENATE($C68,\"(\",\"2\",$A$5,\" + \",$C80,\")\")","v":"6(2f + 3)"},{"$f":"$C68*(2*$S$5+$C80)","v":54},{"$f":"CONCATENATE($C68,\"(\",\"2\",$A$5,\" + \",$C80,\")\")","v":"6(2f + 3)"},{"$f":"$C68*(2*$S$5+$C80)","v":54},{"$f":"CONCATENATE($C68,\"(\",\"2\",$A$5,\" + \",$C80,\")\")","v":"6(2f + 3)"},{"$f":"$C68*(2*$S$5+$C80)","v":54},{"$f":"CONCATENATE($C68,\"(\",\"2\",$A$5,\" + \",$C80,\")\")","v":"6(2f + 3)"},{"$f":"$C68*(2*$S$5+$C80)","v":54},{"$f":"CONCATENATE($C68,\"(\",\"2\",$A$5,\" + \",$C80,\")\")","v":"6(2f + 3)"},{"$f":"$C68*(2*$S$5+$C80)","v":54},{"$f":"CONCATENATE($C68,\"(\",\"2\",$A$5,\" + \",$C80,\")\")","v":"6(2f + 3)"},{"$f":"$C68*(2*$S$5+$C80)","v":54},{"$f":"CONCATENATE($C68,\"(\",\"2\",$A$5,\" + \",$C80,\")\")","v":"6(2f + 3)"},{"$f":"$C68*(2*$S$5+$C80)","v":54},"6(2f + 3)",54]
[69,32,2,{"$f":"CONCATENATE($C69,\"(\",\"3\",$A$7,\" + \",$C81,\")\")","v":"7(3t + 2)"},{"$f":"$C69*(3*$S$7+$C81)","v":98},{"$f":"CONCATENATE($C69,\"(\",\"3\",$A$7,\" + \",$C81,\")\")","v":"7(3t + 2)"},{"$f":"$C69*(3*$S$7+$C81)","v":98},{"$f":"CONCATENATE($C69,\"(\",\"3\",$A$7,\" + \",$C81,\")\")","v":"7(3t + 2)"},{"$f":"$C69*(3*$S$7+$C81)","v":98},{"$f":"CONCATENATE($C69,\"(\",\"3\",$A$7,\" + \",$C81,\")\")","v":"7(3t + 2)"},{"$f":"$C69*(3*$S$7+$C81)","v":98},{"$f":"CONCATENATE($C69,\"(\",\"3\",$A$7,\" + \",$C81,\")\")","v":"7(3t + 2)"},{"$f":"$C69*(3*$S$7+$C81)","v":98},{"$f":"CONCATENATE($C69,\"(\",\"3\",$A$7,\" + \",$C81,\")\")","v":"7(3t + 2)"},{"$f":"$C69*(3*$S$7+$C81)","v":98},{"$f":"CONCATENATE($C69,\"(\",\"3\",$A$7,\" + \",$C81,\")\")","v":"7(3t + 2)"},{"$f":"$C69*(3*$S$7+$C81)","v":98},{"$f":"CONCATENATE($C69,\"(\",\"3\",$A$7,\" + \",$C81,\")\")","v":"7(3t + 2)"},{"$f":"$C69*(3*$S$7+$C81)","v":98},{"$f":"CONCATENATE($C69,\"(\",\"3\",$A$7,\" + \",$C81,\")\")","v":"7(3t + 2)"},{"$f":"$C69*(3*$S$7+$C81)","v":98},{"$f":"CONCATENATE($C69,\"(\",\"3\",$A$7,\" + \",$C81,\")\")","v":"7(3t + 2)"},{"$f":"$C69*(3*$S$7+$C81)","v":98},{"$f":"CONCATENATE($C69,\"(\",\"3\",$A$7,\" + \",$C81,\")\")","v":"7(3t + 2)"},{"$f":"$C69*(3*$S$7+$C81)","v":98},{"$f":"CONCATENATE($C69,\"(\",\"3\",$A$7,\" + \",$C81,\")\")","v":"7(3t + 2)"},{"$f":"$C69*(3*$S$7+$C81)","v":98},{"$f":"CONCATENATE($C69,\"(\",\"3\",$A$7,\" + \",$C81,\")\")","v":"7(3t + 2)"},{"$f":"$C69*(3*$S$7+$C81)","v":98},{"$f":"CONCATENATE($C69,\"(\",\"3\",$A$7,\" + \",$C81,\")\")","v":"7(3t + 2)"},{"$f":"$C69*(3*$S$7+$C81)","v":98},{"$f":"CONCATENATE($C69,\"(\",\"3\",$A$7,\" + \",$C81,\")\")","v":"7(3t + 2)"},{"$f":"$C69*(3*$S$7+$C81)","v":98},{"$f":"CONCATENATE($C69,\"(\",\"3\",$A$7,\" + \",$C81,\")\")","v":"7(3t + 2)"},{"$f":"$C69*(3*$S$7+$C81)","v":98},{"$f":"CONCATENATE($C69,\"(\",\"3\",$A$7,\" + \",$C81,\")\")","v":"7(3t + 2)"},{"$f":"$C69*(3*$S$7+$C81)","v":98},{"$f":"CONCATENATE($C69,\"(\",\"3\",$A$7,\" + \",$C81,\")\")","v":"7(3t + 2)"},{"$f":"$C69*(3*$S$7+$C81)","v":98},{"$f":"CONCATENATE($C69,\"(\",\"3\",$A$7,\" + \",$C81,\")\")","v":"7(3t + 2)"},{"$f":"$C69*(3*$S$7+$C81)","v":98},{"$f":"CONCATENATE($C69,\"(\",\"3\",$A$7,\" + \",$C81,\")\")","v":"7(3t + 2)"},{"$f":"$C69*(3*$S$7+$C81)","v":98},{"$f":"CONCATENATE($C69,\"(\",\"3\",$A$7,\" + \",$C81,\")\")","v":"7(3t + 2)"},{"$f":"$C69*(3*$S$7+$C81)","v":98},{"$f":"CONCATENATE($C69,\"(\",\"3\",$A$7,\" + \",$C81,\")\")","v":"7(3t + 2)"},{"$f":"$C69*(3*$S$7+$C81)","v":98},{"$f":"CONCATENATE($C69,\"(\",\"3\",$A$7,\" + \",$C81,\")\")","v":"7(3t + 2)"},{"$f":"$C69*(3*$S$7+$C81)","v":98},{"$f":"CONCATENATE($C69,\"(\",\"3\",$A$7,\" + \",$C81,\")\")","v":"7(3t + 2)"},{"$f":"$C69*(3*$S$7+$C81)","v":98},{"$f":"CONCATENATE($C69,\"(\",\"3\",$A$7,\" + \",$C81,\")\")","v":"7(3t + 2)"},{"$f":"$C69*(3*$S$7+$C81)","v":98},"7(3t + 2)",98]
[70,28,3,{"$f":"CONCATENATE($C70,\"(\",\"2\",$A$5,\" - \",$C82,\")\")","v":"9(2f - 3)"},{"$f":"$C70*(2*$S$5-$C82)","v":27},{"$f":"CONCATENATE($C70,\"(\",\"2\",$A$5,\" - \",$C82,\")\")","v":"9(2f - 3)"},{"$f":"$C70*(2*$S$5-$C82)","v":27},{"$f":"CONCATENATE($C70,\"(\",\"2\",$A$5,\" - \",$C82,\")\")","v":"9(2f - 3)"},{"$f":"$C70*(2*$S$5-$C82)","v":27},{"$f":"CONCATENATE($C70,\"(\",\"2\",$A$5,\" - \",$C82,\")\")","v":"9(2f - 3)"},{"$f":"$C70*(2*$S$5-$C82)","v":27},{"$f":"CONCATENATE($C70,\"(\",\"2\",$A$5,\" - \",$C82,\")\")","v":"9(2f - 3)"},{"$f":"$C70*(2*$S$5-$C82)","v":27},{"$f":"CONCATENATE($C70,\"(\",\"2\",$A$5,\" - \",$C82,\")\")","v":"9(2f - 3)"},{"$f":"$C70*(2*$S$5-$C82)","v":27},{"$f":"CONCATENATE($C70,\"(\",\"2\",$A$5,\" - \",$C82,\")\")","v":"9(2f - 3)"},{"$f":"$C70*(2*$S$5-$C82)","v":27},{"$f":"CONCATENATE($C70,\"(\",\"2\",$A$5,\" - \",$C82,\")\")","v":"9(2f - 3)"},{"$f":"$C70*(2*$S$5-$C82)","v":27},{"$f":"CONCATENATE($C70,\"(\",\"2\",$A$5,\" - \",$C82,\")\")","v":"9(2f - 3)"},{"$f":"$C70*(2*$S$5-$C82)","v":27},{"$f":"CONCATENATE($C70,\"(\",\"2\",$A$5,\" - \",$C82,\")\")","v":"9(2f - 3)"},{"$f":"$C70*(2*$S$5-$C82)","v":27},{"$f":"CONCATENATE($C70,\"(\",\"2\",$A$5,\" - \",$C82,\")\")","v":"9(2f - 3)"},{"$f":"$C70*(2*$S$5-$C82)","v":27},{"$f":"CONCATENATE($C70,\"(\",\"2\",$A$5,\" - \",$C82,\")\")","v":"9(2f - 3)"},{"$f":"$C70*(2*$S$5-$C82)","v":27},{"$f":"CONCATENATE($C70,\"(\",\"2\",$A$5,\" - \",$C82,\")\")","v":"9(2f - 3)"},{"$f":"$C70*(2*$S$5-$C82)","v":27},{"$f":"CONCATENATE($C70,\"(\",\"2\",$A$5,\" - \",$C82,\")\")","v":"9(2f - 3)"},{"$f":"$C70*(2*$S$5-$C82)","v":27},{"$f":"CONCATENATE($C70,\"(\",\"2\",$A$5,\" - \",$C82,\")\")","v":"9(2f - 3)"},{"$f":"$C70*(2*$S$5-$C82)","v":27},{"$f":"CONCATENATE($C70,\"(\",\"2\",$A$5,\" - \",$C82,\")\")","v":"9(2f - 3)"},{"$f":"$C70*(2*$S$5-$C82)","v":27},{"$f":"CONCATENATE($C70,\"(\",\"2\",$A$5,\" - \",$C82,\")\")","v":"9(2f - 3)"},{"$f":"$C70*(2*$S$5-$C82)","v":27},{"$f":"CONCATENATE($C70,\"(\",\"2\",$A$5,\" - \",$C82,\")\")","v":"9(2f - 3)"},{"$f":"$C70*(2*$S$5-$C82)","v":27},{"$f":"CONCATENATE($C70,\"(\",\"2\",$A$5,\" - \",$C82,\")\")","v":"9(2f - 3)"},{"$f":"$C70*(2*$S$5-$C82)","v":27},{"$f":"CONCATENATE($C70,\"(\",\"2\",$A$5,\" - \",$C82,\")\")","v":"9(2f - 3)"},{"$f":"$C70*(2*$S$5-$C82)","v":27},{"$f":"CONCATENATE($C70,\"(\",\"2\",$A$5,\" - \",$C82,\")\")","v":"9(2f - 3)"},{"$f":"$C70*(2*$S$5-$C82)","v":27},{"$f":"CONCATENATE($C70,\"(\",\"2\",$A$5,\" - \",$C82,\")\")","v":"9(2f - 3)"},{"$f":"$C70*(2*$S$5-$C82)","v":27},{"$f":"CONCATENATE($C70,\"(\",\"2\",$A$5,\" - \",$C82,\")\")","v":"9(2f - 3)"},{"$f":"$C70*(2*$S$5-$C82)","v":27},{"$f":"CONCATENATE($C70,\"(\",\"2\",$A$5,\" - \",$C82,\")\")","v":"9(2f - 3)"},{"$f":"$C70*(2*$S$5-$C82)","v":27},{"$f":"CONCATENATE($C70,\"(\",\"2\",$A$5,\" - \",$C82,\")\")","v":"9(2f - 3)"},{"$f":"$C70*(2*$S$5-$C82)","v":27},"9(2f - 3)",27]
[71,24,4,{"$f":"CONCATENATE($C71,\"(\",\"2\",$A$8,\" - \",$C83,\")\")","v":"7(2u - 4)"},{"$f":"$C71*(2*$S$8-$C83)","v":56},{"$f":"CONCATENATE($C71,\"(\",\"2\",$A$8,\" - \",$C83,\")\")","v":"7(2u - 4)"},{"$f":"$C71*(2*$S$8-$C83)","v":56},{"$f":"CONCATENATE($C71,\"(\",\"2\",$A$8,\" - \",$C83,\")\")","v":"7(2u - 4)"},{"$f":"$C71*(2*$S$8-$C83)","v":56},{"$f":"CONCATENATE($C71,\"(\",\"2\",$A$8,\" - \",$C83,\")\")","v":"7(2u - 4)"},{"$f":"$C71*(2*$S$8-$C83)","v":56},{"$f":"CONCATENATE($C71,\"(\",\"2\",$A$8,\" - \",$C83,\")\")","v":"7(2u - 4)"},{"$f":"$C71*(2*$S$8-$C83)","v":56},{"$f":"CONCATENATE($C71,\"(\",\"2\",$A$8,\" - \",$C83,\")\")","v":"7(2u - 4)"},{"$f":"$C71*(2*$S$8-$C83)","v":56},{"$f":"CONCATENATE($C71,\"(\",\"2\",$A$8,\" - \",$C83,\")\")","v":"7(2u - 4)"},{"$f":"$C71*(2*$S$8-$C83)","v":56},{"$f":"CONCATENATE($C71,\"(\",\"2\",$A$8,\" - \",$C83,\")\")","v":"7(2u - 4)"},{"$f":"$C71*(2*$S$8-$C83)","v":56},{"$f":"CONCATENATE($C71,\"(\",\"2\",$A$8,\" - \",$C83,\")\")","v":"7(2u - 4)"},{"$f":"$C71*(2*$S$8-$C83)","v":56},{"$f":"CONCATENATE($C71,\"(\",\"2\",$A$8,\" - \",$C83,\")\")","v":"7(2u - 4)"},{"$f":"$C71*(2*$S$8-$C83)","v":56},{"$f":"CONCATENATE($C71,\"(\",\"2\",$A$8,\" - \",$C83,\")\")","v":"7(2u - 4)"},{"$f":"$C71*(2*$S$8-$C83)","v":56},{"$f":"CONCATENATE($C71,\"(\",\"2\",$A$8,\" - \",$C83,\")\")","v":"7(2u - 4)"},{"$f":"$C71*(2*$S$8-$C83)","v":56},{"$f":"CONCATENATE($C71,\"(\",\"2\",$A$8,\" - \",$C83,\")\")","v":"7(2u - 4)"},{"$f":"$C71*(2*$S$8-$C83)","v":56},{"$f":"CONCATENATE($C71,\"(\",\"2\",$A$8,\" - \",$C83,\")\")","v":"7(2u - 4)"},{"$f":"$C71*(2*$S$8-$C83)","v":56},{"$f":"CONCATENATE($C71,\"(\",\"2\",$A$8,\" - \",$C83,\")\")","v":"7(2u - 4)"},{"$f":"$C71*(2*$S$8-$C83)","v":56},{"$f":"CONCATENATE($C71,\"(\",\"2\",$A$8,\" - \",$C83,\")\")","v":"7(2u - 4)"},{"$f":"$C71*(2*$S$8-$C83)","v":56},{"$f":"CONCATENATE($C71,\"(\",\"2\",$A$8,\" - \",$C83,\")\")","v":"7(2u - 4)"},{"$f":"$C71*(2*$S$8-$C83)","v":56},{"$f":"CONCATENATE($C71,\"(\",\"2\",$A$8,\" - \",$C83,\")\")","v":"7(2u - 4)"},{"$f":"$C71*(2*$S$8-$C83)","v":56},{"$f":"CONCATENATE($C71,\"(\",\"2\",$A$8,\" - \",$C83,\")\")","v":"7(2u - 4)"},{"$f":"$C71*(2*$S$8-$C83)","v":56},{"$f":"CONCATENATE($C71,\"(\",\"2\",$A$8,\" - \",$C83,\")\")","v":"7(2u - 4)"},{"$f":"$C71*(2*$S$8-$C83)","v":56},{"$f":"CONCATENATE($C71,\"(\",\"2\",$A$8,\" - \",$C83,\")\")","v":"7(2u - 4)"},{"$f":"$C71*(2*$S$8-$C83)","v":56},{"$f":"CONCATENATE($C71,\"(\",\"2\",$A$8,\" - \",$C83,\")\")","v":"7(2u - 4)"},{"$f":"$C71*(2*$S$8-$C83)","v":56},{"$f":"CONCATENATE($C71,\"(\",\"2\",$A$8,\" - \",$C83,\")\")","v":"7(2u - 4)"},{"$f":"$C71*(2*$S$8-$C83)","v":56},{"$f":"CONCATENATE($C71,\"(\",\"2\",$A$8,\" - \",$C83,\")\")","v":"7(2u - 4)"},{"$f":"$C71*(2*$S$8-$C83)","v":56},{"$f":"CONCATENATE($C71,\"(\",\"2\",$A$8,\" - \",$C83,\")\")","v":"7(2u - 4)"},{"$f":"$C71*(2*$S$8-$C83)","v":56},"7(2u - 4)",56]
[72,8,3,{"$f":"CONCATENATE($C72,\"(\",\"3\",$A$6,\" - \",$C84,\")\")","v":"7(3j - 3)"},{"$f":"$C72*(3*$S$6-$C84)","v":84},{"$f":"CONCATENATE($C72,\"(\",\"3\",$A$6,\" - \",$C84,\")\")","v":"7(3j - 3)"},{"$f":"$C72*(3*$S$6-$C84)","v":84},{"$f":"CONCATENATE($C72,\"(\",\"3\",$A$6,\" - \",$C84,\")\")","v":"7(3j - 3)"},{"$f":"$C72*(3*$S$6-$C84)","v":84},{"$f":"CONCATENATE($C72,\"(\",\"3\",$A$6,\" - \",$C84,\")\")","v":"7(3j - 3)"},{"$f":"$C72*(3*$S$6-$C84)","v":84},{"$f":"CONCATENATE($C72,\"(\",\"3\",$A$6,\" - \",$C84,\")\")","v":"7(3j - 3)"},{"$f":"$C72*(3*$S$6-$C84)","v":84},{"$f":"CONCATENATE($C72,\"(\",\"3\",$A$6,\" - \",$C84,\")\")","v":"7(3j - 3)"},{"$f":"$C72*(3*$S$6-$C84)","v":84},{"$f":"CONCATENATE($C72,\"(\",\"3\",$A$6,\" - \",$C84,\")\")","v":"7(3j - 3)"},{"$f":"$C72*(3*$S$6-$C84)","v":84},{"$f":"CONCATENATE($C72,\"(\",\"3\",$A$6,\" - \",$C84,\")\")","v":"7(3j - 3)"},{"$f":"$C72*(3*$S$6-$C84)","v":84},{"$f":"CONCATENATE($C72,\"(\",\"3\",$A$6,\" - \",$C84,\")\")","v":"7(3j - 3)"},{"$f":"$C72*(3*$S$6-$C84)","v":84},{"$f":"CONCATENATE($C72,\"(\",\"3\",$A$6,\" - \",$C84,\")\")","v":"7(3j - 3)"},{"$f":"$C72*(3*$S$6-$C84)","v":84},{"$f":"CONCATENATE($C72,\"(\",\"3\",$A$6,\" - \",$C84,\")\")","v":"7(3j - 3)"},{"$f":"$C72*(3*$S$6-$C84)","v":84},{"$f":"CONCATENATE($C72,\"(\",\"3\",$A$6,\" - \",$C84,\")\")","v":"7(3j - 3)"},{"$f":"$C72*(3*$S$6-$C84)","v":84},{"$f":"CONCATENATE($C72,\"(\",\"3\",$A$6,\" - \",$C84,\")\")","v":"7(3j - 3)"},{"$f":"$C72*(3*$S$6-$C84)","v":84},{"$f":"CONCATENATE($C72,\"(\",\"3\",$A$6,\" - \",$C84,\")\")","v":"7(3j - 3)"},{"$f":"$C72*(3*$S$6-$C84)","v":84},{"$f":"CONCATENATE($C72,\"(\",\"3\",$A$6,\" - \",$C84,\")\")","v":"7(3j - 3)"},{"$f":"$C72*(3*$S$6-$C84)","v":84},{"$f":"CONCATENATE($C72,\"(\",\"3\",$A$6,\" - \",$C84,\")\")","v":"7(3j - 3)"},{"$f":"$C72*(3*$S$6-$C84)","v":84},{"$f":"CONCATENATE($C72,\"(\",\"3\",$A$6,\" - \",$C84,\")\")","v":"7(3j - 3)"},{"$f":"$C72*(3*$S$6-$C84)","v":84},{"$f":"CONCATENATE($C72,\"(\",\"3\",$A$6,\" - \",$C84,\")\")","v":"7(3j - 3)"},{"$f":"$C72*(3*$S$6-$C84)","v":84},{"$f":"CONCATENATE($C72,\"(\",\"3\",$A$6,\" - \",$C84,\")\")","v":"7(3j - 3)"},{"$f":"$C72*(3*$S$6-$C84)","v":84},{"$f":"CONCATENATE($C72,\"(\",\"3\",$A$6,\" - \",$C84,\")\")","v":"7(3j - 3)"},{"$f":"$C72*(3*$S$6-$C84)","v":84},{"$f":"CONCATENATE($C72,\"(\",\"3\",$A$6,\" - \",$C84,\")\")","v":"7(3j - 3)"},{"$f":"$C72*(3*$S$6-$C84)","v":84},{"$f":"CONCATENATE($C72,\"(\",\"3\",$A$6,\" - \",$C84,\")\")","v":"7(3j - 3)"},{"$f":"$C72*(3*$S$6-$C84)","v":84},{"$f":"CONCATENATE($C72,\"(\",\"3\",$A$6,\" - \",$C84,\")\")","v":"7(3j - 3)"},{"$f":"$C72*(3*$S$6-$C84)","v":84},{"$f":"CONCATENATE($C72,\"(\",\"3\",$A$6,\" - \",$C84,\")\")","v":"7(3j - 3)"},{"$f":"$C72*(3*$S$6-$C84)","v":84},{"$f":"CONCATENATE($C72,\"(\",\"3\",$A$6,\" - \",$C84,\")\")","v":"7(3j - 3)"},{"$f":"$C72*(3*$S$6-$C84)","v":84},"7(3j - 3)",84]
[73,34,{"$f":"INT(5*RAND()+2)","v":2},{"$f":"CONCATENATE($C85,\"(\",\"3\",$A$4,\" + \",\"2\",$A$5,\")\")","v":"2(3b + 2f)"},{"$f":"$C85*(3*$S$4+2*$S$5)","v":18},{"$f":"CONCATENATE($C85,\"(\",\"3\",$A$4,\" + \",\"2\",$A$5,\")\")","v":"2(3b + 2f)"},{"$f":"$C85*(3*$S$4+2*$S$5)","v":18},{"$f":"CONCATENATE($C85,\"(\",\"3\",$A$4,\" + \",\"2\",$A$5,\")\")","v":"2(3b + 2f)"},{"$f":"$C85*(3*$S$4+2*$S$5)","v":18},{"$f":"CONCATENATE($C85,\"(\",\"3\",$A$4,\" + \",\"2\",$A$5,\")\")","v":"2(3b + 2f)"},{"$f":"$C85*(3*$S$4+2*$S$5)","v":18},{"$f":"CONCATENATE($C85,\"(\",\"3\",$A$4,\" + \",\"2\",$A$5,\")\")","v":"2(3b + 2f)"},{"$f":"$C85*(3*$S$4+2*$S$5)","v":18},{"$f":"CONCATENATE($C85,\"(\",\"3\",$A$4,\" + \",\"2\",$A$5,\")\")","v":"2(3b + 2f)"},{"$f":"$C85*(3*$S$4+2*$S$5)","v":18},{"$f":"CONCATENATE($C85,\"(\",\"3\",$A$4,\" + \",\"2\",$A$5,\")\")","v":"2(3b + 2f)"},{"$f":"$C85*(3*$S$4+2*$S$5)","v":18},{"$f":"CONCATENATE($C85,\"(\",\"3\",$A$4,\" + \",\"2\",$A$5,\")\")","v":"2(3b + 2f)"},{"$f":"$C85*(3*$S$4+2*$S$5)","v":18},{"$f":"CONCATENATE($C85,\"(\",\"3\",$A$4,\" + \",\"2\",$A$5,\")\")","v":"2(3b + 2f)"},{"$f":"$C85*(3*$S$4+2*$S$5)","v":18},{"$f":"CONCATENATE($C85,\"(\",\"3\",$A$4,\" + \",\"2\",$A$5,\")\")","v":"2(3b + 2f)"},{"$f":"$C85*(3*$S$4+2*$S$5)","v":18},{"$f":"CONCATENATE($C85,\"(\",\"3\",$A$4,\" + \",\"2\",$A$5,\")\")","v":"2(3b + 2f)"},{"$f":"$C85*(3*$S$4+2*$S$5)","v":18},{"$f":"CONCATENATE($C85,\"(\",\"3\",$A$4,\" + \",\"2\",$A$5,\")\")","v":"2(3b + 2f)"},{"$f":"$C85*(3*$S$4+2*$S$5)","v":18},{"$f":"CONCATENATE($C85,\"(\",\"3\",$A$4,\" + \",\"2\",$A$5,\")\")","v":"2(3b + 2f)"},{"$f":"$C85*(3*$S$4+2*$S$5)","v":18},{"$f":"CONCATENATE($C85,\"(\",\"3\",$A$4,\" + \",\"2\",$A$5,\")\")","v":"2(3b + 2f)"},{"$f":"$C85*(3*$S$4+2*$S$5)","v":18},{"$f":"CONCATENATE($C85,\"(\",\"3\",$A$4,\" + \",\"2\",$A$5,\")\")","v":"2(3b + 2f)"},{"$f":"$C85*(3*$S$4+2*$S$5)","v":18},{"$f":"CONCATENATE($C85,\"(\",\"3\",$A$4,\" + \",\"2\",$A$5,\")\")","v":"2(3b + 2f)"},{"$f":"$C85*(3*$S$4+2*$S$5)","v":18},{"$f":"CONCATENATE($C85,\"(\",\"3\",$A$4,\" + \",\"2\",$A$5,\")\")","v":"2(3b + 2f)"},{"$f":"$C85*(3*$S$4+2*$S$5)","v":18},{"$f":"CONCATENATE($C85,\"(\",\"3\",$A$4,\" + \",\"2\",$A$5,\")\")","v":"2(3b + 2f)"},{"$f":"$C85*(3*$S$4+2*$S$5)","v":18},{"$f":"CONCATENATE($C85,\"(\",\"3\",$A$4,\" + \",\"2\",$A$5,\")\")","v":"2(3b + 2f)"},{"$f":"$C85*(3*$S$4+2*$S$5)","v":18},{"$f":"CONCATENATE($C85,\"(\",\"3\",$A$4,\" + \",\"2\",$A$5,\")\")","v":"2(3b + 2f)"},{"$f":"$C85*(3*$S$4+2*$S$5)","v":18},{"$f":"CONCATENATE($C85,\"(\",\"3\",$A$4,\" + \",\"2\",$A$5,\")\")","v":"2(3b + 2f)"},{"$f":"$C85*(3*$S$4+2*$S$5)","v":18},{"$f":"CONCATENATE($C85,\"(\",\"3\",$A$4,\" + \",\"2\",$A$5,\")\")","v":"2(3b + 2f)"},{"$f":"$C85*(3*$S$4+2*$S$5)","v":18},{"$f":"CONCATENATE($C85,\"(\",\"3\",$A$4,\" + \",\"2\",$A$5,\")\")","v":"2(3b + 2f)"},{"$f":"$C85*(3*$S$4+2*$S$5)","v":18},{"$f":"CONCATENATE($C85,\"(\",\"3\",$A$4,\" + \",\"2\",$A$5,\")\")","v":"2(3b + 2f)"},{"$f":"$C85*(3*$S$4+2*$S$5)","v":18},{"$f":"CONCATENATE($C85,\"(\",\"3\",$A$4,\" + \",\"2\",$A$5,\")\")","v":"2(3b + 2f)"},{"$f":"$C85*(3*$S$4+2*$S$5)","v":18},"2(3b + 2f)",18]
[74,16,{"$f":"INT(5*RAND()+2)","v":6},{"$f":"CONCATENATE($C86,\"(\",\"2\",$A$5,\" + \",\"3\",$A$7,\")\")","v":"6(2f + 3t)"},{"$f":"$C86*(2*$S$5+3*$S$7)","v":108},{"$f":"CONCATENATE($C86,\"(\",\"2\",$A$5,\" + \",\"3\",$A$7,\")\")","v":"6(2f + 3t)"},{"$f":"$C86*(2*$S$5+3*$S$7)","v":108},{"$f":"CONCATENATE($C86,\"(\",\"2\",$A$5,\" + \",\"3\",$A$7,\")\")","v":"6(2f + 3t)"},{"$f":"$C86*(2*$S$5+3*$S$7)","v":108},{"$f":"CONCATENATE($C86,\"(\",\"2\",$A$5,\" + \",\"3\",$A$7,\")\")","v":"6(2f + 3t)"},{"$f":"$C86*(2*$S$5+3*$S$7)","v":108},{"$f":"CONCATENATE($C86,\"(\",\"2\",$A$5,\" + \",\"3\",$A$7,\")\")","v":"6(2f + 3t)"},{"$f":"$C86*(2*$S$5+3*$S$7)","v":108},{"$f":"CONCATENATE($C86,\"(\",\"2\",$A$5,\" + \",\"3\",$A$7,\")\")","v":"6(2f + 3t)"},{"$f":"$C86*(2*$S$5+3*$S$7)","v":108},{"$f":"CONCATENATE($C86,\"(\",\"2\",$A$5,\" + \",\"3\",$A$7,\")\")","v":"6(2f + 3t)"},{"$f":"$C86*(2*$S$5+3*$S$7)","v":108},{"$f":"CONCATENATE($C86,\"(\",\"2\",$A$5,\" + \",\"3\",$A$7,\")\")","v":"6(2f + 3t)"},{"$f":"$C86*(2*$S$5+3*$S$7)","v":108},{"$f":"CONCATENATE($C86,\"(\",\"2\",$A$5,\" + \",\"3\",$A$7,\")\")","v":"6(2f + 3t)"},{"$f":"$C86*(2*$S$5+3*$S$7)","v":108},{"$f":"CONCATENATE($C86,\"(\",\"2\",$A$5,\" + \",\"3\",$A$7,\")\")","v":"6(2f + 3t)"},{"$f":"$C86*(2*$S$5+3*$S$7)","v":108},{"$f":"CONCATENATE($C86,\"(\",\"2\",$A$5,\" + \",\"3\",$A$7,\")\")","v":"6(2f + 3t)"},{"$f":"$C86*(2*$S$5+3*$S$7)","v":108},{"$f":"CONCATENATE($C86,\"(\",\"2\",$A$5,\" + \",\"3\",$A$7,\")\")","v":"6(2f + 3t)"},{"$f":"$C86*(2*$S$5+3*$S$7)","v":108},{"$f":"CONCATENATE($C86,\"(\",\"2\",$A$5,\" + \",\"3\",$A$7,\")\")","v":"6(2f + 3t)"},{"$f":"$C86*(2*$S$5+3*$S$7)","v":108},{"$f":"CONCATENATE($C86,\"(\",\"2\",$A$5,\" + \",\"3\",$A$7,\")\")","v":"6(2f + 3t)"},{"$f":"$C86*(2*$S$5+3*$S$7)","v":108},{"$f":"CONCATENATE($C86,\"(\",\"2\",$A$5,\" + \",\"3\",$A$7,\")\")","v":"6(2f + 3t)"},{"$f":"$C86*(2*$S$5+3*$S$7)","v":108},{"$f":"CONCATENATE($C86,\"(\",\"2\",$A$5,\" + \",\"3\",$A$7,\")\")","v":"6(2f + 3t)"},{"$f":"$C86*(2*$S$5+3*$S$7)","v":108},{"$f":"CONCATENATE($C86,\"(\",\"2\",$A$5,\" + \",\"3\",$A$7,\")\")","v":"6(2f + 3t)"},{"$f":"$C86*(2*$S$5+3*$S$7)","v":108},{"$f":"CONCATENATE($C86,\"(\",\"2\",$A$5,\" + \",\"3\",$A$7,\")\")","v":"6(2f + 3t)"},{"$f":"$C86*(2*$S$5+3*$S$7)","v":108},{"$f":"CONCATENATE($C86,\"(\",\"2\",$A$5,\" + \",\"3\",$A$7,\")\")","v":"6(2f + 3t)"},{"$f":"$C86*(2*$S$5+3*$S$7)","v":108},{"$f":"CONCATENATE($C86,\"(\",\"2\",$A$5,\" + \",\"3\",$A$7,\")\")","v":"6(2f + 3t)"},{"$f":"$C86*(2*$S$5+3*$S$7)","v":108},{"$f":"CONCATENATE($C86,\"(\",\"2\",$A$5,\" + \",\"3\",$A$7,\")\")","v":"6(2f + 3t)"},{"$f":"$C86*(2*$S$5+3*$S$7)","v":108},{"$f":"CONCATENATE($C86,\"(\",\"2\",$A$5,\" + \",\"3\",$A$7,\")\")","v":"6(2f + 3t)"},{"$f":"$C86*(2*$S$5+3*$S$7)","v":108},{"$f":"CONCATENATE($C86,\"(\",\"2\",$A$5,\" + \",\"3\",$A$7,\")\")","v":"6(2f + 3t)"},{"$f":"$C86*(2*$S$5+3*$S$7)","v":108},{"$f":"CONCATENATE($C86,\"(\",\"2\",$A$5,\" + \",\"3\",$A$7,\")\")","v":"6(2f + 3t)"},{"$f":"$C86*(2*$S$5+3*$S$7)","v":108},{"$f":"CONCATENATE($C86,\"(\",\"2\",$A$5,\" + \",\"3\",$A$7,\")\")","v":"6(2f + 3t)"},{"$f":"$C86*(2*$S$5+3*$S$7)","v":108},"6(2f + 3t)",108]
[75,36,7,{"$f":"CONCATENATE($C87,\"(\",\"2\",$A$6,\" + \",\"3\",$A$4,\" + \",$C82,\")\")","v":"7(2j + 3b + 3)"},{"$f":"$C87*(2*$S$6+3*$S$4+$C82)","v":112},{"$f":"CONCATENATE($C87,\"(\",\"2\",$A$6,\" + \",\"3\",$A$4,\" + \",$C82,\")\")","v":"7(2j + 3b + 3)"},{"$f":"$C87*(2*$S$6+3*$S$4+$C82)","v":112},{"$f":"CONCATENATE($C87,\"(\",\"2\",$A$6,\" + \",\"3\",$A$4,\" + \",$C82,\")\")","v":"7(2j + 3b + 3)"},{"$f":"$C87*(2*$S$6+3*$S$4+$C82)","v":112},{"$f":"CONCATENATE($C87,\"(\",\"2\",$A$6,\" + \",\"3\",$A$4,\" + \",$C82,\")\")","v":"7(2j + 3b + 3)"},{"$f":"$C87*(2*$S$6+3*$S$4+$C82)","v":112},{"$f":"CONCATENATE($C87,\"(\",\"2\",$A$6,\" + \",\"3\",$A$4,\" + \",$C82,\")\")","v":"7(2j + 3b + 3)"},{"$f":"$C87*(2*$S$6+3*$S$4+$C82)","v":112},{"$f":"CONCATENATE($C87,\"(\",\"2\",$A$6,\" + \",\"3\",$A$4,\" + \",$C82,\")\")","v":"7(2j + 3b + 3)"},{"$f":"$C87*(2*$S$6+3*$S$4+$C82)","v":112},{"$f":"CONCATENATE($C87,\"(\",\"2\",$A$6,\" + \",\"3\",$A$4,\" + \",$C82,\")\")","v":"7(2j + 3b + 3)"},{"$f":"$C87*(2*$S$6+3*$S$4+$C82)","v":112},{"$f":"CONCATENATE($C87,\"(\",\"2\",$A$6,\" + \",\"3\",$A$4,\" + \",$C82,\")\")","v":"7(2j + 3b + 3)"},{"$f":"$C87*(2*$S$6+3*$S$4+$C82)","v":112},{"$f":"CONCATENATE($C87,\"(\",\"2\",$A$6,\" + \",\"3\",$A$4,\" + \",$C82,\")\")","v":"7(2j + 3b + 3)"},{"$f":"$C87*(2*$S$6+3*$S$4+$C82)","v":112},{"$f":"CONCATENATE($C87,\"(\",\"2\",$A$6,\" + \",\"3\",$A$4,\" + \",$C82,\")\")","v":"7(2j + 3b + 3)"},{"$f":"$C87*(2*$S$6+3*$S$4+$C82)","v":112},{"$f":"CONCATENATE($C87,\"(\",\"2\",$A$6,\" + \",\"3\",$A$4,\" + \",$C82,\")\")","v":"7(2j + 3b + 3)"},{"$f":"$C87*(2*$S$6+3*$S$4+$C82)","v":112},{"$f":"CONCATENATE($C87,\"(\",\"2\",$A$6,\" + \",\"3\",$A$4,\" + \",$C82,\")\")","v":"7(2j + 3b + 3)"},{"$f":"$C87*(2*$S$6+3*$S$4+$C82)","v":112},{"$f":"CONCATENATE($C87,\"(\",\"2\",$A$6,\" + \",\"3\",$A$4,\" + \",$C82,\")\")","v":"7(2j + 3b + 3)"},{"$f":"$C87*(2*$S$6+3*$S$4+$C82)","v":112},{"$f":"CONCATENATE($C87,\"(\",\"2\",$A$6,\" + \",\"3\",$A$4,\" + \",$C82,\")\")","v":"7(2j + 3b + 3)"},{"$f":"$C87*(2*$S$6+3*$S$4+$C82)","v":112},{"$f":"CONCATENATE($C87,\"(\",\"2\",$A$6,\" + \",\"3\",$A$4,\" + \",$C82,\")\")","v":"7(2j + 3b + 3)"},{"$f":"$C87*(2*$S$6+3*$S$4+$C82)","v":112},{"$f":"CONCATENATE($C87,\"(\",\"2\",$A$6,\" + \",\"3\",$A$4,\" + \",$C82,\")\")","v":"7(2j + 3b + 3)"},{"$f":"$C87*(2*$S$6+3*$S$4+$C82)","v":112},{"$f":"CONCATENATE($C87,\"(\",\"2\",$A$6,\" + \",\"3\",$A$4,\" + \",$C82,\")\")","v":"7(2j + 3b + 3)"},{"$f":"$C87*(2*$S$6+3*$S$4+$C82)","v":112},{"$f":"CONCATENATE($C87,\"(\",\"2\",$A$6,\" + \",\"3\",$A$4,\" + \",$C82,\")\")","v":"7(2j + 3b + 3)"},{"$f":"$C87*(2*$S$6+3*$S$4+$C82)","v":112},{"$f":"CONCATENATE($C87,\"(\",\"2\",$A$6,\" + \",\"3\",$A$4,\" + \",$C82,\")\")","v":"7(2j + 3b + 3)"},{"$f":"$C87*(2*$S$6+3*$S$4+$C82)","v":112},{"$f":"CONCATENATE($C87,\"(\",\"2\",$A$6,\" + \",\"3\",$A$4,\" + \",$C82,\")\")","v":"7(2j + 3b + 3)"},{"$f":"$C87*(2*$S$6+3*$S$4+$C82)","v":112},{"$f":"CONCATENATE($C87,\"(\",\"2\",$A$6,\" + \",\"3\",$A$4,\" + \",$C82,\")\")","v":"7(2j + 3b + 3)"},{"$f":"$C87*(2*$S$6+3*$S$4+$C82)","v":112},{"$f":"CONCATENATE($C87,\"(\",\"2\",$A$6,\" + \",\"3\",$A$4,\" + \",$C82,\")\")","v":"7(2j + 3b + 3)"},{"$f":"$C87*(2*$S$6+3*$S$4+$C82)","v":112},{"$f":"CONCATENATE($C87,\"(\",\"2\",$A$6,\" + \",\"3\",$A$4,\" + \",$C82,\")\")","v":"7(2j + 3b + 3)"},{"$f":"$C87*(2*$S$6+3*$S$4+$C82)","v":112},{"$f":"CONCATENATE($C87,\"(\",\"2\",$A$6,\" + \",\"3\",$A$4,\" + \",$C82,\")\")","v":"7(2j + 3b + 3)"},{"$f":"$C87*(2*$S$6+3*$S$4+$C82)","v":112},{"$f":"CONCATENATE($C87,\"(\",\"2\",$A$6,\" + \",\"3\",$A$4,\" + \",$C82,\")\")","v":"7(2j + 3b + 3)"},{"$f":"$C87*(2*$S$6+3*$S$4+$C82)","v":112},"7(2j + 3b + 3)",112]
[76,42,5,{"$f":"CONCATENATE($A$4,CHAR(178))","v":"b²"},{"$f":"$S$4^2","v":1},{"$f":"CONCATENATE($A$4,CHAR(178))","v":"b²"},{"$f":"$S$4^2","v":1},{"$f":"CONCATENATE($A$4,CHAR(178))","v":"b²"},{"$f":"$S$4^2","v":1},{"$f":"CONCATENATE($A$4,CHAR(178))","v":"b²"},{"$f":"$S$4^2","v":1},{"$f":"CONCATENATE($A$4,CHAR(178))","v":"b²"},{"$f":"$S$4^2","v":1},{"$f":"CONCATENATE($A$4,CHAR(178))","v":"b²"},{"$f":"$S$4^2","v":1},{"$f":"CONCATENATE($A$4,CHAR(178))","v":"b²"},{"$f":"$S$4^2","v":1},{"$f":"CONCATENATE($A$4,CHAR(178))","v":"b²"},{"$f":"$S$4^2","v":1},{"$f":"CONCATENATE($A$4,CHAR(178))","v":"b²"},{"$f":"$S$4^2","v":1},{"$f":"CONCATENATE($A$4,CHAR(178))","v":"b²"},{"$f":"$S$4^2","v":1},{"$f":"CONCATENATE($A$4,CHAR(178))","v":"b²"},{"$f":"$S$4^2","v":1},{"$f":"CONCATENATE($A$4,CHAR(178))","v":"b²"},{"$f":"$S$4^2","v":1},{"$f":"CONCATENATE($A$4,CHAR(178))","v":"b²"},{"$f":"$S$4^2","v":1},{"$f":"CONCATENATE($A$4,CHAR(178))","v":"b²"},{"$f":"$S$4^2","v":1},{"$f":"CONCATENATE($A$4,CHAR(178))","v":"b²"},{"$f":"$S$4^2","v":1},{"$f":"CONCATENATE($A$4,CHAR(178))","v":"b²"},{"$f":"$S$4^2","v":1},{"$f":"CONCATENATE($A$4,CHAR(178))","v":"b²"},{"$f":"$S$4^2","v":1},{"$f":"CONCATENATE($A$4,CHAR(178))","v":"b²"},{"$f":"$S$4^2","v":1},{"$f":"CONCATENATE($A$4,CHAR(178))","v":"b²"},{"$f":"$S$4^2","v":1},{"$f":"CONCATENATE($A$4,CHAR(178))","v":"b²"},{"$f":"$S$4^2","v":1},{"$f":"CONCATENATE($A$4,CHAR(178))","v":"b²"},{"$f":"$S$4^2","v":1},{"$f":"CONCATENATE($A$4,CHAR(178))","v":"b²"},{"$f":"$S$4^2","v":1},{"$f":"CONCATENATE($A$4,CHAR(178))","v":"b²"},{"$f":"$S$4^2","v":1},{"$f":"CONCATENATE($A$4,CHAR(178))","v":"b²"},{"$f":"$S$4^2","v":1},{"$f":"CONCATENATE($A$4,CHAR(178))","v":"b²"},{"$f":"$S$4^2","v":1},"b²",1]
[77,30,8,{"$f":"CONCATENATE($A$5,CHAR(178))","v":"f²"},{"$f":"$S$5^2","v":9},{"$f":"CONCATENATE($A$5,CHAR(178))","v":"f²"},{"$f":"$S$5^2","v":9},{"$f":"CONCATENATE($A$5,CHAR(178))","v":"f²"},{"$f":"$S$5^2","v":9},{"$f":"CONCATENATE($A$5,CHAR(178))","v":"f²"},{"$f":"$S$5^2","v":9},{"$f":"CONCATENATE($A$5,CHAR(178))","v":"f²"},{"$f":"$S$5^2","v":9},{"$f":"CONCATENATE($A$5,CHAR(178))","v":"f²"},{"$f":"$S$5^2","v":9},{"$f":"CONCATENATE($A$5,CHAR(178))","v":"f²"},{"$f":"$S$5^2","v":9},{"$f":"CONCATENATE($A$5,CHAR(178))","v":"f²"},{"$f":"$S$5^2","v":9},{"$f":"CONCATENATE($A$5,CHAR(178))","v":"f²"},{"$f":"$S$5^2","v":9},{"$f":"CONCATENATE($A$5,CHAR(178))","v":"f²"},{"$f":"$S$5^2","v":9},{"$f":"CONCATENATE($A$5,CHAR(178))","v":"f²"},{"$f":"$S$5^2","v":9},{"$f":"CONCATENATE($A$5,CHAR(178))","v":"f²"},{"$f":"$S$5^2","v":9},{"$f":"CONCATENATE($A$5,CHAR(178))","v":"f²"},{"$f":"$S$5^2","v":9},{"$f":"CONCATENATE($A$5,CHAR(178))","v":"f²"},{"$f":"$S$5^2","v":9},{"$f":"CONCATENATE($A$5,CHAR(178))","v":"f²"},{"$f":"$S$5^2","v":9},{"$f":"CONCATENATE($A$5,CHAR(178))","v":"f²"},{"$f":"$S$5^2","v":9},{"$f":"CONCATENATE($A$5,CHAR(178))","v":"f²"},{"$f":"$S$5^2","v":9},{"$f":"CONCATENATE($A$5,CHAR(178))","v":"f²"},{"$f":"$S$5^2","v":9},{"$f":"CONCATENATE($A$5,CHAR(178))","v":"f²"},{"$f":"$S$5^2","v":9},{"$f":"CONCATENATE($A$5,CHAR(178))","v":"f²"},{"$f":"$S$5^2","v":9},{"$f":"CONCATENATE($A$5,CHAR(178))","v":"f²"},{"$f":"$S$5^2","v":9},{"$f":"CONCATENATE($A$5,CHAR(178))","v":"f²"},{"$f":"$S$5^2","v":9},{"$f":"CONCATENATE($A$5,CHAR(178))","v":"f²"},{"$f":"$S$5^2","v":9},{"$f":"CONCATENATE($A$5,CHAR(178))","v":"f²"},{"$f":"$S$5^2","v":9},{"$f":"CONCATENATE($A$5,CHAR(178))","v":"f²"},{"$f":"$S$5^2","v":9},"f²",9]
[78,6,9,{"$f":"CONCATENATE($A$6,CHAR(178))","v":"j²"},{"$f":"$S$6^2","v":25},{"$f":"CONCATENATE($A$6,CHAR(178))","v":"j²"},{"$f":"$S$6^2","v":25},{"$f":"CONCATENATE($A$6,CHAR(178))","v":"j²"},{"$f":"$S$6^2","v":25},{"$f":"CONCATENATE($A$6,CHAR(178))","v":"j²"},{"$f":"$S$6^2","v":25},{"$f":"CONCATENATE($A$6,CHAR(178))","v":"j²"},{"$f":"$S$6^2","v":25},{"$f":"CONCATENATE($A$6,CHAR(178))","v":"j²"},{"$f":"$S$6^2","v":25},{"$f":"CONCATENATE($A$6,CHAR(178))","v":"j²"},{"$f":"$S$6^2","v":25},{"$f":"CONCATENATE($A$6,CHAR(178))","v":"j²"},{"$f":"$S$6^2","v":25},{"$f":"CONCATENATE($A$6,CHAR(178))","v":"j²"},{"$f":"$S$6^2","v":25},{"$f":"CONCATENATE($A$6,CHAR(178))","v":"j²"},{"$f":"$S$6^2","v":25},{"$f":"CONCATENATE($A$6,CHAR(178))","v":"j²"},{"$f":"$S$6^2","v":25},{"$f":"CONCATENATE($A$6,CHAR(178))","v":"j²"},{"$f":"$S$6^2","v":25},{"$f":"CONCATENATE($A$6,CHAR(178))","v":"j²"},{"$f":"$S$6^2","v":25},{"$f":"CONCATENATE($A$6,CHAR(178))","v":"j²"},{"$f":"$S$6^2","v":25},{"$f":"CONCATENATE($A$6,CHAR(178))","v":"j²"},{"$f":"$S$6^2","v":25},{"$f":"CONCATENATE($A$6,CHAR(178))","v":"j²"},{"$f":"$S$6^2","v":25},{"$f":"CONCATENATE($A$6,CHAR(178))","v":"j²"},{"$f":"$S$6^2","v":25},{"$f":"CONCATENATE($A$6,CHAR(178))","v":"j²"},{"$f":"$S$6^2","v":25},{"$f":"CONCATENATE($A$6,CHAR(178))","v":"j²"},{"$f":"$S$6^2","v":25},{"$f":"CONCATENATE($A$6,CHAR(178))","v":"j²"},{"$f":"$S$6^2","v":25},{"$f":"CONCATENATE($A$6,CHAR(178))","v":"j²"},{"$f":"$S$6^2","v":25},{"$f":"CONCATENATE($A$6,CHAR(178))","v":"j²"},{"$f":"$S$6^2","v":25},{"$f":"CONCATENATE($A$6,CHAR(178))","v":"j²"},{"$f":"$S$6^2","v":25},{"$f":"CONCATENATE($A$6,CHAR(178))","v":"j²"},{"$f":"$S$6^2","v":25},{"$f":"CONCATENATE($A$6,CHAR(178))","v":"j²"},{"$f":"$S$6^2","v":25},"j²",25]
[79,8,9,{"$f":"CONCATENATE(\"3\",$A$4,CHAR(178))","v":"3b²"},{"$f":"3*$S$4^2","v":3},{"$f":"CONCATENATE(\"3\",$A$4,CHAR(178))","v":"3b²"},{"$f":"3*$S$4^2","v":3},{"$f":"CONCATENATE(\"3\",$A$4,CHAR(178))","v":"3b²"},{"$f":"3*$S$4^2","v":3},{"$f":"CONCATENATE(\"3\",$A$4,CHAR(178))","v":"3b²"},{"$f":"3*$S$4^2","v":3},{"$f":"CONCATENATE(\"3\",$A$4,CHAR(178))","v":"3b²"},{"$f":"3*$S$4^2","v":3},{"$f":"CONCATENATE(\"3\",$A$4,CHAR(178))","v":"3b²"},{"$f":"3*$S$4^2","v":3},{"$f":"CONCATENATE(\"3\",$A$4,CHAR(178))","v":"3b²"},{"$f":"3*$S$4^2","v":3},{"$f":"CONCATENATE(\"3\",$A$4,CHAR(178))","v":"3b²"},{"$f":"3*$S$4^2","v":3},{"$f":"CONCATENATE(\"3\",$A$4,CHAR(178))","v":"3b²"},{"$f":"3*$S$4^2","v":3},{"$f":"CONCATENATE(\"3\",$A$4,CHAR(178))","v":"3b²"},{"$f":"3*$S$4^2","v":3},{"$f":"CONCATENATE(\"3\",$A$4,CHAR(178))","v":"3b²"},{"$f":"3*$S$4^2","v":3},{"$f":"CONCATENATE(\"3\",$A$4,CHAR(178))","v":"3b²"},{"$f":"3*$S$4^2","v":3},{"$f":"CONCATENATE(\"3\",$A$4,CHAR(178))","v":"3b²"},{"$f":"3*$S$4^2","v":3},{"$f":"CONCATENATE(\"3\",$A$4,CHAR(178))","v":"3b²"},{"$f":"3*$S$4^2","v":3},{"$f":"CONCATENATE(\"3\",$A$4,CHAR(178))","v":"3b²"},{"$f":"3*$S$4^2","v":3},{"$f":"CONCATENATE(\"3\",$A$4,CHAR(178))","v":"3b²"},{"$f":"3*$S$4^2","v":3},{"$f":"CONCATENATE(\"3\",$A$4,CHAR(178))","v":"3b²"},{"$f":"3*$S$4^2","v":3},{"$f":"CONCATENATE(\"3\",$A$4,CHAR(178))","v":"3b²"},{"$f":"3*$S$4^2","v":3},{"$f":"CONCATENATE(\"3\",$A$4,CHAR(178))","v":"3b²"},{"$f":"3*$S$4^2","v":3},{"$f":"CONCATENATE(\"3\",$A$4,CHAR(178))","v":"3b²"},{"$f":"3*$S$4^2","v":3},{"$f":"CONCATENATE(\"3\",$A$4,CHAR(178))","v":"3b²"},{"$f":"3*$S$4^2","v":3},{"$f":"CONCATENATE(\"3\",$A$4,CHAR(178))","v":"3b²"},{"$f":"3*$S$4^2","v":3},{"$f":"CONCATENATE(\"3\",$A$4,CHAR(178))","v":"3b²"},{"$f":"3*$S$4^2","v":3},{"$f":"CONCATENATE(\"3\",$A$4,CHAR(178))","v":"3b²"},{"$f":"3*$S$4^2","v":3},{"$f":"CONCATENATE(\"3\",$A$4,CHAR(178))","v":"3b²"},{"$f":"3*$S$4^2","v":3},"3b²",3]
[80,48,7,{"$f":"CONCATENATE(\"2\",$A$8,CHAR(178))","v":"2u²"},{"$f":"2*$S$8^2","v":72},{"$f":"CONCATENATE(\"2\",$A$8,CHAR(178))","v":"2u²"},{"$f":"2*$S$8^2","v":72},{"$f":"CONCATENATE(\"2\",$A$8,CHAR(178))","v":"2u²"},{"$f":"2*$S$8^2","v":72},{"$f":"CONCATENATE(\"2\",$A$8,CHAR(178))","v":"2u²"},{"$f":"2*$S$8^2","v":72},{"$f":"CONCATENATE(\"2\",$A$8,CHAR(178))","v":"2u²"},{"$f":"2*$S$8^2","v":72},{"$f":"CONCATENATE(\"2\",$A$8,CHAR(178))","v":"2u²"},{"$f":"2*$S$8^2","v":72},{"$f":"CONCATENATE(\"2\",$A$8,CHAR(178))","v":"2u²"},{"$f":"2*$S$8^2","v":72},{"$f":"CONCATENATE(\"2\",$A$8,CHAR(178))","v":"2u²"},{"$f":"2*$S$8^2","v":72},{"$f":"CONCATENATE(\"2\",$A$8,CHAR(178))","v":"2u²"},{"$f":"2*$S$8^2","v":72},{"$f":"CONCATENATE(\"2\",$A$8,CHAR(178))","v":"2u²"},{"$f":"2*$S$8^2","v":72},{"$f":"CONCATENATE(\"2\",$A$8,CHAR(178))","v":"2u²"},{"$f":"2*$S$8^2","v":72},{"$f":"CONCATENATE(\"2\",$A$8,CHAR(178))","v":"2u²"},{"$f":"2*$S$8^2","v":72},{"$f":"CONCATENATE(\"2\",$A$8,CHAR(178))","v":"2u²"},{"$f":"2*$S$8^2","v":72},{"$f":"CONCATENATE(\"2\",$A$8,CHAR(178))","v":"2u²"},{"$f":"2*$S$8^2","v":72},{"$f":"CONCATENATE(\"2\",$A$8,CHAR(178))","v":"2u²"},{"$f":"2*$S$8^2","v":72},{"$f":"CONCATENATE(\"2\",$A$8,CHAR(178))","v":"2u²"},{"$f":"2*$S$8^2","v":72},{"$f":"CONCATENATE(\"2\",$A$8,CHAR(178))","v":"2u²"},{"$f":"2*$S$8^2","v":72},{"$f":"CONCATENATE(\"2\",$A$8,CHAR(178))","v":"2u²"},{"$f":"2*$S$8^2","v":72},{"$f":"CONCATENATE(\"2\",$A$8,CHAR(178))","v":"2u²"},{"$f":"2*$S$8^2","v":72},{"$f":"CONCATENATE(\"2\",$A$8,CHAR(178))","v":"2u²"},{"$f":"2*$S$8^2","v":72},{"$f":"CONCATENATE(\"2\",$A$8,CHAR(178))","v":"2u²"},{"$f":"2*$S$8^2","v":72},{"$f":"CONCATENATE(\"2\",$A$8,CHAR(178))","v":"2u²"},{"$f":"2*$S$8^2","v":72},{"$f":"CONCATENATE(\"2\",$A$8,CHAR(178))","v":"2u²"},{"$f":"2*$S$8^2","v":72},{"$f":"CONCATENATE(\"2\",$A$8,CHAR(178))","v":"2u²"},{"$f":"2*$S$8^2","v":72},{"$f":"CONCATENATE(\"2\",$A$8,CHAR(178))","v":"2u²"},{"$f":"2*$S$8^2","v":72},"2u²",72]
[81,28,6,{"$f":"CONCATENATE($A$5,CHAR(178),\" + \",$C92)","v":"f² + 7"},{"$f":"$S$5^2+$C92","v":16},{"$f":"CONCATENATE($A$5,CHAR(178),\" + \",$C92)","v":"f² + 7"},{"$f":"$S$5^2+$C92","v":16},{"$f":"CONCATENATE($A$5,CHAR(178),\" + \",$C92)","v":"f² + 7"},{"$f":"$S$5^2+$C92","v":16},{"$f":"CONCATENATE($A$5,CHAR(178),\" + \",$C92)","v":"f² + 7"},{"$f":"$S$5^2+$C92","v":16},{"$f":"CONCATENATE($A$5,CHAR(178),\" + \",$C92)","v":"f² + 7"},{"$f":"$S$5^2+$C92","v":16},{"$f":"CONCATENATE($A$5,CHAR(178),\" + \",$C92)","v":"f² + 7"},{"$f":"$S$5^2+$C92","v":16},{"$f":"CONCATENATE($A$5,CHAR(178),\" + \",$C92)","v":"f² + 7"},{"$f":"$S$5^2+$C92","v":16},{"$f":"CONCATENATE($A$5,CHAR(178),\" + \",$C92)","v":"f² + 7"},{"$f":"$S$5^2+$C92","v":16},{"$f":"CONCATENATE($A$5,CHAR(178),\" + \",$C92)","v":"f² + 7"},{"$f":"$S$5^2+$C92","v":16},{"$f":"CONCATENATE($A$5,CHAR(178),\" + \",$C92)","v":"f² + 7"},{"$f":"$S$5^2+$C92","v":16},{"$f":"CONCATENATE($A$5,CHAR(178),\" + \",$C92)","v":"f² + 7"},{"$f":"$S$5^2+$C92","v":16},{"$f":"CONCATENATE($A$5,CHAR(178),\" + \",$C92)","v":"f² + 7"},{"$f":"$S$5^2+$C92","v":16},{"$f":"CONCATENATE($A$5,CHAR(178),\" + \",$C92)","v":"f² + 7"},{"$f":"$S$5^2+$C92","v":16},{"$f":"CONCATENATE($A$5,CHAR(178),\" + \",$C92)","v":"f² + 7"},{"$f":"$S$5^2+$C92","v":16},{"$f":"CONCATENATE($A$5,CHAR(178),\" + \",$C92)","v":"f² + 7"},{"$f":"$S$5^2+$C92","v":16},{"$f":"CONCATENATE($A$5,CHAR(178),\" + \",$C92)","v":"f² + 7"},{"$f":"$S$5^2+$C92","v":16},{"$f":"CONCATENATE($A$5,CHAR(178),\" + \",$C92)","v":"f² + 7"},{"$f":"$S$5^2+$C92","v":16},{"$f":"CONCATENATE($A$5,CHAR(178),\" + \",$C92)","v":"f² + 7"},{"$f":"$S$5^2+$C92","v":16},{"$f":"CONCATENATE($A$5,CHAR(178),\" + \",$C92)","v":"f² + 7"},{"$f":"$S$5^2+$C92","v":16},{"$f":"CONCATENATE($A$5,CHAR(178),\" + \",$C92)","v":"f² + 7"},{"$f":"$S$5^2+$C92","v":16},{"$f":"CONCATENATE($A$5,CHAR(178),\" + \",$C92)","v":"f² + 7"},{"$f":"$S$5^2+$C92","v":16},{"$f":"CONCATENATE($A$5,CHAR(178),\" + \",$C92)","v":"f² + 7"},{"$f":"$S$5^2+$C92","v":16},{"$f":"CONCATENATE($A$5,CHAR(178),\" + \",$C92)","v":"f² + 7"},{"$f":"$S$5^2+$C92","v":16},{"$f":"CONCATENATE($A$5,CHAR(178),\" + \",$C92)","v":"f² + 7"},{"$f":"$S$5^2+$C92","v":16},{"$f":"CONCATENATE($A$5,CHAR(178),\" + \",$C92)","v":"f² + 7"},{"$f":"$S$5^2+$C92","v":16},"f² + 7",16]
[82,44,8,{"$f":"CONCATENATE($A$7,CHAR(178),\" - \",$C93)","v":"t² - 6"},{"$f":"$S$7^2-$C93","v":10},{"$f":"CONCATENATE($A$7,CHAR(178),\" - \",$C93)","v":"t² - 6"},{"$f":"$S$7^2-$C93","v":10},{"$f":"CONCATENATE($A$7,CHAR(178),\" - \",$C93)","v":"t² - 6"},{"$f":"$S$7^2-$C93","v":10},{"$f":"CONCATENATE($A$7,CHAR(178),\" - \",$C93)","v":"t² - 6"},{"$f":"$S$7^2-$C93","v":10},{"$f":"CONCATENATE($A$7,CHAR(178),\" - \",$C93)","v":"t² - 6"},{"$f":"$S$7^2-$C93","v":10},{"$f":"CONCATENATE($A$7,CHAR(178),\" - \",$C93)","v":"t² - 6"},{"$f":"$S$7^2-$C93","v":10},{"$f":"CONCATENATE($A$7,CHAR(178),\" - \",$C93)","v":"t² - 6"},{"$f":"$S$7^2-$C93","v":10},{"$f":"CONCATENATE($A$7,CHAR(178),\" - \",$C93)","v":"t² - 6"},{"$f":"$S$7^2-$C93","v":10},{"$f":"CONCATENATE($A$7,CHAR(178),\" - \",$C93)","v":"t² - 6"},{"$f":"$S$7^2-$C93","v":10},{"$f":"CONCATENATE($A$7,CHAR(178),\" - \",$C93)","v":"t² - 6"},{"$f":"$S$7^2-$C93","v":10},{"$f":"CONCATENATE($A$7,CHAR(178),\" - \",$C93)","v":"t² - 6"},{"$f":"$S$7^2-$C93","v":10},{"$f":"CONCATENATE($A$7,CHAR(178),\" - \",$C93)","v":"t² - 6"},{"$f":"$S$7^2-$C93","v":10},{"$f":"CONCATENATE($A$7,CHAR(178),\" - \",$C93)","v":"t² - 6"},{"$f":"$S$7^2-$C93","v":10},{"$f":"CONCATENATE($A$7,CHAR(178),\" - \",$C93)","v":"t² - 6"},{"$f":"$S$7^2-$C93","v":10},{"$f":"CONCATENATE($A$7,CHAR(178),\" - \",$C93)","v":"t² - 6"},{"$f":"$S$7^2-$C93","v":10},{"$f":"CONCATENATE($A$7,CHAR(178),\" - \",$C93)","v":"t² - 6"},{"$f":"$S$7^2-$C93","v":10},{"$f":"CONCATENATE($A$7,CHAR(178),\" - \",$C93)","v":"t² - 6"},{"$f":"$S$7^2-$C93","v":10},{"$f":"CONCATENATE($A$7,CHAR(178),\" - \",$C93)","v":"t² - 6"},{"$f":"$S$7^2-$C93","v":10},{"$f":"CONCATENATE($A$7,CHAR(178),\" - \",$C93)","v":"t² - 6"},{"$f":"$S$7^2-$C93","v":10},{"$f":"CONCATENATE($A$7,CHAR(178),\" - \",$C93)","v":"t² - 6"},{"$f":"$S$7^2-$C93","v":10},{"$f":"CONCATENATE($A$7,CHAR(178),\" - \",$C93)","v":"t² - 6"},{"$f":"$S$7^2-$C93","v":10},{"$f":"CONCATENATE($A$7,CHAR(178),\" - \",$C93)","v":"t² - 6"},{"$f":"$S$7^2-$C93","v":10},{"$f":"CONCATENATE($A$7,CHAR(178),\" - \",$C93)","v":"t² - 6"},{"$f":"$S$7^2-$C93","v":10},{"$f":"CONCATENATE($A$7,CHAR(178),\" - \",$C93)","v":"t² - 6"},{"$f":"$S$7^2-$C93","v":10},{"$f":"CONCATENATE($A$7,CHAR(178),\" - \",$C93)","v":"t² - 6"},{"$f":"$S$7^2-$C93","v":10},"t² - 6",10]
[83,48,5,{"$f":"CONCATENATE($A$6,CHAR(178),\" + \",$A$4)","v":"j² + b"},{"$f":"$S$6^2+$S$6","v":30},{"$f":"CONCATENATE($A$6,CHAR(178),\" + \",$A$4)","v":"j² + b"},{"$f":"$S$6^2+$S$6","v":30},{"$f":"CONCATENATE($A$6,CHAR(178),\" + \",$A$4)","v":"j² + b"},{"$f":"$S$6^2+$S$6","v":30},{"$f":"CONCATENATE($A$6,CHAR(178),\" + \",$A$4)","v":"j² + b"},{"$f":"$S$6^2+$S$6","v":30},{"$f":"CONCATENATE($A$6,CHAR(178),\" + \",$A$4)","v":"j² + b"},{"$f":"$S$6^2+$S$6","v":30},{"$f":"CONCATENATE($A$6,CHAR(178),\" + \",$A$4)","v":"j² + b"},{"$f":"$S$6^2+$S$6","v":30},{"$f":"CONCATENATE($A$6,CHAR(178),\" + \",$A$4)","v":"j² + b"},{"$f":"$S$6^2+$S$6","v":30},{"$f":"CONCATENATE($A$6,CHAR(178),\" + \",$A$4)","v":"j² + b"},{"$f":"$S$6^2+$S$6","v":30},{"$f":"CONCATENATE($A$6,CHAR(178),\" + \",$A$4)","v":"j² + b"},{"$f":"$S$6^2+$S$6","v":30},{"$f":"CONCATENATE($A$6,CHAR(178),\" + \",$A$4)","v":"j² + b"},{"$f":"$S$6^2+$S$6","v":30},{"$f":"CONCATENATE($A$6,CHAR(178),\" + \",$A$4)","v":"j² + b"},{"$f":"$S$6^2+$S$6","v":30},{"$f":"CONCATENATE($A$6,CHAR(178),\" + \",$A$4)","v":"j² + b"},{"$f":"$S$6^2+$S$6","v":30},{"$f":"CONCATENATE($A$6,CHAR(178),\" + \",$A$4)","v":"j² + b"},{"$f":"$S$6^2+$S$6","v":30},{"$f":"CONCATENATE($A$6,CHAR(178),\" + \",$A$4)","v":"j² + b"},{"$f":"$S$6^2+$S$6","v":30},{"$f":"CONCATENATE($A$6,CHAR(178),\" + \",$A$4)","v":"j² + b"},{"$f":"$S$6^2+$S$6","v":30},{"$f":"CONCATENATE($A$6,CHAR(178),\" + \",$A$4)","v":"j² + b"},{"$f":"$S$6^2+$S$6","v":30},{"$f":"CONCATENATE($A$6,CHAR(178),\" + \",$A$4)","v":"j² + b"},{"$f":"$S$6^2+$S$6","v":30},{"$f":"CONCATENATE($A$6,CHAR(178),\" + \",$A$4)","v":"j² + b"},{"$f":"$S$6^2+$S$6","v":30},{"$f":"CONCATENATE($A$6,CHAR(178),\" + \",$A$4)","v":"j² + b"},{"$f":"$S$6^2+$S$6","v":30},{"$f":"CONCATENATE($A$6,CHAR(178),\" + \",$A$4)","v":"j² + b"},{"$f":"$S$6^2+$S$6","v":30},{"$f":"CONCATENATE($A$6,CHAR(178),\" + \",$A$4)","v":"j² + b"},{"$f":"$S$6^2+$S$6","v":30},{"$f":"CONCATENATE($A$6,CHAR(178),\" + \",$A$4)","v":"j² + b"},{"$f":"$S$6^2+$S$6","v":30},{"$f":"CONCATENATE($A$6,CHAR(178),\" + \",$A$4)","v":"j² + b"},{"$f":"$S$6^2+$S$6","v":30},{"$f":"CONCATENATE($A$6,CHAR(178),\" + \",$A$4)","v":"j² + b"},{"$f":"$S$6^2+$S$6","v":30},{"$f":"CONCATENATE($A$6,CHAR(178),\" + \",$A$4)","v":"j² + b"},{"$f":"$S$6^2+$S$6","v":30},"j² + b",30]
[84,14,6,{"$f":"CONCATENATE($A$4,CHAR(178),\" + \",\"3\",$A$5)","v":"b² + 3f"},{"$f":"$S$4^2+3*$S$5","v":10},{"$f":"CONCATENATE($A$4,CHAR(178),\" + \",\"3\",$A$5)","v":"b² + 3f"},{"$f":"$S$4^2+3*$S$5","v":10},{"$f":"CONCATENATE($A$4,CHAR(178),\" + \",\"3\",$A$5)","v":"b² + 3f"},{"$f":"$S$4^2+3*$S$5","v":10},{"$f":"CONCATENATE($A$4,CHAR(178),\" + \",\"3\",$A$5)","v":"b² + 3f"},{"$f":"$S$4^2+3*$S$5","v":10},{"$f":"CONCATENATE($A$4,CHAR(178),\" + \",\"3\",$A$5)","v":"b² + 3f"},{"$f":"$S$4^2+3*$S$5","v":10},{"$f":"CONCATENATE($A$4,CHAR(178),\" + \",\"3\",$A$5)","v":"b² + 3f"},{"$f":"$S$4^2+3*$S$5","v":10},{"$f":"CONCATENATE($A$4,CHAR(178),\" + \",\"3\",$A$5)","v":"b² + 3f"},{"$f":"$S$4^2+3*$S$5","v":10},{"$f":"CONCATENATE($A$4,CHAR(178),\" + \",\"3\",$A$5)","v":"b² + 3f"},{"$f":"$S$4^2+3*$S$5","v":10},{"$f":"CONCATENATE($A$4,CHAR(178),\" + \",\"3\",$A$5)","v":"b² + 3f"},{"$f":"$S$4^2+3*$S$5","v":10},{"$f":"CONCATENATE($A$4,CHAR(178),\" + \",\"3\",$A$5)","v":"b² + 3f"},{"$f":"$S$4^2+3*$S$5","v":10},{"$f":"CONCATENATE($A$4,CHAR(178),\" + \",\"3\",$A$5)","v":"b² + 3f"},{"$f":"$S$4^2+3*$S$5","v":10},{"$f":"CONCATENATE($A$4,CHAR(178),\" + \",\"3\",$A$5)","v":"b² + 3f"},{"$f":"$S$4^2+3*$S$5","v":10},{"$f":"CONCATENATE($A$4,CHAR(178),\" + \",\"3\",$A$5)","v":"b² + 3f"},{"$f":"$S$4^2+3*$S$5","v":10},{"$f":"CONCATENATE($A$4,CHAR(178),\" + \",\"3\",$A$5)","v":"b² + 3f"},{"$f":"$S$4^2+3*$S$5","v":10},{"$f":"CONCATENATE($A$4,CHAR(178),\" + \",\"3\",$A$5)","v":"b² + 3f"},{"$f":"$S$4^2+3*$S$5","v":10},{"$f":"CONCATENATE($A$4,CHAR(178),\" + \",\"3\",$A$5)","v":"b² + 3f"},{"$f":"$S$4^2+3*$S$5","v":10},{"$f":"CONCATENATE($A$4,CHAR(178),\" + \",\"3\",$A$5)","v":"b² + 3f"},{"$f":"$S$4^2+3*$S$5","v":10},{"$f":"CONCATENATE($A$4,CHAR(178),\" + \",\"3\",$A$5)","v":"b² + 3f"},{"$f":"$S$4^2+3*$S$5","v":10},{"$f":"CONCATENATE($A$4,CHAR(178),\" + \",\"3\",$A$5)","v":"b² + 3f"},{"$f":"$S$4^2+3*$S$5","v":10},{"$f":"CONCATENATE($A$4,CHAR(178),\" + \",\"3\",$A$5)","v":"b² + 3f"},{"$f":"$S$4^2+3*$S$5","v":10},{"$f":"CONCATENATE($A$4,CHAR(178),\" + \",\"3\",$A$5)","v":"b² + 3f"},{"$f":"$S$4^2+3*$S$5","v":10},{"$f":"CONCATENATE($A$4,CHAR(178),\" + \",\"3\",$A$5)","v":"b² + 3f"},{"$f":"$S$4^2+3*$S$5","v":10},{"$f":"CONCATENATE($A$4,CHAR(178),\" + \",\"3\",$A$5)","v":"b² + 3f"},{"$f":"$S$4^2+3*$S$5","v":10},{"$f":"CONCATENATE($A$4,CHAR(178),\" + \",\"3\",$A$5)","v":"b² + 3f"},{"$f":"$S$4^2+3*$S$5","v":10},{"$f":"CONCATENATE($A$4,CHAR(178),\" + \",\"3\",$A$5)","v":"b² + 3f"},{"$f":"$S$4^2+3*$S$5","v":10},"b² + 3f",10]
[85,44,7,{"$f":"CONCATENATE($A$8,CHAR(178),\" - \",\"2\",$A$4)","v":"u² - 2b"},{"$f":"$S$8^2-2*$S$6","v":26},{"$f":"CONCATENATE($A$8,CHAR(178),\" - \",\"2\",$A$4)","v":"u² - 2b"},{"$f":"$S$8^2-2*$S$6","v":26},{"$f":"CONCATENATE($A$8,CHAR(178),\" - \",\"2\",$A$4)","v":"u² - 2b"},{"$f":"$S$8^2-2*$S$6","v":26},{"$f":"CONCATENATE($A$8,CHAR(178),\" - \",\"2\",$A$4)","v":"u² - 2b"},{"$f":"$S$8^2-2*$S$6","v":26},{"$f":"CONCATENATE($A$8,CHAR(178),\" - \",\"2\",$A$4)","v":"u² - 2b"},{"$f":"$S$8^2-2*$S$6","v":26},{"$f":"CONCATENATE($A$8,CHAR(178),\" - \",\"2\",$A$4)","v":"u² - 2b"},{"$f":"$S$8^2-2*$S$6","v":26},{"$f":"CONCATENATE($A$8,CHAR(178),\" - \",\"2\",$A$4)","v":"u² - 2b"},{"$f":"$S$8^2-2*$S$6","v":26},{"$f":"CONCATENATE($A$8,CHAR(178),\" - \",\"2\",$A$4)","v":"u² - 2b"},{"$f":"$S$8^2-2*$S$6","v":26},{"$f":"CONCATENATE($A$8,CHAR(178),\" - \",\"2\",$A$4)","v":"u² - 2b"},{"$f":"$S$8^2-2*$S$6","v":26},{"$f":"CONCATENATE($A$8,CHAR(178),\" - \",\"2\",$A$4)","v":"u² - 2b"},{"$f":"$S$8^2-2*$S$6","v":26},{"$f":"CONCATENATE($A$8,CHAR(178),\" - \",\"2\",$A$4)","v":"u² - 2b"},{"$f":"$S$8^2-2*$S$6","v":26},{"$f":"CONCATENATE($A$8,CHAR(178),\" - \",\"2\",$A$4)","v":"u² - 2b"},{"$f":"$S$8^2-2*$S$6","v":26},{"$f":"CONCATENATE($A$8,CHAR(178),\" - \",\"2\",$A$4)","v":"u² - 2b"},{"$f":"$S$8^2-2*$S$6","v":26},{"$f":"CONCATENATE($A$8,CHAR(178),\" - \",\"2\",$A$4)","v":"u² - 2b"},{"$f":"$S$8^2-2*$S$6","v":26},{"$f":"CONCATENATE($A$8,CHAR(178),\" - \",\"2\",$A$4)","v":"u² - 2b"},{"$f":"$S$8^2-2*$S$6","v":26},{"$f":"CONCATENATE($A$8,CHAR(178),\" - \",\"2\",$A$4)","v":"u² - 2b"},{"$f":"$S$8^2-2*$S$6","v":26},{"$f":"CONCATENATE($A$8,CHAR(178),\" - \",\"2\",$A$4)","v":"u² - 2b"},{"$f":"$S$8^2-2*$S$6","v":26},{"$f":"CONCATENATE($A$8,CHAR(178),\" - \",\"2\",$A$4)","v":"u² - 2b"},{"$f":"$S$8^2-2*$S$6","v":26},{"$f":"CONCATENATE($A$8,CHAR(178),\" - \",\"2\",$A$4)","v":"u² - 2b"},{"$f":"$S$8^2-2*$S$6","v":26},{"$f":"CONCATENATE($A$8,CHAR(178),\" - \",\"2\",$A$4)","v":"u² - 2b"},{"$f":"$S$8^2-2*$S$6","v":26},{"$f":"CONCATENATE($A$8,CHAR(178),\" - \",\"2\",$A$4)","v":"u² - 2b"},{"$f":"$S$8^2-2*$S$6","v":26},{"$f":"CONCATENATE($A$8,CHAR(178),\" - \",\"2\",$A$4)","v":"u² - 2b"},{"$f":"$S$8^2-2*$S$6","v":26},{"$f":"CONCATENATE($A$8,CHAR(178),\" - \",\"2\",$A$4)","v":"u² - 2b"},{"$f":"$S$8^2-2*$S$6","v":26},{"$f":"CONCATENATE($A$8,CHAR(178),\" - \",\"2\",$A$4)","v":"u² - 2b"},{"$f":"$S$8^2-2*$S$6","v":26},{"$f":"CONCATENATE($A$8,CHAR(178),\" - \",\"2\",$A$4)","v":"u² - 2b"},{"$f":"$S$8^2-2*$S$6","v":26},"u² - 2b",26]
[86,28,8,{"$f":"CONCATENATE($A$4,CHAR(178),\" + \",$A$5,CHAR(178))","v":"b² + f²"},{"$f":"$S$4^2+$S$5^2","v":10},{"$f":"CONCATENATE($A$4,CHAR(178),\" + \",$A$5,CHAR(178))","v":"b² + f²"},{"$f":"$S$4^2+$S$5^2","v":10},{"$f":"CONCATENATE($A$4,CHAR(178),\" + \",$A$5,CHAR(178))","v":"b² + f²"},{"$f":"$S$4^2+$S$5^2","v":10},{"$f":"CONCATENATE($A$4,CHAR(178),\" + \",$A$5,CHAR(178))","v":"b² + f²"},{"$f":"$S$4^2+$S$5^2","v":10},{"$f":"CONCATENATE($A$4,CHAR(178),\" + \",$A$5,CHAR(178))","v":"b² + f²"},{"$f":"$S$4^2+$S$5^2","v":10},{"$f":"CONCATENATE($A$4,CHAR(178),\" + \",$A$5,CHAR(178))","v":"b² + f²"},{"$f":"$S$4^2+$S$5^2","v":10},{"$f":"CONCATENATE($A$4,CHAR(178),\" + \",$A$5,CHAR(178))","v":"b² + f²"},{"$f":"$S$4^2+$S$5^2","v":10},{"$f":"CONCATENATE($A$4,CHAR(178),\" + \",$A$5,CHAR(178))","v":"b² + f²"},{"$f":"$S$4^2+$S$5^2","v":10},{"$f":"CONCATENATE($A$4,CHAR(178),\" + \",$A$5,CHAR(178))","v":"b² + f²"},{"$f":"$S$4^2+$S$5^2","v":10},{"$f":"CONCATENATE($A$4,CHAR(178),\" + \",$A$5,CHAR(178))","v":"b² + f²"},{"$f":"$S$4^2+$S$5^2","v":10},{"$f":"CONCATENATE($A$4,CHAR(178),\" + \",$A$5,CHAR(178))","v":"b² + f²"},{"$f":"$S$4^2+$S$5^2","v":10},{"$f":"CONCATENATE($A$4,CHAR(178),\" + \",$A$5,CHAR(178))","v":"b² + f²"},{"$f":"$S$4^2+$S$5^2","v":10},{"$f":"CONCATENATE($A$4,CHAR(178),\" + \",$A$5,CHAR(178))","v":"b² + f²"},{"$f":"$S$4^2+$S$5^2","v":10},{"$f":"CONCATENATE($A$4,CHAR(178),\" + \",$A$5,CHAR(178))","v":"b² + f²"},{"$f":"$S$4^2+$S$5^2","v":10},{"$f":"CONCATENATE($A$4,CHAR(178),\" + \",$A$5,CHAR(178))","v":"b² + f²"},{"$f":"$S$4^2+$S$5^2","v":10},{"$f":"CONCATENATE($A$4,CHAR(178),\" + \",$A$5,CHAR(178))","v":"b² + f²"},{"$f":"$S$4^2+$S$5^2","v":10},{"$f":"CONCATENATE($A$4,CHAR(178),\" + \",$A$5,CHAR(178))","v":"b² + f²"},{"$f":"$S$4^2+$S$5^2","v":10},{"$f":"CONCATENATE($A$4,CHAR(178),\" + \",$A$5,CHAR(178))","v":"b² + f²"},{"$f":"$S$4^2+$S$5^2","v":10},{"$f":"CONCATENATE($A$4,CHAR(178),\" + \",$A$5,CHAR(178))","v":"b² + f²"},{"$f":"$S$4^2+$S$5^2","v":10},{"$f":"CONCATENATE($A$4,CHAR(178),\" + \",$A$5,CHAR(178))","v":"b² + f²"},{"$f":"$S$4^2+$S$5^2","v":10},{"$f":"CONCATENATE($A$4,CHAR(178),\" + \",$A$5,CHAR(178))","v":"b² + f²"},{"$f":"$S$4^2+$S$5^2","v":10},{"$f":"CONCATENATE($A$4,CHAR(178),\" + \",$A$5,CHAR(178))","v":"b² + f²"},{"$f":"$S$4^2+$S$5^2","v":10},{"$f":"CONCATENATE($A$4,CHAR(178),\" + \",$A$5,CHAR(178))","v":"b² + f²"},{"$f":"$S$4^2+$S$5^2","v":10},{"$f":"CONCATENATE($A$4,CHAR(178),\" + \",$A$5,CHAR(178))","v":"b² + f²"},{"$f":"$S$4^2+$S$5^2","v":10},{"$f":"CONCATENATE($A$4,CHAR(178),\" + \",$A$5,CHAR(178))","v":"b² + f²"},{"$f":"$S$4^2+$S$5^2","v":10},"b² + f²",10]
[87,42,7,{"$f":"CONCATENATE($A$5,CHAR(178),\" + \",$A$6,CHAR(178))","v":"f² + j²"},{"$f":"$S$5^2+$S$6^2","v":34},{"$f":"CONCATENATE($A$5,CHAR(178),\" + \",$A$6,CHAR(178))","v":"f² + j²"},{"$f":"$S$5^2+$S$6^2","v":34},{"$f":"CONCATENATE($A$5,CHAR(178),\" + \",$A$6,CHAR(178))","v":"f² + j²"},{"$f":"$S$5^2+$S$6^2","v":34},{"$f":"CONCATENATE($A$5,CHAR(178),\" + \",$A$6,CHAR(178))","v":"f² + j²"},{"$f":"$S$5^2+$S$6^2","v":34},{"$f":"CONCATENATE($A$5,CHAR(178),\" + \",$A$6,CHAR(178))","v":"f² + j²"},{"$f":"$S$5^2+$S$6^2","v":34},{"$f":"CONCATENATE($A$5,CHAR(178),\" + \",$A$6,CHAR(178))","v":"f² + j²"},{"$f":"$S$5^2+$S$6^2","v":34},{"$f":"CONCATENATE($A$5,CHAR(178),\" + \",$A$6,CHAR(178))","v":"f² + j²"},{"$f":"$S$5^2+$S$6^2","v":34},{"$f":"CONCATENATE($A$5,CHAR(178),\" + \",$A$6,CHAR(178))","v":"f² + j²"},{"$f":"$S$5^2+$S$6^2","v":34},{"$f":"CONCATENATE($A$5,CHAR(178),\" + \",$A$6,CHAR(178))","v":"f² + j²"},{"$f":"$S$5^2+$S$6^2","v":34},{"$f":"CONCATENATE($A$5,CHAR(178),\" + \",$A$6,CHAR(178))","v":"f² + j²"},{"$f":"$S$5^2+$S$6^2","v":34},{"$f":"CONCATENATE($A$5,CHAR(178),\" + \",$A$6,CHAR(178))","v":"f² + j²"},{"$f":"$S$5^2+$S$6^2","v":34},{"$f":"CONCATENATE($A$5,CHAR(178),\" + \",$A$6,CHAR(178))","v":"f² + j²"},{"$f":"$S$5^2+$S$6^2","v":34},{"$f":"CONCATENATE($A$5,CHAR(178),\" + \",$A$6,CHAR(178))","v":"f² + j²"},{"$f":"$S$5^2+$S$6^2","v":34},{"$f":"CONCATENATE($A$5,CHAR(178),\" + \",$A$6,CHAR(178))","v":"f² + j²"},{"$f":"$S$5^2+$S$6^2","v":34},{"$f":"CONCATENATE($A$5,CHAR(178),\" + \",$A$6,CHAR(178))","v":"f² + j²"},{"$f":"$S$5^2+$S$6^2","v":34},{"$f":"CONCATENATE($A$5,CHAR(178),\" + \",$A$6,CHAR(178))","v":"f² + j²"},{"$f":"$S$5^2+$S$6^2","v":34},{"$f":"CONCATENATE($A$5,CHAR(178),\" + \",$A$6,CHAR(178))","v":"f² + j²"},{"$f":"$S$5^2+$S$6^2","v":34},{"$f":"CONCATENATE($A$5,CHAR(178),\" + \",$A$6,CHAR(178))","v":"f² + j²"},{"$f":"$S$5^2+$S$6^2","v":34},{"$f":"CONCATENATE($A$5,CHAR(178),\" + \",$A$6,CHAR(178))","v":"f² + j²"},{"$f":"$S$5^2+$S$6^2","v":34},{"$f":"CONCATENATE($A$5,CHAR(178),\" + \",$A$6,CHAR(178))","v":"f² + j²"},{"$f":"$S$5^2+$S$6^2","v":34},{"$f":"CONCATENATE($A$5,CHAR(178),\" + \",$A$6,CHAR(178))","v":"f² + j²"},{"$f":"$S$5^2+$S$6^2","v":34},{"$f":"CONCATENATE($A$5,CHAR(178),\" + \",$A$6,CHAR(178))","v":"f² + j²"},{"$f":"$S$5^2+$S$6^2","v":34},{"$f":"CONCATENATE($A$5,CHAR(178),\" + \",$A$6,CHAR(178))","v":"f² + j²"},{"$f":"$S$5^2+$S$6^2","v":34},{"$f":"CONCATENATE($A$5,CHAR(178),\" + \",$A$6,CHAR(178))","v":"f² + j²"},{"$f":"$S$5^2+$S$6^2","v":34},{"$f":"CONCATENATE($A$5,CHAR(178),\" + \",$A$6,CHAR(178))","v":"f² + j²"},{"$f":"$S$5^2+$S$6^2","v":34},"f² + j²",34]
[88,26,5,{"$f":"CONCATENATE($A$8,CHAR(178),\" - \",$A$4,CHAR(178))","v":"u² - b²"},{"$f":"$S$8^2-$S$4^2","v":35},{"$f":"CONCATENATE($A$8,CHAR(178),\" - \",$A$4,CHAR(178))","v":"u² - b²"},{"$f":"$S$8^2-$S$4^2","v":35},{"$f":"CONCATENATE($A$8,CHAR(178),\" - \",$A$4,CHAR(178))","v":"u² - b²"},{"$f":"$S$8^2-$S$4^2","v":35},{"$f":"CONCATENATE($A$8,CHAR(178),\" - \",$A$4,CHAR(178))","v":"u² - b²"},{"$f":"$S$8^2-$S$4^2","v":35},{"$f":"CONCATENATE($A$8,CHAR(178),\" - \",$A$4,CHAR(178))","v":"u² - b²"},{"$f":"$S$8^2-$S$4^2","v":35},{"$f":"CONCATENATE($A$8,CHAR(178),\" - \",$A$4,CHAR(178))","v":"u² - b²"},{"$f":"$S$8^2-$S$4^2","v":35},{"$f":"CONCATENATE($A$8,CHAR(178),\" - \",$A$4,CHAR(178))","v":"u² - b²"},{"$f":"$S$8^2-$S$4^2","v":35},{"$f":"CONCATENATE($A$8,CHAR(178),\" - \",$A$4,CHAR(178))","v":"u² - b²"},{"$f":"$S$8^2-$S$4^2","v":35},{"$f":"CONCATENATE($A$8,CHAR(178),\" - \",$A$4,CHAR(178))","v":"u² - b²"},{"$f":"$S$8^2-$S$4^2","v":35},{"$f":"CONCATENATE($A$8,CHAR(178),\" - \",$A$4,CHAR(178))","v":"u² - b²"},{"$f":"$S$8^2-$S$4^2","v":35},{"$f":"CONCATENATE($A$8,CHAR(178),\" - \",$A$4,CHAR(178))","v":"u² - b²"},{"$f":"$S$8^2-$S$4^2","v":35},{"$f":"CONCATENATE($A$8,CHAR(178),\" - \",$A$4,CHAR(178))","v":"u² - b²"},{"$f":"$S$8^2-$S$4^2","v":35},{"$f":"CONCATENATE($A$8,CHAR(178),\" - \",$A$4,CHAR(178))","v":"u² - b²"},{"$f":"$S$8^2-$S$4^2","v":35},{"$f":"CONCATENATE($A$8,CHAR(178),\" - \",$A$4,CHAR(178))","v":"u² - b²"},{"$f":"$S$8^2-$S$4^2","v":35},{"$f":"CONCATENATE($A$8,CHAR(178),\" - \",$A$4,CHAR(178))","v":"u² - b²"},{"$f":"$S$8^2-$S$4^2","v":35},{"$f":"CONCATENATE($A$8,CHAR(178),\" - \",$A$4,CHAR(178))","v":"u² - b²"},{"$f":"$S$8^2-$S$4^2","v":35},{"$f":"CONCATENATE($A$8,CHAR(178),\" - \",$A$4,CHAR(178))","v":"u² - b²"},{"$f":"$S$8^2-$S$4^2","v":35},{"$f":"CONCATENATE($A$8,CHAR(178),\" - \",$A$4,CHAR(178))","v":"u² - b²"},{"$f":"$S$8^2-$S$4^2","v":35},{"$f":"CONCATENATE($A$8,CHAR(178),\" - \",$A$4,CHAR(178))","v":"u² - b²"},{"$f":"$S$8^2-$S$4^2","v":35},{"$f":"CONCATENATE($A$8,CHAR(178),\" - \",$A$4,CHAR(178))","v":"u² - b²"},{"$f":"$S$8^2-$S$4^2","v":35},{"$f":"CONCATENATE($A$8,CHAR(178),\" - \",$A$4,CHAR(178))","v":"u² - b²"},{"$f":"$S$8^2-$S$4^2","v":35},{"$f":"CONCATENATE($A$8,CHAR(178),\" - \",$A$4,CHAR(178))","v":"u² - b²"},{"$f":"$S$8^2-$S$4^2","v":35},{"$f":"CONCATENATE($A$8,CHAR(178),\" - \",$A$4,CHAR(178))","v":"u² - b²"},{"$f":"$S$8^2-$S$4^2","v":35},{"$f":"CONCATENATE($A$8,CHAR(178),\" - \",$A$4,CHAR(178))","v":"u² - b²"},{"$f":"$S$8^2-$S$4^2","v":35},{"$f":"CONCATENATE($A$8,CHAR(178),\" - \",$A$4,CHAR(178))","v":"u² - b²"},{"$f":"$S$8^2-$S$4^2","v":35},"u² - b²",35]
[89,44,6,{"$f":"CONCATENATE($A$8,CHAR(178),\" - \",$A$7,CHAR(178))","v":"u² - t²"},{"$f":"$S$8^2-$S$7^2","v":20},{"$f":"CONCATENATE($A$8,CHAR(178),\" - \",$A$7,CHAR(178))","v":"u² - t²"},{"$f":"$S$8^2-$S$7^2","v":20},{"$f":"CONCATENATE($A$8,CHAR(178),\" - \",$A$7,CHAR(178))","v":"u² - t²"},{"$f":"$S$8^2-$S$7^2","v":20},{"$f":"CONCATENATE($A$8,CHAR(178),\" - \",$A$7,CHAR(178))","v":"u² - t²"},{"$f":"$S$8^2-$S$7^2","v":20},{"$f":"CONCATENATE($A$8,CHAR(178),\" - \",$A$7,CHAR(178))","v":"u² - t²"},{"$f":"$S$8^2-$S$7^2","v":20},{"$f":"CONCATENATE($A$8,CHAR(178),\" - \",$A$7,CHAR(178))","v":"u² - t²"},{"$f":"$S$8^2-$S$7^2","v":20},{"$f":"CONCATENATE($A$8,CHAR(178),\" - \",$A$7,CHAR(178))","v":"u² - t²"},{"$f":"$S$8^2-$S$7^2","v":20},{"$f":"CONCATENATE($A$8,CHAR(178),\" - \",$A$7,CHAR(178))","v":"u² - t²"},{"$f":"$S$8^2-$S$7^2","v":20},{"$f":"CONCATENATE($A$8,CHAR(178),\" - \",$A$7,CHAR(178))","v":"u² - t²"},{"$f":"$S$8^2-$S$7^2","v":20},{"$f":"CONCATENATE($A$8,CHAR(178),\" - \",$A$7,CHAR(178))","v":"u² - t²"},{"$f":"$S$8^2-$S$7^2","v":20},{"$f":"CONCATENATE($A$8,CHAR(178),\" - \",$A$7,CHAR(178))","v":"u² - t²"},{"$f":"$S$8^2-$S$7^2","v":20},{"$f":"CONCATENATE($A$8,CHAR(178),\" - \",$A$7,CHAR(178))","v":"u² - t²"},{"$f":"$S$8^2-$S$7^2","v":20},{"$f":"CONCATENATE($A$8,CHAR(178),\" - \",$A$7,CHAR(178))","v":"u² - t²"},{"$f":"$S$8^2-$S$7^2","v":20},{"$f":"CONCATENATE($A$8,CHAR(178),\" - \",$A$7,CHAR(178))","v":"u² - t²"},{"$f":"$S$8^2-$S$7^2","v":20},{"$f":"CONCATENATE($A$8,CHAR(178),\" - \",$A$7,CHAR(178))","v":"u² - t²"},{"$f":"$S$8^2-$S$7^2","v":20},{"$f":"CONCATENATE($A$8,CHAR(178),\" - \",$A$7,CHAR(178))","v":"u² - t²"},{"$f":"$S$8^2-$S$7^2","v":20},{"$f":"CONCATENATE($A$8,CHAR(178),\" - \",$A$7,CHAR(178))","v":"u² - t²"},{"$f":"$S$8^2-$S$7^2","v":20},{"$f":"CONCATENATE($A$8,CHAR(178),\" - \",$A$7,CHAR(178))","v":"u² - t²"},{"$f":"$S$8^2-$S$7^2","v":20},{"$f":"CONCATENATE($A$8,CHAR(178),\" - \",$A$7,CHAR(178))","v":"u² - t²"},{"$f":"$S$8^2-$S$7^2","v":20},{"$f":"CONCATENATE($A$8,CHAR(178),\" - \",$A$7,CHAR(178))","v":"u² - t²"},{"$f":"$S$8^2-$S$7^2","v":20},{"$f":"CONCATENATE($A$8,CHAR(178),\" - \",$A$7,CHAR(178))","v":"u² - t²"},{"$f":"$S$8^2-$S$7^2","v":20},{"$f":"CONCATENATE($A$8,CHAR(178),\" - \",$A$7,CHAR(178))","v":"u² - t²"},{"$f":"$S$8^2-$S$7^2","v":20},{"$f":"CONCATENATE($A$8,CHAR(178),\" - \",$A$7,CHAR(178))","v":"u² - t²"},{"$f":"$S$8^2-$S$7^2","v":20},{"$f":"CONCATENATE($A$8,CHAR(178),\" - \",$A$7,CHAR(178))","v":"u² - t²"},{"$f":"$S$8^2-$S$7^2","v":20},{"$f":"CONCATENATE($A$8,CHAR(178),\" - \",$A$7,CHAR(178))","v":"u² - t²"},{"$f":"$S$8^2-$S$7^2","v":20},"u² - t²",20]
[90,16,8,{"$f":"CONCATENATE($A$4,$A$7,CHAR(178))","v":"bt²"},{"$f":"$S$4*$S$7^2","v":16},{"$f":"CONCATENATE($A$4,$A$7,CHAR(178))","v":"bt²"},{"$f":"$S$4*$S$7^2","v":16},{"$f":"CONCATENATE($A$4,$A$7,CHAR(178))","v":"bt²"},{"$f":"$S$4*$S$7^2","v":16},{"$f":"CONCATENATE($A$4,$A$7,CHAR(178))","v":"bt²"},{"$f":"$S$4*$S$7^2","v":16},{"$f":"CONCATENATE($A$4,$A$7,CHAR(178))","v":"bt²"},{"$f":"$S$4*$S$7^2","v":16},{"$f":"CONCATENATE($A$4,$A$7,CHAR(178))","v":"bt²"},{"$f":"$S$4*$S$7^2","v":16},{"$f":"CONCATENATE($A$4,$A$7,CHAR(178))","v":"bt²"},{"$f":"$S$4*$S$7^2","v":16},{"$f":"CONCATENATE($A$4,$A$7,CHAR(178))","v":"bt²"},{"$f":"$S$4*$S$7^2","v":16},{"$f":"CONCATENATE($A$4,$A$7,CHAR(178))","v":"bt²"},{"$f":"$S$4*$S$7^2","v":16},{"$f":"CONCATENATE($A$4,$A$7,CHAR(178))","v":"bt²"},{"$f":"$S$4*$S$7^2","v":16},{"$f":"CONCATENATE($A$4,$A$7,CHAR(178))","v":"bt²"},{"$f":"$S$4*$S$7^2","v":16},{"$f":"CONCATENATE($A$4,$A$7,CHAR(178))","v":"bt²"},{"$f":"$S$4*$S$7^2","v":16},{"$f":"CONCATENATE($A$4,$A$7,CHAR(178))","v":"bt²"},{"$f":"$S$4*$S$7^2","v":16},{"$f":"CONCATENATE($A$4,$A$7,CHAR(178))","v":"bt²"},{"$f":"$S$4*$S$7^2","v":16},{"$f":"CONCATENATE($A$4,$A$7,CHAR(178))","v":"bt²"},{"$f":"$S$4*$S$7^2","v":16},{"$f":"CONCATENATE($A$4,$A$7,CHAR(178))","v":"bt²"},{"$f":"$S$4*$S$7^2","v":16},{"$f":"CONCATENATE($A$4,$A$7,CHAR(178))","v":"bt²"},{"$f":"$S$4*$S$7^2","v":16},{"$f":"CONCATENATE($A$4,$A$7,CHAR(178))","v":"bt²"},{"$f":"$S$4*$S$7^2","v":16},{"$f":"CONCATENATE($A$4,$A$7,CHAR(178))","v":"bt²"},{"$f":"$S$4*$S$7^2","v":16},{"$f":"CONCATENATE($A$4,$A$7,CHAR(178))","v":"bt²"},{"$f":"$S$4*$S$7^2","v":16},{"$f":"CONCATENATE($A$4,$A$7,CHAR(178))","v":"bt²"},{"$f":"$S$4*$S$7^2","v":16},{"$f":"CONCATENATE($A$4,$A$7,CHAR(178))","v":"bt²"},{"$f":"$S$4*$S$7^2","v":16},{"$f":"CONCATENATE($A$4,$A$7,CHAR(178))","v":"bt²"},{"$f":"$S$4*$S$7^2","v":16},{"$f":"CONCATENATE($A$4,$A$7,CHAR(178))","v":"bt²"},{"$f":"$S$4*$S$7^2","v":16},{"$f":"CONCATENATE($A$4,$A$7,CHAR(178))","v":"bt²"},{"$f":"$S$4*$S$7^2","v":16},"bt²",16]
[91,32,{"$f":"INT(3*RAND()+2)","v":2},{"$f":"CONCATENATE($A$8,$A$6,CHAR(178))","v":"uj²"},{"$f":"$S$8*$S$6^2","v":150},{"$f":"CONCATENATE($A$8,$A$6,CHAR(178))","v":"uj²"},{"$f":"$S$8*$S$6^2","v":150},{"$f":"CONCATENATE($A$8,$A$6,CHAR(178))","v":"uj²"},{"$f":"$S$8*$S$6^2","v":150},{"$f":"CONCATENATE($A$8,$A$6,CHAR(178))","v":"uj²"},{"$f":"$S$8*$S$6^2","v":150},{"$f":"CONCATENATE($A$8,$A$6,CHAR(178))","v":"uj²"},{"$f":"$S$8*$S$6^2","v":150},{"$f":"CONCATENATE($A$8,$A$6,CHAR(178))","v":"uj²"},{"$f":"$S$8*$S$6^2","v":150},{"$f":"CONCATENATE($A$8,$A$6,CHAR(178))","v":"uj²"},{"$f":"$S$8*$S$6^2","v":150},{"$f":"CONCATENATE($A$8,$A$6,CHAR(178))","v":"uj²"},{"$f":"$S$8*$S$6^2","v":150},{"$f":"CONCATENATE($A$8,$A$6,CHAR(178))","v":"uj²"},{"$f":"$S$8*$S$6^2","v":150},{"$f":"CONCATENATE($A$8,$A$6,CHAR(178))","v":"uj²"},{"$f":"$S$8*$S$6^2","v":150},{"$f":"CONCATENATE($A$8,$A$6,CHAR(178))","v":"uj²"},{"$f":"$S$8*$S$6^2","v":150},{"$f":"CONCATENATE($A$8,$A$6,CHAR(178))","v":"uj²"},{"$f":"$S$8*$S$6^2","v":150},{"$f":"CONCATENATE($A$8,$A$6,CHAR(178))","v":"uj²"},{"$f":"$S$8*$S$6^2","v":150},{"$f":"CONCATENATE($A$8,$A$6,CHAR(178))","v":"uj²"},{"$f":"$S$8*$S$6^2","v":150},{"$f":"CONCATENATE($A$8,$A$6,CHAR(178))","v":"uj²"},{"$f":"$S$8*$S$6^2","v":150},{"$f":"CONCATENATE($A$8,$A$6,CHAR(178))","v":"uj²"},{"$f":"$S$8*$S$6^2","v":150},{"$f":"CONCATENATE($A$8,$A$6,CHAR(178))","v":"uj²"},{"$f":"$S$8*$S$6^2","v":150},{"$f":"CONCATENATE($A$8,$A$6,CHAR(178))","v":"uj²"},{"$f":"$S$8*$S$6^2","v":150},{"$f":"CONCATENATE($A$8,$A$6,CHAR(178))","v":"uj²"},{"$f":"$S$8*$S$6^2","v":150},{"$f":"CONCATENATE($A$8,$A$6,CHAR(178))","v":"uj²"},{"$f":"$S$8*$S$6^2","v":150},{"$f":"CONCATENATE($A$8,$A$6,CHAR(178))","v":"uj²"},{"$f":"$S$8*$S$6^2","v":150},{"$f":"CONCATENATE($A$8,$A$6,CHAR(178))","v":"uj²"},{"$f":"$S$8*$S$6^2","v":150},{"$f":"CONCATENATE($A$8,$A$6,CHAR(178))","v":"uj²"},{"$f":"$S$8*$S$6^2","v":150},{"$f":"CONCATENATE($A$8,$A$6,CHAR(178))","v":"uj²"},{"$f":"$S$8*$S$6^2","v":150},{"$f":"CONCATENATE($A$8,$A$6,CHAR(178))","v":"uj²"},{"$f":"$S$8*$S$6^2","v":150},"uj²",150]
[92,2,{"$f":"INT(3*RAND()+2)","v":3},{"$f":"CONCATENATE($A$4,CHAR(178),$A$5,CHAR(178))","v":"b²f²"},{"$f":"$S$4^2*$S$5^2","v":9},{"$f":"CONCATENATE($A$4,CHAR(178),$A$5,CHAR(178))","v":"b²f²"},{"$f":"$S$4^2*$S$5^2","v":9},{"$f":"CONCATENATE($A$4,CHAR(178),$A$5,CHAR(178))","v":"b²f²"},{"$f":"$S$4^2*$S$5^2","v":9},{"$f":"CONCATENATE($A$4,CHAR(178),$A$5,CHAR(178))","v":"b²f²"},{"$f":"$S$4^2*$S$5^2","v":9},{"$f":"CONCATENATE($A$4,CHAR(178),$A$5,CHAR(178))","v":"b²f²"},{"$f":"$S$4^2*$S$5^2","v":9},{"$f":"CONCATENATE($A$4,CHAR(178),$A$5,CHAR(178))","v":"b²f²"},{"$f":"$S$4^2*$S$5^2","v":9},{"$f":"CONCATENATE($A$4,CHAR(178),$A$5,CHAR(178))","v":"b²f²"},{"$f":"$S$4^2*$S$5^2","v":9},{"$f":"CONCATENATE($A$4,CHAR(178),$A$5,CHAR(178))","v":"b²f²"},{"$f":"$S$4^2*$S$5^2","v":9},{"$f":"CONCATENATE($A$4,CHAR(178),$A$5,CHAR(178))","v":"b²f²"},{"$f":"$S$4^2*$S$5^2","v":9},{"$f":"CONCATENATE($A$4,CHAR(178),$A$5,CHAR(178))","v":"b²f²"},{"$f":"$S$4^2*$S$5^2","v":9},{"$f":"CONCATENATE($A$4,CHAR(178),$A$5,CHAR(178))","v":"b²f²"},{"$f":"$S$4^2*$S$5^2","v":9},{"$f":"CONCATENATE($A$4,CHAR(178),$A$5,CHAR(178))","v":"b²f²"},{"$f":"$S$4^2*$S$5^2","v":9},{"$f":"CONCATENATE($A$4,CHAR(178),$A$5,CHAR(178))","v":"b²f²"},{"$f":"$S$4^2*$S$5^2","v":9},{"$f":"CONCATENATE($A$4,CHAR(178),$A$5,CHAR(178))","v":"b²f²"},{"$f":"$S$4^2*$S$5^2","v":9},{"$f":"CONCATENATE($A$4,CHAR(178),$A$5,CHAR(178))","v":"b²f²"},{"$f":"$S$4^2*$S$5^2","v":9},{"$f":"CONCATENATE($A$4,CHAR(178),$A$5,CHAR(178))","v":"b²f²"},{"$f":"$S$4^2*$S$5^2","v":9},{"$f":"CONCATENATE($A$4,CHAR(178),$A$5,CHAR(178))","v":"b²f²"},{"$f":"$S$4^2*$S$5^2","v":9},{"$f":"CONCATENATE($A$4,CHAR(178),$A$5,CHAR(178))","v":"b²f²"},{"$f":"$S$4^2*$S$5^2","v":9},{"$f":"CONCATENATE($A$4,CHAR(178),$A$5,CHAR(178))","v":"b²f²"},{"$f":"$S$4^2*$S$5^2","v":9},{"$f":"CONCATENATE($A$4,CHAR(178),$A$5,CHAR(178))","v":"b²f²"},{"$f":"$S$4^2*$S$5^2","v":9},{"$f":"CONCATENATE($A$4,CHAR(178),$A$5,CHAR(178))","v":"b²f²"},{"$f":"$S$4^2*$S$5^2","v":9},{"$f":"CONCATENATE($A$4,CHAR(178),$A$5,CHAR(178))","v":"b²f²"},{"$f":"$S$4^2*$S$5^2","v":9},{"$f":"CONCATENATE($A$4,CHAR(178),$A$5,CHAR(178))","v":"b²f²"},{"$f":"$S$4^2*$S$5^2","v":9},{"$f":"CONCATENATE($A$4,CHAR(178),$A$5,CHAR(178))","v":"b²f²"},{"$f":"$S$4^2*$S$5^2","v":9},{"$f":"CONCATENATE($A$4,CHAR(178),$A$5,CHAR(178))","v":"b²f²"},{"$f":"$S$4^2*$S$5^2","v":9},"b²f²",9]
[93,28,{"$f":"INT(3*RAND()+2)","v":4},{"$f":"CONCATENATE($A$5,CHAR(178),$A$6,CHAR(178))","v":"f²j²"},{"$f":"$S$5^2*$S$6^2","v":225},{"$f":"CONCATENATE($A$5,CHAR(178),$A$6,CHAR(178))","v":"f²j²"},{"$f":"$S$5^2*$S$6^2","v":225},{"$f":"CONCATENATE($A$5,CHAR(178),$A$6,CHAR(178))","v":"f²j²"},{"$f":"$S$5^2*$S$6^2","v":225},{"$f":"CONCATENATE($A$5,CHAR(178),$A$6,CHAR(178))","v":"f²j²"},{"$f":"$S$5^2*$S$6^2","v":225},{"$f":"CONCATENATE($A$5,CHAR(178),$A$6,CHAR(178))","v":"f²j²"},{"$f":"$S$5^2*$S$6^2","v":225},{"$f":"CONCATENATE($A$5,CHAR(178),$A$6,CHAR(178))","v":"f²j²"},{"$f":"$S$5^2*$S$6^2","v":225},{"$f":"CONCATENATE($A$5,CHAR(178),$A$6,CHAR(178))","v":"f²j²"},{"$f":"$S$5^2*$S$6^2","v":225},{"$f":"CONCATENATE($A$5,CHAR(178),$A$6,CHAR(178))","v":"f²j²"},{"$f":"$S$5^2*$S$6^2","v":225},{"$f":"CONCATENATE($A$5,CHAR(178),$A$6,CHAR(178))","v":"f²j²"},{"$f":"$S$5^2*$S$6^2","v":225},{"$f":"CONCATENATE($A$5,CHAR(178),$A$6,CHAR(178))","v":"f²j²"},{"$f":"$S$5^2*$S$6^2","v":225},{"$f":"CONCATENATE($A$5,CHAR(178),$A$6,CHAR(178))","v":"f²j²"},{"$f":"$S$5^2*$S$6^2","v":225},{"$f":"CONCATENATE($A$5,CHAR(178),$A$6,CHAR(178))","v":"f²j²"},{"$f":"$S$5^2*$S$6^2","v":225},{"$f":"CONCATENATE($A$5,CHAR(178),$A$6,CHAR(178))","v":"f²j²"},{"$f":"$S$5^2*$S$6^2","v":225},{"$f":"CONCATENATE($A$5,CHAR(178),$A$6,CHAR(178))","v":"f²j²"},{"$f":"$S$5^2*$S$6^2","v":225},{"$f":"CONCATENATE($A$5,CHAR(178),$A$6,CHAR(178))","v":"f²j²"},{"$f":"$S$5^2*$S$6^2","v":225},{"$f":"CONCATENATE($A$5,CHAR(178),$A$6,CHAR(178))","v":"f²j²"},{"$f":"$S$5^2*$S$6^2","v":225},{"$f":"CONCATENATE($A$5,CHAR(178),$A$6,CHAR(178))","v":"f²j²"},{"$f":"$S$5^2*$S$6^2","v":225},{"$f":"CONCATENATE($A$5,CHAR(178),$A$6,CHAR(178))","v":"f²j²"},{"$f":"$S$5^2*$S$6^2","v":225},{"$f":"CONCATENATE($A$5,CHAR(178),$A$6,CHAR(178))","v":"f²j²"},{"$f":"$S$5^2*$S$6^2","v":225},{"$f":"CONCATENATE($A$5,CHAR(178),$A$6,CHAR(178))","v":"f²j²"},{"$f":"$S$5^2*$S$6^2","v":225},{"$f":"CONCATENATE($A$5,CHAR(178),$A$6,CHAR(178))","v":"f²j²"},{"$f":"$S$5^2*$S$6^2","v":225},{"$f":"CONCATENATE($A$5,CHAR(178),$A$6,CHAR(178))","v":"f²j²"},{"$f":"$S$5^2*$S$6^2","v":225},{"$f":"CONCATENATE($A$5,CHAR(178),$A$6,CHAR(178))","v":"f²j²"},{"$f":"$S$5^2*$S$6^2","v":225},{"$f":"CONCATENATE($A$5,CHAR(178),$A$6,CHAR(178))","v":"f²j²"},{"$f":"$S$5^2*$S$6^2","v":225},{"$f":"CONCATENATE($A$5,CHAR(178),$A$6,CHAR(178))","v":"f²j²"},{"$f":"$S$5^2*$S$6^2","v":225},"f²j²",225]
[94,14,{"$f":"INT(3*RAND()+2)","v":2},{"$f":"CONCATENATE(\"2\",$A$6,$A$4,CHAR(178))","v":"2jb²"},{"$f":"2*$S$6*$S$4^2","v":10},{"$f":"CONCATENATE(\"2\",$A$6,$A$4,CHAR(178))","v":"2jb²"},{"$f":"2*$S$6*$S$4^2","v":10},{"$f":"CONCATENATE(\"2\",$A$6,$A$4,CHAR(178))","v":"2jb²"},{"$f":"2*$S$6*$S$4^2","v":10},{"$f":"CONCATENATE(\"2\",$A$6,$A$4,CHAR(178))","v":"2jb²"},{"$f":"2*$S$6*$S$4^2","v":10},{"$f":"CONCATENATE(\"2\",$A$6,$A$4,CHAR(178))","v":"2jb²"},{"$f":"2*$S$6*$S$4^2","v":10},{"$f":"CONCATENATE(\"2\",$A$6,$A$4,CHAR(178))","v":"2jb²"},{"$f":"2*$S$6*$S$4^2","v":10},{"$f":"CONCATENATE(\"2\",$A$6,$A$4,CHAR(178))","v":"2jb²"},{"$f":"2*$S$6*$S$4^2","v":10},{"$f":"CONCATENATE(\"2\",$A$6,$A$4,CHAR(178))","v":"2jb²"},{"$f":"2*$S$6*$S$4^2","v":10},{"$f":"CONCATENATE(\"2\",$A$6,$A$4,CHAR(178))","v":"2jb²"},{"$f":"2*$S$6*$S$4^2","v":10},{"$f":"CONCATENATE(\"2\",$A$6,$A$4,CHAR(178))","v":"2jb²"},{"$f":"2*$S$6*$S$4^2","v":10},{"$f":"CONCATENATE(\"2\",$A$6,$A$4,CHAR(178))","v":"2jb²"},{"$f":"2*$S$6*$S$4^2","v":10},{"$f":"CONCATENATE(\"2\",$A$6,$A$4,CHAR(178))","v":"2jb²"},{"$f":"2*$S$6*$S$4^2","v":10},{"$f":"CONCATENATE(\"2\",$A$6,$A$4,CHAR(178))","v":"2jb²"},{"$f":"2*$S$6*$S$4^2","v":10},{"$f":"CONCATENATE(\"2\",$A$6,$A$4,CHAR(178))","v":"2jb²"},{"$f":"2*$S$6*$S$4^2","v":10},{"$f":"CONCATENATE(\"2\",$A$6,$A$4,CHAR(178))","v":"2jb²"},{"$f":"2*$S$6*$S$4^2","v":10},{"$f":"CONCATENATE(\"2\",$A$6,$A$4,CHAR(178))","v":"2jb²"},{"$f":"2*$S$6*$S$4^2","v":10},{"$f":"CONCATENATE(\"2\",$A$6,$A$4,CHAR(178))","v":"2jb²"},{"$f":"2*$S$6*$S$4^2","v":10},{"$f":"CONCATENATE(\"2\",$A$6,$A$4,CHAR(178))","v":"2jb²"},{"$f":"2*$S$6*$S$4^2","v":10},{"$f":"CONCATENATE(\"2\",$A$6,$A$4,CHAR(178))","v":"2jb²"},{"$f":"2*$S$6*$S$4^2","v":10},{"$f":"CONCATENATE(\"2\",$A$6,$A$4,CHAR(178))","v":"2jb²"},{"$f":"2*$S$6*$S$4^2","v":10},{"$f":"CONCATENATE(\"2\",$A$6,$A$4,CHAR(178))","v":"2jb²"},{"$f":"2*$S$6*$S$4^2","v":10},{"$f":"CONCATENATE(\"2\",$A$6,$A$4,CHAR(178))","v":"2jb²"},{"$f":"2*$S$6*$S$4^2","v":10},{"$f":"CONCATENATE(\"2\",$A$6,$A$4,CHAR(178))","v":"2jb²"},{"$f":"2*$S$6*$S$4^2","v":10},{"$f":"CONCATENATE(\"2\",$A$6,$A$4,CHAR(178))","v":"2jb²"},{"$f":"2*$S$6*$S$4^2","v":10},{"$f":"CONCATENATE(\"2\",$A$6,$A$4,CHAR(178))","v":"2jb²"},{"$f":"2*$S$6*$S$4^2","v":10},"2jb²",10]
[95,46,6,{"$f":"CONCATENATE(\"2\",$A$4,$A$7,CHAR(178))","v":"2bt²"},{"$f":"2*$S$4*$S$7^2","v":32},{"$f":"CONCATENATE(\"2\",$A$4,$A$7,CHAR(178))","v":"2bt²"},{"$f":"2*$S$4*$S$7^2","v":32},{"$f":"CONCATENATE(\"2\",$A$4,$A$7,CHAR(178))","v":"2bt²"},{"$f":"2*$S$4*$S$7^2","v":32},{"$f":"CONCATENATE(\"2\",$A$4,$A$7,CHAR(178))","v":"2bt²"},{"$f":"2*$S$4*$S$7^2","v":32},{"$f":"CONCATENATE(\"2\",$A$4,$A$7,CHAR(178))","v":"2bt²"},{"$f":"2*$S$4*$S$7^2","v":32},{"$f":"CONCATENATE(\"2\",$A$4,$A$7,CHAR(178))","v":"2bt²"},{"$f":"2*$S$4*$S$7^2","v":32},{"$f":"CONCATENATE(\"2\",$A$4,$A$7,CHAR(178))","v":"2bt²"},{"$f":"2*$S$4*$S$7^2","v":32},{"$f":"CONCATENATE(\"2\",$A$4,$A$7,CHAR(178))","v":"2bt²"},{"$f":"2*$S$4*$S$7^2","v":32},{"$f":"CONCATENATE(\"2\",$A$4,$A$7,CHAR(178))","v":"2bt²"},{"$f":"2*$S$4*$S$7^2","v":32},{"$f":"CONCATENATE(\"2\",$A$4,$A$7,CHAR(178))","v":"2bt²"},{"$f":"2*$S$4*$S$7^2","v":32},{"$f":"CONCATENATE(\"2\",$A$4,$A$7,CHAR(178))","v":"2bt²"},{"$f":"2*$S$4*$S$7^2","v":32},{"$f":"CONCATENATE(\"2\",$A$4,$A$7,CHAR(178))","v":"2bt²"},{"$f":"2*$S$4*$S$7^2","v":32},{"$f":"CONCATENATE(\"2\",$A$4,$A$7,CHAR(178))","v":"2bt²"},{"$f":"2*$S$4*$S$7^2","v":32},{"$f":"CONCATENATE(\"2\",$A$4,$A$7,CHAR(178))","v":"2bt²"},{"$f":"2*$S$4*$S$7^2","v":32},{"$f":"CONCATENATE(\"2\",$A$4,$A$7,CHAR(178))","v":"2bt²"},{"$f":"2*$S$4*$S$7^2","v":32},{"$f":"CONCATENATE(\"2\",$A$4,$A$7,CHAR(178))","v":"2bt²"},{"$f":"2*$S$4*$S$7^2","v":32},{"$f":"CONCATENATE(\"2\",$A$4,$A$7,CHAR(178))","v":"2bt²"},{"$f":"2*$S$4*$S$7^2","v":32},{"$f":"CONCATENATE(\"2\",$A$4,$A$7,CHAR(178))","v":"2bt²"},{"$f":"2*$S$4*$S$7^2","v":32},{"$f":"CONCATENATE(\"2\",$A$4,$A$7,CHAR(178))","v":"2bt²"},{"$f":"2*$S$4*$S$7^2","v":32},{"$f":"CONCATENATE(\"2\",$A$4,$A$7,CHAR(178))","v":"2bt²"},{"$f":"2*$S$4*$S$7^2","v":32},{"$f":"CONCATENATE(\"2\",$A$4,$A$7,CHAR(178))","v":"2bt²"},{"$f":"2*$S$4*$S$7^2","v":32},{"$f":"CONCATENATE(\"2\",$A$4,$A$7,CHAR(178))","v":"2bt²"},{"$f":"2*$S$4*$S$7^2","v":32},{"$f":"CONCATENATE(\"2\",$A$4,$A$7,CHAR(178))","v":"2bt²"},{"$f":"2*$S$4*$S$7^2","v":32},{"$f":"CONCATENATE(\"2\",$A$4,$A$7,CHAR(178))","v":"2bt²"},{"$f":"2*$S$4*$S$7^2","v":32},{"$f":"CONCATENATE(\"2\",$A$4,$A$7,CHAR(178))","v":"2bt²"},{"$f":"2*$S$4*$S$7^2","v":32},"2bt²",32]
[96,40,8,{"$f":"CONCATENATE($A$6,$A$4,CHAR(178),\" + \",$C96,$A$4)","v":"jb² + 6b"},{"$f":"2*$S$6*$S$4^2+$C96*$S$4","v":16},{"$f":"CONCATENATE($A$6,$A$4,CHAR(178),\" + \",$C96,$A$4)","v":"jb² + 6b"},{"$f":"2*$S$6*$S$4^2+$C96*$S$4","v":16},{"$f":"CONCATENATE($A$6,$A$4,CHAR(178),\" + \",$C96,$A$4)","v":"jb² + 6b"},{"$f":"2*$S$6*$S$4^2+$C96*$S$4","v":16},{"$f":"CONCATENATE($A$6,$A$4,CHAR(178),\" + \",$C96,$A$4)","v":"jb² + 6b"},{"$f":"2*$S$6*$S$4^2+$C96*$S$4","v":16},{"$f":"CONCATENATE($A$6,$A$4,CHAR(178),\" + \",$C96,$A$4)","v":"jb² + 6b"},{"$f":"2*$S$6*$S$4^2+$C96*$S$4","v":16},{"$f":"CONCATENATE($A$6,$A$4,CHAR(178),\" + \",$C96,$A$4)","v":"jb² + 6b"},{"$f":"2*$S$6*$S$4^2+$C96*$S$4","v":16},{"$f":"CONCATENATE($A$6,$A$4,CHAR(178),\" + \",$C96,$A$4)","v":"jb² + 6b"},{"$f":"2*$S$6*$S$4^2+$C96*$S$4","v":16},{"$f":"CONCATENATE($A$6,$A$4,CHAR(178),\" + \",$C96,$A$4)","v":"jb² + 6b"},{"$f":"2*$S$6*$S$4^2+$C96*$S$4","v":16},{"$f":"CONCATENATE($A$6,$A$4,CHAR(178),\" + \",$C96,$A$4)","v":"jb² + 6b"},{"$f":"2*$S$6*$S$4^2+$C96*$S$4","v":16},{"$f":"CONCATENATE($A$6,$A$4,CHAR(178),\" + \",$C96,$A$4)","v":"jb² + 6b"},{"$f":"2*$S$6*$S$4^2+$C96*$S$4","v":16},{"$f":"CONCATENATE($A$6,$A$4,CHAR(178),\" + \",$C96,$A$4)","v":"jb² + 6b"},{"$f":"2*$S$6*$S$4^2+$C96*$S$4","v":16},{"$f":"CONCATENATE($A$6,$A$4,CHAR(178),\" + \",$C96,$A$4)","v":"jb² + 6b"},{"$f":"2*$S$6*$S$4^2+$C96*$S$4","v":16},{"$f":"CONCATENATE($A$6,$A$4,CHAR(178),\" + \",$C96,$A$4)","v":"jb² + 6b"},{"$f":"2*$S$6*$S$4^2+$C96*$S$4","v":16},{"$f":"CONCATENATE($A$6,$A$4,CHAR(178),\" + \",$C96,$A$4)","v":"jb² + 6b"},{"$f":"2*$S$6*$S$4^2+$C96*$S$4","v":16},{"$f":"CONCATENATE($A$6,$A$4,CHAR(178),\" + \",$C96,$A$4)","v":"jb² + 6b"},{"$f":"2*$S$6*$S$4^2+$C96*$S$4","v":16},{"$f":"CONCATENATE($A$6,$A$4,CHAR(178),\" + \",$C96,$A$4)","v":"jb² + 6b"},{"$f":"2*$S$6*$S$4^2+$C96*$S$4","v":16},{"$f":"CONCATENATE($A$6,$A$4,CHAR(178),\" + \",$C96,$A$4)","v":"jb² + 6b"},{"$f":"2*$S$6*$S$4^2+$C96*$S$4","v":16},{"$f":"CONCATENATE($A$6,$A$4,CHAR(178),\" + \",$C96,$A$4)","v":"jb² + 6b"},{"$f":"2*$S$6*$S$4^2+$C96*$S$4","v":16},{"$f":"CONCATENATE($A$6,$A$4,CHAR(178),\" + \",$C96,$A$4)","v":"jb² + 6b"},{"$f":"2*$S$6*$S$4^2+$C96*$S$4","v":16},{"$f":"CONCATENATE($A$6,$A$4,CHAR(178),\" + \",$C96,$A$4)","v":"jb² + 6b"},{"$f":"2*$S$6*$S$4^2+$C96*$S$4","v":16},{"$f":"CONCATENATE($A$6,$A$4,CHAR(178),\" + \",$C96,$A$4)","v":"jb² + 6b"},{"$f":"2*$S$6*$S$4^2+$C96*$S$4","v":16},{"$f":"CONCATENATE($A$6,$A$4,CHAR(178),\" + \",$C96,$A$4)","v":"jb² + 6b"},{"$f":"2*$S$6*$S$4^2+$C96*$S$4","v":16},{"$f":"CONCATENATE($A$6,$A$4,CHAR(178),\" + \",$C96,$A$4)","v":"jb² + 6b"},{"$f":"2*$S$6*$S$4^2+$C96*$S$4","v":16},{"$f":"CONCATENATE($A$6,$A$4,CHAR(178),\" + \",$C96,$A$4)","v":"jb² + 6b"},{"$f":"2*$S$6*$S$4^2+$C96*$S$4","v":16},{"$f":"CONCATENATE($A$6,$A$4,CHAR(178),\" + \",$C96,$A$4)","v":"jb² + 6b"},{"$f":"2*$S$6*$S$4^2+$C96*$S$4","v":16},"jb² + 6b",16]
[97,26,6,{"$f":"CONCATENATE($C103,\"(\",$A$8,CHAR(178),\" + \",$C109,\")\")","v":"2(u² + 6)"},{"$f":"$C103*($S$8^2+$C109)","v":84},{"$f":"CONCATENATE($C103,\"(\",$A$8,CHAR(178),\" + \",$C109,\")\")","v":"2(u² + 6)"},{"$f":"$C103*($S$8^2+$C109)","v":84},{"$f":"CONCATENATE($C103,\"(\",$A$8,CHAR(178),\" + \",$C109,\")\")","v":"2(u² + 6)"},{"$f":"$C103*($S$8^2+$C109)","v":84},{"$f":"CONCATENATE($C103,\"(\",$A$8,CHAR(178),\" + \",$C109,\")\")","v":"2(u² + 6)"},{"$f":"$C103*($S$8^2+$C109)","v":84},{"$f":"CONCATENATE($C103,\"(\",$A$8,CHAR(178),\" + \",$C109,\")\")","v":"2(u² + 6)"},{"$f":"$C103*($S$8^2+$C109)","v":84},{"$f":"CONCATENATE($C103,\"(\",$A$8,CHAR(178),\" + \",$C109,\")\")","v":"2(u² + 6)"},{"$f":"$C103*($S$8^2+$C109)","v":84},{"$f":"CONCATENATE($C103,\"(\",$A$8,CHAR(178),\" + \",$C109,\")\")","v":"2(u² + 6)"},{"$f":"$C103*($S$8^2+$C109)","v":84},{"$f":"CONCATENATE($C103,\"(\",$A$8,CHAR(178),\" + \",$C109,\")\")","v":"2(u² + 6)"},{"$f":"$C103*($S$8^2+$C109)","v":84},{"$f":"CONCATENATE($C103,\"(\",$A$8,CHAR(178),\" + \",$C109,\")\")","v":"2(u² + 6)"},{"$f":"$C103*($S$8^2+$C109)","v":84},{"$f":"CONCATENATE($C103,\"(\",$A$8,CHAR(178),\" + \",$C109,\")\")","v":"2(u² + 6)"},{"$f":"$C103*($S$8^2+$C109)","v":84},{"$f":"CONCATENATE($C103,\"(\",$A$8,CHAR(178),\" + \",$C109,\")\")","v":"2(u² + 6)"},{"$f":"$C103*($S$8^2+$C109)","v":84},{"$f":"CONCATENATE($C103,\"(\",$A$8,CHAR(178),\" + \",$C109,\")\")","v":"2(u² + 6)"},{"$f":"$C103*($S$8^2+$C109)","v":84},{"$f":"CONCATENATE($C103,\"(\",$A$8,CHAR(178),\" + \",$C109,\")\")","v":"2(u² + 6)"},{"$f":"$C103*($S$8^2+$C109)","v":84},{"$f":"CONCATENATE($C103,\"(\",$A$8,CHAR(178),\" + \",$C109,\")\")","v":"2(u² + 6)"},{"$f":"$C103*($S$8^2+$C109)","v":84},{"$f":"CONCATENATE($C103,\"(\",$A$8,CHAR(178),\" + \",$C109,\")\")","v":"2(u² + 6)"},{"$f":"$C103*($S$8^2+$C109)","v":84},{"$f":"CONCATENATE($C103,\"(\",$A$8,CHAR(178),\" + \",$C109,\")\")","v":"2(u² + 6)"},{"$f":"$C103*($S$8^2+$C109)","v":84},{"$f":"CONCATENATE($C103,\"(\",$A$8,CHAR(178),\" + \",$C109,\")\")","v":"2(u² + 6)"},{"$f":"$C103*($S$8^2+$C109)","v":84},{"$f":"CONCATENATE($C103,\"(\",$A$8,CHAR(178),\" + \",$C109,\")\")","v":"2(u² + 6)"},{"$f":"$C103*($S$8^2+$C109)","v":84},{"$f":"CONCATENATE($C103,\"(\",$A$8,CHAR(178),\" + \",$C109,\")\")","v":"2(u² + 6)"},{"$f":"$C103*($S$8^2+$C109)","v":84},{"$f":"CONCATENATE($C103,\"(\",$A$8,CHAR(178),\" + \",$C109,\")\")","v":"2(u² + 6)"},{"$f":"$C103*($S$8^2+$C109)","v":84},{"$f":"CONCATENATE($C103,\"(\",$A$8,CHAR(178),\" + \",$C109,\")\")","v":"2(u² + 6)"},{"$f":"$C103*($S$8^2+$C109)","v":84},{"$f":"CONCATENATE($C103,\"(\",$A$8,CHAR(178),\" + \",$C109,\")\")","v":"2(u² + 6)"},{"$f":"$C103*($S$8^2+$C109)","v":84},{"$f":"CONCATENATE($C103,\"(\",$A$8,CHAR(178),\" + \",$C109,\")\")","v":"2(u² + 6)"},{"$f":"$C103*($S$8^2+$C109)","v":84},{"$f":"CONCATENATE($C103,\"(\",$A$8,CHAR(178),\" + \",$C109,\")\")","v":"2(u² + 6)"},{"$f":"$C103*($S$8^2+$C109)","v":84},{"$f":"CONCATENATE($C103,\"(\",$A$8,CHAR(178),\" + \",$C109,\")\")","v":"2(u² + 6)"},{"$f":"$C103*($S$8^2+$C109)","v":84},"2(u² + 6)",84]
[98,38,7,{"$f":"CONCATENATE($C104,\"(\",$A$6,CHAR(178),\" - \",$C110,\")\")","v":"3(j² - 7)"},{"$f":"$C104*($S$6^2-$C110)","v":54},{"$f":"CONCATENATE($C104,\"(\",$A$6,CHAR(178),\" - \",$C110,\")\")","v":"3(j² - 7)"},{"$f":"$C104*($S$6^2-$C110)","v":54},{"$f":"CONCATENATE($C104,\"(\",$A$6,CHAR(178),\" - \",$C110,\")\")","v":"3(j² - 7)"},{"$f":"$C104*($S$6^2-$C110)","v":54},{"$f":"CONCATENATE($C104,\"(\",$A$6,CHAR(178),\" - \",$C110,\")\")","v":"3(j² - 7)"},{"$f":"$C104*($S$6^2-$C110)","v":54},{"$f":"CONCATENATE($C104,\"(\",$A$6,CHAR(178),\" - \",$C110,\")\")","v":"3(j² - 7)"},{"$f":"$C104*($S$6^2-$C110)","v":54},{"$f":"CONCATENATE($C104,\"(\",$A$6,CHAR(178),\" - \",$C110,\")\")","v":"3(j² - 7)"},{"$f":"$C104*($S$6^2-$C110)","v":54},{"$f":"CONCATENATE($C104,\"(\",$A$6,CHAR(178),\" - \",$C110,\")\")","v":"3(j² - 7)"},{"$f":"$C104*($S$6^2-$C110)","v":54},{"$f":"CONCATENATE($C104,\"(\",$A$6,CHAR(178),\" - \",$C110,\")\")","v":"3(j² - 7)"},{"$f":"$C104*($S$6^2-$C110)","v":54},{"$f":"CONCATENATE($C104,\"(\",$A$6,CHAR(178),\" - \",$C110,\")\")","v":"3(j² - 7)"},{"$f":"$C104*($S$6^2-$C110)","v":54},{"$f":"CONCATENATE($C104,\"(\",$A$6,CHAR(178),\" - \",$C110,\")\")","v":"3(j² - 7)"},{"$f":"$C104*($S$6^2-$C110)","v":54},{"$f":"CONCATENATE($C104,\"(\",$A$6,CHAR(178),\" - \",$C110,\")\")","v":"3(j² - 7)"},{"$f":"$C104*($S$6^2-$C110)","v":54},{"$f":"CONCATENATE($C104,\"(\",$A$6,CHAR(178),\" - \",$C110,\")\")","v":"3(j² - 7)"},{"$f":"$C104*($S$6^2-$C110)","v":54},{"$f":"CONCATENATE($C104,\"(\",$A$6,CHAR(178),\" - \",$C110,\")\")","v":"3(j² - 7)"},{"$f":"$C104*($S$6^2-$C110)","v":54},{"$f":"CONCATENATE($C104,\"(\",$A$6,CHAR(178),\" - \",$C110,\")\")","v":"3(j² - 7)"},{"$f":"$C104*($S$6^2-$C110)","v":54},{"$f":"CONCATENATE($C104,\"(\",$A$6,CHAR(178),\" - \",$C110,\")\")","v":"3(j² - 7)"},{"$f":"$C104*($S$6^2-$C110)","v":54},{"$f":"CONCATENATE($C104,\"(\",$A$6,CHAR(178),\" - \",$C110,\")\")","v":"3(j² - 7)"},{"$f":"$C104*($S$6^2-$C110)","v":54},{"$f":"CONCATENATE($C104,\"(\",$A$6,CHAR(178),\" - \",$C110,\")\")","v":"3(j² - 7)"},{"$f":"$C104*($S$6^2-$C110)","v":54},{"$f":"CONCATENATE($C104,\"(\",$A$6,CHAR(178),\" - \",$C110,\")\")","v":"3(j² - 7)"},{"$f":"$C104*($S$6^2-$C110)","v":54},{"$f":"CONCATENATE($C104,\"(\",$A$6,CHAR(178),\" - \",$C110,\")\")","v":"3(j² - 7)"},{"$f":"$C104*($S$6^2-$C110)","v":54},{"$f":"CONCATENATE($C104,\"(\",$A$6,CHAR(178),\" - \",$C110,\")\")","v":"3(j² - 7)"},{"$f":"$C104*($S$6^2-$C110)","v":54},{"$f":"CONCATENATE($C104,\"(\",$A$6,CHAR(178),\" - \",$C110,\")\")","v":"3(j² - 7)"},{"$f":"$C104*($S$6^2-$C110)","v":54},{"$f":"CONCATENATE($C104,\"(\",$A$6,CHAR(178),\" - \",$C110,\")\")","v":"3(j² - 7)"},{"$f":"$C104*($S$6^2-$C110)","v":54},{"$f":"CONCATENATE($C104,\"(\",$A$6,CHAR(178),\" - \",$C110,\")\")","v":"3(j² - 7)"},{"$f":"$C104*($S$6^2-$C110)","v":54},{"$f":"CONCATENATE($C104,\"(\",$A$6,CHAR(178),\" - \",$C110,\")\")","v":"3(j² - 7)"},{"$f":"$C104*($S$6^2-$C110)","v":54},{"$f":"CONCATENATE($C104,\"(\",$A$6,CHAR(178),\" - \",$C110,\")\")","v":"3(j² - 7)"},{"$f":"$C104*($S$6^2-$C110)","v":54},"3(j² - 7)",54]
[99,2,8,{"$f":"CONCATENATE($C105,\"(\",$A$5,CHAR(178),\" - \",$C111,\")\")","v":"4(f² - 8)"},{"$f":"$C105*($S$5^2-$C111)","v":4},{"$f":"CONCATENATE($C105,\"(\",$A$5,CHAR(178),\" - \",$C111,\")\")","v":"4(f² - 8)"},{"$f":"$C105*($S$5^2-$C111)","v":4},{"$f":"CONCATENATE($C105,\"(\",$A$5,CHAR(178),\" - \",$C111,\")\")","v":"4(f² - 8)"},{"$f":"$C105*($S$5^2-$C111)","v":4},{"$f":"CONCATENATE($C105,\"(\",$A$5,CHAR(178),\" - \",$C111,\")\")","v":"4(f² - 8)"},{"$f":"$C105*($S$5^2-$C111)","v":4},{"$f":"CONCATENATE($C105,\"(\",$A$5,CHAR(178),\" - \",$C111,\")\")","v":"4(f² - 8)"},{"$f":"$C105*($S$5^2-$C111)","v":4},{"$f":"CONCATENATE($C105,\"(\",$A$5,CHAR(178),\" - \",$C111,\")\")","v":"4(f² - 8)"},{"$f":"$C105*($S$5^2-$C111)","v":4},{"$f":"CONCATENATE($C105,\"(\",$A$5,CHAR(178),\" - \",$C111,\")\")","v":"4(f² - 8)"},{"$f":"$C105*($S$5^2-$C111)","v":4},{"$f":"CONCATENATE($C105,\"(\",$A$5,CHAR(178),\" - \",$C111,\")\")","v":"4(f² - 8)"},{"$f":"$C105*($S$5^2-$C111)","v":4},{"$f":"CONCATENATE($C105,\"(\",$A$5,CHAR(178),\" - \",$C111,\")\")","v":"4(f² - 8)"},{"$f":"$C105*($S$5^2-$C111)","v":4},{"$f":"CONCATENATE($C105,\"(\",$A$5,CHAR(178),\" - \",$C111,\")\")","v":"4(f² - 8)"},{"$f":"$C105*($S$5^2-$C111)","v":4},{"$f":"CONCATENATE($C105,\"(\",$A$5,CHAR(178),\" - \",$C111,\")\")","v":"4(f² - 8)"},{"$f":"$C105*($S$5^2-$C111)","v":4},{"$f":"CONCATENATE($C105,\"(\",$A$5,CHAR(178),\" - \",$C111,\")\")","v":"4(f² - 8)"},{"$f":"$C105*($S$5^2-$C111)","v":4},{"$f":"CONCATENATE($C105,\"(\",$A$5,CHAR(178),\" - \",$C111,\")\")","v":"4(f² - 8)"},{"$f":"$C105*($S$5^2-$C111)","v":4},{"$f":"CONCATENATE($C105,\"(\",$A$5,CHAR(178),\" - \",$C111,\")\")","v":"4(f² - 8)"},{"$f":"$C105*($S$5^2-$C111)","v":4},{"$f":"CONCATENATE($C105,\"(\",$A$5,CHAR(178),\" - \",$C111,\")\")","v":"4(f² - 8)"},{"$f":"$C105*($S$5^2-$C111)","v":4},{"$f":"CONCATENATE($C105,\"(\",$A$5,CHAR(178),\" - \",$C111,\")\")","v":"4(f² - 8)"},{"$f":"$C105*($S$5^2-$C111)","v":4},{"$f":"CONCATENATE($C105,\"(\",$A$5,CHAR(178),\" - \",$C111,\")\")","v":"4(f² - 8)"},{"$f":"$C105*($S$5^2-$C111)","v":4},{"$f":"CONCATENATE($C105,\"(\",$A$5,CHAR(178),\" - \",$C111,\")\")","v":"4(f² - 8)"},{"$f":"$C105*($S$5^2-$C111)","v":4},{"$f":"CONCATENATE($C105,\"(\",$A$5,CHAR(178),\" - \",$C111,\")\")","v":"4(f² - 8)"},{"$f":"$C105*($S$5^2-$C111)","v":4},{"$f":"CONCATENATE($C105,\"(\",$A$5,CHAR(178),\" - \",$C111,\")\")","v":"4(f² - 8)"},{"$f":"$C105*($S$5^2-$C111)","v":4},{"$f":"CONCATENATE($C105,\"(\",$A$5,CHAR(178),\" - \",$C111,\")\")","v":"4(f² - 8)"},{"$f":"$C105*($S$5^2-$C111)","v":4},{"$f":"CONCATENATE($C105,\"(\",$A$5,CHAR(178),\" - \",$C111,\")\")","v":"4(f² - 8)"},{"$f":"$C105*($S$5^2-$C111)","v":4},{"$f":"CONCATENATE($C105,\"(\",$A$5,CHAR(178),\" - \",$C111,\")\")","v":"4(f² - 8)"},{"$f":"$C105*($S$5^2-$C111)","v":4},{"$f":"CONCATENATE($C105,\"(\",$A$5,CHAR(178),\" - \",$C111,\")\")","v":"4(f² - 8)"},{"$f":"$C105*($S$5^2-$C111)","v":4},{"$f":"CONCATENATE($C105,\"(\",$A$5,CHAR(178),\" - \",$C111,\")\")","v":"4(f² - 8)"},{"$f":"$C105*($S$5^2-$C111)","v":4},"4(f² - 8)",4]
[100,38,9,{"$f":"CONCATENATE($C100,\"(\",$A$4,CHAR(178),\" + \",$A$5,CHAR(178),\")\")","v":"5(b² + f²)"},{"$f":"$C100*($S$4^2+$S$5^2)","v":50},{"$f":"CONCATENATE($C100,\"(\",$A$4,CHAR(178),\" + \",$A$5,CHAR(178),\")\")","v":"5(b² + f²)"},{"$f":"$C100*($S$4^2+$S$5^2)","v":50},{"$f":"CONCATENATE($C100,\"(\",$A$4,CHAR(178),\" + \",$A$5,CHAR(178),\")\")","v":"5(b² + f²)"},{"$f":"$C100*($S$4^2+$S$5^2)","v":50},{"$f":"CONCATENATE($C100,\"(\",$A$4,CHAR(178),\" + \",$A$5,CHAR(178),\")\")","v":"5(b² + f²)"},{"$f":"$C100*($S$4^2+$S$5^2)","v":50},{"$f":"CONCATENATE($C100,\"(\",$A$4,CHAR(178),\" + \",$A$5,CHAR(178),\")\")","v":"5(b² + f²)"},{"$f":"$C100*($S$4^2+$S$5^2)","v":50},{"$f":"CONCATENATE($C100,\"(\",$A$4,CHAR(178),\" + \",$A$5,CHAR(178),\")\")","v":"5(b² + f²)"},{"$f":"$C100*($S$4^2+$S$5^2)","v":50},{"$f":"CONCATENATE($C100,\"(\",$A$4,CHAR(178),\" + \",$A$5,CHAR(178),\")\")","v":"5(b² + f²)"},{"$f":"$C100*($S$4^2+$S$5^2)","v":50},{"$f":"CONCATENATE($C100,\"(\",$A$4,CHAR(178),\" + \",$A$5,CHAR(178),\")\")","v":"5(b² + f²)"},{"$f":"$C100*($S$4^2+$S$5^2)","v":50},{"$f":"CONCATENATE($C100,\"(\",$A$4,CHAR(178),\" + \",$A$5,CHAR(178),\")\")","v":"5(b² + f²)"},{"$f":"$C100*($S$4^2+$S$5^2)","v":50},{"$f":"CONCATENATE($C100,\"(\",$A$4,CHAR(178),\" + \",$A$5,CHAR(178),\")\")","v":"5(b² + f²)"},{"$f":"$C100*($S$4^2+$S$5^2)","v":50},{"$f":"CONCATENATE($C100,\"(\",$A$4,CHAR(178),\" + \",$A$5,CHAR(178),\")\")","v":"5(b² + f²)"},{"$f":"$C100*($S$4^2+$S$5^2)","v":50},{"$f":"CONCATENATE($C100,\"(\",$A$4,CHAR(178),\" + \",$A$5,CHAR(178),\")\")","v":"5(b² + f²)"},{"$f":"$C100*($S$4^2+$S$5^2)","v":50},{"$f":"CONCATENATE($C100,\"(\",$A$4,CHAR(178),\" + \",$A$5,CHAR(178),\")\")","v":"5(b² + f²)"},{"$f":"$C100*($S$4^2+$S$5^2)","v":50},{"$f":"CONCATENATE($C100,\"(\",$A$4,CHAR(178),\" + \",$A$5,CHAR(178),\")\")","v":"5(b² + f²)"},{"$f":"$C100*($S$4^2+$S$5^2)","v":50},{"$f":"CONCATENATE($C100,\"(\",$A$4,CHAR(178),\" + \",$A$5,CHAR(178),\")\")","v":"5(b² + f²)"},{"$f":"$C100*($S$4^2+$S$5^2)","v":50},{"$f":"CONCATENATE($C100,\"(\",$A$4,CHAR(178),\" + \",$A$5,CHAR(178),\")\")","v":"5(b² + f²)"},{"$f":"$C100*($S$4^2+$S$5^2)","v":50},{"$f":"CONCATENATE($C100,\"(\",$A$4,CHAR(178),\" + \",$A$5,CHAR(178),\")\")","v":"5(b² + f²)"},{"$f":"$C100*($S$4^2+$S$5^2)","v":50},{"$f":"CONCATENATE($C100,\"(\",$A$4,CHAR(178),\" + \",$A$5,CHAR(178),\")\")","v":"5(b² + f²)"},{"$f":"$C100*($S$4^2+$S$5^2)","v":50},{"$f":"CONCATENATE($C100,\"(\",$A$4,CHAR(178),\" + \",$A$5,CHAR(178),\")\")","v":"5(b² + f²)"},{"$f":"$C100*($S$4^2+$S$5^2)","v":50},{"$f":"CONCATENATE($C100,\"(\",$A$4,CHAR(178),\" + \",$A$5,CHAR(178),\")\")","v":"5(b² + f²)"},{"$f":"$C100*($S$4^2+$S$5^2)","v":50},{"$f":"CONCATENATE($C100,\"(\",$A$4,CHAR(178),\" + \",$A$5,CHAR(178),\")\")","v":"5(b² + f²)"},{"$f":"$C100*($S$4^2+$S$5^2)","v":50},{"$f":"CONCATENATE($C100,\"(\",$A$4,CHAR(178),\" + \",$A$5,CHAR(178),\")\")","v":"5(b² + f²)"},{"$f":"$C100*($S$4^2+$S$5^2)","v":50},{"$f":"CONCATENATE($C100,\"(\",$A$4,CHAR(178),\" + \",$A$5,CHAR(178),\")\")","v":"5(b² + f²)"},{"$f":"$C100*($S$4^2+$S$5^2)","v":50},{"$f":"CONCATENATE($C100,\"(\",$A$4,CHAR(178),\" + \",$A$5,CHAR(178),\")\")","v":"5(b² + f²)"},{"$f":"$C100*($S$4^2+$S$5^2)","v":50},{"$f":"CONCATENATE($C100,\"(\",$A$4,CHAR(178),\" + \",$A$5,CHAR(178),\")\")","v":"5(b² + f²)"},{"$f":"$C100*($S$4^2+$S$5^2)","v":50},"5(b² + f²)",50]