{"text_format":"1","workbook":"xlsx","n_sheets":4,"sheets":["Information","Worksheet","Answers","Working"],"not_rendered":{"charts":0,"images":0,"macros":1,"external_links":0,"defined_names":0,"comments":0,"pivot_tables":0},"unopened":[],"bounds":{"document_bytes":16777216,"sheet_cells":100000,"rows_first":2000,"rows_last":500,"rows_between":2000,"halvings":0,"cell_chars":16384,"cell_head_chars":4096},"cells_cut":0,"cells_raw":0,"read":"whole","date_system":"1900"}

{"sheet":"Information","index":0,"n_rows":15,"n_cols":9,"rows_kept":15,"cut":false,"hidden":false,"merged":[[3,2,3,6],[5,2,5,6],[5,8,9,9],[7,2,10,7]]}
[null,null,null,null,"SUBSTITUTION"]
[null,null,null,null,"Integers"]
[]
[null,null,"INSTRUCTIONS"]
[]
[null,"Step 1","Click on WorkSheet tab below.",null,null,null,null,null,"PRESS F9 for NEW WorkSheet"]
[]
[null,"Note","If you hold down shift then click on the WorkSheet tab and the Answers tab, you will be able to print both the WorkSheet and the solutions."]
[]
[]
[]
[]
[null,null,"NOTES:"]
[null,null,"* Practise simple substitution with integers."]
[null,null,"* The answers show working."]

{"sheet":"Worksheet","index":1,"n_rows":34,"n_cols":8,"rows_kept":34,"cut":false,"hidden":false,"merged":[[3,1,3,3],[0,2,0,5],[1,2,1,5]]}
[null,null,"SUBSTITUTION"]
[null,null,"SHOW ALL WORKING",null,null,null,{"$f":"CONCATENATE(\"Worksheet \",Working!D1,Working!B1)","v":"Worksheet SUB-136"}]
["Evaluate the following expressions if;"]
[null,{"$f":"CONCATENATE(Working!A4,\" = \",Working!S4,\", \",Working!A5,\" = \",Working!S5,\", \",Working!A6,\" = \",Working!S6,\", \",Working!A7,\" = \",Working!S7,\", \",Working!A8,\" = \",Working!S8)","v":"c = -2, f = 3, j = 4, r = -4, w = -3"}]
[{"$f":"CONCATENATE(Working!A13,\")\")","v":"1)"},{"$f":"Working!$T13","v":"c + 9"},{"$f":"CONCATENATE(Working!A23,\")\")","v":"11)"},{"$f":"Working!$T23","v":"fj"},{"$f":"CONCATENATE(Working!A33,\")\")","v":"21)"},{"$f":"Working!$T33","v":"5(j + 7)"},{"$f":"CONCATENATE(Working!A43,\")\")","v":"31)"},{"$f":"Working!$T43","v":"w² - 4"}]
["=",null,"=",null,"=",null,"="]
["=",null,"=",null,"=",null,"="]
[{"$f":"CONCATENATE(Working!A14,\")\")","v":"2)"},{"$f":"Working!$T14","v":"w + 5"},{"$f":"CONCATENATE(Working!A24,\")\")","v":"12)"},{"$f":"Working!$T24","v":"5c + 5"},{"$f":"CONCATENATE(Working!A34,\")\")","v":"22)"},{"$f":"Working!$T34","v":"6(w + 8)"},{"$f":"CONCATENATE(Working!A44,\")\")","v":"32)"},{"$f":"Working!$T44","v":"c² + 3f"}]
["=",null,"=",null,"=",null,"="]
["=",null,"=",null,"=",null,"="]
[{"$f":"CONCATENATE(Working!A15,\")\")","v":"3)"},{"$f":"Working!$T15","v":"r - 2"},{"$f":"CONCATENATE(Working!A25,\")\")","v":"13)"},{"$f":"Working!$T25","v":"6w - 7"},{"$f":"CONCATENATE(Working!A35,\")\")","v":"23)"},{"$f":"Working!$T35","v":"4(3r + 4)"},{"$f":"CONCATENATE(Working!A45,\")\")","v":"33)"},{"$f":"Working!$T45","v":"f² + j²"}]
["=",null,"=",null,"=",null,"="]
["=",null,"=",null,"=",null,"="]
[{"$f":"CONCATENATE(Working!A16,\")\")","v":"4)"},{"$f":"Working!$T16","v":"f + r"},{"$f":"CONCATENATE(Working!A26,\")\")","v":"14)"},{"$f":"Working!$T26","v":"fj + 5"},{"$f":"CONCATENATE(Working!A36,\")\")","v":"24)"},{"$f":"Working!$T36","v":"3(3w - 3)"},{"$f":"CONCATENATE(Working!A46,\")\")","v":"34)"},{"$f":"Working!$T46","v":"r² - f²"}]
["=",null,"=",null,"=",null,"="]
["=",null,"=",null,"=",null,"="]
[{"$f":"CONCATENATE(Working!A17,\")\")","v":"5)"},{"$f":"Working!$T17","v":"w - j"},{"$f":"CONCATENATE(Working!A27,\")\")","v":"15)"},{"$f":"Working!$T27","v":"rc - 7"},{"$f":"CONCATENATE(Working!A37,\")\")","v":"25)"},{"$f":"Working!$T37","v":"6(3j - 2c)"},{"$f":"CONCATENATE(Working!A47,\")\")","v":"35)"},{"$f":"Working!$T47","v":"cr²"}]
["=",null,"=",null,"=",null,"="]
["=",null,"=",null,"=",null,"="]
[{"$f":"CONCATENATE(Working!A18,\")\")","v":"6)"},{"$f":"Working!$T18","v":"r - c + 4"},{"$f":"CONCATENATE(Working!A28,\")\")","v":"16)"},{"$f":"Working!$T28","v":"fjc"},{"$f":"CONCATENATE(Working!A38,\")\")","v":"26)"},{"$f":"Working!$T38","v":"5(3j - 2c + r)"},{"$f":"CONCATENATE(Working!A48,\")\")","v":"36)"},{"$f":"Working!$T48","v":"r²c²"}]
["=",null,"=",null,"=",null,"="]
["=",null,"=",null,"=",null,"="]
[{"$f":"CONCATENATE(Working!A19,\")\")","v":"7)"},{"$f":"Working!$T19","v":"c + f + r"},{"$f":"CONCATENATE(Working!A29,\")\")","v":"17)"},{"$f":"Working!$T29","v":"cwf"},{"$f":"CONCATENATE(Working!A39,\")\")","v":"27)"},{"$f":"Working!$T39","v":"r²"},{"$f":"CONCATENATE(Working!A49,\")\")","v":"37)"},{"$f":"Working!$T49","v":"2cr²"}]
["=",null,"=",null,"=",null,"="]
["=",null,"=",null,"=",null,"="]
[{"$f":"CONCATENATE(Working!A20,\")\")","v":"8)"},{"$f":"Working!$T20","v":"f + w - j"},{"$f":"CONCATENATE(Working!A30,\")\")","v":"18)"},{"$f":"Working!$T30","v":"cj + fr"},{"$f":"CONCATENATE(Working!A40,\")\")","v":"28)"},{"$f":"Working!$T40","v":"3j²"},{"$f":"CONCATENATE(Working!A50,\")\")","v":"38)"},{"$f":"Working!$T50","v":"fc² + 6r"}]
["=",null,"=",null,"=",null,"="]
["=",null,"=",null,"=",null,"="]
[{"$f":"CONCATENATE(Working!A21,\")\")","v":"9)"},{"$f":"Working!$T21","v":"5c"},{"$f":"CONCATENATE(Working!A31,\")\")","v":"19)"},{"$f":"Working!$T31","v":"jr - fc"},{"$f":"CONCATENATE(Working!A41,\")\")","v":"29)"},{"$f":"Working!$T41","v":"2r²"},{"$f":"CONCATENATE(Working!A51,\")\")","v":"39)"},{"$f":"Working!$T51","v":"5(j² - 5)"}]
["=",null,"=",null,"=",null,"="]
["=",null,"=",null,"=",null,"="]
[{"$f":"CONCATENATE(Working!A22,\")\")","v":"10)"},{"$f":"Working!$T22","v":"4f"},{"$f":"CONCATENATE(Working!A32,\")\")","v":"20)"},{"$f":"Working!$T32","v":"wc + wj"},{"$f":"CONCATENATE(Working!A42,\")\")","v":"30)"},{"$f":"Working!$T42","v":"f² + 2"},{"$f":"CONCATENATE(Working!A52,\")\")","v":"40)"},{"$f":"Working!$T52","v":"6(w² - j²)"}]
["=",null,"=",null,"=",null,"="]
["=",null,"=",null,"=",null,"="]

{"sheet":"Answers","index":2,"n_rows":34,"n_cols":8,"rows_kept":34,"cut":false,"hidden":false,"merged":[[3,1,3,3],[0,2,0,5],[1,2,1,5]]}
[null,null,"SUBSTITUTION"]
[null,null,"ANSWERS",null,null,null,{"$f":"CONCATENATE(\"Worksheet \",Working!D1,Working!B1)","v":"Worksheet SUB-136"}]
["Evaluate the following expressions if;"]
[null,{"$f":"CONCATENATE(Working!A4,\" = \",Working!S4,\", \",Working!A5,\" = \",Working!S5,\", \",Working!A6,\" = \",Working!S6,\", \",Working!A7,\" = \",Working!S7,\", \",Working!A8,\" = \",Working!S8)","v":"c = -2, f = 3, j = 4, r = -4, w = -3"}]
[{"$f":"CONCATENATE(Working!A13,\")\")","v":"1)"},{"$f":"Working!$T13","v":"c + 9"},{"$f":"CONCATENATE(Working!A23,\")\")","v":"11)"},{"$f":"Working!$T23","v":"fj"},{"$f":"CONCATENATE(Working!A33,\")\")","v":"21)"},{"$f":"Working!$T33","v":"5(j + 7)"},{"$f":"CONCATENATE(Working!A43,\")\")","v":"31)"},{"$f":"Working!$T43","v":"w² - 4"}]
["=",{"$f":"Working!$U13","v":"-2 + 9"},"=",{"$f":"Working!$U23","v":"3 × 4"},"=",{"$f":"Working!$U33","v":"7 × (4 + 7)"},"=",{"$f":"Working!$U43","v":"-3² - 4"}]
["=",{"$f":"Working!$V13","v":"7"},"=",{"$f":"Working!$V13","v":"7"},"=",{"$f":"Working!$V33","v":77},"=",{"$f":"Working!$V43","v":5}]
[{"$f":"CONCATENATE(Working!A14,\")\")","v":"2)"},{"$f":"Working!$T14","v":"w + 5"},{"$f":"CONCATENATE(Working!A24,\")\")","v":"12)"},{"$f":"Working!$T24","v":"5c + 5"},{"$f":"CONCATENATE(Working!A34,\")\")","v":"22)"},{"$f":"Working!$T34","v":"6(w + 8)"},{"$f":"CONCATENATE(Working!A44,\")\")","v":"32)"},{"$f":"Working!$T44","v":"c² + 3f"}]
["=",{"$f":"Working!$U14","v":"-3 + 5"},"=",{"$f":"Working!$U24","v":"5 × -2 + 5"},"=",{"$f":"Working!$U34","v":"6 × (-3 + 8)"},"=",{"$f":"Working!$U44","v":"-2² + 3 × 3"}]
["=",{"$f":"Working!$V14","v":2},"=",{"$f":"Working!$V24","v":-5},"=",{"$f":"Working!$V34","v":30},"=",{"$f":"Working!$V44","v":13}]
[{"$f":"CONCATENATE(Working!A15,\")\")","v":"3)"},{"$f":"Working!$T15","v":"r - 2"},{"$f":"CONCATENATE(Working!A25,\")\")","v":"13)"},{"$f":"Working!$T25","v":"6w - 7"},{"$f":"CONCATENATE(Working!A35,\")\")","v":"23)"},{"$f":"Working!$T35","v":"4(3r + 4)"},{"$f":"CONCATENATE(Working!A45,\")\")","v":"33)"},{"$f":"Working!$T45","v":"f² + j²"}]
["=",{"$f":"Working!$U15","v":"-4 - 2"},"=",{"$f":"Working!$U25","v":"6 × -3 - 7"},"=",{"$f":"Working!$U35","v":"4 × (3 × -4 + 4)"},"=",{"$f":"Working!$U45","v":"3² + 4²"}]
["=",{"$f":"Working!$V15","v":-6},"=",{"$f":"Working!$V25","v":-25},"=",{"$f":"Working!$V35","v":-32},"=",{"$f":"Working!$V45","v":25}]
[{"$f":"CONCATENATE(Working!A16,\")\")","v":"4)"},{"$f":"Working!$T16","v":"f + r"},{"$f":"CONCATENATE(Working!A26,\")\")","v":"14)"},{"$f":"Working!$T26","v":"fj + 5"},{"$f":"CONCATENATE(Working!A36,\")\")","v":"24)"},{"$f":"Working!$T36","v":"3(3w - 3)"},{"$f":"CONCATENATE(Working!A46,\")\")","v":"34)"},{"$f":"Working!$T46","v":"r² - f²"}]
["=",{"$f":"Working!$U16","v":"3 + -4"},"=",{"$f":"Working!$U26","v":"3 × 4 + 5"},"=",{"$f":"Working!$U36","v":"3 × (3 × -3 - 3)"},"=",{"$f":"Working!$U46","v":"-4² - 3²"}]
["=",{"$f":"Working!$V16","v":-1},"=",{"$f":"Working!$V26","v":17},"=",{"$f":"Working!$V36","v":-36},"=",{"$f":"Working!$V46","v":7}]
[{"$f":"CONCATENATE(Working!A17,\")\")","v":"5)"},{"$f":"Working!$T17","v":"w - j"},{"$f":"CONCATENATE(Working!A27,\")\")","v":"15)"},{"$f":"Working!$T27","v":"rc - 7"},{"$f":"CONCATENATE(Working!A37,\")\")","v":"25)"},{"$f":"Working!$T37","v":"6(3j - 2c)"},{"$f":"CONCATENATE(Working!A47,\")\")","v":"35)"},{"$f":"Working!$T47","v":"cr²"}]
["=",{"$f":"Working!$U17","v":"-3 - 4"},"=",{"$f":"Working!$U27","v":"-4 × -2 - 7"},"=",{"$f":"Working!$U37","v":"6 × (3 × 4 - 2 × -2)"},"=",{"$f":"Working!$U47","v":"-2 × -4²"}]
["=",{"$f":"Working!$V17","v":-7},"=",{"$f":"Working!$V27","v":1},"=",{"$f":"Working!$V37","v":96},"=",{"$f":"Working!$V47","v":-32}]
[{"$f":"CONCATENATE(Working!A18,\")\")","v":"6)"},{"$f":"Working!$T18","v":"r - c + 4"},{"$f":"CONCATENATE(Working!A28,\")\")","v":"16)"},{"$f":"Working!$T28","v":"fjc"},{"$f":"CONCATENATE(Working!A38,\")\")","v":"26)"},{"$f":"Working!$T38","v":"5(3j - 2c + r)"},{"$f":"CONCATENATE(Working!A48,\")\")","v":"36)"},{"$f":"Working!$T48","v":"r²c²"}]
["=",{"$f":"Working!$U18","v":"-4 - -2 + 4"},"=",{"$f":"Working!$U28","v":"3 × 4 × -2"},"=",{"$f":"Working!$U38","v":"5(3 × 4 - 2 × -2 + -4)"},"=",{"$f":"Working!$U48","v":"3² × -2²"}]
["=",{"$f":"Working!$V18","v":2},"=",{"$f":"Working!$V28","v":-24},"=",{"$f":"Working!$V38","v":60},"=",{"$f":"Working!$V48","v":36}]
[{"$f":"CONCATENATE(Working!A19,\")\")","v":"7)"},{"$f":"Working!$T19","v":"c + f + r"},{"$f":"CONCATENATE(Working!A29,\")\")","v":"17)"},{"$f":"Working!$T29","v":"cwf"},{"$f":"CONCATENATE(Working!A39,\")\")","v":"27)"},{"$f":"Working!$T39","v":"r²"},{"$f":"CONCATENATE(Working!A49,\")\")","v":"37)"},{"$f":"Working!$T49","v":"2cr²"}]
["=",{"$f":"Working!$U19","v":"-2 + 3 + -4"},"=",{"$f":"Working!$U29","v":"-2 × -3 × 3"},"=",{"$f":"Working!$U39","v":"-4²"},"=",{"$f":"Working!$U49","v":"2 × -2 × -4²"}]
["=",{"$f":"Working!$V19","v":-3},"=",{"$f":"Working!$V29","v":18},"=",{"$f":"Working!$V39","v":16},"=",{"$f":"Working!$V49","v":-64}]
[{"$f":"CONCATENATE(Working!A20,\")\")","v":"8)"},{"$f":"Working!$T20","v":"f + w - j"},{"$f":"CONCATENATE(Working!A30,\")\")","v":"18)"},{"$f":"Working!$T30","v":"cj + fr"},{"$f":"CONCATENATE(Working!A40,\")\")","v":"28)"},{"$f":"Working!$T40","v":"3j²"},{"$f":"CONCATENATE(Working!A50,\")\")","v":"38)"},{"$f":"Working!$T50","v":"fc² + 6r"}]
["=",{"$f":"Working!$U20","v":"3 + -3 - 4"},"=",{"$f":"Working!$U30","v":"-2 × 4 + 3 × -4"},"=",{"$f":"Working!$U40","v":"3 × 4²"},"=",{"$f":"Working!$U50","v":"3 × -2² + 6 × -4"}]
["=",{"$f":"Working!$V20","v":-4},"=",{"$f":"Working!$V30","v":-20},"=",{"$f":"Working!$V40","v":48},"=",{"$f":"Working!$V50","v":-12}]
[{"$f":"CONCATENATE(Working!A21,\")\")","v":"9)"},{"$f":"Working!$T21","v":"5c"},{"$f":"CONCATENATE(Working!A31,\")\")","v":"19)"},{"$f":"Working!$T31","v":"jr - fc"},{"$f":"CONCATENATE(Working!A41,\")\")","v":"29)"},{"$f":"Working!$T41","v":"2r²"},{"$f":"CONCATENATE(Working!A51,\")\")","v":"39)"},{"$f":"Working!$T51","v":"5(j² - 5)"}]
["=",{"$f":"Working!$U21","v":"5 × -2"},"=",{"$f":"Working!$U31","v":"4 × -4 - 3 × -2"},"=",{"$f":"Working!$U41","v":"2 × -4²"},"=",{"$f":"Working!$U51","v":"5 × (4² - 5)"}]
["=",{"$f":"Working!$V21","v":-10},"=",{"$f":"Working!$V31","v":-10},"=",{"$f":"Working!$V41","v":32},"=",{"$f":"Working!$V51","v":55}]
[{"$f":"CONCATENATE(Working!A22,\")\")","v":"10)"},{"$f":"Working!$T22","v":"4f"},{"$f":"CONCATENATE(Working!A32,\")\")","v":"20)"},{"$f":"Working!$T32","v":"wc + wj"},{"$f":"CONCATENATE(Working!A42,\")\")","v":"30)"},{"$f":"Working!$T42","v":"f² + 2"},{"$f":"CONCATENATE(Working!A52,\")\")","v":"40)"},{"$f":"Working!$T52","v":"6(w² - j²)"}]
["=",{"$f":"Working!$U22","v":"4 × 3"},"=",{"$f":"Working!$U32","v":"-3 × -2 + -3 × 4"},"=",{"$f":"Working!$U42","v":"3² + 2"},"=",{"$f":"Working!$U52","v":"6 × (-3² - 4²)"}]
["=",{"$f":"Working!$V22","v":12},"=",{"$f":"Working!$V32","v":-6},"=",{"$f":"Working!$V42","v":11},"=",{"$f":"Working!$V52","v":-42}]

{"sheet":"Working","index":3,"n_rows":52,"n_cols":22,"rows_kept":52,"cut":false,"hidden":true,"merged":[]}
[{"$f":"INT(900*RAND()+100)","v":136},{"$f":"TEXT(1,A1)","v":"136"},null,"SUB-"]
[]
["Sets of values",null,"Pronumeral",1,2,3,4,5,6,7,8,9,10,11,12,13,14,15,"Use"]
[{"$f":"CHAR(C4)","v":"c"},{"$f":"INT(15*RAND())","v":0},{"$f":"INT(3*RAND()+97)","v":99},-2,2,3,2,2,3,2,3,-3,4,2,3,3,2,2,{"$f":"OFFSET(D4,0,VALUE(B$4))","v":-2}]
[{"$f":"CHAR(C5)","v":"f"},null,{"$f":"INT(5*RAND()+100)","v":102},3,-2,-4,-4,-3,-1,-4,4,4,-2,-3,4,-4,5,-2,{"$f":"OFFSET(D5,0,VALUE(B$4))","v":3}]
[{"$f":"IF(C6=108,CHAR(C6+1),IF(C6=111,CHAR(C6+1),CHAR(C6)))","v":"j"},null,{"$f":"INT(5*RAND()+106)","v":106},4,-3,-2,-2,5,-5,4,-3,-4,6,6,-4,6,-3,6,{"$f":"OFFSET(D6,0,VALUE(B$4))","v":4}]
[{"$f":"CHAR(C7)","v":"r"},null,{"$f":"INT(5*RAND()+112)","v":114},-4,8,-1,-3,-2,6,6,-1,7,-1,5,7,-2,6,3,{"$f":"OFFSET(D7,0,VALUE(B$4))","v":-4}]
[{"$f":"CHAR(C8)","v":"w"},null,{"$f":"INT(5*RAND()+117)","v":119},-3,-1,4,4,3,-2,-2,2,-2,-5,-1,-3,-1,-1,-5,{"$f":"OFFSET(D8,0,VALUE(B$4))","v":-3}]
[null,null,null,null,"×"]
[]
[null,null,null,1,null,null,2,null,null,3,null,null,4,null,null,5,null,null,null,null,"Final"]
[null,"Rand",null,"Q","W","A","Q","W","A","Q","W","A","Q","W","A","Q","W","A",null,"Q","W","A"]
[1,{"$f":"3*INT(5*RAND())","v":0},{"$f":"INT(5*RAND()+5)","v":9},{"$f":"CONCATENATE($A$4,\" + \",$C13)","v":"c + 9"},{"$f":"CONCATENATE($S$4,\" + \",$C13)","v":"-2 + 9"},{"$f":"CONCATENATE($S$4+$C$13)","v":"7"},{"$f":"CONCATENATE($A$4,\" + \",($C13-2))","v":"c + 7"},{"$f":"CONCATENATE($S$4,\" + \",($C13-2))","v":"-2 + 7"},{"$f":"CONCATENATE($S$4+$C$13-2)","v":"5"},{"$f":"CONCATENATE($A$4,\" + \",\"2\")","v":"c + 2"},{"$f":"CONCATENATE($S$4,\" + \",\"2\")","v":"-2 + 2"},{"$f":"CONCATENATE($S$4+2)","v":"0"},{"$f":"CONCATENATE($A$4,\" + 7\")","v":"c + 7"},{"$f":"CONCATENATE($S$4,,\" + 7\")","v":"-2 + 7"},{"$f":"CONCATENATE($S$4+7)","v":"5"},{"$f":"CONCATENATE($A$4,\" + 5\")","v":"c + 5"},{"$f":"CONCATENATE($S$4,,\" + 5\")","v":"-2 + 5"},{"$f":"CONCATENATE($S$4+5)","v":"3"},null,{"$f":"OFFSET(D13,0,VALUE(B13))","v":"c + 9"},{"$f":"OFFSET(E13,0,VALUE(B13))","v":"-2 + 9"},{"$f":"OFFSET(F13,0,VALUE(B13))","v":"7"}]
[2,{"$f":"3*INT(5*RAND())","v":9},{"$f":"INT(5*RAND()+5)","v":8},{"$f":"CONCATENATE($A$8,\" + \",$C14)","v":"w + 8"},{"$f":"CONCATENATE($S$8,\" + \",$C14)","v":"-3 + 8"},{"$f":"$S$8+$C14","v":5},{"$f":"CONCATENATE($A$8,\" + \",($C14-4))","v":"w + 4"},{"$f":"CONCATENATE($S$8,\" + \",($C14-4))","v":"-3 + 4"},{"$f":"$S$8+$C14-4","v":1},{"$f":"CONCATENATE($A$8,\" + \",($C14-2))","v":"w + 6"},{"$f":"CONCATENATE($S$8,\" + \",($C14-2))","v":"-3 + 6"},{"$f":"$S$8+$C14-2","v":3},{"$f":"CONCATENATE($A$8,\" + \",($C14-3))","v":"w + 5"},{"$f":"CONCATENATE($S$8,\" + \",($C14-3))","v":"-3 + 5"},{"$f":"$S$8+$C14-3","v":2},{"$f":"CONCATENATE($A$8,\" + \",($C14-1))","v":"w + 7"},{"$f":"CONCATENATE($S$8,\" + \",($C14-1))","v":"-3 + 7"},{"$f":"$S$8+$C14-1","v":4},null,{"$f":"OFFSET(D14,0,VALUE(B14))","v":"w + 5"},{"$f":"OFFSET(E14,0,VALUE(B14))","v":"-3 + 5"},{"$f":"OFFSET(F14,0,VALUE(B14))","v":2}]
[3,9,{"$f":"INT(4*RAND()+3)","v":4},{"$f":"CONCATENATE($A$7,\" - \",$C15)","v":"r - 4"},{"$f":"CONCATENATE($S$7,\" - \",$C15)","v":"-4 - 4"},{"$f":"$S$7-$C15","v":-8},{"$f":"CONCATENATE($A$7,\" - \",($C15+1))","v":"r - 5"},{"$f":"CONCATENATE($S$7,\" - \",($C15+1))","v":"-4 - 5"},{"$f":"$S$7-($C15+1)","v":-9},{"$f":"CONCATENATE($A$7,\" - \",($C15-1))","v":"r - 3"},{"$f":"CONCATENATE($S$7,\" - \",($C15-1))","v":"-4 - 3"},{"$f":"$S$7-($C15-1)","v":-7},{"$f":"CONCATENATE($A$7,\" - \",($C15-2))","v":"r - 2"},{"$f":"CONCATENATE($S$7,\" - \",($C15-2))","v":"-4 - 2"},{"$f":"$S$7-($C15-2)","v":-6},{"$f":"CONCATENATE($A$7,\" - \",($C15-3))","v":"r - 1"},{"$f":"CONCATENATE($S$7,\" - \",($C15-3))","v":"-4 - 1"},{"$f":"$S$7-($C15-3)","v":-5},null,"r - 2","-4 - 2",-6]
[4,3,9,{"$f":"CONCATENATE($A$5,\" + \",$A$8)","v":"f + w"},{"$f":"CONCATENATE($S$5,\" + \",$S$8)","v":"3 + -3"},{"$f":"$S$5+$S$8","v":0},{"$f":"CONCATENATE($A$5,\" + \",$A$7)","v":"f + r"},{"$f":"CONCATENATE($S$5,\" + \",$S$7)","v":"3 + -4"},{"$f":"$S$5+$S$7","v":-1},{"$f":"CONCATENATE($A$5,\" + \",$A$6)","v":"f + j"},{"$f":"CONCATENATE($S$5,\" + \",$S$6)","v":"3 + 4"},{"$f":"$S$5+$S$6","v":7},{"$f":"CONCATENATE($A$5,\" + \",$A$4)","v":"f + c"},{"$f":"CONCATENATE($S$5,\" + \",$S$4)","v":"3 + -2"},{"$f":"$S$5+$S$4","v":1},{"$f":"CONCATENATE($A$6,\" + \",$A$8)","v":"j + w"},{"$f":"CONCATENATE($S$6,\" + \",$S$8)","v":"4 + -3"},{"$f":"$S$6+$S$8","v":1},null,"f + r","3 + -4",-1]
[5,6,6,{"$f":"CONCATENATE($A$8,\" - \",$A$4)","v":"w - c"},{"$f":"CONCATENATE($S$8,\" - \",$S$4)","v":"-3 - -2"},{"$f":"$S$8-$S$4","v":-1},{"$f":"CONCATENATE($A$8,\" - \",$A$5)","v":"w - f"},{"$f":"CONCATENATE($S$8,\" - \",$S$5)","v":"-3 - 3"},{"$f":"$S$8-$S$5","v":-6},{"$f":"CONCATENATE($A$8,\" - \",$A$6)","v":"w - j"},{"$f":"CONCATENATE($S$8,\" - \",$S$6)","v":"-3 - 4"},{"$f":"$S$8-$S$6","v":-7},{"$f":"CONCATENATE($A$7,\" - \",$A$4)","v":"r - c"},{"$f":"CONCATENATE($S$7,\" - \",$S$4)","v":"-4 - -2"},{"$f":"$S$7-$S$4","v":-2},{"$f":"CONCATENATE($A$7,\" - \",$A$5)","v":"r - f"},{"$f":"CONCATENATE($S$7,\" - \",$S$5)","v":"-4 - 3"},{"$f":"$S$7-$S$5","v":-7},null,"w - j","-3 - 4",-7]
[6,0,5,{"$f":"CONCATENATE($A$7,\" - \",$A$4,\" + 4\")","v":"r - c + 4"},{"$f":"CONCATENATE($S$7,\" - \",$S$4,\" + 4\")","v":"-4 - -2 + 4"},{"$f":"$S$7-$S$4+4","v":2},{"$f":"CONCATENATE($A$7,\" - \",$A$4,\" + 5\")","v":"r - c + 5"},{"$f":"CONCATENATE($S$7,\" - \",$S$4,\" + 5\")","v":"-4 - -2 + 5"},{"$f":"$S$7-$S$4+5","v":3},{"$f":"CONCATENATE($A$7,\" - \",$A$4,\" + 3\")","v":"r - c + 3"},{"$f":"CONCATENATE($S$7,\" - \",$S$4,\" + 3\")","v":"-4 - -2 + 3"},{"$f":"$S$7-$S$4+3","v":1},{"$f":"CONCATENATE($A$7,\" - \",$A$4,\" + 6\")","v":"r - c + 6"},{"$f":"CONCATENATE($S$7,\" - \",$S$4,\" + 6\")","v":"-4 - -2 + 6"},{"$f":"$S$7-$S$4+6","v":4},{"$f":"CONCATENATE($A$7,\" - \",$A$4,\" + 1\")","v":"r - c + 1"},{"$f":"CONCATENATE($S$7,\" - \",$S$4,\" + 1\")","v":"-4 - -2 + 1"},{"$f":"$S$7-$S$4+1","v":-1},null,"r - c + 4","-4 - -2 + 4",2]
[7,3,7,{"$f":"CONCATENATE($A$4,\" + \",$A$5,\" + \",$A$6)","v":"c + f + j"},{"$f":"CONCATENATE($S$4,\" + \",$S$5,\" + \",$S$6)","v":"-2 + 3 + 4"},{"$f":"$S$4+$S$5+$S$6","v":5},{"$f":"CONCATENATE($A$4,\" + \",$A$5,\" + \",$A$7)","v":"c + f + r"},{"$f":"CONCATENATE($S$4,\" + \",$S$5,\" + \",$S$7)","v":"-2 + 3 + -4"},{"$f":"$S$4+$S$5+$S$7","v":-3},{"$f":"CONCATENATE($A$5,\" + \",$A$4,\" + \",$A$6)","v":"f + c + j"},{"$f":"CONCATENATE($S$5,\" + \",$S$4,\" + \",$S$6)","v":"3 + -2 + 4"},{"$f":"$S$5+$S$4+$S$6","v":5},{"$f":"CONCATENATE($A$6,\" + \",$A$5,\" + \",$A$4)","v":"j + f + c"},{"$f":"CONCATENATE($S$6,\" + \",$S$5,\" + \",$S$4)","v":"4 + 3 + -2"},{"$f":"$S$6+$S$5+$S$4","v":5},{"$f":"CONCATENATE($A$8,\" + \",$A$5,\" + \",$A$7)","v":"w + f + r"},{"$f":"CONCATENATE($S$8,\" + \",$S$5,\" + \",$S$7)","v":"-3 + 3 + -4"},{"$f":"$S$8+$S$5+$S$7","v":-4},null,"c + f + r","-2 + 3 + -4",-3]
[8,9,7,{"$f":"CONCATENATE($A$4,\" + \",$A$8,\" - \",$A$6)","v":"c + w - j"},{"$f":"CONCATENATE($S$4,\" + \",$S$8,\" - \",$S$6)","v":"-2 + -3 - 4"},{"$f":"$S$4+$S$8-$S$6","v":-9},{"$f":"CONCATENATE($A$4,\" + \",$A$7,\" - \",$A$6)","v":"c + r - j"},{"$f":"CONCATENATE($S$4,\" + \",$S$7,\" - \",$S$6)","v":"-2 + -4 - 4"},{"$f":"$S$4+$S$7-$S$6","v":-10},{"$f":"CONCATENATE($A$4,\" + \",$A$5,\" - \",$A$6)","v":"c + f - j"},{"$f":"CONCATENATE($S$4,\" + \",$S$5,\" - \",$S$6)","v":"-2 + 3 - 4"},{"$f":"$S$4+$S$5-$S$6","v":-3},{"$f":"CONCATENATE($A$5,\" + \",$A$8,\" - \",$A$6)","v":"f + w - j"},{"$f":"CONCATENATE($S$5,\" + \",$S$8,\" - \",$S$6)","v":"3 + -3 - 4"},{"$f":"$S$5+$S$8-$S$6","v":-4},{"$f":"CONCATENATE($A$5,\" + \",$A$7,\" - \",$A$6)","v":"f + r - j"},{"$f":"CONCATENATE($S$5,\" + \",$S$7,\" - \",$S$6)","v":"3 + -4 - 4"},{"$f":"$S$5+$S$7-$S$6","v":-5},null,"f + w - j","3 + -3 - 4",-4]
[9,12,5,{"$f":"CONCATENATE(\"3\",$A$4)","v":"3c"},{"$f":"CONCATENATE(\"3\",\" × \",$S$4)","v":"3 × -2"},{"$f":"3*$S$4","v":-6},{"$f":"CONCATENATE(\"3\",$A$5)","v":"3f"},{"$f":"CONCATENATE(\"3\",\" × \",$S$5)","v":"3 × 3"},{"$f":"3*$S$5","v":9},{"$f":"CONCATENATE(\"3\",$A$6)","v":"3j"},{"$f":"CONCATENATE(\"3\",\" × \",$S$6)","v":"3 × 4"},{"$f":"3*$S$6","v":12},{"$f":"CONCATENATE(\"3\",$A$7)","v":"3r"},{"$f":"CONCATENATE(\"3\",\" × \",$S$7)","v":"3 × -4"},{"$f":"3*$S$7","v":-12},{"$f":"CONCATENATE(\"5\",$A$4)","v":"5c"},{"$f":"CONCATENATE(\"5\",\" × \",$S$4)","v":"5 × -2"},{"$f":"5*$S$4","v":-10},null,"5c","5 × -2",-10]
[10,0,{"$f":"INT(5*RAND()+3)","v":4},{"$f":"CONCATENATE($C22,$A$5)","v":"4f"},{"$f":"CONCATENATE($C22,\" × \",$S$5)","v":"4 × 3"},{"$f":"$C22*$S$5","v":12},{"$f":"CONCATENATE($C22+1,$A$5)","v":"5f"},{"$f":"CONCATENATE($C22+1,\" × \",$S$5)","v":"5 × 3"},{"$f":"($C22+1)*$S$5","v":15},{"$f":"CONCATENATE($C22,$A$8)","v":"4w"},{"$f":"CONCATENATE($C22,\" × \",$S$8)","v":"4 × -3"},{"$f":"$C22*$S$8","v":-12},{"$f":"CONCATENATE($C22+2,$A$6)","v":"6j"},{"$f":"CONCATENATE($C22+2,\" × \",$S$6)","v":"6 × 4"},{"$f":"($C22+2)*$S$6","v":24},{"$f":"CONCATENATE($C22-1,$A$5)","v":"3f"},{"$f":"CONCATENATE($C22-1,\" × \",$S$5)","v":"3 × 3"},{"$f":"($C22-1)*$S$5","v":9},null,"4f","4 × 3",12]
[11,6,{"$f":"INT(5*RAND()+3)","v":4},{"$f":"CONCATENATE($A$4,$A$6)","v":"cj"},{"$f":"CONCATENATE($S$4,\" × \",$S$6)","v":"-2 × 4"},{"$f":"$S$4*$S$6","v":-8},{"$f":"CONCATENATE($A$4,$A$5)","v":"cf"},{"$f":"CONCATENATE($S$4,\" × \",$S$5)","v":"-2 × 3"},{"$f":"$S$4*$S$5","v":-6},{"$f":"CONCATENATE($A$5,$A$6)","v":"fj"},{"$f":"CONCATENATE($S$5,\" × \",$S$6)","v":"3 × 4"},{"$f":"$S$5*$S$6","v":12},{"$f":"CONCATENATE($A$4,$A$8)","v":"cw"},{"$f":"CONCATENATE($S$4,\" × \",$S$8)","v":"-2 × -3"},{"$f":"$S$4*$S$8","v":6},{"$f":"CONCATENATE($A$8,$A$6)","v":"wj"},{"$f":"CONCATENATE($S$8,\" × \",$S$6)","v":"-3 × 4"},{"$f":"$S$8*$S$6","v":-12},null,"fj","3 × 4",12]
[12,0,{"$f":"INT(5*RAND()+3)","v":5},{"$f":"CONCATENATE($C24,$A$4,\" + \",$C24)","v":"5c + 5"},{"$f":"CONCATENATE($C24,\" × \",$S$4,\" + \",$C24)","v":"5 × -2 + 5"},{"$f":"$C24*$S$4+$C24","v":-5},{"$f":"CONCATENATE($C24,$A$4,\" + \",$C24+2)","v":"5c + 7"},{"$f":"CONCATENATE($C24,\" × \",$S$4,\" + \",$C24+2)","v":"5 × -2 + 7"},{"$f":"$C24*$S$4+$C24+2","v":-3},{"$f":"CONCATENATE($C24-1,$A$4,\" + \",$C24)","v":"4c + 5"},{"$f":"CONCATENATE($C24-1,\" × \",$S$4,\" + \",$C24)","v":"4 × -2 + 5"},{"$f":"($C24-1)*$S$4+$C24","v":-3},{"$f":"CONCATENATE($C24+2,$A$5,\" + \",$C24)","v":"7f + 5"},{"$f":"CONCATENATE(($C24+2),\" × \",$S$5,\" + \",$C24)","v":"7 × 3 + 5"},{"$f":"($C24+2)*$S$5+$C24","v":26},{"$f":"CONCATENATE($C24,$A$4,\" + \",\"8\")","v":"5c + 8"},{"$f":"CONCATENATE($C24,\" × \",$S$4,\" + \",\"8\")","v":"5 × -2 + 8"},{"$f":"$C24*$S$4+8","v":-2},null,"5c + 5","5 × -2 + 5",-5]
[13,12,{"$f":"INT(5*RAND()+3)","v":7},{"$f":"CONCATENATE($C25,$A$8,\" - \",$C25)","v":"7w - 7"},{"$f":"CONCATENATE($C25,\" × \",$S$8,\" - \",$C25)","v":"7 × -3 - 7"},{"$f":"$C25*$S$8-$C25","v":-28},{"$f":"CONCATENATE($C25,$A$8,\" - \",($C25-1))","v":"7w - 6"},{"$f":"CONCATENATE($C25,\" × \",$S$8,\" - \",($C25-1))","v":"7 × -3 - 6"},{"$f":"$C25*$S$8-($C25-1)","v":-27},{"$f":"CONCATENATE(($C25-2),$A$8,\" - \",($C25-1))","v":"5w - 6"},{"$f":"CONCATENATE(($C25-2),\" × \",$S$8,\" - \",($C25-1))","v":"5 × -3 - 6"},{"$f":"($C25-2)*$S$8-($C25-1)","v":-21},{"$f":"CONCATENATE(($C25+1),$A$8,\" - \",$C25)","v":"8w - 7"},{"$f":"CONCATENATE(($C25+1),\" × \",$S$8,\" - \",$C25)","v":"8 × -3 - 7"},{"$f":"($C25+1)*$S$8-$C25","v":-31},{"$f":"CONCATENATE(($C25-1),$A$8,\" - \",$C25)","v":"6w - 7"},{"$f":"CONCATENATE(($C25-1),\" × \",$S$8,\" - \",$C25)","v":"6 × -3 - 7"},{"$f":"($C25-1)*$S$8-$C25","v":-25},null,"6w - 7","6 × -3 - 7",-25]
[14,12,{"$f":"INT(5*RAND()+3)","v":3},{"$f":"CONCATENATE($A$5,$A$4,\" + \",$C26)","v":"fc + 3"},{"$f":"CONCATENATE($S$5,\" × \",$S$4,\" + \",$C26)","v":"3 × -2 + 3"},{"$f":"$S$5*$S$4+$C26","v":-3},{"$f":"CONCATENATE($A$4,$A$5,\" + \",$C26)","v":"cf + 3"},{"$f":"CONCATENATE($S$4,\" × \",$S$5,\" + \",$C26)","v":"-2 × 3 + 3"},{"$f":"$S$4*$S$5+$C26","v":-3},{"$f":"CONCATENATE($A$5,$A$8,\" + \",$C26)","v":"fw + 3"},{"$f":"CONCATENATE($S$5,\" × \",$S$8,\" + \",$C26)","v":"3 × -3 + 3"},{"$f":"$S$5*$S$8+$C26","v":-6},{"$f":"CONCATENATE($A$5,$A$4,\" + \",($C26+2))","v":"fc + 5"},{"$f":"CONCATENATE($S$5,\" × \",$S$4,\" + \",($C26+2))","v":"3 × -2 + 5"},{"$f":"$S$5*$S$4+($C26+2)","v":-1},{"$f":"CONCATENATE($A$5,$A$6,\" + \",($C26+2))","v":"fj + 5"},{"$f":"CONCATENATE($S$5,\" × \",$S$6,\" + \",($C26+2))","v":"3 × 4 + 5"},{"$f":"$S$5*$S$6+($C26+2)","v":17},null,"fj + 5","3 × 4 + 5",17]
[15,6,7,{"$f":"CONCATENATE($A$7,$A$4,\" + \",$C27)","v":"rc + 7"},{"$f":"CONCATENATE($S$7,\" × \",$S$4,\" + \",$C27)","v":"-4 × -2 + 7"},{"$f":"$S$7*$S$4+$C27","v":15},{"$f":"CONCATENATE($A$4,$A$7,\" + \",$C27)","v":"cr + 7"},{"$f":"CONCATENATE($S$4,\" × \",$S$7,\" + \",$C27)","v":"-2 × -4 + 7"},{"$f":"$S$4*$S$7+$C27","v":15},{"$f":"CONCATENATE($A$7,$A$4,\" - \",$C27)","v":"rc - 7"},{"$f":"CONCATENATE($S$7,\" × \",$S$4,\" - \",$C27)","v":"-4 × -2 - 7"},{"$f":"$S$7*$S$4-$C27","v":1},{"$f":"CONCATENATE($A$7,$A$4,\" + \",$C27)","v":"rc + 7"},{"$f":"CONCATENATE($S$7,\" × \",$S$4,\" + \",$C27)","v":"-4 × -2 + 7"},{"$f":"$S$7*$S$4+$C27","v":15},{"$f":"CONCATENATE($A$7,$A$5,\" - \",$C27)","v":"rf - 7"},{"$f":"CONCATENATE($S$7,\" × \",$S$5,\" - \",$C27)","v":"-4 × 3 - 7"},{"$f":"$S$7*$S$5-$C27","v":-19},null,"rc - 7","-4 × -2 - 7",1]
[16,9,6,{"$f":"CONCATENATE($A$4,$A$6,$A$8)","v":"cjw"},{"$f":"CONCATENATE($S$4,\" × \",$S$6,\" × \",$S$8)","v":"-2 × 4 × -3"},{"$f":"$S$4*$S$6*$S$8","v":24},{"$f":"CONCATENATE($A$4,$A$5,$A$8)","v":"cfw"},{"$f":"CONCATENATE($S$4,\" × \",$S$5,\" × \",$S$8)","v":"-2 × 3 × -3"},{"$f":"$S$4*$S$5*$S$8","v":18},{"$f":"CONCATENATE($A$4,$A$5,$A$6)","v":"cfj"},{"$f":"CONCATENATE($S$4,\" × \",$S$5,\" × \",$S$6)","v":"-2 × 3 × 4"},{"$f":"$S$4*$S$5*$S$6","v":-24},{"$f":"CONCATENATE($A$5,$A$6,$A$4)","v":"fjc"},{"$f":"CONCATENATE($S$5,\" × \",$S$6,\" × \",$S$4)","v":"3 × 4 × -2"},{"$f":"$S$5*$S$6*$S$4","v":-24},{"$f":"CONCATENATE($A$4,$A$7,$A$5)","v":"crf"},{"$f":"CONCATENATE($S$4,\" × \",$S$7,\" × \",$S$5)","v":"-2 × -4 × 3"},{"$f":"$S$4*$S$7*$S$5","v":24},null,"fjc","3 × 4 × -2",-24]
[17,12,7,{"$f":"CONCATENATE($A$6,$A$4,$A$5)","v":"jcf"},{"$f":"CONCATENATE($S$6,\" × \",$S$4,\" × \",$S$5)","v":"4 × -2 × 3"},{"$f":"$S$6*$S$4*$S$5","v":-24},{"$f":"CONCATENATE($A$4,$A$5,$A$6)","v":"cfj"},{"$f":"CONCATENATE($S$4,\" × \",$S$5,\" × \",$S$6)","v":"-2 × 3 × 4"},{"$f":"$S$4*$S$5*$S$6","v":-24},{"$f":"CONCATENATE($A$4,$A$5,$A$8)","v":"cfw"},{"$f":"CONCATENATE($S$6,\" × \",$S$4,\" × \",$S$8)","v":"4 × -2 × -3"},{"$f":"$S$6*$S$4*$S$8","v":24},{"$f":"CONCATENATE($A$8,$A$4,$A$5)","v":"wcf"},{"$f":"CONCATENATE($S$8,\" × \",$S$4,\" × \",$S$5)","v":"-3 × -2 × 3"},{"$f":"$S$8*$S$4*$S$5","v":18},{"$f":"CONCATENATE($A$4,$A$8,$A$5)","v":"cwf"},{"$f":"CONCATENATE($S$4,\" × \",$S$8,\" × \",$S$5)","v":"-2 × -3 × 3"},{"$f":"$S$4*$S$8*$S$5","v":18},null,"cwf","-2 × -3 × 3",18]
[18,6,7,{"$f":"CONCATENATE($A$4,$A$5,\" + \",$A$6,$A$7)","v":"cf + jr"},{"$f":"CONCATENATE($S$4,\" × \",$S$5,\" + \",$S$6,\" × \",$S$7)","v":"-2 × 3 + 4 × -4"},{"$f":"$S$4*$S$5+$S$6*$S$7","v":-22},{"$f":"CONCATENATE($A$4,$A$5,\" + \",$A$6,$A$8)","v":"cf + jw"},{"$f":"CONCATENATE($S$4,\" × \",$S$5,\" + \",$S$6,\" × \",$S$8)","v":"-2 × 3 + 4 × -3"},{"$f":"$S$4*$S$5+$S$6*$S$8","v":-18},{"$f":"CONCATENATE($A$4,$A$6,\" + \",$A$5,$A$7)","v":"cj + fr"},{"$f":"CONCATENATE($S$4,\" × \",$S$6,\" + \",$S$5,\" × \",$S$7)","v":"-2 × 4 + 3 × -4"},{"$f":"$S$4*$S$6+$S$5*$S$7","v":-20},{"$f":"CONCATENATE($A$8,$A$5,\" - \",$A$4,$A$7)","v":"wf - cr"},{"$f":"CONCATENATE($S$8,\" × \",$S$5,\" - \",$S$4,\" × \",$S$7)","v":"-3 × 3 - -2 × -4"},{"$f":"$S$8*$S$5-$S$4*$S$7","v":-17},{"$f":"CONCATENATE($A$8,$A$6,\" - \",$A$6,$A$7)","v":"wj - jr"},{"$f":"CONCATENATE($S$8,\" × \",$S$6,\" - \",$S$6,\" × \",$S$7)","v":"-3 × 4 - 4 × -4"},{"$f":"$S$8*$S$6-$S$6*$S$7","v":4},null,"cj + fr","-2 × 4 + 3 × -4",-20]
[19,6,8,{"$f":"CONCATENATE($A$6,$A$7,\" + \",$A$5,$A$4)","v":"jr + fc"},{"$f":"CONCATENATE($S$6,\" × \",$S$7,\" + \",$S$5,\" × \",$S$4)","v":"4 × -4 + 3 × -2"},{"$f":"$S$6*$S$7+$S$5*$S$4","v":-22},{"$f":"CONCATENATE($A$5,$A$4,\" + \",$A$6,$A$7)","v":"fc + jr"},{"$f":"CONCATENATE($S$5,\" × \",$S$4,\" + \",$S$6,\" × \",$S$7)","v":"3 × -2 + 4 × -4"},{"$f":"$S$5*$S$4+$S$6*$S$7","v":-22},{"$f":"CONCATENATE($A$6,$A$7,\" - \",$A$5,$A$4)","v":"jr - fc"},{"$f":"CONCATENATE($S$6,\" × \",$S$7,\" - \",$S$5,\" × \",$S$4)","v":"4 × -4 - 3 × -2"},{"$f":"$S$6*$S$7-$S$5*$S$4","v":-10},{"$f":"CONCATENATE($A$8,$A$7,\" - \",$A$5,$A$4)","v":"wr - fc"},{"$f":"CONCATENATE($S$8,\" × \",$S$7,\" - \",$S$5,\" × \",$S$4)","v":"-3 × -4 - 3 × -2"},{"$f":"$S$8*$S$7-$S$5*$S$4","v":18},{"$f":"CONCATENATE($A$4,$A$7,\" + \",$A$5,$A$6)","v":"cr + fj"},{"$f":"CONCATENATE($S$4,\" × \",$S$7,\" + \",$S$5,\" × \",$S$6)","v":"-2 × -4 + 3 × 4"},{"$f":"$S$4*$S$7+$S$5*$S$6","v":20},null,"jr - fc","4 × -4 - 3 × -2",-10]
[20,12,7,{"$f":"CONCATENATE($A$8,$A$5,\" + \",$A$8,$A$6)","v":"wf + wj"},{"$f":"CONCATENATE($S$8,\" × \",$S$5,\" + \",$S$8,\" × \",$S$6)","v":"-3 × 3 + -3 × 4"},{"$f":"$S$8*$S$5+$S$8*$S$6","v":-21},{"$f":"CONCATENATE($A$8,$A$5,\" + \",$A$8,$A$4)","v":"wf + wc"},{"$f":"CONCATENATE($S$8,\" × \",$S$5,\" + \",$S$8,\" × \",$S$4)","v":"-3 × 3 + -3 × -2"},{"$f":"$S$8*$S$5+$S$8*$S$4","v":-3},{"$f":"CONCATENATE($A$8,$A$7,\" - \",$A$8,$A$4)","v":"wr - wc"},{"$f":"CONCATENATE($S$8,\" × \",$S$7,\" - \",$S$8,\" × \",$S$4)","v":"-3 × -4 - -3 × -2"},{"$f":"$S$8*$S$7-$S$8*$S$4","v":6},{"$f":"CONCATENATE($A$4,$A$5,\" + \",$A$4,$A$6)","v":"cf + cj"},{"$f":"CONCATENATE($S$4,\" × \",$S$5,\" + \",$S$4,\" × \",$S$6)","v":"-2 × 3 + -2 × 4"},{"$f":"$S$4*$S$5+$S$4*$S$6","v":-14},{"$f":"CONCATENATE($A$8,$A$4,\" + \",$A$8,$A$6)","v":"wc + wj"},{"$f":"CONCATENATE($S$8,\" × \",$S$4,\" + \",$S$8,\" × \",$S$6)","v":"-3 × -2 + -3 × 4"},{"$f":"$S$8*$S$4+$S$8*$S$6","v":-6},null,"wc + wj","-3 × -2 + -3 × 4",-6]
[21,9,7,{"$f":"CONCATENATE($C33,\"(\",$A$5,\" + \",$C33,\")\")","v":"7(f + 7)"},{"$f":"CONCATENATE($C33,\" × \",\"(\",$S$5,\" + \",$C33,\")\")","v":"7 × (3 + 7)"},{"$f":"$C33*($S$5+$C33)","v":70},{"$f":"CONCATENATE(($C33+1),\"(\",$A$5,\" + \",$C33,\")\")","v":"8(f + 7)"},{"$f":"CONCATENATE(($C33+1),\" × \",\"(\",$S$5,\" + \",$C33,\")\")","v":"8 × (3 + 7)"},{"$f":"($C33+1)*($S$5+$C33)","v":80},{"$f":"CONCATENATE($C21,\"(\",$A$5,\" + \",($C33-1),\")\")","v":"5(f + 6)"},{"$f":"CONCATENATE($C33,\" × \",\"(\",$S$5,\" + \",($C33-1),\")\")","v":"7 × (3 + 6)"},{"$f":"$C33*($S$5+($C33-1))","v":63},{"$f":"CONCATENATE($C21,\"(\",$A$6,\" + \",$C33,\")\")","v":"5(j + 7)"},{"$f":"CONCATENATE($C33,\" × \",\"(\",$S$6,\" + \",$C33,\")\")","v":"7 × (4 + 7)"},{"$f":"$C33*($S$6+$C33)","v":77},{"$f":"CONCATENATE($C21,\"(\",$A$7,\" + \",($C33-1),\")\")","v":"5(r + 6)"},{"$f":"CONCATENATE($C33,\" × \",\"(\",$S$7,\" + \",($C33-1),\")\")","v":"7 × (-4 + 6)"},{"$f":"$C33*($S$7+($C33-1))","v":14},null,"5(j + 7)","7 × (4 + 7)",77]
[22,12,{"$f":"INT(5*RAND()+5)","v":8},{"$f":"CONCATENATE($C34,\"(\",$A$8,\" + \",$C34,\")\")","v":"8(w + 8)"},{"$f":"CONCATENATE($C34,\" × \",\"(\",$S$8,\" + \",$C34,\")\")","v":"8 × (-3 + 8)"},{"$f":"$C34*($S$8+$C34)","v":40},{"$f":"CONCATENATE(($C34+1),\"(\",$A$8,\" + \",$C34,\")\")","v":"9(w + 8)"},{"$f":"CONCATENATE(($C34+1),\" × \",\"(\",$S$8,\" + \",$C34,\")\")","v":"9 × (-3 + 8)"},{"$f":"($C34+1)*($S$8+$C34)","v":45},{"$f":"CONCATENATE($C34,\"(\",$A$8,\" - \",($C34-2),\")\")","v":"8(w - 6)"},{"$f":"CONCATENATE($C34,\" × \",\"(\",$S$8,\" - \",($C34-2),\")\")","v":"8 × (-3 - 6)"},{"$f":"$C34*($S$8-($C34-2))","v":-72},{"$f":"CONCATENATE(($C34+1),\"(\",$A$8,\" - \",$C34,\")\")","v":"9(w - 8)"},{"$f":"CONCATENATE(($C34+1),\" × \",\"(\",$S$8,\" - \",$C34,\")\")","v":"9 × (-3 - 8)"},{"$f":"($C34+1)*($S$8-$C34)","v":-99},{"$f":"CONCATENATE(($C34-2),\"(\",$A$8,\" + \",$C34,\")\")","v":"6(w + 8)"},{"$f":"CONCATENATE(($C34-2),\" × \",\"(\",$S$8,\" + \",$C34,\")\")","v":"6 × (-3 + 8)"},{"$f":"($C34-2)*($S$8+$C34)","v":30},null,{"$f":"OFFSET(D34,0,VALUE(B34))","v":"6(w + 8)"},"6 × (-3 + 8)",{"$f":"OFFSET(F34,0,VALUE(B34))","v":30}]
[23,0,{"$f":"INT(4*RAND()+2)","v":4},{"$f":"CONCATENATE($C35,\"(\",\"3\",$A$7,\" + \",$C35,\")\")","v":"4(3r + 4)"},{"$f":"CONCATENATE($C35,\" × \",\"(\",\"3\",\" × \",$S$7,\" + \",$C35,\")\")","v":"4 × (3 × -4 + 4)"},{"$f":"$C35*(3*$S$7+$C35)","v":-32},{"$f":"CONCATENATE($C35,\"(\",\"4\",$A$7,\" + \",$C35,\")\")","v":"4(4r + 4)"},{"$f":"CONCATENATE($C35,\" × \",\"(\",\"3\",\" × \",$S$7,\" + \",$C35,\")\")","v":"4 × (3 × -4 + 4)"},{"$f":"$C35*(3*$S$7+$C35)","v":-32},{"$f":"CONCATENATE($C35,\"(\",\"2\",$A$5,\" + \",$C35,\")\")","v":"4(2f + 4)"},{"$f":"CONCATENATE($C35,\" × \",\"(\",\"2\",\" × \",$S$5,\" + \",$C35,\")\")","v":"4 × (2 × 3 + 4)"},{"$f":"$C35*(2*$S$5+$C35)","v":40},{"$f":"CONCATENATE($C35,\"(\",\"4\",$A$7,\" + \",$C35,\")\")","v":"4(4r + 4)"},{"$f":"CONCATENATE($C35,\" × \",\"(\",\"4\",\" × \",$S$7,\" + \",$C35,\")\")","v":"4 × (4 × -4 + 4)"},{"$f":"$C35*(4*$S$7+$C35)","v":-48},{"$f":"CONCATENATE(($C35+1),\"(\",\"3\",$A$7,\" + \",$C35,\")\")","v":"5(3r + 4)"},{"$f":"CONCATENATE(($C35+1),\" × \",\"(\",\"3\",\" × \",$S$7,\" + \",$C35,\")\")","v":"5 × (3 × -4 + 4)"},{"$f":"($C35+1)*(3*$S$7+$C35)","v":-40},null,"4(3r + 4)","4 × (3 × -4 + 4)",-32]
[24,6,{"$f":"INT(4*RAND()+2)","v":3},{"$f":"CONCATENATE($C36,\"(\",\"2\",$A$8,\" - \",$C36,\")\")","v":"3(2w - 3)"},{"$f":"CONCATENATE($C36,\" × \",\"(\",\"2\",\" × \",$S$8,\" - \",$C36,\")\")","v":"3 × (2 × -3 - 3)"},{"$f":"$C36*(2*$S$8-$C36)","v":-27},{"$f":"CONCATENATE($C36,\"(\",\"2\",$A$8,\" - \",($C36-1),\")\")","v":"3(2w - 2)"},{"$f":"CONCATENATE($C36,\" × \",\"(\",\"2\",\" × \",$S$8,\" - \",($C36-1),\")\")","v":"3 × (2 × -3 - 2)"},{"$f":"$C36*(2*$S$8-($C36-1))","v":-24},{"$f":"CONCATENATE($C36,\"(\",\"3\",$A$8,\" - \",$C36,\")\")","v":"3(3w - 3)"},{"$f":"CONCATENATE($C36,\" × \",\"(\",\"3\",\" × \",$S$8,\" - \",$C36,\")\")","v":"3 × (3 × -3 - 3)"},{"$f":"$C36*(3*$S$8-$C36)","v":-36},{"$f":"CONCATENATE($C36,\"(\",\"3\",$A$7,\" - \",($C36-1),\")\")","v":"3(3r - 2)"},{"$f":"CONCATENATE($C36,\" × \",\"(\",\"3\",\" × \",$S$7,\" - \",($C36-1),\")\")","v":"3 × (3 × -4 - 2)"},{"$f":"$C36*(3*$S$7-($C36-1))","v":-42},{"$f":"CONCATENATE($C36,\"(\",\"4\",$A$6,\" - \",$C36,\")\")","v":"3(4j - 3)"},{"$f":"CONCATENATE($C36,\" × \",\"(\",\"4\",\" × \",$S$6,\" - \",$C36,\")\")","v":"3 × (4 × 4 - 3)"},{"$f":"$C36*(4*$S$6-$C36)","v":39},null,"3(3w - 3)","3 × (3 × -3 - 3)",-36]
[25,9,{"$f":"INT(5*RAND()+3)","v":6},{"$f":"CONCATENATE($C37,\"(\",\"3\",$A$4,\" + \",\"2\",$A$5,\")\")","v":"6(3c + 2f)"},{"$f":"CONCATENATE($C37,\" × \",\"(\",\"3\",\" × \",$S$4,\" + \",\"2\",\" × \",$S$5,\")\")","v":"6 × (3 × -2 + 2 × 3)"},{"$f":"$C37*(3*$S$4+2*$S$5)","v":0},{"$f":"CONCATENATE($C37,\"(\",\"4\",$A$4,\" + \",\"3\",$A$5,\")\")","v":"6(4c + 3f)"},{"$f":"CONCATENATE($C37,\" × \",\"(\",\"4\",\" × \",$S$4,\" + \",\"3\",\" × \",$S$5,\")\")","v":"6 × (4 × -2 + 3 × 3)"},{"$f":"$C37*(4*$S$4+3*$S$5)","v":6},{"$f":"CONCATENATE($C37,\"(\",\"2\",$A$7,\" + \",\"3\",$A$6,\")\")","v":"6(2r + 3j)"},{"$f":"CONCATENATE($C37,\" × \",\"(\",\"2\",\" × \",$S$7,\" + \",\"3\",\" × \",$S$6,\")\")","v":"6 × (2 × -4 + 3 × 4)"},{"$f":"$C37*(2*$S$7+3*$S$6)","v":24},{"$f":"CONCATENATE($C37,\"(\",\"3\",$A$6,\" - \",\"2\",$A$4,\")\")","v":"6(3j - 2c)"},{"$f":"CONCATENATE($C37,\" × \",\"(\",\"3\",\" × \",$S$6,\" - \",\"2\",\" × \",$S$4,\")\")","v":"6 × (3 × 4 - 2 × -2)"},{"$f":"$C37*(3*$S$6-2*$S$4)","v":96},{"$f":"CONCATENATE(($C37-1),\"(\",\"3\",$A$7,\" - \",\"2\",$A$5,\")\")","v":"5(3r - 2f)"},{"$f":"CONCATENATE(($C37-1),\" × \",\"(\",\"3\",\" × \",$S$7,\" - \",\"2\",\" × \",$S$5,\")\")","v":"5 × (3 × -4 - 2 × 3)"},{"$f":"($C37-1)*(3*$S$7-2*$S$5)","v":-90},null,"6(3j - 2c)","6 × (3 × 4 - 2 × -2)",96]
[26,9,6,{"$f":"CONCATENATE($C38,\"(\",\"2\",$A$6,\" + \",\"3\",$A$4,\" + \",$A$7,\")\")","v":"6(2j + 3c + r)"},{"$f":"CONCATENATE($C38,\" × \",\"(\",\"2\",\" × \",$S$6,\" + \",\"3\",\" × \",$S$4,\" + \",$S$7,\")\")","v":"6 × (2 × 4 + 3 × -2 + -4)"},{"$f":"$C38*(2*$S$6+3*$S$4+$S$7)","v":-12},{"$f":"CONCATENATE(($C38+1),\"(\",\"3\",$A$6,\" + \",\"2\",$A$4,\" + \",$A$7,\")\")","v":"7(3j + 2c + r)"},{"$f":"CONCATENATE($C38,\" × \",\"(\",\"2\",\" × \",$S$6,\" + \",\"3\",\" × \",$S$4,\" + \",$S$7,\")\")","v":"6 × (2 × 4 + 3 × -2 + -4)"},{"$f":"$C38*(2*$S$6+3*$S$4+$S$7)","v":-12},{"$f":"CONCATENATE(($C38-1),\"(\",\"2\",$A$6,\" + \",\"3\",$A$4,\" + \",$A$7,\")\")","v":"5(2j + 3c + r)"},{"$f":"CONCATENATE(($C38-1),\"(\",\"2\",\" × \",$S$6,\" + \",\"3\",\" × \",$S$4,\" + \",$S$7,\")\")","v":"5(2 × 4 + 3 × -2 + -4)"},{"$f":"($C38-1)*(2*$S$6+3*$S$4+$S$7)","v":-10},{"$f":"CONCATENATE(($C38-1),\"(\",\"3\",$A$6,\" - \",\"2\",$A$4,\" + \",$A$7,\")\")","v":"5(3j - 2c + r)"},{"$f":"CONCATENATE(($C38-1),\"(\",\"3\",\" × \",$S$6,\" - \",\"2\",\" × \",$S$4,\" + \",$S$7,\")\")","v":"5(3 × 4 - 2 × -2 + -4)"},{"$f":"($C38-1)*(3*$S$6-2*$S$4+$S$7)","v":60},{"$f":"CONCATENATE(($C38-2),\"(\",\"3\",$A$6,\" - \",\"2\",$A$4,\" + \",$A$7,\")\")","v":"4(3j - 2c + r)"},{"$f":"CONCATENATE(($C38-2),\"(\",\"3\",\" × \",$S$6,\" - \",\"2\",\" × \",$S$4,\" + \",$S$7,\")\")","v":"4(3 × 4 - 2 × -2 + -4)"},{"$f":"($C38-2)*(3*$S$6-2*$S$4+$S$7)","v":48},null,"5(3j - 2c + r)","5(3 × 4 - 2 × -2 + -4)",60]
[27,9,7,{"$f":"CONCATENATE($A$4,CHAR(178))","v":"c²"},{"$f":"CONCATENATE($S$4,CHAR(178))","v":"-2²"},{"$f":"$S$4^2","v":4},{"$f":"CONCATENATE($A$5,CHAR(178))","v":"f²"},{"$f":"CONCATENATE($S$5,CHAR(178))","v":"3²"},{"$f":"$S$5^2","v":9},{"$f":"CONCATENATE($A$6,CHAR(178))","v":"j²"},{"$f":"CONCATENATE($S$6,CHAR(178))","v":"4²"},{"$f":"$S$6^2","v":16},{"$f":"CONCATENATE($A$7,CHAR(178))","v":"r²"},{"$f":"CONCATENATE($S$7,CHAR(178))","v":"-4²"},{"$f":"$S$7^2","v":16},{"$f":"CONCATENATE($A$8,CHAR(178))","v":"w²"},{"$f":"CONCATENATE($S$8,CHAR(178))","v":"-3²"},{"$f":"$S$8^2","v":9},null,"r²","-4²",16]
[28,6,9,{"$f":"CONCATENATE(\"3\",$A$4,CHAR(178))","v":"3c²"},{"$f":"CONCATENATE(\"3\",\" × \",$S$4,CHAR(178))","v":"3 × -2²"},{"$f":"3*$S$4^2","v":12},{"$f":"CONCATENATE(\"3\",$A$5,CHAR(178))","v":"3f²"},{"$f":"CONCATENATE(\"3\",\" × \",$S$5,CHAR(178))","v":"3 × 3²"},{"$f":"3*$S$5^2","v":27},{"$f":"CONCATENATE(\"3\",$A$6,CHAR(178))","v":"3j²"},{"$f":"CONCATENATE(\"3\",\" × \",$S$6,CHAR(178))","v":"3 × 4²"},{"$f":"3*$S$6^2","v":48},{"$f":"CONCATENATE(\"3\",$A$7,CHAR(178))","v":"3r²"},{"$f":"CONCATENATE(\"3\",\" × \",$S$7,CHAR(178))","v":"3 × -4²"},{"$f":"3*$S$7^2","v":48},{"$f":"CONCATENATE(\"3\",$A$8,CHAR(178))","v":"3w²"},{"$f":"CONCATENATE(\"3\",\" × \",$S$8,CHAR(178))","v":"3 × -3²"},{"$f":"3*$S$8^2","v":27},null,"3j²","3 × 4²",48]
[29,9,5,{"$f":"CONCATENATE(\"2\",$A$8,CHAR(178))","v":"2w²"},{"$f":"CONCATENATE(\"2\",\" × \",$S$8,CHAR(178))","v":"2 × -3²"},{"$f":"2*$S$8^2","v":18},{"$f":"CONCATENATE(\"5\",$A$8,CHAR(178))","v":"5w²"},{"$f":"CONCATENATE(\"5\",\" × \",$S$8,CHAR(178))","v":"5 × -3²"},{"$f":"5*$S$8^2","v":45},{"$f":"CONCATENATE(\"4\",$A$8,CHAR(178))","v":"4w²"},{"$f":"CONCATENATE(\"4\",\" × \",$S$8,CHAR(178))","v":"4 × -3²"},{"$f":"4*$S$8^2","v":36},{"$f":"CONCATENATE(\"2\",$A$7,CHAR(178))","v":"2r²"},{"$f":"CONCATENATE(\"2\",\" × \",$S$7,CHAR(178))","v":"2 × -4²"},{"$f":"2*$S$7^2","v":32},{"$f":"CONCATENATE(\"10\",$A$8,CHAR(178))","v":"10w²"},{"$f":"CONCATENATE(\"10\",\" × \",$S$8,CHAR(178))","v":"10 × -3²"},{"$f":"10*$S$8^2","v":90},null,"2r²","2 × -4²",32]
[30,6,5,{"$f":"CONCATENATE($A$5,CHAR(178),\" + \",$C42)","v":"f² + 5"},{"$f":"CONCATENATE($S$5,CHAR(178),\" + \",$C42)","v":"3² + 5"},{"$f":"$S$5^2+$C42","v":14},{"$f":"CONCATENATE($A$7,CHAR(178),\" + \",($C42-1))","v":"r² + 4"},{"$f":"CONCATENATE($S$5,CHAR(178),\" + \",($C42-1))","v":"3² + 4"},{"$f":"$S$5^2+$C42-1","v":13},{"$f":"CONCATENATE($A$5,CHAR(178),\" + \",($C42-3))","v":"f² + 2"},{"$f":"CONCATENATE($S$5,CHAR(178),\" + \",($C42-3))","v":"3² + 2"},{"$f":"$S$5^2+$C42-3","v":11},{"$f":"CONCATENATE($A$8,CHAR(178),\" + \",$C42)","v":"w² + 5"},{"$f":"CONCATENATE($S$8,CHAR(178),\" + \",$C42)","v":"-3² + 5"},{"$f":"$S$8^2+$C41","v":14},{"$f":"CONCATENATE($A$5,CHAR(178),\" + \",($C42+3))","v":"f² + 8"},{"$f":"CONCATENATE($S$5,CHAR(178),\" + \",($C42+3))","v":"3² + 8"},{"$f":"$S$5^2+$C42+3","v":17},null,"f² + 2","3² + 2",11]
[31,9,7,{"$f":"CONCATENATE($A$7,CHAR(178),\" - \",$C43)","v":"r² - 7"},{"$f":"CONCATENATE($S$7,CHAR(178),\" - \",$C43)","v":"-4² - 7"},{"$f":"$S$7^2-$C43","v":9},{"$f":"CONCATENATE($A$7,CHAR(178),\" - \",($C43-2))","v":"r² - 5"},{"$f":"CONCATENATE($S$7,CHAR(178),\" - \",($C43-2))","v":"-4² - 5"},{"$f":"$S$7^2-$C43+2","v":11},{"$f":"CONCATENATE($A$8,CHAR(178),\" - \",$C42)","v":"w² - 5"},{"$f":"CONCATENATE($S$8,CHAR(178),\" - \",$C43)","v":"-3² - 7"},{"$f":"$S$8^2-$C42","v":4},{"$f":"CONCATENATE($A$8,CHAR(178),\" - \",($C42-1))","v":"w² - 4"},{"$f":"CONCATENATE($S$8,CHAR(178),\" - \",($C42-1))","v":"-3² - 4"},{"$f":"$S$8^2-($C42-1)","v":5},{"$f":"CONCATENATE($A$6,CHAR(178),\" - \",$C42)","v":"j² - 5"},{"$f":"CONCATENATE($S$6,CHAR(178),\" - \",$C43)","v":"4² - 7"},{"$f":"$S$6^2-$C42","v":11},null,"w² - 4","-3² - 4",5]
[32,0,7,{"$f":"CONCATENATE($A$4,CHAR(178),\" + \",\"3\",$A$5)","v":"c² + 3f"},{"$f":"CONCATENATE($S$4,CHAR(178),\" + \",\"3\",\" × \",$S$5)","v":"-2² + 3 × 3"},{"$f":"$S$4^2+3*$S$5","v":13},{"$f":"CONCATENATE($A$4,CHAR(178),\" + \",\"4\",$A$5)","v":"c² + 4f"},{"$f":"CONCATENATE($S$4,CHAR(178),\" + \",\"4\",\" × \",$S$5)","v":"-2² + 4 × 3"},{"$f":"$S$4^2+4*$S$5","v":16},{"$f":"CONCATENATE($A$4,CHAR(178),\" + \",\"3\",$A$4)","v":"c² + 3c"},{"$f":"CONCATENATE($S$4,CHAR(178),\" + \",\"3\",\" × \",$S$4)","v":"-2² + 3 × -2"},{"$f":"$S$4^2+3*$S$4","v":-2},{"$f":"CONCATENATE($A$8,CHAR(178),\" - \",\"2\",$A$5)","v":"w² - 2f"},{"$f":"CONCATENATE($S$8,CHAR(178),\" - \",\"2\",\" × \",$S$5)","v":"-3² - 2 × 3"},{"$f":"$S$8^2-2*$S$5","v":3},{"$f":"CONCATENATE($A$5,CHAR(178),\" - \",\"2\",$A$4)","v":"f² - 2c"},{"$f":"CONCATENATE($S$5,CHAR(178),\" - \",\"2\",\" × \",$S$4)","v":"3² - 2 × -2"},{"$f":"$S$5^2-2*$S$4","v":13},null,"c² + 3f","-2² + 3 × 3",13]
[33,0,8,{"$f":"CONCATENATE($A$5,CHAR(178),\" + \",$A$6,CHAR(178))","v":"f² + j²"},{"$f":"CONCATENATE($S$5,CHAR(178),\" + \",$S$6,CHAR(178))","v":"3² + 4²"},{"$f":"$S$5^2+$S$6^2","v":25},{"$f":"CONCATENATE($A$4,CHAR(178),\" + \",$A$6,CHAR(178))","v":"c² + j²"},{"$f":"CONCATENATE($S$4,CHAR(178),\" + \",$S$6,CHAR(178))","v":"-2² + 4²"},{"$f":"$S$4^2+$S$6^2","v":20},{"$f":"CONCATENATE($A$7,CHAR(178),\" + \",$A$5,CHAR(178))","v":"r² + f²"},{"$f":"CONCATENATE($S$7,CHAR(178),\" + \",$S$5,CHAR(178))","v":"-4² + 3²"},{"$f":"$S$7^2+$S$5^2","v":25},{"$f":"CONCATENATE($A$8,CHAR(178),\" + \",$A$5,CHAR(178))","v":"w² + f²"},{"$f":"CONCATENATE($S$8,CHAR(178),\" + \",$S$5,CHAR(178))","v":"-3² + 3²"},{"$f":"$S$8^2+$S$5^2","v":18},{"$f":"CONCATENATE($A$8,CHAR(178),\" + \",$A$4,CHAR(178))","v":"w² + c²"},{"$f":"CONCATENATE($S$8,CHAR(178),\" + \",$S$4,CHAR(178))","v":"-3² + -2²"},{"$f":"$S$8^2+$S$4^2","v":13},null,"f² + j²","3² + 4²",25]
[34,3,6,{"$f":"CONCATENATE($A$8,CHAR(178),\" - \",$A$7,CHAR(178))","v":"w² - r²"},{"$f":"CONCATENATE($S$8,CHAR(178),\" - \",$S$7,CHAR(178))","v":"-3² - -4²"},{"$f":"$S$8^2-$S$7^2","v":-7},{"$f":"CONCATENATE($A$7,CHAR(178),\" - \",$A$5,CHAR(178))","v":"r² - f²"},{"$f":"CONCATENATE($S$7,CHAR(178),\" - \",$S$5,CHAR(178))","v":"-4² - 3²"},{"$f":"$S$7^2-$S$5^2","v":7},{"$f":"CONCATENATE($A$6,CHAR(178),\" - \",$A$4,CHAR(178))","v":"j² - c²"},{"$f":"CONCATENATE($S$6,CHAR(178),\" - \",$S$4,CHAR(178))","v":"4² - -2²"},{"$f":"$S$6^2-$S$4^2","v":12},{"$f":"CONCATENATE($A$8,CHAR(178),\" - \",$A$6,CHAR(178))","v":"w² - j²"},{"$f":"CONCATENATE($S$8,CHAR(178),\" - \",$S$6,CHAR(178))","v":"-3² - 4²"},{"$f":"$S$8^2-$S$6^2","v":-7},{"$f":"CONCATENATE($A$7,CHAR(178),\" - \",$A$6,CHAR(178))","v":"r² - j²"},{"$f":"CONCATENATE($S$7,CHAR(178),\" - \",$S$6,CHAR(178))","v":"-4² - 4²"},{"$f":"$S$7^2-$S$6^2","v":0},null,"r² - f²","-4² - 3²",7]
[35,12,{"$f":"INT(3*RAND()+2)","v":3},{"$f":"CONCATENATE($A$8,$A$6,CHAR(178))","v":"wj²"},{"$f":"CONCATENATE($S$8,\" × \",$S$6,CHAR(178))","v":"-3 × 4²"},{"$f":"$S$8*$S$6^2","v":-48},{"$f":"CONCATENATE($A$4,$A$6,CHAR(178))","v":"cj²"},{"$f":"CONCATENATE($S$4,\" × \",$S$6,CHAR(178))","v":"-2 × 4²"},{"$f":"$S$4*$S$6^2","v":-32},{"$f":"CONCATENATE($A$5,$A$7,CHAR(178))","v":"fr²"},{"$f":"CONCATENATE($S$5,\" × \",$S$7,CHAR(178))","v":"3 × -4²"},{"$f":"$S$5*$S$7^2","v":48},{"$f":"CONCATENATE($A$7,$A$8,CHAR(178))","v":"rw²"},{"$f":"CONCATENATE($S$4,\" × \",$S$8,CHAR(178))","v":"-2 × -3²"},{"$f":"$S$4*$S$8^2","v":-18},{"$f":"CONCATENATE($A$4,$A$7,CHAR(178))","v":"cr²"},{"$f":"CONCATENATE($S$4,\" × \",$S$7,CHAR(178))","v":"-2 × -4²"},{"$f":"$S$4*$S$7^2","v":-32},null,"cr²","-2 × -4²",-32]
[36,6,{"$f":"INT(3*RAND()+2)","v":3},{"$f":"CONCATENATE($A$4,CHAR(178),$A$5,CHAR(178))","v":"c²f²"},{"$f":"CONCATENATE($S$4,CHAR(178),\" × \",$S$5,CHAR(178))","v":"-2² × 3²"},{"$f":"$S$4^2*$S$5^2","v":36},{"$f":"CONCATENATE($A$4,CHAR(178),$A$8,CHAR(178))","v":"c²w²"},{"$f":"CONCATENATE($S$4,CHAR(178),\" × \",$S$8,CHAR(178))","v":"-2² × -3²"},{"$f":"$S$4^2*$S$8^2","v":36},{"$f":"CONCATENATE($A$7,CHAR(178),$A$4,CHAR(178))","v":"r²c²"},{"$f":"CONCATENATE($S$5,CHAR(178),\" × \",$S$4,CHAR(178))","v":"3² × -2²"},{"$f":"$S$5^2*$S$4^2","v":36},{"$f":"CONCATENATE($A$5,CHAR(178),$A$6,CHAR(178))","v":"f²j²"},{"$f":"CONCATENATE($S$5,CHAR(178),\" × \",$S$6,CHAR(178))","v":"3² × 4²"},{"$f":"$S$5^2*$S$6^2","v":144},{"$f":"CONCATENATE($A$8,CHAR(178),$A$5,CHAR(178))","v":"w²f²"},{"$f":"CONCATENATE($S$8,CHAR(178),\" × \",$S$5,CHAR(178))","v":"-3² × 3²"},{"$f":"$S$8^2*$S$5^2","v":81},null,"r²c²","3² × -2²",36]
[37,9,{"$f":"INT(3*RAND()+2)","v":4},{"$f":"CONCATENATE(\"2\",$A$6,$A$4,CHAR(178))","v":"2jc²"},{"$f":"CONCATENATE(\"2\",\" × \",$S$6,\" × \",$S$4,CHAR(178))","v":"2 × 4 × -2²"},{"$f":"2*$S$6*$S$4^2","v":32},{"$f":"CONCATENATE(\"2\",$A$7,$A$4,CHAR(178))","v":"2rc²"},{"$f":"CONCATENATE(\"2\",\" × \",$S$7,\" × \",$S$4,CHAR(178))","v":"2 × -4 × -2²"},{"$f":"2*$S$7*$S$4^2","v":-32},{"$f":"CONCATENATE(\"3\",$A$6,$A$5,CHAR(178))","v":"3jf²"},{"$f":"CONCATENATE(\"3\",\" × \",$S$6,\" × \",$S$5,CHAR(178))","v":"3 × 4 × 3²"},{"$f":"3*$S$6*$S$5^2","v":108},{"$f":"CONCATENATE(\"2\",$A$4,$A$7,CHAR(178))","v":"2cr²"},{"$f":"CONCATENATE(\"2\",\" × \",$S$4,\" × \",$S$7,CHAR(178))","v":"2 × -2 × -4²"},{"$f":"2*$S$4*$S$7^2","v":-64},{"$f":"CONCATENATE(\"3\",$A$5,$A$4,CHAR(178))","v":"3fc²"},{"$f":"CONCATENATE(\"3\",\" × \",$S$5,\" × \",$S$4,CHAR(178))","v":"3 × 3 × -2²"},{"$f":"3*$S$5*$S$4^2","v":36},null,"2cr²","2 × -2 × -4²",-64]
[38,12,6,{"$f":"CONCATENATE($A$6,$A$4,CHAR(178),\" + \",$C50,$A$4)","v":"jc² + 6c"},{"$f":"CONCATENATE($S$6,\" × \",$S$4,CHAR(178),\" + \",$C50,\" × \",$S$4)","v":"4 × -2² + 6 × -2"},{"$f":"$S$6*$S$4^2+$C50*$S$4","v":4},{"$f":"CONCATENATE($A$4,$A$6,CHAR(178),\" + \",$C50,$A$4)","v":"cj² + 6c"},{"$f":"CONCATENATE($S$4,\" × \",$S$6,CHAR(178),\" + \",$C50,\" × \",$S$4)","v":"-2 × 4² + 6 × -2"},{"$f":"$S$4*$S$6^2+$C50*$S$4","v":-44},{"$f":"CONCATENATE($A$5,$A$7,CHAR(178),\" + \",$C50,$A$4)","v":"fr² + 6c"},{"$f":"CONCATENATE($S$5,\" × \",$S$7,CHAR(178),\" + \",$C50,\" × \",$S$4)","v":"3 × -4² + 6 × -2"},{"$f":"$S$5*$S$7^2+$C50*$S$4","v":36},{"$f":"CONCATENATE($A$4,$A$6,CHAR(178),\" + \",$C50,$A$4)","v":"cj² + 6c"},{"$f":"CONCATENATE($S$4,\" × \",$S$6,CHAR(178),\" + \",$C50,\" × \",$S$4)","v":"-2 × 4² + 6 × -2"},{"$f":"$S$4*$S$6^2+$C50*$S$4","v":-44},{"$f":"CONCATENATE($A$5,$A$4,CHAR(178),\" + \",$C50,$A$7)","v":"fc² + 6r"},{"$f":"CONCATENATE($S$5,\" × \",$S$4,CHAR(178),\" + \",$C50,\" × \",$S$7)","v":"3 × -2² + 6 × -4"},{"$f":"$S$5*$S$4^2+$C50*$S$7","v":-12},null,"fc² + 6r","3 × -2² + 6 × -4",-12]
[39,0,5,{"$f":"CONCATENATE($C51,\"(\",$A$6,CHAR(178),\" - \",$C51,\")\")","v":"5(j² - 5)"},{"$f":"CONCATENATE($C51,\" × \",\"(\",$S$6,CHAR(178),\" - \",$C51,\")\")","v":"5 × (4² - 5)"},{"$f":"$C51*($S$6^2-$C51)","v":55},{"$f":"CONCATENATE($C51,\"(\",$A$5,CHAR(178),\" - \",($C51-3),\")\")","v":"5(f² - 2)"},{"$f":"CONCATENATE($C51,\" × \",\"(\",$S$5,CHAR(178),\" - \",($C51-3),\")\")","v":"5 × (3² - 2)"},{"$f":"$C51*($S$5^2-$C51+3)","v":35},{"$f":"CONCATENATE(($C51-2),\"(\",$A$7,CHAR(178),\" - \",$C51,\")\")","v":"3(r² - 5)"},{"$f":"CONCATENATE(($C51-2),\" × \",\"(\",$S$7,CHAR(178),\" - \",$C51,\")\")","v":"3 × (-4² - 5)"},{"$f":"($C51-2)*($S$7^2-$C51)","v":33},{"$f":"CONCATENATE($C51,\"(\",$A$5,CHAR(178),\" - \",$C51,\")\")","v":"5(f² - 5)"},{"$f":"CONCATENATE($C51,\" × \",\"(\",$S$5,CHAR(178),\" - \",$C51,\")\")","v":"5 × (3² - 5)"},{"$f":"$C51*($S$5^2-$C51)","v":20},{"$f":"CONCATENATE(($C51-3),\"(\",$A$5,CHAR(178),\" - \",$C51,\")\")","v":"2(f² - 5)"},{"$f":"CONCATENATE(($C51-3),\" × \",\"(\",$S$5,CHAR(178),\" - \",$C51,\")\")","v":"2 × (3² - 5)"},{"$f":"($C51-3)*($S$5^2-$C51)","v":8},null,"5(j² - 5)","5 × (4² - 5)",55]
[40,9,5,{"$f":"CONCATENATE($C52,\"(\",$A$4,CHAR(178),\" + \",$A$5,CHAR(178),\")\")","v":"5(c² + f²)"},{"$f":"CONCATENATE($C52,\" × \",\"(\",$S$4,CHAR(178),\" + \",$S$5,CHAR(178),\")\")","v":"5 × (-2² + 3²)"},{"$f":"$C52*($S$4^2+$S$5^2)","v":65},{"$f":"CONCATENATE(($C52-1),\"(\",$A$5,CHAR(178),\" + \",$A$4,CHAR(178),\")\")","v":"4(f² + c²)"},{"$f":"CONCATENATE(($C52-1),\" × \",\"(\",$S$5,CHAR(178),\" + \",$S$4,CHAR(178),\")\")","v":"4 × (3² + -2²)"},{"$f":"($C52-1)*($S$5^2+$S$4^2)","v":52},{"$f":"CONCATENATE($C52,\"(\",$A$6,CHAR(178),\" + \",$A$4,CHAR(178),\")\")","v":"5(j² + c²)"},{"$f":"CONCATENATE($C52,\" × \",\"(\",$S$6,CHAR(178),\" + \",$S$4,CHAR(178),\")\")","v":"5 × (4² + -2²)"},{"$f":"$C52*($S$6^2+$S$4^2)","v":100},{"$f":"CONCATENATE(($C52+1),\"(\",$A$8,CHAR(178),\" - \",$A$6,CHAR(178),\")\")","v":"6(w² - j²)"},{"$f":"CONCATENATE(($C52+1),\" × \",\"(\",$S$8,CHAR(178),\" - \",$S$6,CHAR(178),\")\")","v":"6 × (-3² - 4²)"},{"$f":"(C52+1)*($S$8^2-$S$6^2)","v":-42},{"$f":"CONCATENATE(($C52+1),\"(\",$A$7,CHAR(178),\" - \",$A$6,CHAR(178),\")\")","v":"6(r² - j²)"},{"$f":"CONCATENATE(($C52+1),\" × \",\"(\",$S$7,CHAR(178),\" - \",$S$5,CHAR(178),\")\")","v":"6 × (-4² - 3²)"},{"$f":"(C52+1)*($S$7^2-$S$5^2)","v":42},null,"6(w² - j²)","6 × (-3² - 4²)",-42]