{"text_format":"1","workbook":"xlsx","n_sheets":4,"sheets":["Values","Questions","Answers","Working"],"not_rendered":{"charts":0,"images":0,"macros":1,"external_links":0,"defined_names":1,"comments":0,"pivot_tables":0},"unopened":[],"bounds":{"document_bytes":16777216,"sheet_cells":100000,"rows_first":2000,"rows_last":500,"rows_between":2000,"halvings":0,"cell_chars":16384,"cell_head_chars":4096},"cells_cut":0,"cells_raw":0,"read":"whole","date_system":"1900"}

{"sheet":"Values","index":0,"n_rows":15,"n_cols":9,"rows_kept":15,"cut":false,"hidden":false,"merged":[[12,8,16,9],[14,2,17,7],[1,2,1,6],[3,2,4,7],[5,2,5,4],[7,2,8,7],[10,2,10,4],[12,2,12,6]]}
[null,null,null,null,"SUBTRACTION FACTS(2-Digit)"]
[null,null,"INSTRUCTIONS"]
[]
[null,"Step 1","Enter the lowest number to be used for this sheet. (A whole number ≥10 and ≤ 20)"]
[]
[null,null,"Lowest Number"]
[]
[null,"Step 2","Enter the highest number to be used for this sheet. (A whole number ≤ 20 and ≥ to the first number)"]
[]
[]
[null,null,"Highest Number"]
[]
[null,"Step 3","Click on WorkSheet tab below.",null,null,null,null,null,"PRESS F9 for NEW WorkSheet"]
[]
[null,"Note","If you hold down shift then click on the WorkSheet tab and the Answers tab, you will be able to print both the WorkSheet and the solutions."]

{"sheet":"Questions","index":1,"n_rows":36,"n_cols":18,"rows_kept":36,"cut":false,"hidden":false,"merged":[]}
[null,null,null,null,null,null,null,null,"SUBTRACTION FACTS"]
[null,null,null,null,null,null,null,null,null,null,null,null,null,null,null,null,null,{"$f":"Working!C1","v":"WorkSheet SFJ-297"}]
[]
["1)",{"$f":"Working!B5","v":0},"-",{"$f":"Working!D5","v":9},"=",null,"18)",{"$f":"Working!H5","v":0},"-",{"$f":"Working!J5","v":8},"=",null,"35)",{"$f":"Working!N5","v":0},"-",{"$f":"Working!P5","v":6},"="]
[]
["2)",{"$f":"Working!B7","v":0},"-",{"$f":"Working!D7","v":8},"=",null,"19)",{"$f":"Working!H7","v":0},"-",{"$f":"Working!J7","v":-9},"=",null,"36)",{"$f":"Working!N7","v":0},"-",{"$f":"Working!P7","v":-1},"="]
[]
["3)",{"$f":"Working!B9","v":0},"-",{"$f":"Working!D9","v":1},"=",null,"20)",{"$f":"Working!H9","v":0},"-",{"$f":"Working!J9","v":-5},"=",null,"37)",{"$f":"Working!N9","v":0},"-",{"$f":"Working!P9","v":-3},"="]
[]
["4)",{"$f":"Working!B11","v":0},"-",{"$f":"Working!D11","v":0},"=",null,"21)",{"$f":"Working!H11","v":0},"-",{"$f":"Working!J11","v":6},"=",null,"38)",{"$f":"Working!N11","v":0},"-",{"$f":"Working!P11","v":-7},"="]
[]
["5)",{"$f":"Working!B13","v":0},"-",{"$f":"Working!D13","v":7},"=",null,"22)",{"$f":"Working!H13","v":0},"-",{"$f":"Working!J13","v":1},"=",null,"39)",{"$f":"Working!N13","v":0},"-",{"$f":"Working!P13","v":-1},"="]
[]
["6)",{"$f":"Working!B15","v":0},"-",{"$f":"Working!D15","v":-4},"=",null,"23)",{"$f":"Working!H15","v":0},"-",{"$f":"Working!J15","v":0},"=",null,"40)",{"$f":"Working!N15","v":0},"-",{"$f":"Working!P15","v":-4},"="]
[]
["7)",{"$f":"Working!B17","v":0},"-",{"$f":"Working!D17","v":4},"=",null,"24)",{"$f":"Working!H17","v":0},"-",{"$f":"Working!J17","v":-4},"=",null,"41)",{"$f":"Working!N17","v":0},"-",{"$f":"Working!P17","v":7},"="]
[]
["8)",{"$f":"Working!B19","v":0},"-",{"$f":"Working!D19","v":-1},"=",null,"25)",{"$f":"Working!H19","v":0},"-",{"$f":"Working!J19","v":2},"=",null,"42)",{"$f":"Working!N19","v":0},"-",{"$f":"Working!P19","v":-6},"="]
[]
["9)",{"$f":"Working!B21","v":0},"-",{"$f":"Working!D21","v":-1},"=",null,"26)",{"$f":"Working!H21","v":0},"-",{"$f":"Working!J21","v":-4},"=",null,"43)",{"$f":"Working!N21","v":0},"-",{"$f":"Working!P21","v":-6},"="]
[]
["10)",{"$f":"Working!B23","v":0},"-",{"$f":"Working!D23","v":-7},"=",null,"27)",{"$f":"Working!H23","v":0},"-",{"$f":"Working!J23","v":4},"=",null,"44)",{"$f":"Working!N23","v":0},"-",{"$f":"Working!P23","v":7},"="]
[]
["11)",{"$f":"Working!B25","v":0},"-",{"$f":"Working!D25","v":1},"=",null,"28)",{"$f":"Working!H25","v":0},"-",{"$f":"Working!J25","v":-8},"=",null,"45)",{"$f":"Working!N25","v":0},"-",{"$f":"Working!P25","v":-6},"="]
[]
["12)",{"$f":"Working!B27","v":0},"-",{"$f":"Working!D27","v":-1},"=",null,"29)",{"$f":"Working!H27","v":0},"-",{"$f":"Working!J27","v":3},"=",null,"46)",{"$f":"Working!N27","v":0},"-",{"$f":"Working!P27","v":-9},"="]
[]
["13)",{"$f":"Working!B29","v":0},"-",{"$f":"Working!D29","v":7},"=",null,"30)",{"$f":"Working!H29","v":0},"-",{"$f":"Working!J29","v":-6},"=",null,"47)",{"$f":"Working!N29","v":0},"-",{"$f":"Working!P29","v":-1},"="]
[]
["14)",{"$f":"Working!B31","v":0},"-",{"$f":"Working!D31","v":-5},"=",null,"31)",{"$f":"Working!H31","v":0},"-",{"$f":"Working!J31","v":0},"=",null,"48)",{"$f":"Working!N31","v":0},"-",{"$f":"Working!P31","v":9},"="]
[]
["15)",{"$f":"Working!B33","v":0},"-",{"$f":"Working!D33","v":-7},"=",null,"32)",{"$f":"Working!H33","v":0},"-",{"$f":"Working!J33","v":-2},"=",null,"49)",{"$f":"Working!N33","v":0},"-",{"$f":"Working!P33","v":3},"="]
[]
["16)",{"$f":"Working!B35","v":0},"-",{"$f":"Working!D35","v":-3},"=",null,"33)",{"$f":"Working!H35","v":0},"-",{"$f":"Working!J35","v":6},"=",null,"50)",{"$f":"Working!N35","v":0},"-",{"$f":"Working!P35","v":-9},"="]
[]
["17)",{"$f":"Working!B37","v":0},"-",{"$f":"Working!D37","v":-4},"=",null,"34)",{"$f":"Working!H37","v":0},"-",{"$f":"Working!J37","v":-8},"="]

{"sheet":"Answers","index":2,"n_rows":36,"n_cols":18,"rows_kept":36,"cut":false,"hidden":false,"merged":[]}
[null,null,null,null,null,null,null,null,"SUBTRACTION FACTS"]
[null,null,null,null,null,null,null,null,"ANSWERS",null,null,null,null,null,null,null,null,{"$f":"Working!C1","v":"WorkSheet SFJ-297"}]
[]
["1)",{"$f":"Questions!B4","v":0},"-",{"$f":"Questions!D4","v":9},"=",{"$f":"B4-D4","v":-9},"18)",{"$f":"Questions!H4","v":0},"-",{"$f":"Questions!J4","v":8},"=",{"$f":"H4-J4","v":-8},"35)",{"$f":"Questions!N4","v":0},"-",{"$f":"Questions!P4","v":6},"=",{"$f":"N4-P4","v":-6}]
[]
["2)",{"$f":"Questions!B6","v":0},"-",{"$f":"Questions!D6","v":8},"=",{"$f":"B6-D6","v":-8},"19)",{"$f":"Questions!H6","v":0},"-",{"$f":"Questions!J6","v":-9},"=",{"$f":"H6-J6","v":9},"36)",{"$f":"Questions!N6","v":0},"-",{"$f":"Questions!P6","v":-1},"=",{"$f":"N6-P6","v":1}]
[]
["3)",{"$f":"Questions!B8","v":0},"-",{"$f":"Questions!D8","v":1},"=",{"$f":"B8-D8","v":-1},"20)",{"$f":"Questions!H8","v":0},"-",{"$f":"Questions!J8","v":-5},"=",{"$f":"H8-J8","v":5},"37)",{"$f":"Questions!N8","v":0},"-",{"$f":"Questions!P8","v":-3},"=",{"$f":"N8-P8","v":3}]
[]
["4)",{"$f":"Questions!B10","v":0},"-",{"$f":"Questions!D10","v":0},"=",{"$f":"B10-D10","v":0},"21)",{"$f":"Questions!H10","v":0},"-",{"$f":"Questions!J10","v":6},"=",{"$f":"H10-J10","v":-6},"38)",{"$f":"Questions!N10","v":0},"-",{"$f":"Questions!P10","v":-7},"=",{"$f":"N10-P10","v":7}]
[]
["5)",{"$f":"Questions!B12","v":0},"-",{"$f":"Questions!D12","v":7},"=",{"$f":"B12-D12","v":-7},"22)",{"$f":"Questions!H12","v":0},"-",{"$f":"Questions!J12","v":1},"=",{"$f":"H12-J12","v":-1},"39)",{"$f":"Questions!N12","v":0},"-",{"$f":"Questions!P12","v":-1},"=",{"$f":"N12-P12","v":1}]
[]
["6)",{"$f":"Questions!B14","v":0},"-",{"$f":"Questions!D14","v":-4},"=",{"$f":"B14-D14","v":4},"23)",{"$f":"Questions!H14","v":0},"-",{"$f":"Questions!J14","v":0},"=",{"$f":"H14-J14","v":0},"40)",{"$f":"Questions!N14","v":0},"-",{"$f":"Questions!P14","v":-4},"=",{"$f":"N14-P14","v":4}]
[]
["7)",{"$f":"Questions!B16","v":0},"-",{"$f":"Questions!D16","v":4},"=",{"$f":"B16-D16","v":-4},"24)",{"$f":"Questions!H16","v":0},"-",{"$f":"Questions!J16","v":-4},"=",{"$f":"H16-J16","v":4},"41)",{"$f":"Questions!N16","v":0},"-",{"$f":"Questions!P16","v":7},"=",{"$f":"N16-P16","v":-7}]
[]
["8)",{"$f":"Questions!B18","v":0},"-",{"$f":"Questions!D18","v":-1},"=",{"$f":"B18-D18","v":1},"25)",{"$f":"Questions!H18","v":0},"-",{"$f":"Questions!J18","v":2},"=",{"$f":"H18-J18","v":-2},"42)",{"$f":"Questions!N18","v":0},"-",{"$f":"Questions!P18","v":-6},"=",{"$f":"N18-P18","v":6}]
[]
["9)",{"$f":"Questions!B20","v":0},"-",{"$f":"Questions!D20","v":-1},"=",{"$f":"B20-D20","v":1},"26)",{"$f":"Questions!H20","v":0},"-",{"$f":"Questions!J20","v":-4},"=",{"$f":"H20-J20","v":4},"43)",{"$f":"Questions!N20","v":0},"-",{"$f":"Questions!P20","v":-6},"=",{"$f":"N20-P20","v":6}]
[]
["10)",{"$f":"Questions!B22","v":0},"-",{"$f":"Questions!D22","v":-7},"=",{"$f":"B22-D22","v":7},"27)",{"$f":"Questions!H22","v":0},"-",{"$f":"Questions!J22","v":4},"=",{"$f":"H22-J22","v":-4},"44)",{"$f":"Questions!N22","v":0},"-",{"$f":"Questions!P22","v":7},"=",{"$f":"N22-P22","v":-7}]
[]
["11)",{"$f":"Questions!B24","v":0},"-",{"$f":"Questions!D24","v":1},"=",{"$f":"B24-D24","v":-1},"28)",{"$f":"Questions!H24","v":0},"-",{"$f":"Questions!J24","v":-8},"=",{"$f":"H24-J24","v":8},"45)",{"$f":"Questions!N24","v":0},"-",{"$f":"Questions!P24","v":-6},"=",{"$f":"N24-P24","v":6}]
[]
["12)",{"$f":"Questions!B26","v":0},"-",{"$f":"Questions!D26","v":-1},"=",{"$f":"B26-D26","v":1},"29)",{"$f":"Questions!H26","v":0},"-",{"$f":"Questions!J26","v":3},"=",{"$f":"H26-J26","v":-3},"46)",{"$f":"Questions!N26","v":0},"-",{"$f":"Questions!P26","v":-9},"=",{"$f":"N26-P26","v":9}]
[]
["13)",{"$f":"Questions!B28","v":0},"-",{"$f":"Questions!D28","v":7},"=",{"$f":"B28-D28","v":-7},"30)",{"$f":"Questions!H28","v":0},"-",{"$f":"Questions!J28","v":-6},"=",{"$f":"H28-J28","v":6},"47)",{"$f":"Questions!N28","v":0},"-",{"$f":"Questions!P28","v":-1},"=",{"$f":"N28-P28","v":1}]
[]
["14)",{"$f":"Questions!B30","v":0},"-",{"$f":"Questions!D30","v":-5},"=",{"$f":"B30-D30","v":5},"31)",{"$f":"Questions!H30","v":0},"-",{"$f":"Questions!J30","v":0},"=",{"$f":"H30-J30","v":0},"48)",{"$f":"Questions!N30","v":0},"-",{"$f":"Questions!P30","v":9},"=",{"$f":"N30-P30","v":-9}]
[]
["15)",{"$f":"Questions!B32","v":0},"-",{"$f":"Questions!D32","v":-7},"=",{"$f":"B32-D32","v":7},"32)",{"$f":"Questions!H32","v":0},"-",{"$f":"Questions!J32","v":-2},"=",{"$f":"H32-J32","v":2},"49)",{"$f":"Questions!N32","v":0},"-",{"$f":"Questions!P32","v":3},"=",{"$f":"N32-P32","v":-3}]
[]
["16)",{"$f":"Questions!B34","v":0},"-",{"$f":"Questions!D34","v":-3},"=",{"$f":"B34-D34","v":3},"33)",{"$f":"Questions!H34","v":0},"-",{"$f":"Questions!J34","v":6},"=",{"$f":"H34-J34","v":-6},"50)",{"$f":"Questions!N34","v":0},"-",{"$f":"Questions!P34","v":-9},"=",{"$f":"N34-P34","v":9}]
[]
["17)",{"$f":"Questions!B36","v":0},"-",{"$f":"Questions!D36","v":-4},"=",{"$f":"B36-D36","v":4},"34)",{"$f":"Questions!H36","v":0},"-",{"$f":"Questions!J36","v":-8},"=",{"$f":"H36-J36","v":8}]

{"sheet":"Working","index":3,"n_rows":37,"n_cols":22,"rows_kept":37,"cut":false,"hidden":true,"merged":[]}
["SFJ-",{"$f":"INT(1000*RAND()+10)","v":297},{"$f":"CONCATENATE(\"WorkSheet \",A1,B1)","v":"WorkSheet SFJ-297"},null,null,null,null,null,"ADDITION FACTS"]
[]
[]
[]
["1)",{"$f":"INT((Values!$F$11-Values!$F$6+1)*RAND()+Values!$F$6)","v":0},"-",{"$f":"B5 -INT((18-B5+1)*RAND()+(B5-9))","v":9},"=",{"$f":"B5-D5","v":-9},"18)",{"$f":"INT((Values!$F$11-Values!$F$6+1)*RAND()+Values!$F$6)","v":0},"-",{"$f":"H5 -INT((18-H5+1)*RAND()+(H5-9))","v":8},"=",{"$f":"H5-J5","v":-8},"35)",{"$f":"INT((Values!$F$11-Values!$F$6+1)*RAND()+Values!$F$6)","v":0},"-",{"$f":"N5 -INT((18-N5+1)*RAND()+(N5-9))","v":6},"=",{"$f":"N5-P5","v":-6}]
[]
["2)",{"$f":"INT((Values!$F$11-Values!$F$6+1)*RAND()+Values!$F$6)","v":0},"-",{"$f":"B7 -INT((18-B7+1)*RAND()+(B7-9))","v":8},"=",{"$f":"B7-D7","v":-8},"19)",{"$f":"INT((Values!$F$11-Values!$F$6+1)*RAND()+Values!$F$6)","v":0},"-",{"$f":"H7 -INT((18-H7+1)*RAND()+(H7-9))","v":-9},"=",{"$f":"H7-J7","v":9},"36)",{"$f":"INT((Values!$F$11-Values!$F$6+1)*RAND()+Values!$F$6)","v":0},"-",{"$f":"N7 -INT((18-N7+1)*RAND()+(N7-9))","v":-1},"=",{"$f":"N7-P7","v":1}]
[]
["3)",{"$f":"INT((Values!$F$11-Values!$F$6+1)*RAND()+Values!$F$6)","v":0},"-",{"$f":"B9 -INT((18-B9+1)*RAND()+(B9-9))","v":1},"=",{"$f":"B9-D9","v":-1},"20)",{"$f":"INT((Values!$F$11-Values!$F$6+1)*RAND()+Values!$F$6)","v":0},"-",{"$f":"H9 -INT((18-H9+1)*RAND()+(H9-9))","v":-5},"=",{"$f":"H9-J9","v":5},"37)",{"$f":"INT((Values!$F$11-Values!$F$6+1)*RAND()+Values!$F$6)","v":0},"-",{"$f":"N9 -INT((18-N9+1)*RAND()+(N9-9))","v":-3},"=",{"$f":"N9-P9","v":3}]
[]
["4)",{"$f":"INT((Values!$F$11-Values!$F$6+1)*RAND()+Values!$F$6)","v":0},"-",{"$f":"B11 -INT((18-B11+1)*RAND()+(B11-9))","v":0},"=",{"$f":"B11-D11","v":0},"21)",{"$f":"INT((Values!$F$11-Values!$F$6+1)*RAND()+Values!$F$6)","v":0},"-",{"$f":"H11 -INT((18-H11+1)*RAND()+(H11-9))","v":6},"=",{"$f":"H11-J11","v":-6},"38)",{"$f":"INT((Values!$F$11-Values!$F$6+1)*RAND()+Values!$F$6)","v":0},"-",{"$f":"N11 -INT((18-N11+1)*RAND()+(N11-9))","v":-7},"=",{"$f":"N11-P11","v":7},null,null,null,"≥≤"]
[]
["5)",{"$f":"INT((Values!$F$11-Values!$F$6+1)*RAND()+Values!$F$6)","v":0},"-",{"$f":"B13 -INT((18-B13+1)*RAND()+(B13-9))","v":7},"=",{"$f":"B13-D13","v":-7},"22)",{"$f":"INT((Values!$F$11-Values!$F$6+1)*RAND()+Values!$F$6)","v":0},"-",{"$f":"H13 -INT((18-H13+1)*RAND()+(H13-9))","v":1},"=",{"$f":"H13-J13","v":-1},"39)",{"$f":"INT((Values!$F$11-Values!$F$6+1)*RAND()+Values!$F$6)","v":0},"-",{"$f":"N13 -INT((18-N13+1)*RAND()+(N13-9))","v":-1},"=",{"$f":"N13-P13","v":1}]
[]
["6)",{"$f":"INT((Values!$F$11-Values!$F$6+1)*RAND()+Values!$F$6)","v":0},"-",{"$f":"B15 -INT((18-B15+1)*RAND()+(B15-9))","v":-4},"=",{"$f":"B15-D15","v":4},"23)",{"$f":"INT((Values!$F$11-Values!$F$6+1)*RAND()+Values!$F$6)","v":0},"-",{"$f":"H15 -INT((18-H15+1)*RAND()+(H15-9))","v":0},"=",{"$f":"H15-J15","v":0},"40)",{"$f":"INT((Values!$F$11-Values!$F$6+1)*RAND()+Values!$F$6)","v":0},"-",{"$f":"N15 -INT((18-N15+1)*RAND()+(N15-9))","v":-4},"=",{"$f":"N15-P15","v":4}]
[]
["7)",{"$f":"INT((Values!$F$11-Values!$F$6+1)*RAND()+Values!$F$6)","v":0},"-",{"$f":"B17 -INT((18-B17+1)*RAND()+(B17-9))","v":4},"=",{"$f":"B17-D17","v":-4},"24)",{"$f":"INT((Values!$F$11-Values!$F$6+1)*RAND()+Values!$F$6)","v":0},"-",{"$f":"H17 -INT((18-H17+1)*RAND()+(H17-9))","v":-4},"=",{"$f":"H17-J17","v":4},"41)",{"$f":"INT((Values!$F$11-Values!$F$6+1)*RAND()+Values!$F$6)","v":0},"-",{"$f":"N17 -INT((18-N17+1)*RAND()+(N17-9))","v":7},"=",{"$f":"N17-P17","v":-7}]
[]
["8)",{"$f":"INT((Values!$F$11-Values!$F$6+1)*RAND()+Values!$F$6)","v":0},"-",{"$f":"B19 -INT((18-B19+1)*RAND()+(B19-9))","v":-1},"=",{"$f":"B19-D19","v":1},"25)",{"$f":"INT((Values!$F$11-Values!$F$6+1)*RAND()+Values!$F$6)","v":0},"-",{"$f":"H19 -INT((18-H19+1)*RAND()+(H19-9))","v":2},"=",{"$f":"H19-J19","v":-2},"42)",{"$f":"INT((Values!$F$11-Values!$F$6+1)*RAND()+Values!$F$6)","v":0},"-",{"$f":"N19 -INT((18-N19+1)*RAND()+(N19-9))","v":-6},"=",{"$f":"N19-P19","v":6}]
[]
["9)",{"$f":"INT((Values!$F$11-Values!$F$6+1)*RAND()+Values!$F$6)","v":0},"-",{"$f":"B21 -INT((18-B21+1)*RAND()+(B21-9))","v":-1},"=",{"$f":"B21-D21","v":1},"26)",{"$f":"INT((Values!$F$11-Values!$F$6+1)*RAND()+Values!$F$6)","v":0},"-",{"$f":"H21 -INT((18-H21+1)*RAND()+(H21-9))","v":-4},"=",{"$f":"H21-J21","v":4},"43)",{"$f":"INT((Values!$F$11-Values!$F$6+1)*RAND()+Values!$F$6)","v":0},"-",{"$f":"N21 -INT((18-N21+1)*RAND()+(N21-9))","v":-6},"=",{"$f":"N21-P21","v":6}]
[]
["10)",{"$f":"INT((Values!$F$11-Values!$F$6+1)*RAND()+Values!$F$6)","v":0},"-",{"$f":"B23 -INT((18-B23+1)*RAND()+(B23-9))","v":-7},"=",{"$f":"B23-D23","v":7},"27)",{"$f":"INT((Values!$F$11-Values!$F$6+1)*RAND()+Values!$F$6)","v":0},"-",{"$f":"H23 -INT((18-H23+1)*RAND()+(H23-9))","v":4},"=",{"$f":"H23-J23","v":-4},"44)",{"$f":"INT((Values!$F$11-Values!$F$6+1)*RAND()+Values!$F$6)","v":0},"-",{"$f":"N23 -INT((18-N23+1)*RAND()+(N23-9))","v":7},"=",{"$f":"N23-P23","v":-7}]
[]
["11)",{"$f":"INT((Values!$F$11-Values!$F$6+1)*RAND()+Values!$F$6)","v":0},"-",{"$f":"B25 -INT((18-B25+1)*RAND()+(B25-9))","v":1},"=",{"$f":"B25-D25","v":-1},"28)",{"$f":"INT((Values!$F$11-Values!$F$6+1)*RAND()+Values!$F$6)","v":0},"-",{"$f":"H25 -INT((18-H25+1)*RAND()+(H25-9))","v":-8},"=",{"$f":"H25-J25","v":8},"45)",{"$f":"INT((Values!$F$11-Values!$F$6+1)*RAND()+Values!$F$6)","v":0},"-",{"$f":"N25 -INT((18-N25+1)*RAND()+(N25-9))","v":-6},"=",{"$f":"N25-P25","v":6}]
[]
["12)",{"$f":"INT((Values!$F$11-Values!$F$6+1)*RAND()+Values!$F$6)","v":0},"-",{"$f":"B27 -INT((18-B27+1)*RAND()+(B27-9))","v":-1},"=",{"$f":"B27-D27","v":1},"29)",{"$f":"INT((Values!$F$11-Values!$F$6+1)*RAND()+Values!$F$6)","v":0},"-",{"$f":"H27 -INT((18-H27+1)*RAND()+(H27-9))","v":3},"=",{"$f":"H27-J27","v":-3},"46)",{"$f":"INT((Values!$F$11-Values!$F$6+1)*RAND()+Values!$F$6)","v":0},"-",{"$f":"N27 -INT((18-N27+1)*RAND()+(N27-9))","v":-9},"=",{"$f":"N27-P27","v":9}]
[]
["13)",{"$f":"INT((Values!$F$11-Values!$F$6+1)*RAND()+Values!$F$6)","v":0},"-",{"$f":"B29 -INT((18-B29+1)*RAND()+(B29-9))","v":7},"=",{"$f":"B29-D29","v":-7},"30)",{"$f":"INT((Values!$F$11-Values!$F$6+1)*RAND()+Values!$F$6)","v":0},"-",{"$f":"H29 -INT((18-H29+1)*RAND()+(H29-9))","v":-6},"=",{"$f":"H29-J29","v":6},"47)",{"$f":"INT((Values!$F$11-Values!$F$6+1)*RAND()+Values!$F$6)","v":0},"-",{"$f":"N29 -INT((18-N29+1)*RAND()+(N29-9))","v":-1},"=",{"$f":"N29-P29","v":1}]
[]
["14)",{"$f":"INT((Values!$F$11-Values!$F$6+1)*RAND()+Values!$F$6)","v":0},"-",{"$f":"B31 -INT((18-B31+1)*RAND()+(B31-9))","v":-5},"=",{"$f":"B31-D31","v":5},"31)",{"$f":"INT((Values!$F$11-Values!$F$6+1)*RAND()+Values!$F$6)","v":0},"-",{"$f":"H31 -INT((18-H31+1)*RAND()+(H31-9))","v":0},"=",{"$f":"H31-J31","v":0},"48)",{"$f":"INT((Values!$F$11-Values!$F$6+1)*RAND()+Values!$F$6)","v":0},"-",{"$f":"N31 -INT((18-N31+1)*RAND()+(N31-9))","v":9},"=",{"$f":"N31-P31","v":-9}]
[]
["15)",{"$f":"INT((Values!$F$11-Values!$F$6+1)*RAND()+Values!$F$6)","v":0},"-",{"$f":"B33 -INT((18-B33+1)*RAND()+(B33-9))","v":-7},"=",{"$f":"B33-D33","v":7},"32)",{"$f":"INT((Values!$F$11-Values!$F$6+1)*RAND()+Values!$F$6)","v":0},"-",{"$f":"H33 -INT((18-H33+1)*RAND()+(H33-9))","v":-2},"=",{"$f":"H33-J33","v":2},"49)",{"$f":"INT((Values!$F$11-Values!$F$6+1)*RAND()+Values!$F$6)","v":0},"-",{"$f":"N33 -INT((18-N33+1)*RAND()+(N33-9))","v":3},"=",{"$f":"N33-P33","v":-3}]
[]
["16)",{"$f":"INT((Values!$F$11-Values!$F$6+1)*RAND()+Values!$F$6)","v":0},"-",{"$f":"B35 -INT((18-B35+1)*RAND()+(B35-9))","v":-3},"=",{"$f":"B35-D35","v":3},"33)",{"$f":"INT((Values!$F$11-Values!$F$6+1)*RAND()+Values!$F$6)","v":0},"-",{"$f":"H35 -INT((18-H35+1)*RAND()+(H35-9))","v":6},"=",{"$f":"H35-J35","v":-6},"50)",{"$f":"INT((Values!$F$11-Values!$F$6+1)*RAND()+Values!$F$6)","v":0},"-",{"$f":"N35 -INT((18-N35+1)*RAND()+(N35-9))","v":-9},"=",{"$f":"N35-P35","v":9}]
[]
["17)",{"$f":"INT((Values!$F$11-Values!$F$6+1)*RAND()+Values!$F$6)","v":0},"-",{"$f":"B37 -INT((18-B37+1)*RAND()+(B37-9))","v":-4},"=",{"$f":"B37-D37","v":4},"34)",{"$f":"INT((Values!$F$11-Values!$F$6+1)*RAND()+Values!$F$6)","v":0},"-",{"$f":"H37 -INT((18-H37+1)*RAND()+(H37-9))","v":-8},"=",{"$f":"H37-J37","v":8}]