{"text_format":"1","workbook":"xlsx","n_sheets":4,"sheets":["Values","WorkSheet","Answers","Working"],"not_rendered":{"charts":0,"images":2,"macros":1,"external_links":0,"defined_names":0,"comments":0,"pivot_tables":0},"unopened":[],"bounds":{"document_bytes":16777216,"sheet_cells":100000,"rows_first":2000,"rows_last":500,"rows_between":2000,"halvings":0,"cell_chars":16384,"cell_head_chars":4096},"cells_cut":0,"cells_raw":0,"read":"whole","date_system":"1900"}

{"sheet":"Values","index":0,"n_rows":20,"n_cols":9,"rows_kept":20,"cut":false,"hidden":false,"merged":[[15,2,15,4],[17,2,17,6],[17,8,21,9],[19,2,22,7],[9,8,13,9],[3,2,7,8],[1,2,1,6],[8,2,9,7],[10,2,10,4],[12,2,13,7]]}
[null,null,null,null,"TIMES TABLES"]
[null,null,"INSTRUCTIONS"]
[]
[null,"Step 1","Select, by clicking, the maximum number for the tables, noting, many syllabuses only require tables to 10."]
[]
[]
[]
[]
[null,"Step 2","Enter the lowest number to be used for this sheet. (A whole number >1)"]
[null,null,null,null,null,null,null,null,"Enter the same number each time for an individual\ntimes table."]
[null,null,"Lowest Number"]
[]
[null,"Step 3","Enter the highest number to be used for this sheet. (A whole number ≤ 12 (or 10) and ≥ to the first number)"]
[]
[]
[null,null,"Highest Number"]
[]
[null,"Step 4","Click on WorkSheet tab below.",null,null,null,null,null,"PRESS F9 for NEW WorkSheet"]
[]
[null,"Note","If you hold down shift then click on the WorkSheet tab and the Answers tab, you will be able to print both the WorkSheet and the solutions."]

{"sheet":"WorkSheet","index":1,"n_rows":37,"n_cols":18,"rows_kept":37,"cut":false,"hidden":false,"merged":[]}
[null,null,null,null,null,null,null,null,null,"MULTIPLICATION OF NUMBERS"]
[null,null,null,null,null,null,null,null,null,null,null,null,null,null,null,null,null,{"$f":"Working!D1","v":"WorkSheet TAJ-561"}]
["Evaluate the following;"]
[]
[{"$f":"Working!$B3","v":"1)"},{"$f":"Working!$E3","v":0},"×",{"$f":"Working!$F3","v":9},"=",null,{"$f":"Working!$B20","v":"18)"},{"$f":"Working!$E20","v":0},"×",{"$f":"Working!$F20","v":5},"=",null,{"$f":"Working!$B37","v":"35)"},{"$f":"Working!$E37","v":0},"×",{"$f":"Working!$F37","v":3},"="]
[]
[{"$f":"Working!$B4","v":"2)"},{"$f":"Working!$E4","v":0},"×",{"$f":"Working!$F4","v":4},"=",null,{"$f":"Working!$B21","v":"19)"},{"$f":"Working!$E21","v":0},"×",{"$f":"Working!$F21","v":4},"=",null,{"$f":"Working!$B38","v":"36)"},{"$f":"Working!$E38","v":0},"×",{"$f":"Working!$F38","v":3},"="]
[]
[{"$f":"Working!$B5","v":"3)"},{"$f":"Working!$E5","v":0},"×",{"$f":"Working!$F5","v":9},"=",null,{"$f":"Working!$B22","v":"20)"},{"$f":"Working!$E22","v":0},"×",{"$f":"Working!$F22","v":11},"=",null,{"$f":"Working!$B39","v":"37)"},{"$f":"Working!$E39","v":0},"×",{"$f":"Working!$F39","v":2},"="]
[]
[{"$f":"Working!$B6","v":"4)"},{"$f":"Working!$E6","v":0},"×",{"$f":"Working!$F6","v":9},"=",null,{"$f":"Working!$B23","v":"21)"},{"$f":"Working!$E23","v":0},"×",{"$f":"Working!$F23","v":12},"=",null,{"$f":"Working!$B40","v":"38)"},{"$f":"Working!$E40","v":0},"×",{"$f":"Working!$F40","v":12},"="]
[]
[{"$f":"Working!$B7","v":"5)"},{"$f":"Working!$E7","v":0},"×",{"$f":"Working!$F7","v":3},"=",null,{"$f":"Working!$B24","v":"22)"},{"$f":"Working!$E24","v":0},"×",{"$f":"Working!$F24","v":12},"=",null,{"$f":"Working!$B41","v":"39)"},{"$f":"Working!$E41","v":0},"×",{"$f":"Working!$F41","v":6},"="]
[]
[{"$f":"Working!$B8","v":"6)"},{"$f":"Working!$E8","v":0},"×",{"$f":"Working!$F8","v":11},"=",null,{"$f":"Working!$B25","v":"23)"},{"$f":"Working!$E25","v":0},"×",{"$f":"Working!$F25","v":6},"=",null,{"$f":"Working!$B42","v":"40)"},{"$f":"Working!$E42","v":0},"×",{"$f":"Working!$F42","v":6},"="]
[]
[{"$f":"Working!$B9","v":"7)"},{"$f":"Working!$E9","v":0},"×",{"$f":"Working!$F9","v":3},"=",null,{"$f":"Working!$B26","v":"24)"},{"$f":"Working!$E26","v":0},"×",{"$f":"Working!$F26","v":6},"=",null,{"$f":"Working!$B43","v":"41)"},{"$f":"Working!$E43","v":0},"×",{"$f":"Working!$F43","v":12},"="]
[]
[{"$f":"Working!$B10","v":"8)"},{"$f":"Working!$E10","v":0},"×",{"$f":"Working!$F10","v":8},"=",null,{"$f":"Working!$B27","v":"25)"},{"$f":"Working!$E27","v":0},"×",{"$f":"Working!$F27","v":3},"=",null,{"$f":"Working!$B44","v":"42)"},{"$f":"Working!$E44","v":0},"×",{"$f":"Working!$F44","v":11},"="]
[]
[{"$f":"Working!$B11","v":"9)"},{"$f":"Working!$E11","v":0},"×",{"$f":"Working!$F11","v":5},"=",null,{"$f":"Working!$B28","v":"26)"},{"$f":"Working!$E28","v":0},"×",{"$f":"Working!$F28","v":2},"=",null,{"$f":"Working!$B45","v":"43)"},{"$f":"Working!$E45","v":0},"×",{"$f":"Working!$F45","v":5},"="]
[]
[{"$f":"Working!$B12","v":"10)"},{"$f":"Working!$E12","v":0},"×",{"$f":"Working!$F12","v":8},"=",null,{"$f":"Working!$B29","v":"27)"},{"$f":"Working!$E29","v":0},"×",{"$f":"Working!$F29","v":2},"=",null,{"$f":"Working!$B46","v":"44)"},{"$f":"Working!$E46","v":0},"×",{"$f":"Working!$F46","v":7},"="]
[]
[{"$f":"Working!$B13","v":"11)"},{"$f":"Working!$E13","v":0},"×",{"$f":"Working!$F13","v":3},"=",null,{"$f":"Working!$B30","v":"28)"},{"$f":"Working!$E30","v":0},"×",{"$f":"Working!$F30","v":12},"=",null,{"$f":"Working!$B47","v":"45)"},{"$f":"Working!$E47","v":0},"×",{"$f":"Working!$F47","v":8},"="]
[]
[{"$f":"Working!$B14","v":"12)"},{"$f":"Working!$E14","v":0},"×",{"$f":"Working!$F14","v":12},"=",null,{"$f":"Working!$B31","v":"29)"},{"$f":"Working!$E31","v":0},"×",{"$f":"Working!$F31","v":7},"=",null,{"$f":"Working!$B48","v":"46)"},{"$f":"Working!$E48","v":0},"×",{"$f":"Working!$F48","v":12},"="]
[]
[{"$f":"Working!$B15","v":"13)"},{"$f":"Working!$E15","v":0},"×",{"$f":"Working!$F15","v":10},"=",null,{"$f":"Working!$B32","v":"30)"},{"$f":"Working!$E32","v":0},"×",{"$f":"Working!$F32","v":2},"=",null,{"$f":"Working!$B49","v":"47)"},{"$f":"Working!$E49","v":0},"×",{"$f":"Working!$F49","v":11},"="]
[]
[{"$f":"Working!$B16","v":"14)"},{"$f":"Working!$E16","v":0},"×",{"$f":"Working!$F16","v":3},"=",null,{"$f":"Working!$B33","v":"31)"},{"$f":"Working!$E33","v":0},"×",{"$f":"Working!$F33","v":10},"=",null,{"$f":"Working!$B50","v":"48)"},{"$f":"Working!$E50","v":0},"×",{"$f":"Working!$F50","v":7},"="]
[]
[{"$f":"Working!$B17","v":"15)"},{"$f":"Working!$E17","v":0},"×",{"$f":"Working!$F17","v":7},"=",null,{"$f":"Working!$B34","v":"32)"},{"$f":"Working!$E34","v":0},"×",{"$f":"Working!$F34","v":9},"=",null,{"$f":"Working!$B51","v":"49)"},{"$f":"Working!$E51","v":0},"×",{"$f":"Working!$F51","v":10},"="]
[]
[{"$f":"Working!$B18","v":"16)"},{"$f":"Working!$E18","v":0},"×",{"$f":"Working!$F18","v":4},"=",null,{"$f":"Working!$B35","v":"33)"},{"$f":"Working!$E35","v":0},"×",{"$f":"Working!$F35","v":8},"=",null,{"$f":"Working!$B52","v":"50)"},{"$f":"Working!$E52","v":0},"×",{"$f":"Working!$F52","v":4},"="]
[]
[{"$f":"Working!$B19","v":"17)"},{"$f":"Working!$E19","v":0},"×",{"$f":"Working!$F19","v":11},"=",null,{"$f":"Working!$B36","v":"34)"},{"$f":"Working!$E36","v":0},"×",{"$f":"Working!$F36","v":11},"="]

{"sheet":"Answers","index":2,"n_rows":37,"n_cols":18,"rows_kept":37,"cut":false,"hidden":false,"merged":[]}
[null,null,null,null,null,null,null,null,null,"MULTIPLICATION OF NUMBERS"]
[null,null,null,null,null,null,null,null,null,"ANSWERS",null,null,null,null,null,null,null,{"$f":"Working!D1","v":"WorkSheet TAJ-561"}]
["Evaluate the following;"]
[]
[{"$f":"Working!$B3","v":"1)"},{"$f":"Working!$E3","v":0},"×",{"$f":"Working!$F3","v":9},"=",{"$f":"Working!$G3","v":0},{"$f":"Working!$B20","v":"18)"},{"$f":"Working!$E20","v":0},"×",{"$f":"Working!$F20","v":5},"=",{"$f":"Working!$G20","v":0},{"$f":"Working!$B37","v":"35)"},{"$f":"Working!$E37","v":0},"×",{"$f":"Working!$F37","v":3},"=",{"$f":"Working!$G37","v":0}]
[]
[{"$f":"Working!$B4","v":"2)"},{"$f":"Working!$E4","v":0},"×",{"$f":"Working!$F4","v":4},"=",{"$f":"Working!$G4","v":0},{"$f":"Working!$B21","v":"19)"},{"$f":"Working!$E21","v":0},"×",{"$f":"Working!$F21","v":4},"=",{"$f":"Working!$G21","v":0},{"$f":"Working!$B38","v":"36)"},{"$f":"Working!$E38","v":0},"×",{"$f":"Working!$F38","v":3},"=",{"$f":"Working!$G38","v":0}]
[]
[{"$f":"Working!$B5","v":"3)"},{"$f":"Working!$E5","v":0},"×",{"$f":"Working!$F5","v":9},"=",{"$f":"Working!$G5","v":0},{"$f":"Working!$B22","v":"20)"},{"$f":"Working!$E22","v":0},"×",{"$f":"Working!$F22","v":11},"=",{"$f":"Working!$G22","v":0},{"$f":"Working!$B39","v":"37)"},{"$f":"Working!$E39","v":0},"×",{"$f":"Working!$F39","v":2},"=",{"$f":"Working!$G39","v":0}]
[]
[{"$f":"Working!$B6","v":"4)"},{"$f":"Working!$E6","v":0},"×",{"$f":"Working!$F6","v":9},"=",{"$f":"Working!$G6","v":0},{"$f":"Working!$B23","v":"21)"},{"$f":"Working!$E23","v":0},"×",{"$f":"Working!$F23","v":12},"=",{"$f":"Working!$G23","v":0},{"$f":"Working!$B40","v":"38)"},{"$f":"Working!$E40","v":0},"×",{"$f":"Working!$F40","v":12},"=",{"$f":"Working!$G40","v":0}]
[]
[{"$f":"Working!$B7","v":"5)"},{"$f":"Working!$E7","v":0},"×",{"$f":"Working!$F7","v":3},"=",{"$f":"Working!$G7","v":0},{"$f":"Working!$B24","v":"22)"},{"$f":"Working!$E24","v":0},"×",{"$f":"Working!$F24","v":12},"=",{"$f":"Working!$G24","v":0},{"$f":"Working!$B41","v":"39)"},{"$f":"Working!$E41","v":0},"×",{"$f":"Working!$F41","v":6},"=",{"$f":"Working!$G41","v":0}]
[]
[{"$f":"Working!$B8","v":"6)"},{"$f":"Working!$E8","v":0},"×",{"$f":"Working!$F8","v":11},"=",{"$f":"Working!$G8","v":0},{"$f":"Working!$B25","v":"23)"},{"$f":"Working!$E25","v":0},"×",{"$f":"Working!$F25","v":6},"=",{"$f":"Working!$G25","v":0},{"$f":"Working!$B42","v":"40)"},{"$f":"Working!$E42","v":0},"×",{"$f":"Working!$F42","v":6},"=",{"$f":"Working!$G42","v":0}]
[]
[{"$f":"Working!$B9","v":"7)"},{"$f":"Working!$E9","v":0},"×",{"$f":"Working!$F9","v":3},"=",{"$f":"Working!$G9","v":0},{"$f":"Working!$B26","v":"24)"},{"$f":"Working!$E26","v":0},"×",{"$f":"Working!$F26","v":6},"=",{"$f":"Working!$G26","v":0},{"$f":"Working!$B43","v":"41)"},{"$f":"Working!$E43","v":0},"×",{"$f":"Working!$F43","v":12},"=",{"$f":"Working!$G43","v":0}]
[]
[{"$f":"Working!$B10","v":"8)"},{"$f":"Working!$E10","v":0},"×",{"$f":"Working!$F10","v":8},"=",{"$f":"Working!$G10","v":0},{"$f":"Working!$B27","v":"25)"},{"$f":"Working!$E27","v":0},"×",{"$f":"Working!$F27","v":3},"=",{"$f":"Working!$G27","v":0},{"$f":"Working!$B44","v":"42)"},{"$f":"Working!$E44","v":0},"×",{"$f":"Working!$F44","v":11},"=",{"$f":"Working!$G44","v":0}]
[]
[{"$f":"Working!$B11","v":"9)"},{"$f":"Working!$E11","v":0},"×",{"$f":"Working!$F11","v":5},"=",{"$f":"Working!$G11","v":0},{"$f":"Working!$B28","v":"26)"},{"$f":"Working!$E28","v":0},"×",{"$f":"Working!$F28","v":2},"=",{"$f":"Working!$G28","v":0},{"$f":"Working!$B45","v":"43)"},{"$f":"Working!$E45","v":0},"×",{"$f":"Working!$F45","v":5},"=",{"$f":"Working!$G45","v":0}]
[]
[{"$f":"Working!$B12","v":"10)"},{"$f":"Working!$E12","v":0},"×",{"$f":"Working!$F12","v":8},"=",{"$f":"Working!$G12","v":0},{"$f":"Working!$B29","v":"27)"},{"$f":"Working!$E29","v":0},"×",{"$f":"Working!$F29","v":2},"=",{"$f":"Working!$G29","v":0},{"$f":"Working!$B46","v":"44)"},{"$f":"Working!$E46","v":0},"×",{"$f":"Working!$F46","v":7},"=",{"$f":"Working!$G46","v":0}]
[]
[{"$f":"Working!$B13","v":"11)"},{"$f":"Working!$E13","v":0},"×",{"$f":"Working!$F13","v":3},"=",{"$f":"Working!$G13","v":0},{"$f":"Working!$B30","v":"28)"},{"$f":"Working!$E30","v":0},"×",{"$f":"Working!$F30","v":12},"=",{"$f":"Working!$G30","v":0},{"$f":"Working!$B47","v":"45)"},{"$f":"Working!$E47","v":0},"×",{"$f":"Working!$F47","v":8},"=",{"$f":"Working!$G47","v":0}]
[]
[{"$f":"Working!$B14","v":"12)"},{"$f":"Working!$E14","v":0},"×",{"$f":"Working!$F14","v":12},"=",{"$f":"Working!$G14","v":0},{"$f":"Working!$B31","v":"29)"},{"$f":"Working!$E31","v":0},"×",{"$f":"Working!$F31","v":7},"=",{"$f":"Working!$G31","v":0},{"$f":"Working!$B48","v":"46)"},{"$f":"Working!$E48","v":0},"×",{"$f":"Working!$F48","v":12},"=",{"$f":"Working!$G48","v":0}]
[]
[{"$f":"Working!$B15","v":"13)"},{"$f":"Working!$E15","v":0},"×",{"$f":"Working!$F15","v":10},"=",{"$f":"Working!$G15","v":0},{"$f":"Working!$B32","v":"30)"},{"$f":"Working!$E32","v":0},"×",{"$f":"Working!$F32","v":2},"=",{"$f":"Working!$G32","v":0},{"$f":"Working!$B49","v":"47)"},{"$f":"Working!$E49","v":0},"×",{"$f":"Working!$F49","v":11},"=",{"$f":"Working!$G49","v":0}]
[]
[{"$f":"Working!$B16","v":"14)"},{"$f":"Working!$E16","v":0},"×",{"$f":"Working!$F16","v":3},"=",{"$f":"Working!$G16","v":0},{"$f":"Working!$B33","v":"31)"},{"$f":"Working!$E33","v":0},"×",{"$f":"Working!$F33","v":10},"=",{"$f":"Working!$G33","v":0},{"$f":"Working!$B50","v":"48)"},{"$f":"Working!$E50","v":0},"×",{"$f":"Working!$F50","v":7},"=",{"$f":"Working!$G50","v":0}]
[]
[{"$f":"Working!$B17","v":"15)"},{"$f":"Working!$E17","v":0},"×",{"$f":"Working!$F17","v":7},"=",{"$f":"Working!$G17","v":0},{"$f":"Working!$B34","v":"32)"},{"$f":"Working!$E34","v":0},"×",{"$f":"Working!$F34","v":9},"=",{"$f":"Working!$G34","v":0},{"$f":"Working!$B51","v":"49)"},{"$f":"Working!$E51","v":0},"×",{"$f":"Working!$F51","v":10},"=",{"$f":"Working!$G51","v":0}]
[]
[{"$f":"Working!$B18","v":"16)"},{"$f":"Working!$E18","v":0},"×",{"$f":"Working!$F18","v":4},"=",{"$f":"Working!$G18","v":0},{"$f":"Working!$B35","v":"33)"},{"$f":"Working!$E35","v":0},"×",{"$f":"Working!$F35","v":8},"=",{"$f":"Working!$G35","v":0},{"$f":"Working!$B52","v":"50)"},{"$f":"Working!$E52","v":0},"×",{"$f":"Working!$F52","v":4},"=",{"$f":"Working!$G52","v":0}]
[]
[{"$f":"Working!$B19","v":"17)"},{"$f":"Working!$E19","v":0},"×",{"$f":"Working!$F19","v":11},"=",{"$f":"Working!$G19","v":0},{"$f":"Working!$B36","v":"34)"},{"$f":"Working!$E36","v":0},"×",{"$f":"Working!$F36","v":11},"=",{"$f":"Working!$G36","v":0}]

{"sheet":"Working","index":3,"n_rows":102,"n_cols":7,"rows_kept":102,"cut":false,"hidden":true,"merged":[]}
["TAJ-",{"$f":"INT(900*RAND())+100","v":561},null,{"$f":"CONCATENATE(\"WorkSheet \",A1,B1)","v":"WorkSheet TAJ-561"}]
[]
[1,{"$f":"CONCATENATE(A3,\")\")","v":"1)"},12,null,{"$f":"INT((Values!$F$16-Values!$F$11+1)*RAND()+Values!$F$11)","v":0},{"$f":"INT((C3-1)*RAND()+2)","v":9},{"$f":"E3*F3","v":0}]
[2,{"$f":"CONCATENATE(A4,\")\")","v":"2)"},12,null,{"$f":"INT((Values!$F$16-Values!$F$11+1)*RAND()+Values!$F$11)","v":0},{"$f":"INT((C4-1)*RAND()+2)","v":4},{"$f":"E4*F4","v":0}]
[3,"3)",12,null,{"$f":"INT((Values!$F$16-Values!$F$11+1)*RAND()+Values!$F$11)","v":0},9,0]
[4,"4)",12,null,{"$f":"INT((Values!$F$16-Values!$F$11+1)*RAND()+Values!$F$11)","v":0},9,0]
[5,"5)",12,null,{"$f":"INT((Values!$F$16-Values!$F$11+1)*RAND()+Values!$F$11)","v":0},3,0]
[6,"6)",12,null,{"$f":"INT((Values!$F$16-Values!$F$11+1)*RAND()+Values!$F$11)","v":0},11,0]
[7,"7)",12,null,{"$f":"INT((Values!$F$16-Values!$F$11+1)*RAND()+Values!$F$11)","v":0},3,0]
[8,"8)",12,null,{"$f":"INT((Values!$F$16-Values!$F$11+1)*RAND()+Values!$F$11)","v":0},8,0]
[9,"9)",12,null,{"$f":"INT((Values!$F$16-Values!$F$11+1)*RAND()+Values!$F$11)","v":0},5,0]
[10,"10)",12,null,{"$f":"INT((Values!$F$16-Values!$F$11+1)*RAND()+Values!$F$11)","v":0},8,0]
[11,"11)",12,null,{"$f":"INT((Values!$F$16-Values!$F$11+1)*RAND()+Values!$F$11)","v":0},3,0]
[12,"12)",12,null,{"$f":"INT((Values!$F$16-Values!$F$11+1)*RAND()+Values!$F$11)","v":0},12,0]
[13,"13)",12,null,{"$f":"INT((Values!$F$16-Values!$F$11+1)*RAND()+Values!$F$11)","v":0},10,0]
[14,"14)",12,null,{"$f":"INT((Values!$F$16-Values!$F$11+1)*RAND()+Values!$F$11)","v":0},3,0]
[15,"15)",12,null,{"$f":"INT((Values!$F$16-Values!$F$11+1)*RAND()+Values!$F$11)","v":0},7,0]
[16,"16)",12,null,{"$f":"INT((Values!$F$16-Values!$F$11+1)*RAND()+Values!$F$11)","v":0},4,0]
[17,"17)",12,null,{"$f":"INT((Values!$F$16-Values!$F$11+1)*RAND()+Values!$F$11)","v":0},11,0]
[18,"18)",12,null,{"$f":"INT((Values!$F$16-Values!$F$11+1)*RAND()+Values!$F$11)","v":0},5,0]
[19,"19)",12,null,{"$f":"INT((Values!$F$16-Values!$F$11+1)*RAND()+Values!$F$11)","v":0},4,0]
[20,"20)",12,null,{"$f":"INT((Values!$F$16-Values!$F$11+1)*RAND()+Values!$F$11)","v":0},11,0]
[21,"21)",12,null,{"$f":"INT((Values!$F$16-Values!$F$11+1)*RAND()+Values!$F$11)","v":0},12,0]
[22,"22)",12,null,{"$f":"INT((Values!$F$16-Values!$F$11+1)*RAND()+Values!$F$11)","v":0},12,0]
[23,"23)",12,null,{"$f":"INT((Values!$F$16-Values!$F$11+1)*RAND()+Values!$F$11)","v":0},6,0]
[24,"24)",12,null,{"$f":"INT((Values!$F$16-Values!$F$11+1)*RAND()+Values!$F$11)","v":0},6,0]
[25,"25)",12,null,{"$f":"INT((Values!$F$16-Values!$F$11+1)*RAND()+Values!$F$11)","v":0},3,0]
[26,"26)",12,null,{"$f":"INT((Values!$F$16-Values!$F$11+1)*RAND()+Values!$F$11)","v":0},2,0]
[27,"27)",12,null,{"$f":"INT((Values!$F$16-Values!$F$11+1)*RAND()+Values!$F$11)","v":0},2,0]
[28,"28)",12,null,{"$f":"INT((Values!$F$16-Values!$F$11+1)*RAND()+Values!$F$11)","v":0},12,0]
[29,"29)",12,null,{"$f":"INT((Values!$F$16-Values!$F$11+1)*RAND()+Values!$F$11)","v":0},7,0]
[30,"30)",12,null,{"$f":"INT((Values!$F$16-Values!$F$11+1)*RAND()+Values!$F$11)","v":0},2,0]
[31,"31)",12,null,{"$f":"INT((Values!$F$16-Values!$F$11+1)*RAND()+Values!$F$11)","v":0},10,0]
[32,"32)",12,null,{"$f":"INT((Values!$F$16-Values!$F$11+1)*RAND()+Values!$F$11)","v":0},9,0]
[33,"33)",12,null,{"$f":"INT((Values!$F$16-Values!$F$11+1)*RAND()+Values!$F$11)","v":0},8,0]
[34,"34)",12,null,{"$f":"INT((Values!$F$16-Values!$F$11+1)*RAND()+Values!$F$11)","v":0},11,0]
[35,"35)",12,null,{"$f":"INT((Values!$F$16-Values!$F$11+1)*RAND()+Values!$F$11)","v":0},3,0]
[36,"36)",12,null,{"$f":"INT((Values!$F$16-Values!$F$11+1)*RAND()+Values!$F$11)","v":0},3,0]
[37,"37)",12,null,{"$f":"INT((Values!$F$16-Values!$F$11+1)*RAND()+Values!$F$11)","v":0},2,0]
[38,"38)",12,null,{"$f":"INT((Values!$F$16-Values!$F$11+1)*RAND()+Values!$F$11)","v":0},12,0]
[39,"39)",12,null,{"$f":"INT((Values!$F$16-Values!$F$11+1)*RAND()+Values!$F$11)","v":0},6,0]
[40,"40)",12,null,{"$f":"INT((Values!$F$16-Values!$F$11+1)*RAND()+Values!$F$11)","v":0},6,0]
[41,"41)",12,null,{"$f":"INT((Values!$F$16-Values!$F$11+1)*RAND()+Values!$F$11)","v":0},12,0]
[42,"42)",12,null,{"$f":"INT((Values!$F$16-Values!$F$11+1)*RAND()+Values!$F$11)","v":0},11,0]
[43,"43)",12,null,{"$f":"INT((Values!$F$16-Values!$F$11+1)*RAND()+Values!$F$11)","v":0},5,0]
[44,"44)",12,null,{"$f":"INT((Values!$F$16-Values!$F$11+1)*RAND()+Values!$F$11)","v":0},7,0]
[45,"45)",12,null,{"$f":"INT((Values!$F$16-Values!$F$11+1)*RAND()+Values!$F$11)","v":0},8,0]
[46,"46)",12,null,{"$f":"INT((Values!$F$16-Values!$F$11+1)*RAND()+Values!$F$11)","v":0},12,0]
[47,"47)",12,null,{"$f":"INT((Values!$F$16-Values!$F$11+1)*RAND()+Values!$F$11)","v":0},11,0]
[48,"48)",12,null,{"$f":"INT((Values!$F$16-Values!$F$11+1)*RAND()+Values!$F$11)","v":0},7,0]
[49,"49)",12,null,{"$f":"INT((Values!$F$16-Values!$F$11+1)*RAND()+Values!$F$11)","v":0},10,0]
[50,"50)",12,null,{"$f":"INT((Values!$F$16-Values!$F$11+1)*RAND()+Values!$F$11)","v":0},4,0]
[51,"51)",12,null,{"$f":"INT((Values!$F$16-Values!$F$11+1)*RAND()+Values!$F$11)","v":0},4,0]
[52,"52)",12,null,{"$f":"INT((Values!$F$16-Values!$F$11+1)*RAND()+Values!$F$11)","v":0},9,0]
[53,"53)",12,null,{"$f":"INT((Values!$F$16-Values!$F$11+1)*RAND()+Values!$F$11)","v":0},10,0]
[54,"54)",12,null,{"$f":"INT((Values!$F$16-Values!$F$11+1)*RAND()+Values!$F$11)","v":0},5,0]
[55,"55)",12,null,{"$f":"INT((Values!$F$16-Values!$F$11+1)*RAND()+Values!$F$11)","v":0},8,0]
[56,"56)",12,null,{"$f":"INT((Values!$F$16-Values!$F$11+1)*RAND()+Values!$F$11)","v":0},10,0]
[57,"57)",12,null,{"$f":"INT((Values!$F$16-Values!$F$11+1)*RAND()+Values!$F$11)","v":0},2,0]
[58,"58)",12,null,{"$f":"INT((Values!$F$16-Values!$F$11+1)*RAND()+Values!$F$11)","v":0},11,0]
[59,"59)",12,null,{"$f":"INT((Values!$F$16-Values!$F$11+1)*RAND()+Values!$F$11)","v":0},5,0]
[60,"60)",12,null,{"$f":"INT((Values!$F$16-Values!$F$11+1)*RAND()+Values!$F$11)","v":0},7,0]
[61,"61)",12,null,{"$f":"INT((Values!$F$16-Values!$F$11+1)*RAND()+Values!$F$11)","v":0},9,0]
[62,"62)",12,null,{"$f":"INT((Values!$F$16-Values!$F$11+1)*RAND()+Values!$F$11)","v":0},11,0]
[63,"63)",12,null,{"$f":"INT((Values!$F$16-Values!$F$11+1)*RAND()+Values!$F$11)","v":0},2,0]
[64,"64)",12,null,{"$f":"INT((Values!$F$16-Values!$F$11+1)*RAND()+Values!$F$11)","v":0},3,0]
[65,"65)",12,null,{"$f":"INT((Values!$F$16-Values!$F$11+1)*RAND()+Values!$F$11)","v":0},8,0]
[66,{"$f":"CONCATENATE(A68,\")\")","v":"66)"},12,null,{"$f":"INT((Values!$F$16-Values!$F$11+1)*RAND()+Values!$F$11)","v":0},{"$f":"INT((C68-1)*RAND()+2)","v":7},{"$f":"E68*F68","v":0}]
[67,"67)",12,null,{"$f":"INT((Values!$F$16-Values!$F$11+1)*RAND()+Values!$F$11)","v":0},3,0]
[68,"68)",12,null,{"$f":"INT((Values!$F$16-Values!$F$11+1)*RAND()+Values!$F$11)","v":0},12,0]
[69,"69)",12,null,{"$f":"INT((Values!$F$16-Values!$F$11+1)*RAND()+Values!$F$11)","v":0},11,0]
[70,"70)",12,null,{"$f":"INT((Values!$F$16-Values!$F$11+1)*RAND()+Values!$F$11)","v":0},9,0]
[71,"71)",12,null,{"$f":"INT((Values!$F$16-Values!$F$11+1)*RAND()+Values!$F$11)","v":0},6,0]
[72,"72)",12,null,{"$f":"INT((Values!$F$16-Values!$F$11+1)*RAND()+Values!$F$11)","v":0},4,0]
[73,"73)",12,null,{"$f":"INT((Values!$F$16-Values!$F$11+1)*RAND()+Values!$F$11)","v":0},4,0]
[74,"74)",12,null,{"$f":"INT((Values!$F$16-Values!$F$11+1)*RAND()+Values!$F$11)","v":0},9,0]
[75,"75)",12,null,{"$f":"INT((Values!$F$16-Values!$F$11+1)*RAND()+Values!$F$11)","v":0},11,0]
[76,"76)",12,null,{"$f":"INT((Values!$F$16-Values!$F$11+1)*RAND()+Values!$F$11)","v":0},8,0]
[77,"77)",12,null,{"$f":"INT((Values!$F$16-Values!$F$11+1)*RAND()+Values!$F$11)","v":0},2,0]
[78,"78)",12,null,{"$f":"INT((Values!$F$16-Values!$F$11+1)*RAND()+Values!$F$11)","v":0},4,0]
[79,"79)",12,null,{"$f":"INT((Values!$F$16-Values!$F$11+1)*RAND()+Values!$F$11)","v":0},11,0]
[80,"80)",12,null,{"$f":"INT((Values!$F$16-Values!$F$11+1)*RAND()+Values!$F$11)","v":0},12,0]
[81,"81)",12,null,{"$f":"INT((Values!$F$16-Values!$F$11+1)*RAND()+Values!$F$11)","v":0},11,0]
[82,"82)",12,null,{"$f":"INT((Values!$F$16-Values!$F$11+1)*RAND()+Values!$F$11)","v":0},2,0]
[83,"83)",12,null,{"$f":"INT((Values!$F$16-Values!$F$11+1)*RAND()+Values!$F$11)","v":0},2,0]
[84,"84)",12,null,{"$f":"INT((Values!$F$16-Values!$F$11+1)*RAND()+Values!$F$11)","v":0},7,0]
[85,"85)",12,null,{"$f":"INT((Values!$F$16-Values!$F$11+1)*RAND()+Values!$F$11)","v":0},6,0]
[86,"86)",12,null,{"$f":"INT((Values!$F$16-Values!$F$11+1)*RAND()+Values!$F$11)","v":0},8,0]
[87,"87)",12,null,{"$f":"INT((Values!$F$16-Values!$F$11+1)*RAND()+Values!$F$11)","v":0},3,0]
[88,"88)",12,null,{"$f":"INT((Values!$F$16-Values!$F$11+1)*RAND()+Values!$F$11)","v":0},2,0]
[89,"89)",12,null,{"$f":"INT((Values!$F$16-Values!$F$11+1)*RAND()+Values!$F$11)","v":0},3,0]
[90,"90)",12,null,{"$f":"INT((Values!$F$16-Values!$F$11+1)*RAND()+Values!$F$11)","v":0},8,0]
[91,"91)",12,null,{"$f":"INT((Values!$F$16-Values!$F$11+1)*RAND()+Values!$F$11)","v":0},12,0]
[92,"92)",12,null,{"$f":"INT((Values!$F$16-Values!$F$11+1)*RAND()+Values!$F$11)","v":0},12,0]
[93,"93)",12,null,{"$f":"INT((Values!$F$16-Values!$F$11+1)*RAND()+Values!$F$11)","v":0},12,0]
[94,"94)",12,null,{"$f":"INT((Values!$F$16-Values!$F$11+1)*RAND()+Values!$F$11)","v":0},4,0]
[95,"95)",12,null,{"$f":"INT((Values!$F$16-Values!$F$11+1)*RAND()+Values!$F$11)","v":0},3,0]
[96,"96)",12,null,{"$f":"INT((Values!$F$16-Values!$F$11+1)*RAND()+Values!$F$11)","v":0},6,0]
[97,"97)",12,null,{"$f":"INT((Values!$F$16-Values!$F$11+1)*RAND()+Values!$F$11)","v":0},8,0]
[98,"98)",12,null,{"$f":"INT((Values!$F$16-Values!$F$11+1)*RAND()+Values!$F$11)","v":0},10,0]
[99,"99)",12,null,{"$f":"INT((Values!$F$16-Values!$F$11+1)*RAND()+Values!$F$11)","v":0},3,0]
[100,"100)",12,null,{"$f":"INT((Values!$F$16-Values!$F$11+1)*RAND()+Values!$F$11)","v":0},5,0]