{"text_format":"1","workbook":"xlsx","n_sheets":4,"sheets":["Values","WorkSheet","Answers","Working"],"not_rendered":{"charts":0,"images":2,"macros":1,"external_links":0,"defined_names":0,"comments":0,"pivot_tables":0},"unopened":[],"bounds":{"document_bytes":16777216,"sheet_cells":100000,"rows_first":2000,"rows_last":500,"rows_between":2000,"halvings":0,"cell_chars":16384,"cell_head_chars":4096},"cells_cut":0,"cells_raw":0,"read":"whole","date_system":"1900"}

{"sheet":"Values","index":0,"n_rows":20,"n_cols":9,"rows_kept":20,"cut":false,"hidden":false,"merged":[[15,2,15,4],[17,2,17,6],[17,8,21,9],[19,2,22,7],[9,8,13,9],[3,2,7,8],[1,2,1,6],[8,2,9,7],[10,2,10,4],[12,2,13,7]]}
[null,null,null,null,"TIMES TABLES"]
[null,null,"INSTRUCTIONS"]
[]
[null,"Step 1","Select, by clicking, the maximum number for the tables, noting, many syllabuses only require tables to 10."]
[]
[]
[]
[]
[null,"Step 2","Enter the lowest number to be used for this sheet. (A whole number >1)"]
[null,null,null,null,null,null,null,null,"Enter the same number each time for an individual\ntimes table."]
[null,null,"Lowest Number"]
[]
[null,"Step 3","Enter the highest number to be used for this sheet. (A whole number ≤ 12 (or 10) and ≥ to the first number)"]
[]
[]
[null,null,"Highest Number"]
[]
[null,"Step 4","Click on WorkSheet tab below.",null,null,null,null,null,"PRESS F9 for NEW WorkSheet"]
[]
[null,"Note","If you hold down shift then click on the WorkSheet tab and the Answers tab, you will be able to print both the WorkSheet and the solutions."]

{"sheet":"WorkSheet","index":1,"n_rows":28,"n_cols":20,"rows_kept":28,"cut":false,"hidden":false,"merged":[[1,18,1,19]]}
[null,null,null,null,null,null,null,null,null,"MULTIPLICATION OF NUMBERS"]
[null,null,null,null,null,null,null,null,null,null,null,null,null,null,null,"Worksheet ",null,null,{"$f":"CONCATENATE(Working!A1,Working!B1)","v":"TAB-905"}]
["Evaluate the following;"]
[{"$f":"Working!$B3","v":"1)"},{"$f":"Working!$E3","v":0},"×",{"$f":"Working!$F3","v":2},"=",{"$f":"Working!$B28","v":"26)"},{"$f":"Working!$E28","v":0},"×",{"$f":"Working!$F28","v":2},"=",{"$f":"Working!$B53","v":"51)"},{"$f":"Working!$E53","v":0},"×",{"$f":"Working!$F53","v":7},"=",{"$f":"Working!$B78","v":"76)"},{"$f":"Working!$E78","v":0},"×",{"$f":"Working!$F78","v":10},"="]
[{"$f":"Working!$B4","v":"2)"},{"$f":"Working!$E4","v":0},"×",{"$f":"Working!$F4","v":6},"=",{"$f":"Working!$B29","v":"27)"},{"$f":"Working!$E29","v":0},"×",{"$f":"Working!$F29","v":6},"=",{"$f":"Working!$B54","v":"52)"},{"$f":"Working!$E54","v":0},"×",{"$f":"Working!$F54","v":6},"=",{"$f":"Working!$B79","v":"77)"},{"$f":"Working!$E79","v":0},"×",{"$f":"Working!$F79","v":3},"="]
[{"$f":"Working!$B5","v":"3)"},{"$f":"Working!$E5","v":0},"×",{"$f":"Working!$F5","v":5},"=",{"$f":"Working!$B30","v":"28)"},{"$f":"Working!$E30","v":0},"×",{"$f":"Working!$F30","v":4},"=",{"$f":"Working!$B55","v":"53)"},{"$f":"Working!$E55","v":0},"×",{"$f":"Working!$F55","v":9},"=",{"$f":"Working!$B80","v":"78)"},{"$f":"Working!$E80","v":0},"×",{"$f":"Working!$F80","v":9},"="]
[{"$f":"Working!$B6","v":"4)"},{"$f":"Working!$E6","v":0},"×",{"$f":"Working!$F6","v":4},"=",{"$f":"Working!$B31","v":"29)"},{"$f":"Working!$E31","v":0},"×",{"$f":"Working!$F31","v":7},"=",{"$f":"Working!$B56","v":"54)"},{"$f":"Working!$E56","v":0},"×",{"$f":"Working!$F56","v":4},"=",{"$f":"Working!$B81","v":"79)"},{"$f":"Working!$E81","v":0},"×",{"$f":"Working!$F81","v":8},"="]
[{"$f":"Working!$B7","v":"5)"},{"$f":"Working!$E7","v":0},"×",{"$f":"Working!$F7","v":6},"=",{"$f":"Working!$B32","v":"30)"},{"$f":"Working!$E32","v":0},"×",{"$f":"Working!$F32","v":5},"=",{"$f":"Working!$B57","v":"55)"},{"$f":"Working!$E57","v":0},"×",{"$f":"Working!$F57","v":4},"=",{"$f":"Working!$B82","v":"80)"},{"$f":"Working!$E82","v":0},"×",{"$f":"Working!$F82","v":6},"="]
[{"$f":"Working!$B8","v":"6)"},{"$f":"Working!$E8","v":0},"×",{"$f":"Working!$F8","v":10},"=",{"$f":"Working!$B33","v":"31)"},{"$f":"Working!$E33","v":0},"×",{"$f":"Working!$F33","v":2},"=",{"$f":"Working!$B58","v":"56)"},{"$f":"Working!$E58","v":0},"×",{"$f":"Working!$F58","v":4},"=",{"$f":"Working!$B83","v":"81)"},{"$f":"Working!$E83","v":0},"×",{"$f":"Working!$F83","v":4},"="]
[{"$f":"Working!$B9","v":"7)"},{"$f":"Working!$E9","v":0},"×",{"$f":"Working!$F9","v":3},"=",{"$f":"Working!$B34","v":"32)"},{"$f":"Working!$E34","v":0},"×",{"$f":"Working!$F34","v":7},"=",{"$f":"Working!$B59","v":"57)"},{"$f":"Working!$E59","v":0},"×",{"$f":"Working!$F59","v":3},"=",{"$f":"Working!$B84","v":"82)"},{"$f":"Working!$E84","v":0},"×",{"$f":"Working!$F84","v":3},"="]
[{"$f":"Working!$B10","v":"8)"},{"$f":"Working!$E10","v":0},"×",{"$f":"Working!$F10","v":8},"=",{"$f":"Working!$B35","v":"33)"},{"$f":"Working!$E35","v":0},"×",{"$f":"Working!$F35","v":6},"=",{"$f":"Working!$B60","v":"58)"},{"$f":"Working!$E60","v":0},"×",{"$f":"Working!$F60","v":7},"=",{"$f":"Working!$B85","v":"83)"},{"$f":"Working!$E85","v":0},"×",{"$f":"Working!$F85","v":5},"="]
[{"$f":"Working!$B11","v":"9)"},{"$f":"Working!$E11","v":0},"×",{"$f":"Working!$F11","v":9},"=",{"$f":"Working!$B36","v":"34)"},{"$f":"Working!$E36","v":0},"×",{"$f":"Working!$F36","v":5},"=",{"$f":"Working!$B61","v":"59)"},{"$f":"Working!$E61","v":0},"×",{"$f":"Working!$F61","v":7},"=",{"$f":"Working!$B86","v":"84)"},{"$f":"Working!$E86","v":0},"×",{"$f":"Working!$F86","v":8},"="]
[{"$f":"Working!$B12","v":"10)"},{"$f":"Working!$E12","v":0},"×",{"$f":"Working!$F12","v":10},"=",{"$f":"Working!$B37","v":"35)"},{"$f":"Working!$E37","v":0},"×",{"$f":"Working!$F37","v":5},"=",{"$f":"Working!$B62","v":"60)"},{"$f":"Working!$E62","v":0},"×",{"$f":"Working!$F62","v":3},"=",{"$f":"Working!$B87","v":"85)"},{"$f":"Working!$E87","v":0},"×",{"$f":"Working!$F87","v":8},"="]
[{"$f":"Working!$B13","v":"11)"},{"$f":"Working!$E13","v":0},"×",{"$f":"Working!$F13","v":8},"=",{"$f":"Working!$B38","v":"36)"},{"$f":"Working!$E38","v":0},"×",{"$f":"Working!$F38","v":9},"=",{"$f":"Working!$B63","v":"61)"},{"$f":"Working!$E63","v":0},"×",{"$f":"Working!$F63","v":4},"=",{"$f":"Working!$B88","v":"86)"},{"$f":"Working!$E88","v":0},"×",{"$f":"Working!$F88","v":3},"="]
[{"$f":"Working!$B14","v":"12)"},{"$f":"Working!$E14","v":0},"×",{"$f":"Working!$F14","v":4},"=",{"$f":"Working!$B39","v":"37)"},{"$f":"Working!$E39","v":0},"×",{"$f":"Working!$F39","v":3},"=",{"$f":"Working!$B64","v":"62)"},{"$f":"Working!$E64","v":0},"×",{"$f":"Working!$F64","v":7},"=",{"$f":"Working!$B89","v":"87)"},{"$f":"Working!$E89","v":0},"×",{"$f":"Working!$F89","v":5},"="]
[{"$f":"Working!$B15","v":"13)"},{"$f":"Working!$E15","v":0},"×",{"$f":"Working!$F15","v":7},"=",{"$f":"Working!$B40","v":"38)"},{"$f":"Working!$E40","v":0},"×",{"$f":"Working!$F40","v":6},"=",{"$f":"Working!$B65","v":"63)"},{"$f":"Working!$E65","v":0},"×",{"$f":"Working!$F65","v":4},"=",{"$f":"Working!$B90","v":"88)"},{"$f":"Working!$E90","v":0},"×",{"$f":"Working!$F90","v":3},"="]
[{"$f":"Working!$B16","v":"14)"},{"$f":"Working!$E16","v":0},"×",{"$f":"Working!$F16","v":5},"=",{"$f":"Working!$B41","v":"39)"},{"$f":"Working!$E41","v":0},"×",{"$f":"Working!$F41","v":9},"=",{"$f":"Working!$B66","v":"64)"},{"$f":"Working!$E66","v":0},"×",{"$f":"Working!$F66","v":3},"=",{"$f":"Working!$B91","v":"89)"},{"$f":"Working!$E91","v":0},"×",{"$f":"Working!$F91","v":6},"="]
[{"$f":"Working!$B17","v":"15)"},{"$f":"Working!$E17","v":0},"×",{"$f":"Working!$F17","v":9},"=",{"$f":"Working!$B42","v":"40)"},{"$f":"Working!$E42","v":0},"×",{"$f":"Working!$F42","v":5},"=",{"$f":"Working!$B67","v":"65)"},{"$f":"Working!$E67","v":0},"×",{"$f":"Working!$F67","v":6},"=",{"$f":"Working!$B92","v":"90)"},{"$f":"Working!$E92","v":0},"×",{"$f":"Working!$F92","v":10},"="]
[{"$f":"Working!$B18","v":"16)"},{"$f":"Working!$E18","v":0},"×",{"$f":"Working!$F18","v":5},"=",{"$f":"Working!$B43","v":"41)"},{"$f":"Working!$E43","v":0},"×",{"$f":"Working!$F43","v":8},"=",{"$f":"Working!$B68","v":"66)"},{"$f":"Working!$E68","v":0},"×",{"$f":"Working!$F68","v":2},"=",{"$f":"Working!$B93","v":"91)"},{"$f":"Working!$E93","v":0},"×",{"$f":"Working!$F93","v":4},"="]
[{"$f":"Working!$B19","v":"17)"},{"$f":"Working!$E19","v":0},"×",{"$f":"Working!$F19","v":8},"=",{"$f":"Working!$B44","v":"42)"},{"$f":"Working!$E44","v":0},"×",{"$f":"Working!$F44","v":8},"=",{"$f":"Working!$B69","v":"67)"},{"$f":"Working!$E69","v":0},"×",{"$f":"Working!$F69","v":3},"=",{"$f":"Working!$B94","v":"92)"},{"$f":"Working!$E94","v":0},"×",{"$f":"Working!$F94","v":6},"="]
[{"$f":"Working!$B20","v":"18)"},{"$f":"Working!$E20","v":0},"×",{"$f":"Working!$F20","v":2},"=",{"$f":"Working!$B45","v":"43)"},{"$f":"Working!$E45","v":0},"×",{"$f":"Working!$F45","v":5},"=",{"$f":"Working!$B70","v":"68)"},{"$f":"Working!$E70","v":0},"×",{"$f":"Working!$F70","v":6},"=",{"$f":"Working!$B95","v":"93)"},{"$f":"Working!$E95","v":0},"×",{"$f":"Working!$F95","v":8},"="]
[{"$f":"Working!$B21","v":"19)"},{"$f":"Working!$E21","v":0},"×",{"$f":"Working!$F21","v":8},"=",{"$f":"Working!$B46","v":"44)"},{"$f":"Working!$E46","v":0},"×",{"$f":"Working!$F46","v":5},"=",{"$f":"Working!$B71","v":"69)"},{"$f":"Working!$E71","v":0},"×",{"$f":"Working!$F71","v":7},"=",{"$f":"Working!$B96","v":"94)"},{"$f":"Working!$E96","v":0},"×",{"$f":"Working!$F96","v":9},"="]
[{"$f":"Working!$B22","v":"20)"},{"$f":"Working!$E22","v":0},"×",{"$f":"Working!$F22","v":8},"=",{"$f":"Working!$B47","v":"45)"},{"$f":"Working!$E47","v":0},"×",{"$f":"Working!$F47","v":2},"=",{"$f":"Working!$B72","v":"70)"},{"$f":"Working!$E72","v":0},"×",{"$f":"Working!$F72","v":2},"=",{"$f":"Working!$B97","v":"95)"},{"$f":"Working!$E97","v":0},"×",{"$f":"Working!$F97","v":3},"="]
[{"$f":"Working!$B23","v":"21)"},{"$f":"Working!$E23","v":0},"×",{"$f":"Working!$F23","v":9},"=",{"$f":"Working!$B48","v":"46)"},{"$f":"Working!$E48","v":0},"×",{"$f":"Working!$F48","v":4},"=",{"$f":"Working!$B73","v":"71)"},{"$f":"Working!$E73","v":0},"×",{"$f":"Working!$F73","v":5},"=",{"$f":"Working!$B98","v":"96)"},{"$f":"Working!$E98","v":0},"×",{"$f":"Working!$F98","v":7},"="]
[{"$f":"Working!$B24","v":"22)"},{"$f":"Working!$E24","v":0},"×",{"$f":"Working!$F24","v":5},"=",{"$f":"Working!$B49","v":"47)"},{"$f":"Working!$E49","v":0},"×",{"$f":"Working!$F49","v":8},"=",{"$f":"Working!$B74","v":"72)"},{"$f":"Working!$E74","v":0},"×",{"$f":"Working!$F74","v":9},"=",{"$f":"Working!$B99","v":"97)"},{"$f":"Working!$E99","v":0},"×",{"$f":"Working!$F99","v":7},"="]
[{"$f":"Working!$B25","v":"23)"},{"$f":"Working!$E25","v":0},"×",{"$f":"Working!$F25","v":5},"=",{"$f":"Working!$B50","v":"48)"},{"$f":"Working!$E50","v":0},"×",{"$f":"Working!$F50","v":6},"=",{"$f":"Working!$B75","v":"73)"},{"$f":"Working!$E75","v":0},"×",{"$f":"Working!$F75","v":6},"=",{"$f":"Working!$B100","v":"98)"},{"$f":"Working!$E100","v":0},"×",{"$f":"Working!$F100","v":4},"="]
[{"$f":"Working!$B26","v":"24)"},{"$f":"Working!$E26","v":0},"×",{"$f":"Working!$F26","v":5},"=",{"$f":"Working!$B51","v":"49)"},{"$f":"Working!$E51","v":0},"×",{"$f":"Working!$F51","v":5},"=",{"$f":"Working!$B76","v":"74)"},{"$f":"Working!$E76","v":0},"×",{"$f":"Working!$F76","v":7},"=",{"$f":"Working!$B101","v":"99)"},{"$f":"Working!$E101","v":0},"×",{"$f":"Working!$F101","v":8},"="]
[{"$f":"Working!$B27","v":"25)"},{"$f":"Working!$E27","v":0},"×",{"$f":"Working!$F27","v":7},"=",{"$f":"Working!$B52","v":"50)"},{"$f":"Working!$E52","v":0},"×",{"$f":"Working!$F52","v":7},"=",{"$f":"Working!$B77","v":"75)"},{"$f":"Working!$E77","v":0},"×",{"$f":"Working!$F77","v":7},"=",{"$f":"Working!$B102","v":"100)"},{"$f":"Working!$E102","v":0},"×",{"$f":"Working!$F102","v":3},"="]

{"sheet":"Answers","index":2,"n_rows":28,"n_cols":20,"rows_kept":28,"cut":false,"hidden":false,"merged":[[1,18,1,19]]}
[null,null,null,null,null,null,null,null,null,"MULTIPLICATION OF NUMBERS"]
[null,null,null,null,null,null,null,null,null,"ANSWERS",null,null,null,null,null,"Worksheet ",null,null,{"$f":"CONCATENATE(Working!A1,Working!B1)","v":"TAB-905"}]
["Evaluate the following;"]
[{"$f":"Working!$B3","v":"1)"},{"$f":"Working!$E3","v":0},"×",{"$f":"Working!$F3","v":2},{"$f":"CONCATENATE(\"= \", Working!$G3)","v":"= 0"},{"$f":"Working!$B28","v":"26)"},{"$f":"Working!$E28","v":0},"×",{"$f":"Working!$F28","v":2},{"$f":"CONCATENATE(\"= \", Working!$G28)","v":"= 0"},{"$f":"Working!$B53","v":"51)"},{"$f":"Working!$E53","v":0},"×",{"$f":"Working!$F53","v":7},{"$f":"CONCATENATE(\"= \", Working!$G53)","v":"= 0"},{"$f":"Working!$B78","v":"76)"},{"$f":"Working!$E78","v":0},"×",{"$f":"Working!$F78","v":10},{"$f":"CONCATENATE(\"= \", Working!$G78)","v":"= 0"}]
[{"$f":"Working!$B4","v":"2)"},{"$f":"Working!$E4","v":0},"×",{"$f":"Working!$F4","v":6},{"$f":"CONCATENATE(\"= \", Working!$G4)","v":"= 0"},{"$f":"Working!$B29","v":"27)"},{"$f":"Working!$E29","v":0},"×",{"$f":"Working!$F29","v":6},{"$f":"CONCATENATE(\"= \", Working!$G29)","v":"= 0"},{"$f":"Working!$B54","v":"52)"},{"$f":"Working!$E54","v":0},"×",{"$f":"Working!$F54","v":6},{"$f":"CONCATENATE(\"= \", Working!$G54)","v":"= 0"},{"$f":"Working!$B79","v":"77)"},{"$f":"Working!$E79","v":0},"×",{"$f":"Working!$F79","v":3},{"$f":"CONCATENATE(\"= \", Working!$G79)","v":"= 0"}]
[{"$f":"Working!$B5","v":"3)"},{"$f":"Working!$E5","v":0},"×",{"$f":"Working!$F5","v":5},{"$f":"CONCATENATE(\"= \", Working!$G5)","v":"= 0"},{"$f":"Working!$B30","v":"28)"},{"$f":"Working!$E30","v":0},"×",{"$f":"Working!$F30","v":4},{"$f":"CONCATENATE(\"= \", Working!$G30)","v":"= 0"},{"$f":"Working!$B55","v":"53)"},{"$f":"Working!$E55","v":0},"×",{"$f":"Working!$F55","v":9},{"$f":"CONCATENATE(\"= \", Working!$G55)","v":"= 0"},{"$f":"Working!$B80","v":"78)"},{"$f":"Working!$E80","v":0},"×",{"$f":"Working!$F80","v":9},{"$f":"CONCATENATE(\"= \", Working!$G80)","v":"= 0"}]
[{"$f":"Working!$B6","v":"4)"},{"$f":"Working!$E6","v":0},"×",{"$f":"Working!$F6","v":4},{"$f":"CONCATENATE(\"= \", Working!$G6)","v":"= 0"},{"$f":"Working!$B31","v":"29)"},{"$f":"Working!$E31","v":0},"×",{"$f":"Working!$F31","v":7},{"$f":"CONCATENATE(\"= \", Working!$G31)","v":"= 0"},{"$f":"Working!$B56","v":"54)"},{"$f":"Working!$E56","v":0},"×",{"$f":"Working!$F56","v":4},{"$f":"CONCATENATE(\"= \", Working!$G56)","v":"= 0"},{"$f":"Working!$B81","v":"79)"},{"$f":"Working!$E81","v":0},"×",{"$f":"Working!$F81","v":8},{"$f":"CONCATENATE(\"= \", Working!$G81)","v":"= 0"}]
[{"$f":"Working!$B7","v":"5)"},{"$f":"Working!$E7","v":0},"×",{"$f":"Working!$F7","v":6},{"$f":"CONCATENATE(\"= \", Working!$G7)","v":"= 0"},{"$f":"Working!$B32","v":"30)"},{"$f":"Working!$E32","v":0},"×",{"$f":"Working!$F32","v":5},{"$f":"CONCATENATE(\"= \", Working!$G32)","v":"= 0"},{"$f":"Working!$B57","v":"55)"},{"$f":"Working!$E57","v":0},"×",{"$f":"Working!$F57","v":4},{"$f":"CONCATENATE(\"= \", Working!$G57)","v":"= 0"},{"$f":"Working!$B82","v":"80)"},{"$f":"Working!$E82","v":0},"×",{"$f":"Working!$F82","v":6},{"$f":"CONCATENATE(\"= \", Working!$G82)","v":"= 0"}]
[{"$f":"Working!$B8","v":"6)"},{"$f":"Working!$E8","v":0},"×",{"$f":"Working!$F8","v":10},{"$f":"CONCATENATE(\"= \", Working!$G8)","v":"= 0"},{"$f":"Working!$B33","v":"31)"},{"$f":"Working!$E33","v":0},"×",{"$f":"Working!$F33","v":2},{"$f":"CONCATENATE(\"= \", Working!$G33)","v":"= 0"},{"$f":"Working!$B58","v":"56)"},{"$f":"Working!$E58","v":0},"×",{"$f":"Working!$F58","v":4},{"$f":"CONCATENATE(\"= \", Working!$G58)","v":"= 0"},{"$f":"Working!$B83","v":"81)"},{"$f":"Working!$E83","v":0},"×",{"$f":"Working!$F83","v":4},{"$f":"CONCATENATE(\"= \", Working!$G83)","v":"= 0"}]
[{"$f":"Working!$B9","v":"7)"},{"$f":"Working!$E9","v":0},"×",{"$f":"Working!$F9","v":3},{"$f":"CONCATENATE(\"= \", Working!$G9)","v":"= 0"},{"$f":"Working!$B34","v":"32)"},{"$f":"Working!$E34","v":0},"×",{"$f":"Working!$F34","v":7},{"$f":"CONCATENATE(\"= \", Working!$G34)","v":"= 0"},{"$f":"Working!$B59","v":"57)"},{"$f":"Working!$E59","v":0},"×",{"$f":"Working!$F59","v":3},{"$f":"CONCATENATE(\"= \", Working!$G59)","v":"= 0"},{"$f":"Working!$B84","v":"82)"},{"$f":"Working!$E84","v":0},"×",{"$f":"Working!$F84","v":3},{"$f":"CONCATENATE(\"= \", Working!$G84)","v":"= 0"}]
[{"$f":"Working!$B10","v":"8)"},{"$f":"Working!$E10","v":0},"×",{"$f":"Working!$F10","v":8},{"$f":"CONCATENATE(\"= \", Working!$G10)","v":"= 0"},{"$f":"Working!$B35","v":"33)"},{"$f":"Working!$E35","v":0},"×",{"$f":"Working!$F35","v":6},{"$f":"CONCATENATE(\"= \", Working!$G35)","v":"= 0"},{"$f":"Working!$B60","v":"58)"},{"$f":"Working!$E60","v":0},"×",{"$f":"Working!$F60","v":7},{"$f":"CONCATENATE(\"= \", Working!$G60)","v":"= 0"},{"$f":"Working!$B85","v":"83)"},{"$f":"Working!$E85","v":0},"×",{"$f":"Working!$F85","v":5},{"$f":"CONCATENATE(\"= \", Working!$G85)","v":"= 0"}]
[{"$f":"Working!$B11","v":"9)"},{"$f":"Working!$E11","v":0},"×",{"$f":"Working!$F11","v":9},{"$f":"CONCATENATE(\"= \", Working!$G11)","v":"= 0"},{"$f":"Working!$B36","v":"34)"},{"$f":"Working!$E36","v":0},"×",{"$f":"Working!$F36","v":5},{"$f":"CONCATENATE(\"= \", Working!$G36)","v":"= 0"},{"$f":"Working!$B61","v":"59)"},{"$f":"Working!$E61","v":0},"×",{"$f":"Working!$F61","v":7},{"$f":"CONCATENATE(\"= \", Working!$G61)","v":"= 0"},{"$f":"Working!$B86","v":"84)"},{"$f":"Working!$E86","v":0},"×",{"$f":"Working!$F86","v":8},{"$f":"CONCATENATE(\"= \", Working!$G86)","v":"= 0"}]
[{"$f":"Working!$B12","v":"10)"},{"$f":"Working!$E12","v":0},"×",{"$f":"Working!$F12","v":10},{"$f":"CONCATENATE(\"= \", Working!$G12)","v":"= 0"},{"$f":"Working!$B37","v":"35)"},{"$f":"Working!$E37","v":0},"×",{"$f":"Working!$F37","v":5},{"$f":"CONCATENATE(\"= \", Working!$G37)","v":"= 0"},{"$f":"Working!$B62","v":"60)"},{"$f":"Working!$E62","v":0},"×",{"$f":"Working!$F62","v":3},{"$f":"CONCATENATE(\"= \", Working!$G62)","v":"= 0"},{"$f":"Working!$B87","v":"85)"},{"$f":"Working!$E87","v":0},"×",{"$f":"Working!$F87","v":8},{"$f":"CONCATENATE(\"= \", Working!$G87)","v":"= 0"}]
[{"$f":"Working!$B13","v":"11)"},{"$f":"Working!$E13","v":0},"×",{"$f":"Working!$F13","v":8},{"$f":"CONCATENATE(\"= \", Working!$G13)","v":"= 0"},{"$f":"Working!$B38","v":"36)"},{"$f":"Working!$E38","v":0},"×",{"$f":"Working!$F38","v":9},{"$f":"CONCATENATE(\"= \", Working!$G38)","v":"= 0"},{"$f":"Working!$B63","v":"61)"},{"$f":"Working!$E63","v":0},"×",{"$f":"Working!$F63","v":4},{"$f":"CONCATENATE(\"= \", Working!$G63)","v":"= 0"},{"$f":"Working!$B88","v":"86)"},{"$f":"Working!$E88","v":0},"×",{"$f":"Working!$F88","v":3},{"$f":"CONCATENATE(\"= \", Working!$G88)","v":"= 0"}]
[{"$f":"Working!$B14","v":"12)"},{"$f":"Working!$E14","v":0},"×",{"$f":"Working!$F14","v":4},{"$f":"CONCATENATE(\"= \", Working!$G14)","v":"= 0"},{"$f":"Working!$B39","v":"37)"},{"$f":"Working!$E39","v":0},"×",{"$f":"Working!$F39","v":3},{"$f":"CONCATENATE(\"= \", Working!$G39)","v":"= 0"},{"$f":"Working!$B64","v":"62)"},{"$f":"Working!$E64","v":0},"×",{"$f":"Working!$F64","v":7},{"$f":"CONCATENATE(\"= \", Working!$G64)","v":"= 0"},{"$f":"Working!$B89","v":"87)"},{"$f":"Working!$E89","v":0},"×",{"$f":"Working!$F89","v":5},{"$f":"CONCATENATE(\"= \", Working!$G89)","v":"= 0"}]
[{"$f":"Working!$B15","v":"13)"},{"$f":"Working!$E15","v":0},"×",{"$f":"Working!$F15","v":7},{"$f":"CONCATENATE(\"= \", Working!$G15)","v":"= 0"},{"$f":"Working!$B40","v":"38)"},{"$f":"Working!$E40","v":0},"×",{"$f":"Working!$F40","v":6},{"$f":"CONCATENATE(\"= \", Working!$G40)","v":"= 0"},{"$f":"Working!$B65","v":"63)"},{"$f":"Working!$E65","v":0},"×",{"$f":"Working!$F65","v":4},{"$f":"CONCATENATE(\"= \", Working!$G65)","v":"= 0"},{"$f":"Working!$B90","v":"88)"},{"$f":"Working!$E90","v":0},"×",{"$f":"Working!$F90","v":3},{"$f":"CONCATENATE(\"= \", Working!$G90)","v":"= 0"}]
[{"$f":"Working!$B16","v":"14)"},{"$f":"Working!$E16","v":0},"×",{"$f":"Working!$F16","v":5},{"$f":"CONCATENATE(\"= \", Working!$G16)","v":"= 0"},{"$f":"Working!$B41","v":"39)"},{"$f":"Working!$E41","v":0},"×",{"$f":"Working!$F41","v":9},{"$f":"CONCATENATE(\"= \", Working!$G41)","v":"= 0"},{"$f":"Working!$B66","v":"64)"},{"$f":"Working!$E66","v":0},"×",{"$f":"Working!$F66","v":3},{"$f":"CONCATENATE(\"= \", Working!$G66)","v":"= 0"},{"$f":"Working!$B91","v":"89)"},{"$f":"Working!$E91","v":0},"×",{"$f":"Working!$F91","v":6},{"$f":"CONCATENATE(\"= \", Working!$G91)","v":"= 0"}]
[{"$f":"Working!$B17","v":"15)"},{"$f":"Working!$E17","v":0},"×",{"$f":"Working!$F17","v":9},{"$f":"CONCATENATE(\"= \", Working!$G17)","v":"= 0"},{"$f":"Working!$B42","v":"40)"},{"$f":"Working!$E42","v":0},"×",{"$f":"Working!$F42","v":5},{"$f":"CONCATENATE(\"= \", Working!$G42)","v":"= 0"},{"$f":"Working!$B67","v":"65)"},{"$f":"Working!$E67","v":0},"×",{"$f":"Working!$F67","v":6},{"$f":"CONCATENATE(\"= \", Working!$G67)","v":"= 0"},{"$f":"Working!$B92","v":"90)"},{"$f":"Working!$E92","v":0},"×",{"$f":"Working!$F92","v":10},{"$f":"CONCATENATE(\"= \", Working!$G92)","v":"= 0"}]
[{"$f":"Working!$B18","v":"16)"},{"$f":"Working!$E18","v":0},"×",{"$f":"Working!$F18","v":5},{"$f":"CONCATENATE(\"= \", Working!$G18)","v":"= 0"},{"$f":"Working!$B43","v":"41)"},{"$f":"Working!$E43","v":0},"×",{"$f":"Working!$F43","v":8},{"$f":"CONCATENATE(\"= \", Working!$G43)","v":"= 0"},{"$f":"Working!$B68","v":"66)"},{"$f":"Working!$E68","v":0},"×",{"$f":"Working!$F68","v":2},{"$f":"CONCATENATE(\"= \", Working!$G68)","v":"= 0"},{"$f":"Working!$B93","v":"91)"},{"$f":"Working!$E93","v":0},"×",{"$f":"Working!$F93","v":4},{"$f":"CONCATENATE(\"= \", Working!$G93)","v":"= 0"}]
[{"$f":"Working!$B19","v":"17)"},{"$f":"Working!$E19","v":0},"×",{"$f":"Working!$F19","v":8},{"$f":"CONCATENATE(\"= \", Working!$G19)","v":"= 0"},{"$f":"Working!$B44","v":"42)"},{"$f":"Working!$E44","v":0},"×",{"$f":"Working!$F44","v":8},{"$f":"CONCATENATE(\"= \", Working!$G44)","v":"= 0"},{"$f":"Working!$B69","v":"67)"},{"$f":"Working!$E69","v":0},"×",{"$f":"Working!$F69","v":3},{"$f":"CONCATENATE(\"= \", Working!$G69)","v":"= 0"},{"$f":"Working!$B94","v":"92)"},{"$f":"Working!$E94","v":0},"×",{"$f":"Working!$F94","v":6},{"$f":"CONCATENATE(\"= \", Working!$G94)","v":"= 0"}]
[{"$f":"Working!$B20","v":"18)"},{"$f":"Working!$E20","v":0},"×",{"$f":"Working!$F20","v":2},{"$f":"CONCATENATE(\"= \", Working!$G20)","v":"= 0"},{"$f":"Working!$B45","v":"43)"},{"$f":"Working!$E45","v":0},"×",{"$f":"Working!$F45","v":5},{"$f":"CONCATENATE(\"= \", Working!$G45)","v":"= 0"},{"$f":"Working!$B70","v":"68)"},{"$f":"Working!$E70","v":0},"×",{"$f":"Working!$F70","v":6},{"$f":"CONCATENATE(\"= \", Working!$G70)","v":"= 0"},{"$f":"Working!$B95","v":"93)"},{"$f":"Working!$E95","v":0},"×",{"$f":"Working!$F95","v":8},{"$f":"CONCATENATE(\"= \", Working!$G95)","v":"= 0"}]
[{"$f":"Working!$B21","v":"19)"},{"$f":"Working!$E21","v":0},"×",{"$f":"Working!$F21","v":8},{"$f":"CONCATENATE(\"= \", Working!$G21)","v":"= 0"},{"$f":"Working!$B46","v":"44)"},{"$f":"Working!$E46","v":0},"×",{"$f":"Working!$F46","v":5},{"$f":"CONCATENATE(\"= \", Working!$G46)","v":"= 0"},{"$f":"Working!$B71","v":"69)"},{"$f":"Working!$E71","v":0},"×",{"$f":"Working!$F71","v":7},{"$f":"CONCATENATE(\"= \", Working!$G71)","v":"= 0"},{"$f":"Working!$B96","v":"94)"},{"$f":"Working!$E96","v":0},"×",{"$f":"Working!$F96","v":9},{"$f":"CONCATENATE(\"= \", Working!$G96)","v":"= 0"}]
[{"$f":"Working!$B22","v":"20)"},{"$f":"Working!$E22","v":0},"×",{"$f":"Working!$F22","v":8},{"$f":"CONCATENATE(\"= \", Working!$G22)","v":"= 0"},{"$f":"Working!$B47","v":"45)"},{"$f":"Working!$E47","v":0},"×",{"$f":"Working!$F47","v":2},{"$f":"CONCATENATE(\"= \", Working!$G47)","v":"= 0"},{"$f":"Working!$B72","v":"70)"},{"$f":"Working!$E72","v":0},"×",{"$f":"Working!$F72","v":2},{"$f":"CONCATENATE(\"= \", Working!$G72)","v":"= 0"},{"$f":"Working!$B97","v":"95)"},{"$f":"Working!$E97","v":0},"×",{"$f":"Working!$F97","v":3},{"$f":"CONCATENATE(\"= \", Working!$G97)","v":"= 0"}]
[{"$f":"Working!$B23","v":"21)"},{"$f":"Working!$E23","v":0},"×",{"$f":"Working!$F23","v":9},{"$f":"CONCATENATE(\"= \", Working!$G23)","v":"= 0"},{"$f":"Working!$B48","v":"46)"},{"$f":"Working!$E48","v":0},"×",{"$f":"Working!$F48","v":4},{"$f":"CONCATENATE(\"= \", Working!$G48)","v":"= 0"},{"$f":"Working!$B73","v":"71)"},{"$f":"Working!$E73","v":0},"×",{"$f":"Working!$F73","v":5},{"$f":"CONCATENATE(\"= \", Working!$G73)","v":"= 0"},{"$f":"Working!$B98","v":"96)"},{"$f":"Working!$E98","v":0},"×",{"$f":"Working!$F98","v":7},{"$f":"CONCATENATE(\"= \", Working!$G98)","v":"= 0"}]
[{"$f":"Working!$B24","v":"22)"},{"$f":"Working!$E24","v":0},"×",{"$f":"Working!$F24","v":5},{"$f":"CONCATENATE(\"= \", Working!$G24)","v":"= 0"},{"$f":"Working!$B49","v":"47)"},{"$f":"Working!$E49","v":0},"×",{"$f":"Working!$F49","v":8},{"$f":"CONCATENATE(\"= \", Working!$G49)","v":"= 0"},{"$f":"Working!$B74","v":"72)"},{"$f":"Working!$E74","v":0},"×",{"$f":"Working!$F74","v":9},{"$f":"CONCATENATE(\"= \", Working!$G74)","v":"= 0"},{"$f":"Working!$B99","v":"97)"},{"$f":"Working!$E99","v":0},"×",{"$f":"Working!$F99","v":7},{"$f":"CONCATENATE(\"= \", Working!$G99)","v":"= 0"}]
[{"$f":"Working!$B25","v":"23)"},{"$f":"Working!$E25","v":0},"×",{"$f":"Working!$F25","v":5},{"$f":"CONCATENATE(\"= \", Working!$G25)","v":"= 0"},{"$f":"Working!$B50","v":"48)"},{"$f":"Working!$E50","v":0},"×",{"$f":"Working!$F50","v":6},{"$f":"CONCATENATE(\"= \", Working!$G50)","v":"= 0"},{"$f":"Working!$B75","v":"73)"},{"$f":"Working!$E75","v":0},"×",{"$f":"Working!$F75","v":6},{"$f":"CONCATENATE(\"= \", Working!$G75)","v":"= 0"},{"$f":"Working!$B100","v":"98)"},{"$f":"Working!$E100","v":0},"×",{"$f":"Working!$F100","v":4},{"$f":"CONCATENATE(\"= \", Working!$G100)","v":"= 0"}]
[{"$f":"Working!$B26","v":"24)"},{"$f":"Working!$E26","v":0},"×",{"$f":"Working!$F26","v":5},{"$f":"CONCATENATE(\"= \", Working!$G26)","v":"= 0"},{"$f":"Working!$B51","v":"49)"},{"$f":"Working!$E51","v":0},"×",{"$f":"Working!$F51","v":5},{"$f":"CONCATENATE(\"= \", Working!$G51)","v":"= 0"},{"$f":"Working!$B76","v":"74)"},{"$f":"Working!$E76","v":0},"×",{"$f":"Working!$F76","v":7},{"$f":"CONCATENATE(\"= \", Working!$G76)","v":"= 0"},{"$f":"Working!$B101","v":"99)"},{"$f":"Working!$E101","v":0},"×",{"$f":"Working!$F101","v":8},{"$f":"CONCATENATE(\"= \", Working!$G101)","v":"= 0"}]
[{"$f":"Working!$B27","v":"25)"},{"$f":"Working!$E27","v":0},"×",{"$f":"Working!$F27","v":7},{"$f":"CONCATENATE(\"= \", Working!$G27)","v":"= 0"},{"$f":"Working!$B52","v":"50)"},{"$f":"Working!$E52","v":0},"×",{"$f":"Working!$F52","v":7},{"$f":"CONCATENATE(\"= \", Working!$G52)","v":"= 0"},{"$f":"Working!$B77","v":"75)"},{"$f":"Working!$E77","v":0},"×",{"$f":"Working!$F77","v":7},{"$f":"CONCATENATE(\"= \", Working!$G77)","v":"= 0"},{"$f":"Working!$B102","v":"100)"},{"$f":"Working!$E102","v":0},"×",{"$f":"Working!$F102","v":3},{"$f":"CONCATENATE(\"= \", Working!$G102)","v":"= 0"}]

{"sheet":"Working","index":3,"n_rows":102,"n_cols":7,"rows_kept":102,"cut":false,"hidden":true,"merged":[]}
["TAB-",{"$f":"INT(900*RAND())+100","v":905}]
[]
[1,{"$f":"CONCATENATE(A3,\")\")","v":"1)"},10,null,{"$f":"INT((Values!$F$16-Values!$F$11+1)*RAND()+Values!$F$11)","v":0},{"$f":"INT((C3-1)*RAND()+2)","v":2},{"$f":"E3*F3","v":0}]
[2,{"$f":"CONCATENATE(A4,\")\")","v":"2)"},10,null,{"$f":"INT((Values!$F$16-Values!$F$11+1)*RAND()+Values!$F$11)","v":0},{"$f":"INT((C4-1)*RAND()+2)","v":6},{"$f":"E4*F4","v":0}]
[3,"3)",10,null,{"$f":"INT((Values!$F$16-Values!$F$11+1)*RAND()+Values!$F$11)","v":0},5,0]
[4,"4)",10,null,{"$f":"INT((Values!$F$16-Values!$F$11+1)*RAND()+Values!$F$11)","v":0},4,0]
[5,"5)",10,null,{"$f":"INT((Values!$F$16-Values!$F$11+1)*RAND()+Values!$F$11)","v":0},6,0]
[6,"6)",10,null,{"$f":"INT((Values!$F$16-Values!$F$11+1)*RAND()+Values!$F$11)","v":0},10,0]
[7,"7)",10,null,{"$f":"INT((Values!$F$16-Values!$F$11+1)*RAND()+Values!$F$11)","v":0},3,0]
[8,"8)",10,null,{"$f":"INT((Values!$F$16-Values!$F$11+1)*RAND()+Values!$F$11)","v":0},8,0]
[9,"9)",10,null,{"$f":"INT((Values!$F$16-Values!$F$11+1)*RAND()+Values!$F$11)","v":0},9,0]
[10,"10)",10,null,{"$f":"INT((Values!$F$16-Values!$F$11+1)*RAND()+Values!$F$11)","v":0},10,0]
[11,"11)",10,null,{"$f":"INT((Values!$F$16-Values!$F$11+1)*RAND()+Values!$F$11)","v":0},8,0]
[12,"12)",10,null,{"$f":"INT((Values!$F$16-Values!$F$11+1)*RAND()+Values!$F$11)","v":0},4,0]
[13,"13)",10,null,{"$f":"INT((Values!$F$16-Values!$F$11+1)*RAND()+Values!$F$11)","v":0},7,0]
[14,"14)",10,null,{"$f":"INT((Values!$F$16-Values!$F$11+1)*RAND()+Values!$F$11)","v":0},5,0]
[15,"15)",10,null,{"$f":"INT((Values!$F$16-Values!$F$11+1)*RAND()+Values!$F$11)","v":0},9,0]
[16,"16)",10,null,{"$f":"INT((Values!$F$16-Values!$F$11+1)*RAND()+Values!$F$11)","v":0},5,0]
[17,"17)",10,null,{"$f":"INT((Values!$F$16-Values!$F$11+1)*RAND()+Values!$F$11)","v":0},8,0]
[18,"18)",10,null,{"$f":"INT((Values!$F$16-Values!$F$11+1)*RAND()+Values!$F$11)","v":0},2,0]
[19,"19)",10,null,{"$f":"INT((Values!$F$16-Values!$F$11+1)*RAND()+Values!$F$11)","v":0},8,0]
[20,"20)",10,null,{"$f":"INT((Values!$F$16-Values!$F$11+1)*RAND()+Values!$F$11)","v":0},8,0]
[21,"21)",10,null,{"$f":"INT((Values!$F$16-Values!$F$11+1)*RAND()+Values!$F$11)","v":0},9,0]
[22,"22)",10,null,{"$f":"INT((Values!$F$16-Values!$F$11+1)*RAND()+Values!$F$11)","v":0},5,0]
[23,"23)",10,null,{"$f":"INT((Values!$F$16-Values!$F$11+1)*RAND()+Values!$F$11)","v":0},5,0]
[24,"24)",10,null,{"$f":"INT((Values!$F$16-Values!$F$11+1)*RAND()+Values!$F$11)","v":0},5,0]
[25,"25)",10,null,{"$f":"INT((Values!$F$16-Values!$F$11+1)*RAND()+Values!$F$11)","v":0},7,0]
[26,"26)",10,null,{"$f":"INT((Values!$F$16-Values!$F$11+1)*RAND()+Values!$F$11)","v":0},2,0]
[27,"27)",10,null,{"$f":"INT((Values!$F$16-Values!$F$11+1)*RAND()+Values!$F$11)","v":0},6,0]
[28,"28)",10,null,{"$f":"INT((Values!$F$16-Values!$F$11+1)*RAND()+Values!$F$11)","v":0},4,0]
[29,"29)",10,null,{"$f":"INT((Values!$F$16-Values!$F$11+1)*RAND()+Values!$F$11)","v":0},7,0]
[30,"30)",10,null,{"$f":"INT((Values!$F$16-Values!$F$11+1)*RAND()+Values!$F$11)","v":0},5,0]
[31,"31)",10,null,{"$f":"INT((Values!$F$16-Values!$F$11+1)*RAND()+Values!$F$11)","v":0},2,0]
[32,"32)",10,null,{"$f":"INT((Values!$F$16-Values!$F$11+1)*RAND()+Values!$F$11)","v":0},7,0]
[33,"33)",10,null,{"$f":"INT((Values!$F$16-Values!$F$11+1)*RAND()+Values!$F$11)","v":0},6,0]
[34,"34)",10,null,{"$f":"INT((Values!$F$16-Values!$F$11+1)*RAND()+Values!$F$11)","v":0},5,0]
[35,"35)",10,null,{"$f":"INT((Values!$F$16-Values!$F$11+1)*RAND()+Values!$F$11)","v":0},5,0]
[36,"36)",10,null,{"$f":"INT((Values!$F$16-Values!$F$11+1)*RAND()+Values!$F$11)","v":0},9,0]
[37,"37)",10,null,{"$f":"INT((Values!$F$16-Values!$F$11+1)*RAND()+Values!$F$11)","v":0},3,0]
[38,"38)",10,null,{"$f":"INT((Values!$F$16-Values!$F$11+1)*RAND()+Values!$F$11)","v":0},6,0]
[39,"39)",10,null,{"$f":"INT((Values!$F$16-Values!$F$11+1)*RAND()+Values!$F$11)","v":0},9,0]
[40,"40)",10,null,{"$f":"INT((Values!$F$16-Values!$F$11+1)*RAND()+Values!$F$11)","v":0},5,0]
[41,"41)",10,null,{"$f":"INT((Values!$F$16-Values!$F$11+1)*RAND()+Values!$F$11)","v":0},8,0]
[42,"42)",10,null,{"$f":"INT((Values!$F$16-Values!$F$11+1)*RAND()+Values!$F$11)","v":0},8,0]
[43,"43)",10,null,{"$f":"INT((Values!$F$16-Values!$F$11+1)*RAND()+Values!$F$11)","v":0},5,0]
[44,"44)",10,null,{"$f":"INT((Values!$F$16-Values!$F$11+1)*RAND()+Values!$F$11)","v":0},5,0]
[45,"45)",10,null,{"$f":"INT((Values!$F$16-Values!$F$11+1)*RAND()+Values!$F$11)","v":0},2,0]
[46,"46)",10,null,{"$f":"INT((Values!$F$16-Values!$F$11+1)*RAND()+Values!$F$11)","v":0},4,0]
[47,"47)",10,null,{"$f":"INT((Values!$F$16-Values!$F$11+1)*RAND()+Values!$F$11)","v":0},8,0]
[48,"48)",10,null,{"$f":"INT((Values!$F$16-Values!$F$11+1)*RAND()+Values!$F$11)","v":0},6,0]
[49,"49)",10,null,{"$f":"INT((Values!$F$16-Values!$F$11+1)*RAND()+Values!$F$11)","v":0},5,0]
[50,"50)",10,null,{"$f":"INT((Values!$F$16-Values!$F$11+1)*RAND()+Values!$F$11)","v":0},7,0]
[51,"51)",10,null,{"$f":"INT((Values!$F$16-Values!$F$11+1)*RAND()+Values!$F$11)","v":0},7,0]
[52,"52)",10,null,{"$f":"INT((Values!$F$16-Values!$F$11+1)*RAND()+Values!$F$11)","v":0},6,0]
[53,"53)",10,null,{"$f":"INT((Values!$F$16-Values!$F$11+1)*RAND()+Values!$F$11)","v":0},9,0]
[54,"54)",10,null,{"$f":"INT((Values!$F$16-Values!$F$11+1)*RAND()+Values!$F$11)","v":0},4,0]
[55,"55)",10,null,{"$f":"INT((Values!$F$16-Values!$F$11+1)*RAND()+Values!$F$11)","v":0},4,0]
[56,"56)",10,null,{"$f":"INT((Values!$F$16-Values!$F$11+1)*RAND()+Values!$F$11)","v":0},4,0]
[57,"57)",10,null,{"$f":"INT((Values!$F$16-Values!$F$11+1)*RAND()+Values!$F$11)","v":0},3,0]
[58,"58)",10,null,{"$f":"INT((Values!$F$16-Values!$F$11+1)*RAND()+Values!$F$11)","v":0},7,0]
[59,"59)",10,null,{"$f":"INT((Values!$F$16-Values!$F$11+1)*RAND()+Values!$F$11)","v":0},7,0]
[60,"60)",10,null,{"$f":"INT((Values!$F$16-Values!$F$11+1)*RAND()+Values!$F$11)","v":0},3,0]
[61,"61)",10,null,{"$f":"INT((Values!$F$16-Values!$F$11+1)*RAND()+Values!$F$11)","v":0},4,0]
[62,"62)",10,null,{"$f":"INT((Values!$F$16-Values!$F$11+1)*RAND()+Values!$F$11)","v":0},7,0]
[63,"63)",10,null,{"$f":"INT((Values!$F$16-Values!$F$11+1)*RAND()+Values!$F$11)","v":0},4,0]
[64,"64)",10,null,{"$f":"INT((Values!$F$16-Values!$F$11+1)*RAND()+Values!$F$11)","v":0},3,0]
[65,"65)",10,null,{"$f":"INT((Values!$F$16-Values!$F$11+1)*RAND()+Values!$F$11)","v":0},6,0]
[66,{"$f":"CONCATENATE(A68,\")\")","v":"66)"},10,null,{"$f":"INT((Values!$F$16-Values!$F$11+1)*RAND()+Values!$F$11)","v":0},{"$f":"INT((C68-1)*RAND()+2)","v":2},{"$f":"E68*F68","v":0}]
[67,"67)",10,null,{"$f":"INT((Values!$F$16-Values!$F$11+1)*RAND()+Values!$F$11)","v":0},3,0]
[68,"68)",10,null,{"$f":"INT((Values!$F$16-Values!$F$11+1)*RAND()+Values!$F$11)","v":0},6,0]
[69,"69)",10,null,{"$f":"INT((Values!$F$16-Values!$F$11+1)*RAND()+Values!$F$11)","v":0},7,0]
[70,"70)",10,null,{"$f":"INT((Values!$F$16-Values!$F$11+1)*RAND()+Values!$F$11)","v":0},2,0]
[71,"71)",10,null,{"$f":"INT((Values!$F$16-Values!$F$11+1)*RAND()+Values!$F$11)","v":0},5,0]
[72,"72)",10,null,{"$f":"INT((Values!$F$16-Values!$F$11+1)*RAND()+Values!$F$11)","v":0},9,0]
[73,"73)",10,null,{"$f":"INT((Values!$F$16-Values!$F$11+1)*RAND()+Values!$F$11)","v":0},6,0]
[74,"74)",10,null,{"$f":"INT((Values!$F$16-Values!$F$11+1)*RAND()+Values!$F$11)","v":0},7,0]
[75,"75)",10,null,{"$f":"INT((Values!$F$16-Values!$F$11+1)*RAND()+Values!$F$11)","v":0},7,0]
[76,"76)",10,null,{"$f":"INT((Values!$F$16-Values!$F$11+1)*RAND()+Values!$F$11)","v":0},10,0]
[77,"77)",10,null,{"$f":"INT((Values!$F$16-Values!$F$11+1)*RAND()+Values!$F$11)","v":0},3,0]
[78,"78)",10,null,{"$f":"INT((Values!$F$16-Values!$F$11+1)*RAND()+Values!$F$11)","v":0},9,0]
[79,"79)",10,null,{"$f":"INT((Values!$F$16-Values!$F$11+1)*RAND()+Values!$F$11)","v":0},8,0]
[80,"80)",10,null,{"$f":"INT((Values!$F$16-Values!$F$11+1)*RAND()+Values!$F$11)","v":0},6,0]
[81,"81)",10,null,{"$f":"INT((Values!$F$16-Values!$F$11+1)*RAND()+Values!$F$11)","v":0},4,0]
[82,"82)",10,null,{"$f":"INT((Values!$F$16-Values!$F$11+1)*RAND()+Values!$F$11)","v":0},3,0]
[83,"83)",10,null,{"$f":"INT((Values!$F$16-Values!$F$11+1)*RAND()+Values!$F$11)","v":0},5,0]
[84,"84)",10,null,{"$f":"INT((Values!$F$16-Values!$F$11+1)*RAND()+Values!$F$11)","v":0},8,0]
[85,"85)",10,null,{"$f":"INT((Values!$F$16-Values!$F$11+1)*RAND()+Values!$F$11)","v":0},8,0]
[86,"86)",10,null,{"$f":"INT((Values!$F$16-Values!$F$11+1)*RAND()+Values!$F$11)","v":0},3,0]
[87,"87)",10,null,{"$f":"INT((Values!$F$16-Values!$F$11+1)*RAND()+Values!$F$11)","v":0},5,0]
[88,"88)",10,null,{"$f":"INT((Values!$F$16-Values!$F$11+1)*RAND()+Values!$F$11)","v":0},3,0]
[89,"89)",10,null,{"$f":"INT((Values!$F$16-Values!$F$11+1)*RAND()+Values!$F$11)","v":0},6,0]
[90,"90)",10,null,{"$f":"INT((Values!$F$16-Values!$F$11+1)*RAND()+Values!$F$11)","v":0},10,0]
[91,"91)",10,null,{"$f":"INT((Values!$F$16-Values!$F$11+1)*RAND()+Values!$F$11)","v":0},4,0]
[92,"92)",10,null,{"$f":"INT((Values!$F$16-Values!$F$11+1)*RAND()+Values!$F$11)","v":0},6,0]
[93,"93)",10,null,{"$f":"INT((Values!$F$16-Values!$F$11+1)*RAND()+Values!$F$11)","v":0},8,0]
[94,"94)",10,null,{"$f":"INT((Values!$F$16-Values!$F$11+1)*RAND()+Values!$F$11)","v":0},9,0]
[95,"95)",10,null,{"$f":"INT((Values!$F$16-Values!$F$11+1)*RAND()+Values!$F$11)","v":0},3,0]
[96,"96)",10,null,{"$f":"INT((Values!$F$16-Values!$F$11+1)*RAND()+Values!$F$11)","v":0},7,0]
[97,"97)",10,null,{"$f":"INT((Values!$F$16-Values!$F$11+1)*RAND()+Values!$F$11)","v":0},7,0]
[98,"98)",10,null,{"$f":"INT((Values!$F$16-Values!$F$11+1)*RAND()+Values!$F$11)","v":0},4,0]
[99,"99)",10,null,{"$f":"INT((Values!$F$16-Values!$F$11+1)*RAND()+Values!$F$11)","v":0},8,0]
[100,"100)",10,null,{"$f":"INT((Values!$F$16-Values!$F$11+1)*RAND()+Values!$F$11)","v":0},3,0]