{"text_format":"1","workbook":"xlsx","n_sheets":4,"sheets":["Type","WorkSheet","Answers","Working"],"not_rendered":{"charts":0,"images":5,"macros":1,"external_links":0,"defined_names":0,"comments":0,"pivot_tables":0},"unopened":[],"bounds":{"document_bytes":16777216,"sheet_cells":100000,"rows_first":2000,"rows_last":500,"rows_between":2000,"halvings":0,"cell_chars":16384,"cell_head_chars":4096},"cells_cut":0,"cells_raw":0,"read":"whole","date_system":"1900"}

{"sheet":"Type","index":0,"n_rows":16,"n_cols":9,"rows_kept":16,"cut":false,"hidden":false,"merged":[[15,2,18,7],[0,0,0,8],[1,2,1,6],[3,2,3,7],[5,2,5,4],[14,2,14,6],[9,2,9,7],[5,8,7,9]]}
["CALCULATING TRIGONOMETRIC FUNCTIONS"]
[null,null,"INSTRUCTIONS"]
[]
[null,"Step 1","Select desired operation with integers"]
[]
[null,null,null,null,null,null,null,null,"PRESS F9 for NEW WorkSheet"]
[]
[]
[]
[null,"Step 2","Select degrees OR degrees and minutes"]
[]
[]
[]
[]
[null,"Step 3","Click on Select tab below to choose different WorkSheet."]
[null,"Note","If you click on the WorkSheet tab then hold down shift and click on the Solutions tab, you will be able to print both the WorkSheet and the solutions."]

{"sheet":"WorkSheet","index":1,"n_rows":33,"n_cols":15,"rows_kept":33,"cut":false,"hidden":false,"merged":[]}
[null,null,null,null,null,null,null,null,"Trigonometric Functions"]
[null,null,null,null,null,null,null,null,null,null,null,null,{"$f":"CONCATENATE(\"Worksheet \",Working!E1,Working!D1)","v":"Worksheet TRI-554"}]
["Evaluate the following; correct to 3 decimal places."]
[{"$f":"CONCATENATE(Working!A3,\")\")","v":"1)"},null,{"$f":"IF(Working!$B3=0,Working!$S3,Working!$U3)","v":"3sin15°"},null,{"$f":"CONCATENATE(Working!A13,\")\")","v":"11)"},null,{"$f":"IF(Working!$B13=0,Working!$S13,Working!$U13)","v":"7cos26°"},null,{"$f":"CONCATENATE(Working!A23,\")\")","v":"21)"},null,{"$f":"IF(Working!$B23=0,Working!$S23,Working!$U23)","v":"34cos66°"},null,{"$f":"CONCATENATE(Working!A33,\")\")","v":"31)"},null,{"$f":"IF(Working!$B33=0,Working!$S33,Working!$U33)","v":"24tan10°"}]
[null,null,{"$f":"IF(Working!$B3=0,Working!$T3,Working!$V3)","v":""},null,null,null,{"$f":"IF(Working!$B13=0,Working!$T13,Working!$V13)","v":""},null,null,null,{"$f":"IF(Working!$B23=0,Working!$T23,Working!$V23)","v":2},null,null,null,{"$f":"IF(Working!$B33=0,Working!$T33,Working!$V33)","v":4}]
[null,"=",null,null,null,"=",null,null,null,"=",null,null,null,"="]
[{"$f":"CONCATENATE(Working!A4,\")\")","v":"2)"},null,{"$f":"IF(Working!B4=0,Working!$S4,Working!$U4)","v":"14tan28°"},null,{"$f":"CONCATENATE(Working!A14,\")\")","v":"12)"},null,{"$f":"IF(Working!$B14=0,Working!$S14,Working!$U14)","v":"11tan37°"},null,{"$f":"CONCATENATE(Working!A24,\")\")","v":"22)"},null,{"$f":"IF(Working!$B24=0,Working!$S24,Working!$U24)","v":"6cos81°"},null,{"$f":"CONCATENATE(Working!A34,\")\")","v":"32)"},null,{"$f":"IF(Working!$B34=0,Working!$S34,Working!$U34)","v":"29sin10°"}]
[null,null,{"$f":"IF(Working!B4=0,Working!$T4,Working!$V4)","v":""},null,null,null,{"$f":"IF(Working!$B14=0,Working!$T14,Working!$V14)","v":""},null,null,null,{"$f":"IF(Working!$B24=0,Working!$T24,Working!$V24)","v":13},null,null,null,{"$f":"IF(Working!$B34=0,Working!$T34,Working!$V34)","v":16}]
[null,"=",null,null,null,"=",null,null,null,"=",null,null,null,"="]
[{"$f":"CONCATENATE(Working!A5,\")\")","v":"3)"},null,{"$f":"IF(Working!B5=0,Working!$S5,Working!$U5)","v":"15tan33°"},null,{"$f":"CONCATENATE(Working!A15,\")\")","v":"13)"},null,{"$f":"IF(Working!$B15=0,Working!$S15,Working!$U15)","v":"4tan69°"},null,{"$f":"CONCATENATE(Working!A25,\")\")","v":"23)"},null,{"$f":"IF(Working!$B25=0,Working!$S25,Working!$U25)","v":"10sin79°"},null,{"$f":"CONCATENATE(Working!A35,\")\")","v":"33)"},null,{"$f":"IF(Working!$B35=0,Working!$S35,Working!$U35)","v":"38sin40°"}]
[null,null,{"$f":"IF(Working!B5=0,Working!$T5,Working!$V5)","v":""},null,null,null,{"$f":"IF(Working!$B15=0,Working!$T15,Working!$V15)","v":""},null,null,null,{"$f":"IF(Working!$B25=0,Working!$T25,Working!$V25)","v":10},null,null,null,{"$f":"IF(Working!$B35=0,Working!$T35,Working!$V35)","v":11}]
[null,"=",null,null,null,"=",null,null,null,"=",null,null,null,"="]
[{"$f":"CONCATENATE(Working!A6,\")\")","v":"4)"},null,{"$f":"IF(Working!B6=0,Working!$S6,Working!$U6)","v":"17sin57°"},null,{"$f":"CONCATENATE(Working!A16,\")\")","v":"14)"},null,{"$f":"IF(Working!$B16=0,Working!$S16,Working!$U16)","v":"17cos39°"},null,{"$f":"CONCATENATE(Working!A26,\")\")","v":"24)"},null,{"$f":"IF(Working!$B26=0,Working!$S26,Working!$U26)","v":"11tan77°"},null,{"$f":"CONCATENATE(Working!A36,\")\")","v":"34)"},null,{"$f":"IF(Working!$B36=0,Working!$S36,Working!$U36)","v":"27tan51°"}]
[null,null,{"$f":"IF(Working!B6=0,Working!$T6,Working!$V6)","v":""},null,null,null,{"$f":"IF(Working!$B16=0,Working!$T16,Working!$V16)","v":""},null,null,null,{"$f":"IF(Working!$B26=0,Working!$T26,Working!$V26)","v":10},null,null,null,{"$f":"IF(Working!$B36=0,Working!$T36,Working!$V36)","v":10}]
[null,"=",null,null,null,"=",null,null,null,"=",null,null,null,"="]
[{"$f":"CONCATENATE(Working!A7,\")\")","v":"5)"},null,{"$f":"IF(Working!B7=0,Working!$S7,Working!$U7)","v":"4tan57°"},null,{"$f":"CONCATENATE(Working!A17,\")\")","v":"15)"},null,{"$f":"IF(Working!$B17=0,Working!$S17,Working!$U17)","v":"17sin31°"},null,{"$f":"CONCATENATE(Working!A27,\")\")","v":"25)"},null,{"$f":"IF(Working!$B27=0,Working!$S27,Working!$U27)","v":"19tan35°"},null,{"$f":"CONCATENATE(Working!A37,\")\")","v":"35)"},null,{"$f":"IF(Working!$B37=0,Working!$S37,Working!$U37)","v":"39tan47°"}]
[null,null,{"$f":"IF(Working!B7=0,Working!$T7,Working!$V7)","v":""},null,null,null,{"$f":"IF(Working!$B17=0,Working!$T17,Working!$V17)","v":""},null,null,null,{"$f":"IF(Working!$B27=0,Working!$T27,Working!$V27)","v":15},null,null,null,{"$f":"IF(Working!$B37=0,Working!$T37,Working!$V37)","v":17}]
[]
[{"$f":"CONCATENATE(Working!A8,\")\")","v":"6)"},null,{"$f":"IF(Working!B8=0,Working!$S8,Working!$U8)","v":"9sin24°"},null,{"$f":"CONCATENATE(Working!A18,\")\")","v":"16)"},null,{"$f":"IF(Working!$B18=0,Working!$S18,Working!$U18)","v":"11sin11°"},null,{"$f":"CONCATENATE(Working!A28,\")\")","v":"26)"},null,{"$f":"IF(Working!$B28=0,Working!$S28,Working!$U28)","v":"34cos69°"},null,{"$f":"CONCATENATE(Working!A38,\")\")","v":"36)"},null,{"$f":"IF(Working!$B38=0,Working!$S38,Working!$U38)","v":"37sin47°"}]
[null,null,{"$f":"IF(Working!B8=0,Working!$T8,Working!$V8)","v":""},null,null,null,{"$f":"IF(Working!$B18=0,Working!$T18,Working!$V18)","v":""},null,null,null,{"$f":"IF(Working!$B28=0,Working!$T28,Working!$V28)","v":7},null,null,null,{"$f":"IF(Working!$B38=0,Working!$T38,Working!$V38)","v":5}]
[null,"=",null,null,null,"=",null,null,null,"=",null,null,null,"="]
[{"$f":"CONCATENATE(Working!A9,\")\")","v":"7)"},null,{"$f":"IF(Working!B9=0,Working!$S9,Working!$U9)","v":"11sin51°"},null,{"$f":"CONCATENATE(Working!A19,\")\")","v":"17)"},null,{"$f":"IF(Working!$B19=0,Working!$S19,Working!$U19)","v":"13sin43°"},null,{"$f":"CONCATENATE(Working!A29,\")\")","v":"27)"},null,{"$f":"IF(Working!$B29=0,Working!$S29,Working!$U29)","v":"6tan46°"},null,{"$f":"CONCATENATE(Working!A39,\")\")","v":"37)"},null,{"$f":"IF(Working!$B39=0,Working!$S39,Working!$U39)","v":"32tan56°"}]
[null,null,{"$f":"IF(Working!B9=0,Working!$T9,Working!$V9)","v":""},null,null,null,{"$f":"IF(Working!$B19=0,Working!$T19,Working!$V19)","v":""},null,null,null,{"$f":"IF(Working!$B29=0,Working!$T29,Working!$V29)","v":12},null,null,null,{"$f":"IF(Working!$B39=0,Working!$T39,Working!$V39)","v":3}]
[null,"=",null,null,null,"=",null,null,null,"=",null,null,null,"="]
[{"$f":"CONCATENATE(Working!A10,\")\")","v":"8)"},null,{"$f":"IF(Working!B10=0,Working!$S10,Working!$U10)","v":"16cos58°"},null,{"$f":"CONCATENATE(Working!A20,\")\")","v":"18)"},null,{"$f":"IF(Working!$B20=0,Working!$S20,Working!$U20)","v":"14tan71°"},null,{"$f":"CONCATENATE(Working!A30,\")\")","v":"28)"},null,{"$f":"IF(Working!$B30=0,Working!$S30,Working!$U30)","v":"13tan15°"},null,{"$f":"CONCATENATE(Working!A40,\")\")","v":"38)"},null,{"$f":"IF(Working!$B40=0,Working!$S40,Working!$U40)","v":"8tan16°"}]
[null,null,{"$f":"IF(Working!B10=0,Working!$T10,Working!$V10)","v":""},null,null,null,{"$f":"IF(Working!$B20=0,Working!$T20,Working!$V20)","v":""},null,null,null,{"$f":"IF(Working!$B30=0,Working!$T30,Working!$V30)","v":12},null,null,null,{"$f":"IF(Working!$B40=0,Working!$T40,Working!$V40)","v":3}]
[null,"=",null,null,null,"=",null,null,null,"=",null,null,null,"="]
[{"$f":"CONCATENATE(Working!A11,\")\")","v":"9)"},null,{"$f":"IF(Working!B11=0,Working!$S11,Working!$U11)","v":"10cos43°"},null,{"$f":"CONCATENATE(Working!A21,\")\")","v":"19)"},null,{"$f":"IF(Working!$B21=0,Working!$S21,Working!$U21)","v":"11cos28°"},null,{"$f":"CONCATENATE(Working!A31,\")\")","v":"29)"},null,{"$f":"IF(Working!$B31=0,Working!$S31,Working!$U31)","v":"34tan81°"},null,{"$f":"CONCATENATE(Working!A41,\")\")","v":"39)"},null,{"$f":"IF(Working!$B41=0,Working!$S41,Working!$U41)","v":"14tan83°"}]
[null,null,{"$f":"IF(Working!B11=0,Working!$T11,Working!$V11)","v":""},null,null,null,{"$f":"IF(Working!$B21=0,Working!$T21,Working!$V21)","v":""},null,null,null,{"$f":"IF(Working!$B31=0,Working!$T31,Working!$V31)","v":10},null,null,null,{"$f":"IF(Working!$B41=0,Working!$T41,Working!$V41)","v":19}]
[null,"=",null,null,null,"=",null,null,null,"=",null,null,null,"="]
[{"$f":"CONCATENATE(Working!A12,\")\")","v":"10)"},null,{"$f":"IF(Working!B12=0,Working!$S12,Working!$U12)","v":"13cos31°"},null,{"$f":"CONCATENATE(Working!A22,\")\")","v":"20)"},null,{"$f":"IF(Working!$B22=0,Working!$S22,Working!$U22)","v":"9cos80°"},null,{"$f":"CONCATENATE(Working!A32,\")\")","v":"30)"},null,{"$f":"IF(Working!$B32=0,Working!$S32,Working!$U32)","v":"12tan46°"},null,{"$f":"CONCATENATE(Working!A42,\")\")","v":"40)"},null,{"$f":"IF(Working!$B42=0,Working!$S42,Working!$U42)","v":"3tan38°"}]
[null,null,{"$f":"IF(Working!B12=0,Working!$T12,Working!$V12)","v":""},null,null,null,{"$f":"IF(Working!$B22=0,Working!$T22,Working!$V22)","v":""},null,null,null,{"$f":"IF(Working!$B32=0,Working!$T32,Working!$V32)","v":13},null,null,null,{"$f":"IF(Working!$B42=0,Working!$T42,Working!$V42)","v":16}]
[null,"=",null,null,null,"=",null,null,null,"=",null,null,null,"="]

{"sheet":"Answers","index":2,"n_rows":33,"n_cols":15,"rows_kept":33,"cut":false,"hidden":false,"merged":[]}
[null,null,null,null,null,null,null,null,"Trigonometric Functions"]
[null,null,null,null,null,null,null,null,"SOLUTIONS",null,null,null,{"$f":"CONCATENATE(\"Worksheet \",Working!E1,Working!D1)","v":"Worksheet TRI-554"}]
["Evaluate the following; correct to 3 decimal places."]
[{"$f":"CONCATENATE(Working!A3,\")\")","v":"1)"},null,{"$f":"IF(Working!$B3=0,Working!$S3,Working!$U3)","v":"3sin15°"},null,{"$f":"CONCATENATE(Working!A13,\")\")","v":"11)"},null,{"$f":"IF(Working!$B13=0,Working!$S13,Working!$U13)","v":"7cos26°"},null,{"$f":"CONCATENATE(Working!A23,\")\")","v":"21)"},null,{"$f":"IF(Working!$B23=0,Working!$S23,Working!$U23)","v":"34cos66°"},null,{"$f":"CONCATENATE(Working!A33,\")\")","v":"31)"},null,{"$f":"IF(Working!$B33=0,Working!$S33,Working!$U33)","v":"24tan10°"}]
[null,null,{"$f":"IF(Working!$B3=0,Working!$T3,Working!$V3)","v":""},null,null,null,{"$f":"IF(Working!$B13=0,Working!$T13,Working!$V13)","v":""},null,null,null,{"$f":"IF(Working!$B23=0,Working!$T23,Working!$V23)","v":2},null,null,null,{"$f":"IF(Working!$B33=0,Working!$T33,Working!$V33)","v":4}]
[null,"=",{"$f":"IF(Working!$B3=0,Working!$O3,Working!$N3)","v":0.81432134959522284},null,null,"=",{"$f":"IF(Working!$B13=0,Working!$O13,Working!$N13)","v":0.89493436160202511},null,null,"=",{"$f":"IF(Working!$B23=0,Working!$O23,Working!$N23)","v":0.19576713581580388},null,null,"=",{"$f":"IF(Working!$B33=0,Working!$O33,Working!$N33)","v":4.7313312974667038E-2}]
[{"$f":"CONCATENATE(Working!A4,\")\")","v":"2)"},null,{"$f":"IF(Working!B4=0,Working!$S4,Working!$U4)","v":"14tan28°"},null,{"$f":"CONCATENATE(Working!A14,\")\")","v":"12)"},null,{"$f":"IF(Working!$B14=0,Working!$S14,Working!$U14)","v":"11tan37°"},null,{"$f":"CONCATENATE(Working!A24,\")\")","v":"22)"},null,{"$f":"IF(Working!$B24=0,Working!$S24,Working!$U24)","v":"6cos81°"},null,{"$f":"CONCATENATE(Working!A34,\")\")","v":"32)"},null,{"$f":"IF(Working!$B34=0,Working!$S34,Working!$U34)","v":"29sin10°"}]
[null,null,{"$f":"IF(Working!B4=0,Working!$T4,Working!$V4)","v":""},null,null,null,{"$f":"IF(Working!$B14=0,Working!$T14,Working!$V14)","v":""},null,null,null,{"$f":"IF(Working!$B24=0,Working!$T24,Working!$V24)","v":13},null,null,null,{"$f":"IF(Working!$B34=0,Working!$T34,Working!$V34)","v":16}]
[null,"=",{"$f":"IF(Working!B4=0,Working!$O4,Working!$N4)","v":0.53694456955238057},null,null,"=",{"$f":"IF(Working!$B14=0,Working!$O14,Working!$N14)","v":0.77381755291256071},null,null,"=",{"$f":"IF(Working!$B24=0,Working!$O24,Working!$N24)","v":1.0949308726187858E-2},null,null,"=",{"$f":"IF(Working!$B34=0,Working!$O34,Working!$N34)","v":1.1461216931790384E-2}]
[{"$f":"CONCATENATE(Working!A5,\")\")","v":"3)"},null,{"$f":"IF(Working!B5=0,Working!$S5,Working!$U5)","v":"15tan33°"},null,{"$f":"CONCATENATE(Working!A15,\")\")","v":"13)"},null,{"$f":"IF(Working!$B15=0,Working!$S15,Working!$U15)","v":"4tan69°"},null,{"$f":"CONCATENATE(Working!A25,\")\")","v":"23)"},null,{"$f":"IF(Working!$B25=0,Working!$S25,Working!$U25)","v":"10sin79°"},null,{"$f":"CONCATENATE(Working!A35,\")\")","v":"33)"},null,{"$f":"IF(Working!$B35=0,Working!$S35,Working!$U35)","v":"38sin40°"}]
[null,null,{"$f":"IF(Working!B5=0,Working!$T5,Working!$V5)","v":""},null,null,null,{"$f":"IF(Working!$B15=0,Working!$T15,Working!$V15)","v":""},null,null,null,{"$f":"IF(Working!$B25=0,Working!$T25,Working!$V25)","v":10},null,null,null,{"$f":"IF(Working!$B35=0,Working!$T35,Working!$V35)","v":11}]
[null,"=",{"$f":"IF(Working!B5=0,Working!$O5,Working!$N5)","v":0.67197211293758841},null,null,"=",{"$f":"IF(Working!$B15=0,Working!$O15,Working!$N15)","v":2.7154826317633689},null,null,"=",{"$f":"IF(Working!$B25=0,Working!$O25,Working!$N25)","v":9.8455415043419411E-2},null,null,"=",{"$f":"IF(Working!$B35=0,Working!$O35,Working!$N35)","v":5.8718357907633398E-2}]
[{"$f":"CONCATENATE(Working!A6,\")\")","v":"4)"},null,{"$f":"IF(Working!B6=0,Working!$S6,Working!$U6)","v":"17sin57°"},null,{"$f":"CONCATENATE(Working!A16,\")\")","v":"14)"},null,{"$f":"IF(Working!$B16=0,Working!$S16,Working!$U16)","v":"17cos39°"},null,{"$f":"CONCATENATE(Working!A26,\")\")","v":"24)"},null,{"$f":"IF(Working!$B26=0,Working!$S26,Working!$U26)","v":"11tan77°"},null,{"$f":"CONCATENATE(Working!A36,\")\")","v":"34)"},null,{"$f":"IF(Working!$B36=0,Working!$S36,Working!$U36)","v":"27tan51°"}]
[null,null,{"$f":"IF(Working!B6=0,Working!$T6,Working!$V6)","v":""},null,null,null,{"$f":"IF(Working!$B16=0,Working!$T16,Working!$V16)","v":""},null,null,null,{"$f":"IF(Working!$B26=0,Working!$T26,Working!$V26)","v":10},null,null,null,{"$f":"IF(Working!$B36=0,Working!$T36,Working!$V36)","v":10}]
[null,"=",{"$f":"IF(Working!B6=0,Working!$O6,Working!$N6)","v":0.84417202408586223},null,null,"=",{"$f":"IF(Working!$B16=0,Working!$O16,Working!$N16)","v":0.76623139004288643},null,null,"=",{"$f":"IF(Working!$B26=0,Working!$O26,Working!$N26)","v":0.44860004013419141},null,null,"=",{"$f":"IF(Working!$B36=0,Working!$O36,Working!$N36)","v":0.12722957180320951}]
[{"$f":"CONCATENATE(Working!A7,\")\")","v":"5)"},null,{"$f":"IF(Working!B7=0,Working!$S7,Working!$U7)","v":"4tan57°"},null,{"$f":"CONCATENATE(Working!A17,\")\")","v":"15)"},null,{"$f":"IF(Working!$B17=0,Working!$S17,Working!$U17)","v":"17sin31°"},null,{"$f":"CONCATENATE(Working!A27,\")\")","v":"25)"},null,{"$f":"IF(Working!$B27=0,Working!$S27,Working!$U27)","v":"19tan35°"},null,{"$f":"CONCATENATE(Working!A37,\")\")","v":"35)"},null,{"$f":"IF(Working!$B37=0,Working!$S37,Working!$U37)","v":"39tan47°"}]
[null,null,{"$f":"IF(Working!B7=0,Working!$T7,Working!$V7)","v":""},null,null,null,{"$f":"IF(Working!$B17=0,Working!$T17,Working!$V17)","v":""},null,null,null,{"$f":"IF(Working!$B27=0,Working!$T27,Working!$V27)","v":15},null,null,null,{"$f":"IF(Working!$B37=0,Working!$T37,Working!$V37)","v":17}]
[null,null,{"$f":"IF(Working!B7=0,Working!$O7,Working!$N7)","v":1.585926124393028},null,null,null,{"$f":"IF(Working!$B17=0,Working!$O17,Working!$N17)","v":0.51951911187950939},null,null,null,{"$f":"IF(Working!$B27=0,Working!$O27,Working!$N27)","v":4.8288178933534723E-2},null,null,null,{"$f":"IF(Working!$B37=0,Working!$O37,Working!$N37)","v":6.3154135032527536E-2}]
[{"$f":"CONCATENATE(Working!A8,\")\")","v":"6)"},null,{"$f":"IF(Working!B8=0,Working!$S8,Working!$U8)","v":"9sin24°"},null,{"$f":"CONCATENATE(Working!A18,\")\")","v":"16)"},null,{"$f":"IF(Working!$B18=0,Working!$S18,Working!$U18)","v":"11sin11°"},null,{"$f":"CONCATENATE(Working!A28,\")\")","v":"26)"},null,{"$f":"IF(Working!$B28=0,Working!$S28,Working!$U28)","v":"34cos69°"},null,{"$f":"CONCATENATE(Working!A38,\")\")","v":"36)"},null,{"$f":"IF(Working!$B38=0,Working!$S38,Working!$U38)","v":"37sin47°"}]
[null,null,{"$f":"IF(Working!B8=0,Working!$T8,Working!$V8)","v":""},null,null,null,{"$f":"IF(Working!$B18=0,Working!$T18,Working!$V18)","v":""},null,null,null,{"$f":"IF(Working!$B28=0,Working!$T28,Working!$V28)","v":7},null,null,null,{"$f":"IF(Working!$B38=0,Working!$T38,Working!$V38)","v":5}]
[null,"=",{"$f":"IF(Working!B8=0,Working!$O8,Working!$N8)","v":0.42077194714954119},null,null,"=",{"$f":"IF(Working!$B18=0,Working!$O18,Working!$N18)","v":0.20136285952435579},null,null,"=",{"$f":"IF(Working!$B28=0,Working!$O28,Working!$N28)","v":4.8938110917203723E-2},null,null,"=",{"$f":"IF(Working!$B38=0,Working!$O38,Working!$N38)","v":0.14835615807772817}]
[{"$f":"CONCATENATE(Working!A9,\")\")","v":"7)"},null,{"$f":"IF(Working!B9=0,Working!$S9,Working!$U9)","v":"11sin51°"},null,{"$f":"CONCATENATE(Working!A19,\")\")","v":"17)"},null,{"$f":"IF(Working!$B19=0,Working!$S19,Working!$U19)","v":"13sin43°"},null,{"$f":"CONCATENATE(Working!A29,\")\")","v":"27)"},null,{"$f":"IF(Working!$B29=0,Working!$S29,Working!$U29)","v":"6tan46°"},null,{"$f":"CONCATENATE(Working!A39,\")\")","v":"37)"},null,{"$f":"IF(Working!$B39=0,Working!$S39,Working!$U39)","v":"32tan56°"}]
[null,null,{"$f":"IF(Working!B9=0,Working!$T9,Working!$V9)","v":""},null,null,null,{"$f":"IF(Working!$B19=0,Working!$T19,Working!$V19)","v":""},null,null,null,{"$f":"IF(Working!$B29=0,Working!$T29,Working!$V29)","v":12},null,null,null,{"$f":"IF(Working!$B39=0,Working!$T39,Working!$V39)","v":3}]
[null,"=",{"$f":"IF(Working!B9=0,Working!$O9,Working!$N9)","v":0.78315110529094412},null,null,"=",{"$f":"IF(Working!$B19=0,Working!$O19,Working!$N19)","v":0.68412289334899989},null,null,"=",{"$f":"IF(Working!$B29=0,Working!$O29,Working!$N29)","v":8.7661674967328573E-2},null,null,"=",{"$f":"IF(Working!$B39=0,Working!$O39,Working!$N39)","v":0.51230899931584706}]
[{"$f":"CONCATENATE(Working!A10,\")\")","v":"8)"},null,{"$f":"IF(Working!B10=0,Working!$S10,Working!$U10)","v":"16cos58°"},null,{"$f":"CONCATENATE(Working!A20,\")\")","v":"18)"},null,{"$f":"IF(Working!$B20=0,Working!$S20,Working!$U20)","v":"14tan71°"},null,{"$f":"CONCATENATE(Working!A30,\")\")","v":"28)"},null,{"$f":"IF(Working!$B30=0,Working!$S30,Working!$U30)","v":"13tan15°"},null,{"$f":"CONCATENATE(Working!A40,\")\")","v":"38)"},null,{"$f":"IF(Working!$B40=0,Working!$S40,Working!$U40)","v":"8tan16°"}]
[null,null,{"$f":"IF(Working!B10=0,Working!$T10,Working!$V10)","v":""},null,null,null,{"$f":"IF(Working!$B20=0,Working!$T20,Working!$V20)","v":""},null,null,null,{"$f":"IF(Working!$B30=0,Working!$T30,Working!$V30)","v":12},null,null,null,{"$f":"IF(Working!$B40=0,Working!$T40,Working!$V40)","v":3}]
[null,"=",{"$f":"IF(Working!B10=0,Working!$O10,Working!$N10)","v":0.52448133191128943},null,null,"=",{"$f":"IF(Working!$B20=0,Working!$O20,Working!$N20)","v":3.0415172791109071},null,null,"=",{"$f":"IF(Working!$B30=0,Working!$O30,Working!$N30)","v":2.290167291824689E-2},null,null,"=",{"$f":"IF(Working!$B40=0,Working!$O40,Working!$N40)","v":9.6211722920350615E-2}]
[{"$f":"CONCATENATE(Working!A11,\")\")","v":"9)"},null,{"$f":"IF(Working!B11=0,Working!$S11,Working!$U11)","v":"10cos43°"},null,{"$f":"CONCATENATE(Working!A21,\")\")","v":"19)"},null,{"$f":"IF(Working!$B21=0,Working!$S21,Working!$U21)","v":"11cos28°"},null,{"$f":"CONCATENATE(Working!A31,\")\")","v":"29)"},null,{"$f":"IF(Working!$B31=0,Working!$S31,Working!$U31)","v":"34tan81°"},null,{"$f":"CONCATENATE(Working!A41,\")\")","v":"39)"},null,{"$f":"IF(Working!$B41=0,Working!$S41,Working!$U41)","v":"14tan83°"}]
[null,null,{"$f":"IF(Working!B11=0,Working!$T11,Working!$V11)","v":""},null,null,null,{"$f":"IF(Working!$B21=0,Working!$T21,Working!$V21)","v":""},null,null,null,{"$f":"IF(Working!$B31=0,Working!$T31,Working!$V31)","v":10},null,null,null,{"$f":"IF(Working!$B41=0,Working!$T41,Working!$V41)","v":19}]
[null,"=",{"$f":"IF(Working!B11=0,Working!$O11,Working!$N11)","v":0.72737364157304873},null,null,"=",{"$f":"IF(Working!$B21=0,Working!$O21,Working!$N21)","v":0.8789558753360569},null,null,"=",{"$f":"IF(Working!$B31=0,Working!$O31,Working!$N31)","v":0.69826781363239587},null,null,"=",{"$f":"IF(Working!$B41=0,Working!$O41,Working!$N41)","v":0.48187071451290958}]
[{"$f":"CONCATENATE(Working!A12,\")\")","v":"10)"},null,{"$f":"IF(Working!B12=0,Working!$S12,Working!$U12)","v":"13cos31°"},null,{"$f":"CONCATENATE(Working!A22,\")\")","v":"20)"},null,{"$f":"IF(Working!$B22=0,Working!$S22,Working!$U22)","v":"9cos80°"},null,{"$f":"CONCATENATE(Working!A32,\")\")","v":"30)"},null,{"$f":"IF(Working!$B32=0,Working!$S32,Working!$U32)","v":"12tan46°"},null,{"$f":"CONCATENATE(Working!A42,\")\")","v":"40)"},null,{"$f":"IF(Working!$B42=0,Working!$S42,Working!$U42)","v":"3tan38°"}]
[null,null,{"$f":"IF(Working!B12=0,Working!$T12,Working!$V12)","v":""},null,null,null,{"$f":"IF(Working!$B22=0,Working!$T22,Working!$V22)","v":""},null,null,null,{"$f":"IF(Working!$B32=0,Working!$T32,Working!$V32)","v":13},null,null,null,{"$f":"IF(Working!$B42=0,Working!$T42,Working!$V42)","v":16}]
[null,"=",{"$f":"IF(Working!B12=0,Working!$O12,Working!$N12)","v":0.84835624715326896},null,null,"=",{"$f":"IF(Working!$B22=0,Working!$O22,Working!$N22)","v":0.16217792310556745},null,null,"=",{"$f":"IF(Working!$B42=0,Working!$O42,Working!$N42)","v":4.9655404932902304E-2},null,null,"=",{"$f":"IF(Working!$B42=0,Working!$O42,Working!$N42)","v":4.9655404932902304E-2}]

{"sheet":"Working","index":3,"n_rows":42,"n_cols":22,"rows_kept":42,"cut":false,"hidden":true,"merged":[]}
[{"$f":"INT(900*RAND()+100)","v":554},null,null,{"$f":"TEXT(1,A1)","v":"554"},"TRI-",null,null,null,null,null,null,null,null,null,null,null,"ab/cd",null,"Multiplication",null,null,"Division"]
[null,null,null,null,"Ratio",null,"Angle",null,null,"DMS","Radians","Constants",null,"Division","Multiplication",null,null,null,"ab","cd","ab","cd"]
[1,0,"D",{"$f":"CHAR(INT(26*RAND()+97))","v":"c"},{"$f":"INT(3*RAND())","v":0},{"$f":"IF(E3=0,\"sin\",IF(E3=1,\"cos\",\"tan\"))","v":"sin"},{"$f":"INT(80*RAND()+10)","v":15},{"$f":"INT(59*RAND()+1)","v":45},{"$f":"IF(C3=\"M\",G3,G3+H3/60)","v":15.75},{"$f":"IF(C3=\"D\",CONCATENATE(G3,\"°\"),CONCATENATE(G3,\"°\",H3,\"'\"))","v":"15°"},{"$f":"I3*PI()/180","v":0.2748893571891069},{"$f":"INT(18*RAND()+2)","v":3},{"$f":"IF(A3<21,\"1\",INT(18*RAND()+2))","v":"1"},{"$f":"IF(E3=0,L3/(M3*SIN(K3)),IF(E3=1,L3/(M3*COS(K3)),L3/(M3*TAN(K3))))","v":11.052147907547379},{"$f":"IF(E3=0,L3*SIN(K3)/M3,IF(E3=1,L3*COS(K3)/M3,L3*TAN(K3)/M3))","v":0.81432134959522284},{"$f":"ROUND(N3,3)","v":11.052},{"$f":"ROUND(O3,3)","v":0.81399999999999995},null,{"$f":"CONCATENATE(L3,F3,J3)","v":"3sin15°"},{"$f":"IF(A3<21,\"\",M3)","v":""},{"$f":"L3","v":3},{"$f":"IF(A3<21,CONCATENATE(F3,J3),CONCATENATE(M3,F3,J3))","v":"sin15°"}]
[2,0,"D",{"$f":"CHAR(INT(26*RAND()+97))","v":"p"},{"$f":"INT(3*RAND())","v":2},"tan",{"$f":"INT(80*RAND()+10)","v":28},{"$f":"INT(59*RAND()+1)","v":14},28.233333333333334,{"$f":"IF(C4=\"D\",CONCATENATE(G4,\"°\"),CONCATENATE(G4,\"°\",H4,\"'\"))","v":"28°"},{"$f":"I4*PI()/180","v":0.49276462547973238},14,{"$f":"IF(A4<21,\"1\",INT(18*RAND()+2))","v":"1"},{"$f":"IF(E4=0,1/SIN(K4),IF(E4=1,1/COS(K4),1/TAN(K4)))","v":1.8623896333166043},{"$f":"IF(E4=0,1*SIN(K4),IF(E4=1,1*COS(K4),1*TAN(K4)))","v":0.53694456955238057},{"$f":"ROUND(N4,3)","v":1.8620000000000001},{"$f":"ROUND(O4,3)","v":0.53700000000000003},null,{"$f":"CONCATENATE(L4,F4,J4)","v":"14tan28°"},{"$f":"IF(A4<21,\"\",M4)","v":""},{"$f":"L4","v":14},{"$f":"IF(A4<21,CONCATENATE(F4,J4),CONCATENATE(M4,F4,J4))","v":"tan28°"}]
[3,0,"D","f",2,"tan",{"$f":"INT(80*RAND()+10)","v":33},54,33.9,"33°",0.59166661642607765,15,"1",1.4881569945342037,0.67197211293758841,1.488,0.67200000000000004,null,"15tan33°","",15,"tan33°"]
[4,0,"D","i",0,"sin",57,35,57.583333333333336,"57°",1.0050187609400683,17,"1",1.1845926795345783,0.84417202408586223,1.1850000000000001,0.84399999999999997,null,"17sin57°","",17,"sin57°"]
[5,0,"D","g",2,"tan",57,46,57.766666666666666,"57°",1.0082185312353908,4,"1",0.63054639470216434,1.585926124393028,0.63100000000000001,1.5860000000000001,null,"4tan57°","",4,"tan57°"]
[6,0,"D","n",0,"sin",24,53,24.883333333333333,"24°",0.43429609553792231,9,"1",2.376584291738923,0.42077194714954119,2.3769999999999998,0.42099999999999999,null,"9sin24°","",9,"sin24°"]
[7,0,"D","d",0,"sin",51,33,51.55,"51°",0.89971722940307675,11,"1",1.276892790221493,0.78315110529094412,1.2769999999999999,0.78300000000000003,null,"11sin51°","",11,"sin51°"]
[8,0,"D","b",1,"cos",58,22,58.366666666666667,"58°",1.0186905067473571,16,"1",1.9066455546775107,0.52448133191128943,1.907,0.52400000000000002,null,"16cos58°","",16,"cos58°"]
[9,0,"D","b",1,"cos",43,20,43.333333333333336,"43°",0.75630934253087612,10,"1",1.3748092353709134,0.72737364157304873,1.375,0.72699999999999998,null,"10cos43°","",10,"cos43°"]
[10,0,"D","a",1,"cos",31,58,31.966666666666665,"31°",0.55792358422085397,13,"1",1.1787500868362606,0.84835624715326896,1.179,0.84799999999999998,null,"13cos31°","",13,"cos31°"]
[11,0,"D","z",1,"cos",26,30,26.5,"26°",0.46251225177849731,7,"1",{"$f":"IF(E13=0,L13/SIN(K13),IF(E13=1,L13/COS(K13),L13/TAN(K13)))","v":7.8218026934056661},0.89493436160202511,7.8220000000000001,0.89500000000000002,null,"7cos26°","",7,"cos26°"]
[12,0,"D","b",2,"tan",37,44,37.733333333333334,"37°",0.65857090441919364,11,"1",14.215237117066238,0.77381755291256071,14.215,0.77400000000000002,null,"11tan37°","",11,"tan37°"]
[13,0,"D","e",2,"tan",69,47,69.783333333333331,"69°",1.2179489296833761,4,"1",1.473034647031602,2.7154826317633689,1.4730000000000001,2.7149999999999999,null,"4tan69°","",4,"tan69°"]
[14,0,"D","v",1,"cos",39,59,39.983333333333334,"39°",0.69784081258906616,17,"1",22.186509481226683,0.76623139004288643,22.187000000000001,0.76600000000000001,null,"17cos39°","",17,"cos39°"]
[15,0,"D","w",0,"sin",31,18,31.3,"31°",0.54628805587422513,17,"1",32.722569028303162,0.51951911187950939,32.722999999999999,0.52,null,"17sin31°","",17,"sin31°"]
[16,0,"D","y",0,"sin",11,37,11.616666666666667,"11°",0.20274908144000794,11,"1",54.627750251378899,0.20136285952435579,54.628,0.20100000000000001,null,"11sin11°","",11,"sin11°"]
[17,0,"D","h",0,"sin",43,10,43.166666666666664,"43°",0.75340046044421882,13,"1",19.002433811797836,0.68412289334899989,19.001999999999999,0.68400000000000005,null,"13sin43°","",13,"sin43°"]
[18,0,"D","u",2,"tan",71,48,71.8,"71°",1.2531464029319286,14,"1",4.6029657947866287,3.0415172791109071,4.6029999999999998,3.0419999999999998,null,"14tan71°","",14,"tan71°"]
[19,0,"D","d",1,"cos",28,29,28.483333333333334,"28°",0.49712794860971821,11,"1",12.51484893458878,0.8789558753360569,12.515000000000001,0.879,null,"11cos28°","",11,"cos28°"]
[20,0,"D","d",1,"cos",80,40,80.666666666666671,"80°",1.4078989299420925,9,"1",55.494606341342624,0.16217792310556745,55.494999999999997,0.16200000000000001,null,"9cos80°","",9,"cos80°"]
[21,0,"D","o",1,"cos",66,57,66.95,"66°",1.1684979342102035,{"$f":"INT(38*RAND()+2)","v":34},2,{"$f":"IF(E23=0,L23/SIN(K23)/M23,IF(E23=1,L23/COS(K23)/M23,L23/TAN(K23)/M23))","v":43.418932215454177},{"$f":"IF(E23=0,1*SIN(K23)/M23,IF(E23=1,1*COS(K23)/M23,1*TAN(K23)/M23))","v":0.19576713581580388},43.418999999999997,0.19600000000000001,null,"34cos66°",2,34,"2cos66°"]
[22,0,"D","z",1,"cos",81,49,81.816666666666663,"81°",1.4279702163400272,{"$f":"INT(38*RAND()+2)","v":6},13,{"$f":"IF(E24=0,L24/SIN(K24)/M24,IF(E24=1,L24/COS(K24)/M24,L24/TAN(K24)/M24))","v":3.2424840204722645},{"$f":"IF(E24=0,1*SIN(K24)/M24,IF(E24=1,1*COS(K24)/M24,1*TAN(K24)/M24))","v":1.0949308726187858E-2},3.242,1.0999999999999999E-2,null,"6cos81°",13,6,"13cos81°"]
[23,0,"D","c",0,"sin",79,55,79.916666666666671,"79°",1.3948089605521352,10,10,1.0156881666274975,9.8455415043419411E-2,1.016,9.8000000000000004E-2,null,"10sin79°",10,10,"10sin79°"]
[24,0,"D","l",2,"tan",77,26,77.433333333333337,"77°",1.3514666174609427,11,10,0.24520728969862615,0.44860004013419141,0.245,0.44900000000000001,null,"11tan77°",10,11,"10tan77°"]
[25,0,"D","q",2,"tan",35,55,35.916666666666664,"35°",0.62686408967462992,19,15,1.748760179187463,4.8288178933534723E-2,1.7490000000000001,4.8000000000000001E-2,null,"19tan35°",15,19,"15tan35°"]
[26,0,"D","b",1,"cos",69,58,69.966666666666669,"69°",1.2211486999786993,34,7,14.178674616074774,4.8938110917203723E-2,14.179,4.9000000000000002E-2,null,"34cos69°",7,34,"7cos69°"]
[27,0,"D","y",2,"tan",46,27,46.45,"46°",0.81070543755136615,6,12,0.47531223516087046,8.7661674967328573E-2,0.47499999999999998,8.7999999999999995E-2,null,"6tan46°",12,6,"12tan46°"]
[28,0,"D","p",2,"tan",15,22,15.366666666666667,"15°",0.26819892838979531,13,12,3.9419730645899249,2.290167291824689E-2,3.9420000000000002,2.3E-2,null,"13tan15°",12,13,"12tan15°"]
[29,0,"D","l",2,"tan",81,51,81.849999999999994,"81°",1.4285519927573587,34,10,0.48691919255352289,0.69826781363239587,0.48699999999999999,0.69799999999999995,null,"34tan81°",10,34,"10tan81°"]
[30,0,"D","a",2,"tan",46,39,46.65,"46°",0.8141960960553547,12,13,0.87138581567348983,8.1486198056693382E-2,0.871,8.1000000000000003E-2,null,"12tan46°",13,12,"13tan46°"]
[31,0,"D","k",2,"tan",10,43,10.716666666666667,"10°",0.18704111817205898,24,4,31.703550347513072,4.7313312974667038E-2,31.704000000000001,4.7E-2,null,"24tan10°",4,24,"4tan10°"]
[32,0,"D","f",0,"sin",10,34,10.566666666666666,"10°",0.18442312429406746,29,16,9.8838762649878635,1.1461216931790384E-2,9.8840000000000003,1.0999999999999999E-2,null,"29sin10°",16,29,"16sin10°"]
[33,0,"D","s",0,"sin",40,14,40.233333333333334,"40°",0.70220413571905194,38,11,5.3484054726270367,5.8718357907633398E-2,5.3479999999999999,5.8999999999999997E-2,null,"38sin40°",11,38,"11sin40°"]
[34,0,"D","c",2,"tan",51,50,51.833333333333336,"51°",0.90466232895039411,27,10,2.1221481466401424,0.12722957180320951,2.1219999999999999,0.127,null,"27tan51°",10,27,"10tan51°"]
[35,0,"D","p",2,"tan",47,2,47.033333333333331,"47°",0.82088652485466629,39,17,2.1368054018364453,6.3154135032527536E-2,2.137,6.3E-2,null,"39tan47°",17,39,"17tan47°"]
[36,0,"D","x",0,"sin",47,53,47.883333333333333,"47°",0.83572182349661817,37,5,9.9759930371382648,0.14835615807772817,9.9760000000000009,0.14799999999999999,null,"37sin47°",5,37,"5sin47°"]
[37,0,"D","n",2,"tan",56,57,56.95,"56°",0.99396500901077067,32,3,6.9402559008406106,0.51230899931584706,6.94,0.51200000000000001,null,"32tan56°",3,32,"3tan56°"]
[38,0,"D","z",2,"tan",16,6,16.100000000000001,"16°",0.28099800957108706,8,3,9.2388833907980246,9.6211722920350615E-2,9.2390000000000008,9.6000000000000002E-2,null,"8tan16°",3,8,"3tan16°"]
[39,0,"D","x",2,"tan",83,46,83.766666666666666,"83°",1.4620041367539167,14,19,8.0480432337757438E-2,0.48187071451290958,0.08,0.48199999999999998,null,"14tan83°",19,14,"19tan83°"]
[40,0,"D","r",2,"tan",{"$f":"INT(80*RAND()+10)","v":38},28,38.466666666666669,"38°",0.67136998560048544,3,16,0.236001499047992,4.9655404932902304E-2,0.23599999999999999,0.05,null,"3tan38°",16,3,"16tan38°"]